{"text_format":"1","workbook":"xlsx","n_sheets":6,"sheets":["Analitico","Banco","Composições","Cotações","Relatórios","Busca"],"not_rendered":{"charts":0,"images":1,"macros":1,"external_links":0,"defined_names":44,"comments":0,"pivot_tables":0},"unopened":[],"bounds":{"document_bytes":16777216,"sheet_cells":100000,"rows_first":2000,"rows_last":500,"rows_between":2000,"halvings":0,"cell_chars":16384,"cell_head_chars":4096},"cells_cut":0,"cells_raw":0,"read":"whole","date_system":"1900"}

{"sheet":"Analitico","index":0,"n_rows":46468,"n_cols":7,"rows_kept":4500,"cut":true,"hidden":true,"merged":[],"bounds":{"rows_first":2000,"rows_last":500,"rows_between":2000,"halvings":0}}
["97141",null,null,"","49,0950227",null,"SINAPI - ANALITICO NACIONAL SIPCI 11/09/2024"]
["97141","SINAPI",5678,"0,0063000",""]
["97141","SINAPI",5679,"0,0304000",""]
["97141","SINAPI-I",20078,"0,0046000",""]
["97141","SINAPI",88246,"0,0480000",""]
["97141","SINAPI",88316,"0,0320000",""]
["97142",null,null,"","50,0982320"]
["97142","SINAPI",5678,"0,0069000",""]
["97142","SINAPI",5679,"0,0329000",""]
["97142","SINAPI-I",20078,"0,0054000",""]
["97142","SINAPI",88246,"0,0606000",""]
["97142","SINAPI",88316,"0,0404000",""]
["97143",null,null,"","52,1481483"]
["97143","SINAPI",5678,"0,0082000",""]
["97143","SINAPI",5679,"0,0391000",""]
["97143","SINAPI-I",20078,"0,0071000",""]
["97143","SINAPI",88246,"0,0920000",""]
["97143","SINAPI",88316,"0,0614000",""]
["97144",null,null,"","53,3412889"]
["97144","SINAPI",5678,"0,0095000",""]
["97144","SINAPI",5679,"0,0454000",""]
["97144","SINAPI-I",20078,"0,0087000",""]
["97144","SINAPI",88246,"0,1235000",""]
["97144","SINAPI",88316,"0,0823000",""]
["97145",null,null,"","54,1293533"]
["97145","SINAPI",5678,"0,0108000",""]
["97145","SINAPI",5679,"0,0516000",""]
["97145","SINAPI-I",20078,"0,0113000",""]
["97145","SINAPI",88246,"0,1550000",""]
["97145","SINAPI",88316,"0,1033000",""]
["97146",null,null,"","54,8085107"]
["97146","SINAPI",5678,"0,0121000",""]
["97146","SINAPI",5679,"0,0579000",""]
["97146","SINAPI-I",20078,"0,0138000",""]
["97146","SINAPI",88246,"0,1864000",""]
["97146","SINAPI",88316,"0,1243000",""]
["97147",null,null,"","55,1339287"]
["97147","SINAPI",5678,"0,0134000",""]
["97147","SINAPI",5679,"0,0641000",""]
["97147","SINAPI-I",20078,"0,0163000",""]
["97147","SINAPI",88246,"0,2179000",""]
["97147","SINAPI",88316,"0,1453000",""]
["97148",null,null,"","55,2910053"]
["97148","SINAPI",5678,"0,0147000",""]
["97148","SINAPI",5679,"0,0703000",""]
["97148","SINAPI-I",20078,"0,0188000",""]
["97148","SINAPI",88246,"0,2494000",""]
["97148","SINAPI",88316,"0,1662000",""]
["97149",null,null,"","55,4302672"]
["97149","SINAPI",5678,"0,0160000",""]
["97149","SINAPI",5679,"0,0766000",""]
["97149","SINAPI-I",20078,"0,0221000",""]
["97149","SINAPI",88246,"0,2808000",""]
["97149","SINAPI",88316,"0,1872000",""]
["97150",null,null,"","47,1637696"]
["97150","SINAPI",5631,"0,0173000",""]
["97150","SINAPI",5632,"0,0828000",""]
["97150","SINAPI-I",20078,"0,0248000",""]
["97150","SINAPI",88246,"0,3123000",""]
["97150","SINAPI",88316,"0,2082000",""]
["97151",null,null,"","47,4990307"]
["97151","SINAPI",5631,"0,0199000",""]
["97151","SINAPI",5632,"0,0953000",""]
["97151","SINAPI-I",20078,"0,0313000",""]
["97151","SINAPI",88246,"0,3752000",""]
["97151","SINAPI",88316,"0,2501000",""]
["97152",null,null,"","48,2500850"]
["97152","SINAPI",5631,"0,0225000",""]
["97152","SINAPI",5632,"0,1077000",""]
["97152","SINAPI-I",20078,"0,0284000",""]
["97152","SINAPI",88246,"0,4381000",""]
["97152","SINAPI",88316,"0,2921000",""]
["97153",null,null,"","48,5258726"]
["97153","SINAPI",5631,"0,0251000",""]
["97153","SINAPI",5632,"0,1202000",""]
["97153","SINAPI-I",20078,"0,0314000",""]
["97153","SINAPI",88246,"0,5011000",""]
["97153","SINAPI",88316,"0,3340000",""]
["97154",null,null,"","48,7989205"]
["97154","SINAPI",5631,"0,0277000",""]
["97154","SINAPI",5632,"0,1327000",""]
["97154","SINAPI-I",20078,"0,0355000",""]
["97154","SINAPI",88246,"0,5640000",""]
["97154","SINAPI",88316,"0,3760000",""]
["97155",null,null,"","48,9133091"]
["97155","SINAPI",5631,"0,0303000",""]
["97155","SINAPI",5632,"0,1452000",""]
["97155","SINAPI-I",20078,"0,0403000",""]
["97155","SINAPI",88246,"0,6269000",""]
["97155","SINAPI",88316,"0,4179000",""]
["97156",null,null,"","48,6871566"]
["97156","SINAPI",5631,"0,0355000",""]
["97156","SINAPI",5632,"0,1701000",""]
["97156","SINAPI-I",20078,"0,0646000",""]
["97156","SINAPI",88246,"0,7527000",""]
["97156","SINAPI",88316,"0,5018000",""]
["97157",null,null,"","49,3902440"]
["97157","SINAPI",5678,"0,0063000",""]
["97157","SINAPI",5679,"0,0153000",""]
["97157","SINAPI-I",20078,"0,0046000",""]
["97157","SINAPI",88246,"0,0434000",""]
["97157","SINAPI",88316,"0,0289000",""]
["97158",null,null,"","50,7812501"]
["97158","SINAPI",5678,"0,0069000",""]
["97158","SINAPI",5679,"0,0166000",""]
["97158","SINAPI-I",20078,"0,0054000",""]
["97158","SINAPI",88246,"0,0547000",""]
["97158","SINAPI",88316,"0,0365000",""]
["97159",null,null,"","52,6923078"]
["97159","SINAPI",5678,"0,0082000",""]
["97159","SINAPI",5679,"0,0197000",""]
["97159","SINAPI-I",20078,"0,0071000",""]
["97159","SINAPI",88246,"0,0832000",""]
["97159","SINAPI",88316,"0,0554000",""]
["97160",null,null,"","54,4207319"]
["97160","SINAPI",5678,"0,0095000",""]
["97160","SINAPI",5679,"0,0229000",""]
["97160","SINAPI-I",20078,"0,0087000",""]
["97160","SINAPI",88246,"0,1116000",""]
["97160","SINAPI",88316,"0,0744000",""]
["97161",null,null,"","54,9685536"]
["97161","SINAPI",5678,"0,0108000",""]
["97161","SINAPI",5679,"0,0260000",""]
["97161","SINAPI-I",20078,"0,0113000",""]
["97161","SINAPI",88246,"0,1400000",""]
["97161","SINAPI",88316,"0,0933000",""]
["97162",null,null,"","55,5793992"]
["97162","SINAPI",5678,"0,0121000",""]
["97162","SINAPI",5679,"0,0292000",""]
["97162","SINAPI-I",20078,"0,0138000",""]
["97162","SINAPI",88246,"0,1684000",""]
["97162","SINAPI",88316,"0,1123000",""]
["97163",null,null,"","56,0111837"]
["97163","SINAPI",5678,"0,0134000",""]
["97163","SINAPI",5679,"0,0323000",""]
["97163","SINAPI-I",20078,"0,0163000",""]
["97163","SINAPI",88246,"0,1969000",""]
["97163","SINAPI",88316,"0,1312000",""]
["97164",null,null,"","56,1881189"]
["97164","SINAPI",5678,"0,0147000",""]
["97164","SINAPI",5679,"0,0355000",""]
["97164","SINAPI-I",20078,"0,0188000",""]
["97164","SINAPI",88246,"0,2253000",""]
["97164","SINAPI",88316,"0,1502000",""]
["97165",null,null,"","56,2453807"]
["97165","SINAPI",5678,"0,0160000",""]
["97165","SINAPI",5679,"0,0386000",""]
["97165","SINAPI-I",20078,"0,0221000",""]
["97165","SINAPI",88246,"0,2537000",""]
["97165","SINAPI",88316,"0,1691000",""]
["97166",null,null,"","49,0686846"]
["97166","SINAPI",5631,"0,0173000",""]
["97166","SINAPI",5632,"0,0417000",""]
["97166","SINAPI-I",20078,"0,0248000",""]
["97166","SINAPI",88246,"0,2821000",""]
["97166","SINAPI",88316,"0,1881000",""]
["97167",null,null,"","49,4094489"]
["97167","SINAPI",5631,"0,0199000",""]
["97167","SINAPI",5632,"0,0480000",""]
["97167","SINAPI-I",20078,"0,0313000",""]
["97167","SINAPI",88246,"0,3390000",""]
["97167","SINAPI",88316,"0,2260000",""]
["97168",null,null,"","50,2149614"]
["97168","SINAPI",5631,"0,0225000",""]
["97168","SINAPI",5632,"0,0543000",""]
["97168","SINAPI-I",20078,"0,0284000",""]
["97168","SINAPI",88246,"0,3958000",""]
["97168","SINAPI",88316,"0,2639000",""]
["97169",null,null,"","50,5703423"]
["97169","SINAPI",5631,"0,0251000",""]
["97169","SINAPI",5632,"0,0606000",""]
["97169","SINAPI-I",20078,"0,0314000",""]
["97169","SINAPI",88246,"0,4527000",""]
["97169","SINAPI",88316,"0,3018000",""]
["97170",null,null,"","50,7828456"]
["97170","SINAPI",5631,"0,0277000",""]
["97170","SINAPI",5632,"0,0669000",""]
["97170","SINAPI-I",20078,"0,0355000",""]
["97170","SINAPI",88246,"0,5095000",""]
["97170","SINAPI",88316,"0,3397000",""]
["97171",null,null,"","50,8917590"]
["97171","SINAPI",5631,"0,0303000",""]
["97171","SINAPI",5632,"0,0732000",""]
["97171","SINAPI-I",20078,"0,0403000",""]
["97171","SINAPI",88246,"0,5664000",""]
["97171","SINAPI",88316,"0,3776000",""]
["97172",null,null,"","50,5488895"]
["97172","SINAPI",5631,"0,0355000",""]
["97172","SINAPI",5632,"0,0858000",""]
["97172","SINAPI-I",20078,"0,0646000",""]
["97172","SINAPI",88246,"0,6801000",""]
["97172","SINAPI",88316,"0,4534000",""]
["105249",null,null,"","44,4605359"]
["105249","SINAPI",5631,"0,0728000",""]
["105249","SINAPI",5632,"0,3490000",""]
["105249","SINAPI-I",20078,"0,4525000",""]
["105249","SINAPI",88246,"1,5445000",""]
["105249","SINAPI",88316,"1,0297000",""]
["105250",null,null,"","47,0836263"]
["105250","SINAPI",5678,"0,0195000",""]
["105250","SINAPI",5679,"0,0936000",""]
["105250","SINAPI-I",20078,"0,0275000",""]
["105250","SINAPI",88246,"0,1477000",""]
["105250","SINAPI",88316,"0,0985000",""]
["105251",null,null,"","48,2590105"]
["105251","SINAPI",5678,"0,0211000",""]
["105251","SINAPI",5679,"0,1013000",""]
["105251","SINAPI-I",20078,"0,0326000",""]
["105251","SINAPI",88246,"0,1865000",""]
["105251","SINAPI",88316,"0,1243000",""]
["105252",null,null,"","50,2770085"]
["105252","SINAPI",5678,"0,0251000",""]
["105252","SINAPI",5679,"0,1205000",""]
["105252","SINAPI-I",20078,"0,0425000",""]
["105252","SINAPI",88246,"0,2833000",""]
["105252","SINAPI",88316,"0,1889000",""]
["105253",null,null,"","51,6177018"]
["105253","SINAPI",5678,"0,0291000",""]
["105253","SINAPI",5679,"0,1397000",""]
["105253","SINAPI-I",20078,"0,0524000",""]
["105253","SINAPI",88246,"0,3801000",""]
["105253","SINAPI",88316,"0,2534000",""]
["105254",null,null,"","52,1658417"]
["105254","SINAPI",5678,"0,0331000",""]
["105254","SINAPI",5679,"0,1589000",""]
["105254","SINAPI-I",20078,"0,0678000",""]
["105254","SINAPI",88246,"0,4769000",""]
["105254","SINAPI",88316,"0,3180000",""]
["105255",null,null,"","52,6790452"]
["105255","SINAPI",5678,"0,0371000",""]
["105255","SINAPI",5679,"0,1781000",""]
["105255","SINAPI-I",20078,"0,0829000",""]
["105255","SINAPI",88246,"0,5738000",""]
["105255","SINAPI",88316,"0,3825000",""]
["105256",null,null,"","53,0162414"]
["105256","SINAPI",5678,"0,0411000",""]
["105256","SINAPI",5679,"0,1973000",""]
["105256","SINAPI-I",20078,"0,0978000",""]
["105256","SINAPI",88246,"0,6706000",""]
["105256","SINAPI",88316,"0,4471000",""]
["105257",null,null,"","53,2274697"]
["105257","SINAPI",5678,"0,0451000",""]
["105257","SINAPI",5679,"0,2164000",""]
["105257","SINAPI-I",20078,"0,1125000",""]
["105257","SINAPI",88246,"0,7674000",""]
["105257","SINAPI",88316,"0,5116000",""]
["105258",null,null,"","51,4495414"]
["105258","SINAPI",5678,"0,0301000",""]
["105258","SINAPI",5679,"0,0728000",""]
["105258","SINAPI-I",20078,"0,1125000",""]
["105258","SINAPI",88246,"0,4622000",""]
["105258","SINAPI",88316,"0,3082000",""]
["105259",null,null,"","46,2328768"]
["105259","SINAPI",5678,"0,0282000",""]
["105259","SINAPI",5679,"0,0681000",""]
["105259","SINAPI-I",20078,"0,0651000",""]
["105259","SINAPI",88246,"0,2246000",""]
["105259","SINAPI",88316,"0,1497000",""]
["105261",null,null,"","51,3265641"]
["105261","SINAPI",5678,"0,0327000",""]
["105261","SINAPI",5679,"0,0792000",""]
["105261","SINAPI-I",20078,"0,1324000",""]
["105261","SINAPI",88246,"0,5206000",""]
["105261","SINAPI",88316,"0,3470000",""]
["105262",null,null,"","45,2766181"]
["105262","SINAPI",5631,"0,0354000",""]
["105262","SINAPI",5632,"0,0857000",""]
["105262","SINAPI-I",20078,"0,1488000",""]
["105262","SINAPI",88246,"0,5789000",""]
["105262","SINAPI",88316,"0,3859000",""]
["105263",null,null,"","45,3787048"]
["105263","SINAPI",5631,"0,0407000",""]
["105263","SINAPI",5632,"0,0986000",""]
["105263","SINAPI-I",20078,"0,1875000",""]
["105263","SINAPI",88246,"0,6955000",""]
["105263","SINAPI",88316,"0,4637000",""]
["105264",null,null,"","46,1538462"]
["105264","SINAPI",5631,"0,0461000",""]
["105264","SINAPI",5632,"0,1115000",""]
["105264","SINAPI-I",20078,"0,1985000",""]
["105264","SINAPI",88246,"0,8122000",""]
["105264","SINAPI",88316,"0,5414000",""]
["105265",null,null,"","46,5429156"]
["105265","SINAPI",5631,"0,0514000",""]
["105265","SINAPI",5632,"0,1244000",""]
["105265","SINAPI-I",20078,"0,2200000",""]
["105265","SINAPI",88246,"0,9288000",""]
["105265","SINAPI",88316,"0,6192000",""]
["105266",null,null,"","46,6971081"]
["105266","SINAPI",5631,"0,0568000",""]
["105266","SINAPI",5632,"0,1373000",""]
["105266","SINAPI-I",20078,"0,2488000",""]
["105266","SINAPI",88246,"1,0455000",""]
["105266","SINAPI",88316,"0,6970000",""]
["105267",null,null,"","46,7088086"]
["105267","SINAPI",5631,"0,0621000",""]
["105267","SINAPI",5632,"0,1502000",""]
["105267","SINAPI-I",20078,"0,2819000",""]
["105267","SINAPI",88246,"1,1621000",""]
["105267","SINAPI",88316,"0,7747000",""]
["105268",null,null,"","45,1677406"]
["105268","SINAPI",5631,"0,0728000",""]
["105268","SINAPI",5632,"0,1760000",""]
["105268","SINAPI-I",20078,"0,4525000",""]
["105268","SINAPI",88246,"1,3954000",""]
["105268","SINAPI",88316,"0,9303000",""]
["105269",null,null,"","46,7592594"]
["105269","SINAPI",5678,"0,0195000",""]
["105269","SINAPI",5679,"0,0472000",""]
["105269","SINAPI-I",20078,"0,0275000",""]
["105269","SINAPI",88246,"0,1335000",""]
["105269","SINAPI",88316,"0,0890000",""]
["105270",null,null,"","53,3395006"]
["105270","SINAPI",5678,"0,0491000",""]
["105270","SINAPI",5679,"0,2356000",""]
["105270","SINAPI-I",20078,"0,1324000",""]
["105270","SINAPI",88246,"0,8643000",""]
["105270","SINAPI",88316,"0,5762000",""]
["105271",null,null,"","45,6135322"]
["105271","SINAPI",5631,"0,0531000",""]
["105271","SINAPI",5632,"0,2548000",""]
["105271","SINAPI-I",20078,"0,1488000",""]
["105271","SINAPI",88246,"0,9611000",""]
["105271","SINAPI",88316,"0,6407000",""]
["105272",null,null,"","45,8682200"]
["105272","SINAPI",5631,"0,0611000",""]
["105272","SINAPI",5632,"0,2932000",""]
["105272","SINAPI-I",20078,"0,1875000",""]
["105272","SINAPI",88246,"1,1548000",""]
["105272","SINAPI",88316,"0,7699000",""]
["105273",null,null,"","46,4953272"]
["105273","SINAPI",5631,"0,0691000",""]
["105273","SINAPI",5632,"0,3316000",""]
["105273","SINAPI-I",20078,"0,1985000",""]
["105273","SINAPI",88246,"1,3484000",""]
["105273","SINAPI",88316,"0,8990000",""]
["105274",null,null,"","46,8191230"]
["105274","SINAPI",5631,"0,0771000",""]
["105274","SINAPI",5632,"0,3700000",""]
["105274","SINAPI-I",20078,"0,2200000",""]
["105274","SINAPI",88246,"1,5421000",""]
["105274","SINAPI",88316,"1,0281000",""]
["105275",null,null,"","46,9943513"]
["105275","SINAPI",5631,"0,0851000",""]
["105275","SINAPI",5632,"0,4084000",""]
["105275","SINAPI-I",20078,"0,2488000",""]
["105275","SINAPI",88246,"1,7358000",""]
["105275","SINAPI",88316,"1,1572000",""]
["105276",null,null,"","47,0969712"]
["105276","SINAPI",5631,"0,0931000",""]
["105276","SINAPI",5632,"0,4468000",""]
["105276","SINAPI-I",20078,"0,2819000",""]
["105276","SINAPI",88246,"1,9294000",""]
["105276","SINAPI",88316,"1,2863000",""]
["105277",null,null,"","46,3158558"]
["105277","SINAPI",5631,"0,1091000",""]
["105277","SINAPI",5632,"0,5235000",""]
["105277","SINAPI-I",20078,"0,4525000",""]
["105277","SINAPI",88246,"2,3168000",""]
["105277","SINAPI",88316,"1,5445000",""]
["105278",null,null,"","45,7055216"]
["105278","SINAPI",5678,"0,0260000",""]
["105278","SINAPI",5679,"0,1248000",""]
["105278","SINAPI-I",20078,"0,0549000",""]
["105278","SINAPI",88246,"0,1970000",""]
["105278","SINAPI",88316,"0,1313000",""]
["105279",null,null,"","46,7405766"]
["105279","SINAPI",5678,"0,0282000",""]
["105279","SINAPI",5679,"0,1350000",""]
["105279","SINAPI-I",20078,"0,0651000",""]
["105279","SINAPI",88246,"0,2486000",""]
["105279","SINAPI",88316,"0,1657000",""]
["105280",null,null,"","48,8403362"]
["105280","SINAPI",5678,"0,0335000",""]
["105280","SINAPI",5679,"0,1606000",""]
["105280","SINAPI-I",20078,"0,0850000",""]
["105280","SINAPI",88246,"0,3777000",""]
["105280","SINAPI",88316,"0,2518000",""]
["105281",null,null,"","50,0947227"]
["105281","SINAPI",5678,"0,0388000",""]
["105281","SINAPI",5679,"0,1862000",""]
["105281","SINAPI-I",20078,"0,1048000",""]
["105281","SINAPI",88246,"0,5068000",""]
["105281","SINAPI",88316,"0,3379000",""]
["105282",null,null,"","48,0509150"]
["105282","SINAPI",5678,"0,0211000",""]
["105282","SINAPI",5679,"0,0511000",""]
["105282","SINAPI-I",20078,"0,0326000",""]
["105282","SINAPI",88246,"0,1685000",""]
["105282","SINAPI",88316,"0,1123000",""]
["105283",null,null,"","48,5933504"]
["105283","SINAPI",5678,"0,0335000",""]
["105283","SINAPI",5679,"0,0810000",""]
["105283","SINAPI-I",20078,"0,0850000",""]
["105283","SINAPI",88246,"0,3412000",""]
["105283","SINAPI",88316,"0,2275000",""]
["105284",null,null,"","50,6072876"]
["105284","SINAPI",5678,"0,0442000",""]
["105284","SINAPI",5679,"0,2118000",""]
["105284","SINAPI-I",20078,"0,1357000",""]
["105284","SINAPI",88246,"0,6359000",""]
["105284","SINAPI",88316,"0,4240000",""]
["105297",null,null,"","45,8290423"]
["105297","SINAPI",5678,"0,0130000",""]
["105297","SINAPI",5679,"0,0624000",""]
["105297","SINAPI-I",20078,"0,0275000",""]
["105297","SINAPI",88246,"0,0985000",""]
["105297","SINAPI",88316,"0,0657000",""]
["105298",null,null,"","50,3537736"]
["105298","SINAPI",5678,"0,0251000",""]
["105298","SINAPI",5679,"0,0607000",""]
["105298","SINAPI-I",20078,"0,0425000",""]
["105298","SINAPI",88246,"0,2559000",""]
["105298","SINAPI",88316,"0,1706000",""]
["105299",null,null,"","51,9023017"]
["105299","SINAPI",5678,"0,0291000",""]
["105299","SINAPI",5679,"0,0704000",""]
["105299","SINAPI-I",20078,"0,0524000",""]
["105299","SINAPI",88246,"0,3434000",""]
["105299","SINAPI",88316,"0,2289000",""]
["105300",null,null,"","52,4602868"]
["105300","SINAPI",5678,"0,0331000",""]
["105300","SINAPI",5679,"0,0801000",""]
["105300","SINAPI-I",20078,"0,0678000",""]
["105300","SINAPI",88246,"0,4309000",""]
["105300","SINAPI",88316,"0,2873000",""]
["105301",null,null,"","52,9372938"]
["105301","SINAPI",5678,"0,0371000",""]
["105301","SINAPI",5679,"0,0898000",""]
["105301","SINAPI-I",20078,"0,0829000",""]
["105301","SINAPI",88246,"0,5184000",""]
["105301","SINAPI",88316,"0,3456000",""]
["105302",null,null,"","53,2758622"]
["105302","SINAPI",5678,"0,0411000",""]
["105302","SINAPI",5679,"0,0995000",""]
["105302","SINAPI-I",20078,"0,0978000",""]
["105302","SINAPI",88246,"0,6059000",""]
["105302","SINAPI",88316,"0,4039000",""]
["105303",null,null,"","53,5268654"]
["105303","SINAPI",5678,"0,0451000",""]
["105303","SINAPI",5679,"0,1091000",""]
["105303","SINAPI-I",20078,"0,1125000",""]
["105303","SINAPI",88246,"0,6934000",""]
["105303","SINAPI",88316,"0,4622000",""]
["105304",null,null,"","53,6113011"]
["105304","SINAPI",5678,"0,0491000",""]
["105304","SINAPI",5679,"0,1188000",""]
["105304","SINAPI-I",20078,"0,1324000",""]
["105304","SINAPI",88246,"0,7808000",""]
["105304","SINAPI",88316,"0,5206000",""]
["105305",null,null,"","47,0184316"]
["105305","SINAPI",5631,"0,0531000",""]
["105305","SINAPI",5632,"0,1285000",""]
["105305","SINAPI-I",20078,"0,1488000",""]
["105305","SINAPI",88246,"0,8683000",""]
["105305","SINAPI",88316,"0,5789000",""]
["105306",null,null,"","47,2522455"]
["105306","SINAPI",5631,"0,0611000",""]
["105306","SINAPI",5632,"0,1478000",""]
["105306","SINAPI-I",20078,"0,1875000",""]
["105306","SINAPI",88246,"1,0433000",""]
["105306","SINAPI",88316,"0,6955000",""]
["105307",null,null,"","47,9638010"]
["105307","SINAPI",5631,"0,0691000",""]
["105307","SINAPI",5632,"0,1672000",""]
["105307","SINAPI-I",20078,"0,1985000",""]
["105307","SINAPI",88246,"1,2183000",""]
["105307","SINAPI",88316,"0,8122000",""]
["105317",null,null,"","50,9056245"]
["105317","SINAPI",5678,"0,0247000",""]
["105317","SINAPI",5679,"0,0599000",""]
["105317","SINAPI-I",20078,"0,0829000",""]
["105317","SINAPI",88246,"0,3456000",""]
["105317","SINAPI",88316,"0,2304000",""]
["105318",null,null,"","51,2671376"]
["105318","SINAPI",5678,"0,0274000",""]
["105318","SINAPI",5679,"0,0663000",""]
["105318","SINAPI-I",20078,"0,0978000",""]
["105318","SINAPI",88246,"0,4039000",""]
["105318","SINAPI",88316,"0,2693000",""]
["105319",null,null,"","50,0000001"]
["105319","SINAPI",5678,"0,0388000",""]
["105319","SINAPI",5679,"0,0939000",""]
["105319","SINAPI-I",20078,"0,1048000",""]
["105319","SINAPI",88246,"0,4579000",""]
["105319","SINAPI",88316,"0,3053000",""]
["105320",null,null,"","50,5310230"]
["105320","SINAPI",5678,"0,0442000",""]
["105320","SINAPI",5679,"0,1068000",""]
["105320","SINAPI-I",20078,"0,1357000",""]
["105320","SINAPI",88246,"0,5745000",""]
["105320","SINAPI",88316,"0,3830000",""]
["105321",null,null,"","50,8671895"]
["105321","SINAPI",5678,"0,0495000",""]
["105321","SINAPI",5679,"0,1197000",""]
["105321","SINAPI-I",20078,"0,1658000",""]
["105321","SINAPI",88246,"0,6912000",""]
["105321","SINAPI",88316,"0,4608000",""]
["105322",null,null,"","51,1161638"]
["105322","SINAPI",5678,"0,0548000",""]
["105322","SINAPI",5679,"0,1326000",""]
["105322","SINAPI-I",20078,"0,1957000",""]
["105322","SINAPI",88246,"0,8078000",""]
["105322","SINAPI",88316,"0,5385000",""]
["105323",null,null,"","51,3444303"]
["105323","SINAPI",5678,"0,0602000",""]
["105323","SINAPI",5679,"0,1455000",""]
["105323","SINAPI-I",20078,"0,2250000",""]
["105323","SINAPI",88246,"0,9245000",""]
["105323","SINAPI",88316,"0,6163000",""]
["105324",null,null,"","51,2406139"]
["105324","SINAPI",5678,"0,0655000",""]
["105324","SINAPI",5679,"0,1584000",""]
["105324","SINAPI-I",20078,"0,2647000",""]
["105324","SINAPI",88246,"1,0411000",""]
["105324","SINAPI",88316,"0,6941000",""]
["105325",null,null,"","45,1978137"]
["105325","SINAPI",5631,"0,0708000",""]
["105325","SINAPI",5632,"0,1713000",""]
["105325","SINAPI-I",20078,"0,2975000",""]
["105325","SINAPI",88246,"1,1578000",""]
["105325","SINAPI",88316,"0,7718000",""]
["105326",null,null,"","45,3181471"]
["105326","SINAPI",5631,"0,0815000",""]
["105326","SINAPI",5632,"0,1971000",""]
["105326","SINAPI-I",20078,"0,3750000",""]
["105326","SINAPI",88246,"1,3910000",""]
["105326","SINAPI",88316,"0,9274000",""]
["105340",null,null,"","48,3042865"]
["105340","SINAPI",5631,"0,0771000",""]
["105340","SINAPI",5632,"0,1866000",""]
["105340","SINAPI-I",20078,"0,2200000",""]
["105340","SINAPI",88246,"1,3932000",""]
["105340","SINAPI",88316,"0,9288000",""]
["105341",null,null,"","48,5717007"]
["105341","SINAPI",5631,"0,0931000",""]
["105341","SINAPI",5632,"0,2253000",""]
["105341","SINAPI-I",20078,"0,2819000",""]
["105341","SINAPI",88246,"1,7432000",""]
["105341","SINAPI",88316,"1,1621000",""]
["105342",null,null,"","47,5036998"]
["105342","SINAPI",5631,"0,1091000",""]
["105342","SINAPI",5632,"0,2640000",""]
["105342","SINAPI-I",20078,"0,4525000",""]
["105342","SINAPI",88246,"2,0931000",""]
["105342","SINAPI",88316,"1,3954000",""]
["105343",null,null,"","45,0000000"]
["105343","SINAPI",5678,"0,0260000",""]
["105343","SINAPI",5679,"0,0629000",""]
["105343","SINAPI-I",20078,"0,0549000",""]
["105343","SINAPI",88246,"0,1779000",""]
["105343","SINAPI",88316,"0,1186000",""]
["105344",null,null,"","46,1124977"]
["105344","SINAPI",5631,"0,0922000",""]
["105344","SINAPI",5632,"0,2229000",""]
["105344","SINAPI-I",20078,"0,3970000",""]
["105344","SINAPI",88246,"1,6243000",""]
["105344","SINAPI",88316,"1,0829000",""]
["105345",null,null,"","46,6590651"]
["105345","SINAPI",5631,"0,1135000",""]
["105345","SINAPI",5632,"0,2746000",""]
["105345","SINAPI-I",20078,"0,4975000",""]
["105345","SINAPI",88246,"2,0909000",""]
["105345","SINAPI",88316,"1,3939000",""]
["105346",null,null,"","46,6886282"]
["105346","SINAPI",5631,"0,1242000",""]
["105346","SINAPI",5632,"0,3004000",""]
["105346","SINAPI-I",20078,"0,5638000",""]
["105346","SINAPI",88246,"2,3242000",""]
["105346","SINAPI",88316,"1,5495000",""]
["105347",null,null,"","45,1442842"]
["105347","SINAPI",5631,"0,1455000",""]
["105347","SINAPI",5632,"0,3520000",""]
["105347","SINAPI-I",20078,"0,9050000",""]
["105347","SINAPI",88246,"2,7908000",""]
["105347","SINAPI",88316,"1,8605000",""]
["105348",null,null,"","50,9619085"]
["105348","SINAPI",5678,"0,0495000",""]
["105348","SINAPI",5679,"0,2374000",""]
["105348","SINAPI-I",20078,"0,1658000",""]
["105348","SINAPI",88246,"0,7650000",""]
["105348","SINAPI",88316,"0,5100000",""]
["105349",null,null,"","51,2273034"]
["105349","SINAPI",5678,"0,0548000",""]
["105349","SINAPI",5679,"0,2630000",""]
["105349","SINAPI-I",20078,"0,1957000",""]
["105349","SINAPI",88246,"0,8942000",""]
["105349","SINAPI",88316,"0,5961000",""]
["105350",null,null,"","51,4174875"]
["105350","SINAPI",5678,"0,0602000",""]
["105350","SINAPI",5679,"0,2886000",""]
["105350","SINAPI-I",20078,"0,2250000",""]
["105350","SINAPI",88246,"1,0233000",""]
["105350","SINAPI",88316,"0,6822000",""]
["105351",null,null,"","51,4171124"]
["105351","SINAPI",5678,"0,0655000",""]
["105351","SINAPI",5679,"0,3142000",""]
["105351","SINAPI-I",20078,"0,2647000",""]
["105351","SINAPI",88246,"1,1524000",""]
["105351","SINAPI",88316,"0,7682000",""]
["105352",null,null,"","44,1749090"]
["105352","SINAPI",5631,"0,0708000",""]
["105352","SINAPI",5632,"0,3398000",""]
["105352","SINAPI-I",20078,"0,2975000",""]
["105352","SINAPI",88246,"1,2815000",""]
["105352","SINAPI",88316,"0,8543000",""]
["105353",null,null,"","44,3632845"]
["105353","SINAPI",5631,"0,0815000",""]
["105353","SINAPI",5632,"0,3910000",""]
["105353","SINAPI-I",20078,"0,3750000",""]
["105353","SINAPI",88246,"1,5397000",""]
["105353","SINAPI",88316,"1,0265000",""]
["105354",null,null,"","45,0636820"]
["105354","SINAPI",5631,"0,0922000",""]
["105354","SINAPI",5632,"0,4421000",""]
["105354","SINAPI-I",20078,"0,3970000",""]
["105354","SINAPI",88246,"1,7979000",""]
["105354","SINAPI",88316,"1,1986000",""]
["105355",null,null,"","45,4109918"]
["105355","SINAPI",5631,"0,1028000",""]
["105355","SINAPI",5632,"0,4933000",""]
["105355","SINAPI-I",20078,"0,4400000",""]
["105355","SINAPI",88246,"2,0561000",""]
["105355","SINAPI",88316,"1,3708000",""]
["105356",null,null,"","45,5687670"]
["105356","SINAPI",5631,"0,1135000",""]
["105356","SINAPI",5632,"0,5445000",""]
["105356","SINAPI-I",20078,"0,4975000",""]
["105356","SINAPI",88246,"2,3144000",""]
["105356","SINAPI",88316,"1,5429000",""]
["105357",null,null,"","45,6238569"]
["105357","SINAPI",5631,"0,1242000",""]
["105357","SINAPI",5632,"0,5957000",""]
["105357","SINAPI-I",20078,"0,5638000",""]
["105357","SINAPI",88246,"2,5726000",""]
["105357","SINAPI",88316,"1,7151000",""]
["105358",null,null,"","44,4479625"]
["105358","SINAPI",5631,"0,1455000",""]
["105358","SINAPI",5632,"0,6981000",""]
["105358","SINAPI-I",20078,"0,9050000",""]
["105358","SINAPI",88246,"3,0890000",""]
["105358","SINAPI",88316,"2,0593000",""]
["105369",null,null,"","13,5475071"]
["105369","SINAPI",5678,"0,0260000",""]
["105369","SINAPI",5679,"0,1248000",""]
["105369","SINAPI-I",20078,"0,0549000",""]
["105369","SINAPI-I",40421,"1,0000000",""]
["105369","SINAPI",88246,"0,1970000",""]
["105369","SINAPI",88316,"0,1313000",""]
["105377",null,null,"","15,9790126"]
["105377","SINAPI",5678,"0,0195000",""]
["105377","SINAPI",5679,"0,0936000",""]
["105377","SINAPI-I",20078,"0,0275000",""]
["105377","SINAPI-I",40418,"1,0000000",""]
["105377","SINAPI",88246,"0,1477000",""]
["105377","SINAPI",88316,"0,0985000",""]
["105378",null,null,"","46,8275247"]
["105378","SINAPI",5678,"0,0141000",""]
["105378","SINAPI",5679,"0,0675000",""]
["105378","SINAPI-I",20078,"0,0326000",""]
["105378","SINAPI",88246,"0,1243000",""]
["105378","SINAPI",88316,"0,0829000",""]
["105379",null,null,"","49,0196080"]
["105379","SINAPI",5678,"0,0167000",""]
["105379","SINAPI",5679,"0,0803000",""]
["105379","SINAPI-I",20078,"0,0425000",""]
["105379","SINAPI",88246,"0,1889000",""]
["105379","SINAPI",88316,"0,1259000",""]
["105380",null,null,"","45,6502442"]
["105380","SINAPI",5631,"0,0621000",""]
["105380","SINAPI",5632,"0,2978000",""]
["105380","SINAPI-I",20078,"0,2819000",""]
["105380","SINAPI",88246,"1,2863000",""]
["105380","SINAPI",88316,"0,8575000",""]
["105388",null,null,"","48,7553649"]
["105388","SINAPI",5678,"0,0167000",""]
["105388","SINAPI",5679,"0,0405000",""]
["105388","SINAPI-I",20078,"0,0425000",""]
["105388","SINAPI",88246,"0,1706000",""]
["105388","SINAPI",88316,"0,1137000",""]
["105389",null,null,"","50,1364258"]
["105389","SINAPI",5678,"0,0194000",""]
["105389","SINAPI",5679,"0,0469000",""]
["105389","SINAPI-I",20078,"0,0524000",""]
["105389","SINAPI",88246,"0,2289000",""]
["105389","SINAPI",88316,"0,1526000",""]
["105390",null,null,"","48,4931508"]
["105390","SINAPI",5631,"0,0851000",""]
["105390","SINAPI",5632,"0,2059000",""]
["105390","SINAPI-I",20078,"0,2488000",""]
["105390","SINAPI",88246,"1,5682000",""]
["105390","SINAPI",88316,"1,0455000",""]
["105391",null,null,"","46,5051021"]
["105391","SINAPI",5631,"0,1028000",""]
["105391","SINAPI",5632,"0,2487000",""]
["105391","SINAPI-I",20078,"0,4400000",""]
["105391","SINAPI",88246,"1,8576000",""]
["105391","SINAPI",88316,"1,2384000",""]
["105392",null,null,"","50,1903210"]
["105392","SINAPI",5678,"0,0194000",""]
["105392","SINAPI",5679,"0,0931000",""]
["105392","SINAPI-I",20078,"0,0524000",""]
["105392","SINAPI",88246,"0,2534000",""]
["105392","SINAPI",88316,"0,1689000",""]
["105393",null,null,"","50,7220218"]
["105393","SINAPI",5678,"0,0221000",""]
["105393","SINAPI",5679,"0,1059000",""]
["105393","SINAPI-I",20078,"0,0678000",""]
["105393","SINAPI",88246,"0,3180000",""]
["105393","SINAPI",88316,"0,2120000",""]
["105394",null,null,"","51,0432767"]
["105394","SINAPI",5678,"0,0247000",""]
["105394","SINAPI",5679,"0,1187000",""]
["105394","SINAPI-I",20078,"0,0829000",""]
["105394","SINAPI",88246,"0,3825000",""]
["105394","SINAPI",88316,"0,2550000",""]
["105395",null,null,"","51,3331084"]
["105395","SINAPI",5678,"0,0274000",""]
["105395","SINAPI",5679,"0,1315000",""]
["105395","SINAPI-I",20078,"0,0978000",""]
["105395","SINAPI",88246,"0,4471000",""]
["105395","SINAPI",88316,"0,2981000",""]
["105396",null,null,"","51,5260324"]
["105396","SINAPI",5678,"0,0301000",""]
["105396","SINAPI",5679,"0,1443000",""]
["105396","SINAPI-I",20078,"0,1125000",""]
["105396","SINAPI",88246,"0,5116000",""]
["105396","SINAPI",88316,"0,3411000",""]
["105397",null,null,"","51,5013406"]
["105397","SINAPI",5678,"0,0327000",""]
["105397","SINAPI",5679,"0,1571000",""]
["105397","SINAPI-I",20078,"0,1324000",""]
["105397","SINAPI",88246,"0,5762000",""]
["105397","SINAPI",88316,"0,3841000",""]
["105398",null,null,"","44,2379959"]
["105398","SINAPI",5631,"0,0354000",""]
["105398","SINAPI",5632,"0,1699000",""]
["105398","SINAPI-I",20078,"0,1488000",""]
["105398","SINAPI",88246,"0,6407000",""]
["105398","SINAPI",88316,"0,4272000",""]
["105399",null,null,"","44,4189739"]
["105399","SINAPI",5631,"0,0407000",""]
["105399","SINAPI",5632,"0,1955000",""]
["105399","SINAPI-I",20078,"0,1875000",""]
["105399","SINAPI",88246,"0,7699000",""]
["105399","SINAPI",88316,"0,5132000",""]
["105400",null,null,"","45,0904593"]
["105400","SINAPI",5631,"0,0461000",""]
["105400","SINAPI",5632,"0,2211000",""]
["105400","SINAPI-I",20078,"0,1985000",""]
["105400","SINAPI",88246,"0,8990000",""]
["105400","SINAPI",88316,"0,5993000",""]
["105401",null,null,"","45,4296288"]
["105401","SINAPI",5631,"0,0514000",""]
["105401","SINAPI",5632,"0,2467000",""]
["105401","SINAPI-I",20078,"0,2200000",""]
["105401","SINAPI",88246,"1,0281000",""]
["105401","SINAPI",88316,"0,6854000",""]
["105402",null,null,"","45,5716389"]
["105402","SINAPI",5631,"0,0568000",""]
["105402","SINAPI",5632,"0,2723000",""]
["105402","SINAPI-I",20078,"0,2488000",""]
["105402","SINAPI",88246,"1,1572000",""]
["105402","SINAPI",88316,"0,7715000",""]
["97173",null,null,"","43,8056127"]
["97173","SINAPI",5631,"0,0184000",""]
["97173","SINAPI",5632,"0,0882000",""]
["97173","SINAPI-I",10997,"0,1875000",""]
["97173","SINAPI",88246,"0,1604000",""]
["97173","SINAPI",88316,"0,1069000",""]
["97173","SINAPI",88317,"0,5640000",""]
["97174",null,null,"","44,5873321"]
["97174","SINAPI",5631,"0,0210000",""]
["97174","SINAPI",5632,"0,1006000",""]
["97174","SINAPI-I",10997,"0,2187000",""]
["97174","SINAPI",88246,"0,2233000",""]
["97174","SINAPI",88316,"0,1489000",""]
["97174","SINAPI",88317,"0,6580000",""]
["97175",null,null,"","45,1441830"]
["97175","SINAPI",5631,"0,0236000",""]
["97175","SINAPI",5632,"0,1131000",""]
["97175","SINAPI-I",10997,"0,2499000",""]
["97175","SINAPI",88246,"0,2862000",""]
["97175","SINAPI",88316,"0,1908000",""]
["97175","SINAPI",88317,"0,7520000",""]
["97176",null,null,"","45,5712827"]
["97176","SINAPI",5631,"0,0262000",""]
["97176","SINAPI",5632,"0,1256000",""]
["97176","SINAPI-I",10997,"0,2812000",""]
["97176","SINAPI",88246,"0,3492000",""]
["97176","SINAPI",88316,"0,2328000",""]
["97176","SINAPI",88317,"0,8460000",""]
["97177",null,null,"","45,9272776"]
["97177","SINAPI",5631,"0,0288000",""]
["97177","SINAPI",5632,"0,1381000",""]
["97177","SINAPI-I",10997,"0,3124000",""]
["97177","SINAPI",88246,"0,4121000",""]
["97177","SINAPI",88316,"0,2747000",""]
["97177","SINAPI",88317,"0,9400000",""]
["97178",null,null,"","46,4055795"]
["97178","SINAPI",5631,"0,0340000",""]
["97178","SINAPI",5632,"0,1630000",""]
["97178","SINAPI-I",10997,"0,3749000",""]
["97178","SINAPI",88246,"0,5379000",""]
["97178","SINAPI",88316,"0,3586000",""]
["97178","SINAPI",88317,"1,1280000",""]
["97179",null,null,"","46,7621307"]
["97179","SINAPI",5631,"0,0392000",""]
["97179","SINAPI",5632,"0,1880000",""]
["97179","SINAPI-I",10997,"0,4374000",""]
["97179","SINAPI",88246,"0,6638000",""]
["97179","SINAPI",88316,"0,4425000",""]
["97179","SINAPI",88317,"1,3160000",""]
["97180",null,null,"","47,0107835"]
["97180","SINAPI",5631,"0,0444000",""]
["97180","SINAPI",5632,"0,2129000",""]
["97180","SINAPI-I",10997,"0,4999000",""]
["97180","SINAPI",88246,"0,7896000",""]
["97180","SINAPI",88316,"0,5264000",""]
["97180","SINAPI",88317,"1,5040000",""]
["97181",null,null,"","47,2148170"]
["97181","SINAPI",5631,"0,0496000",""]
["97181","SINAPI",5632,"0,2378000",""]
["97181","SINAPI-I",10997,"0,5624000",""]
["97181","SINAPI",88246,"0,9155000",""]
["97181","SINAPI",88316,"0,6103000",""]
["97181","SINAPI",88317,"1,6920000",""]
["97182",null,null,"","46,2478508"]
["97182","SINAPI-I",10997,"0,6249000",""]
["97182","SINAPI",88246,"1,0413000",""]
["97182","SINAPI",88316,"0,6942000",""]
["97182","SINAPI",88317,"1,8799000",""]
["97182","SINAPI",88907,"0,0548000",""]
["97182","SINAPI",88908,"0,2628000",""]
["97183",null,null,"","44,6927376"]
["97183","SINAPI",5631,"0,0184000",""]
["97183","SINAPI",5632,"0,0445000",""]
["97183","SINAPI-I",10997,"0,1875000",""]
["97183","SINAPI",88246,"0,1449000",""]
["97183","SINAPI",88316,"0,0966000",""]
["97183","SINAPI",88317,"0,5640000",""]
["97184",null,null,"","45,4157783"]
["97184","SINAPI",5631,"0,0210000",""]
["97184","SINAPI",5632,"0,0507000",""]
["97184","SINAPI-I",10997,"0,2187000",""]
["97184","SINAPI",88246,"0,2018000",""]
["97184","SINAPI",88316,"0,1345000",""]
["97184","SINAPI",88317,"0,6580000",""]
["97185",null,null,"","45,9543951"]
["97185","SINAPI",5631,"0,0236000",""]
["97185","SINAPI",5632,"0,0570000",""]
["97185","SINAPI-I",10997,"0,2499000",""]
["97185","SINAPI",88246,"0,2586000",""]
["97185","SINAPI",88316,"0,1724000",""]
["97185","SINAPI",88317,"0,7520000",""]
["97186",null,null,"","46,3615784"]
["97186","SINAPI",5631,"0,0262000",""]
["97186","SINAPI",5632,"0,0633000",""]
["97186","SINAPI-I",10997,"0,2812000",""]
["97186","SINAPI",88246,"0,3155000",""]
["97186","SINAPI",88316,"0,2103000",""]
["97186","SINAPI",88317,"0,8460000",""]
["97187",null,null,"","46,6945728"]
["97187","SINAPI",5631,"0,0288000",""]
["97187","SINAPI",5632,"0,0696000",""]
["97187","SINAPI-I",10997,"0,3124000",""]
["97187","SINAPI",88246,"0,3723000",""]
["97187","SINAPI",88316,"0,2482000",""]
["97187","SINAPI",88317,"0,9400000",""]
["97188",null,null,"","47,1747390"]
["97188","SINAPI",5631,"0,0340000",""]
["97188","SINAPI",5632,"0,0822000",""]
["97188","SINAPI-I",10997,"0,3749000",""]
["97188","SINAPI",88246,"0,4860000",""]
["97188","SINAPI",88316,"0,3240000",""]
["97188","SINAPI",88317,"1,1280000",""]
["97189",null,null,"","47,4942020"]
["97189","SINAPI",5631,"0,0392000",""]
["97189","SINAPI",5632,"0,0948000",""]
["97189","SINAPI-I",10997,"0,4374000",""]
["97189","SINAPI",88246,"0,5997000",""]
["97189","SINAPI",88316,"0,3998000",""]
["97189","SINAPI",88317,"1,3160000",""]
["97190",null,null,"","47,7438011"]
["97190","SINAPI",5631,"0,0444000",""]
["97190","SINAPI",5632,"0,1073000",""]
["97190","SINAPI-I",10997,"0,4999000",""]
["97190","SINAPI",88246,"0,7134000",""]
["97190","SINAPI",88316,"0,4756000",""]
["97190","SINAPI",88317,"1,5040000",""]
["97191",null,null,"","47,9349091"]
["97191","SINAPI",5631,"0,0496000",""]
["97191","SINAPI",5632,"0,1199000",""]
["97191","SINAPI-I",10997,"0,5624000",""]
["97191","SINAPI",88246,"0,8271000",""]
["97191","SINAPI",88316,"0,5514000",""]
["97191","SINAPI",88317,"1,6920000",""]
["97192",null,null,"","47,1044574"]
["97192","SINAPI-I",10997,"0,6249000",""]
["97192","SINAPI",88246,"0,9408000",""]
["97192","SINAPI",88316,"0,6272000",""]
["97192","SINAPI",88317,"1,8799000",""]
["97192","SINAPI",88907,"0,0548000",""]
["97192","SINAPI",88908,"0,1325000",""]
["90694",null,null,"","4,5483127"]
["90694","SINAPI-I",20078,"0,0104000",""]
["90694","SINAPI-I",36365,"1,0500000",""]
["90694","SINAPI",88246,"0,0753000",""]
["90694","SINAPI",88316,"0,0753000",""]
["90695",null,null,"","2,8405352"]
["90695","SINAPI-I",20078,"0,0146000",""]
["90695","SINAPI-I",41936,"1,0500000",""]
["90695","SINAPI",88246,"0,0892000",""]
["90695","SINAPI",88316,"0,0892000",""]
["90696",null,null,"","1,9512833"]
["90696","SINAPI-I",20078,"0,0167000",""]
["90696","SINAPI-I",41930,"1,0500000",""]
["90696","SINAPI",88246,"0,1030000",""]
["90696","SINAPI",88316,"0,1030000",""]
["90697",null,null,"","1,4282704"]
["90697","SINAPI-I",20078,"0,0208000",""]
["90697","SINAPI-I",41931,"1,0500000",""]
["90697","SINAPI",88246,"0,1169000",""]
["90697","SINAPI",88316,"0,1169000",""]
["90698",null,null,"","1,0434447"]
["90698","SINAPI-I",20078,"0,0250000",""]
["90698","SINAPI-I",41932,"1,0500000",""]
["90698","SINAPI",88246,"0,1308000",""]
["90698","SINAPI",88316,"0,1308000",""]
["90699",null,null,"","0,8209859"]
["90699","SINAPI-I",20078,"0,0292000",""]
["90699","SINAPI-I",41933,"1,0500000",""]
["90699","SINAPI",88246,"0,1447000",""]
["90699","SINAPI",88316,"0,1447000",""]
["90700",null,null,"","0,6374222"]
["90700","SINAPI",5678,"0,0283000",""]
["90700","SINAPI",5679,"0,0176000",""]
["90700","SINAPI-I",20078,"0,0333000",""]
["90700","SINAPI-I",41934,"1,0500000",""]
["90700","SINAPI",88246,"0,0873000",""]
["90700","SINAPI",88316,"0,0873000",""]
["90701",null,null,"","4,0218609"]
["90701","SINAPI-I",305,"0,1667000",""]
["90701","SINAPI-I",20078,"0,0146000",""]
["90701","SINAPI-I",38032,"1,0500000",""]
["90701","SINAPI",88246,"0,0993000",""]
["90701","SINAPI",88316,"0,0993000",""]
["90702",null,null,"","2,7658318"]
["90702","SINAPI-I",306,"0,1667000",""]
["90702","SINAPI-I",20078,"0,0167000",""]
["90702","SINAPI-I",38033,"1,0500000",""]
["90702","SINAPI",88246,"0,1132000",""]
["90702","SINAPI",88316,"0,1132000",""]
["90703",null,null,"","1,9762633"]
["90703","SINAPI-I",307,"0,1667000",""]
["90703","SINAPI-I",20078,"0,0188000",""]
["90703","SINAPI-I",38034,"1,0500000",""]
["90703","SINAPI",88246,"0,1271000",""]
["90703","SINAPI",88316,"0,1271000",""]
["90704",null,null,"","1,4756286"]
["90704","SINAPI-I",308,"0,1667000",""]
["90704","SINAPI-I",20078,"0,0208000",""]
["90704","SINAPI-I",38035,"1,0500000",""]
["90704","SINAPI",88246,"0,1410000",""]
["90704","SINAPI",88316,"0,1410000",""]
["90705",null,null,"","1,2385523"]
["90705","SINAPI-I",309,"0,1667000",""]
["90705","SINAPI-I",20078,"0,0229000",""]
["90705","SINAPI-I",38036,"1,0500000",""]
["90705","SINAPI",88246,"0,1549000",""]
["90705","SINAPI",88316,"0,1549000",""]
["90706",null,null,"","0,8836309"]
["90706","SINAPI-I",310,"0,1667000",""]
["90706","SINAPI",5678,"0,0316000",""]
["90706","SINAPI",5679,"0,0196000",""]
["90706","SINAPI-I",20078,"0,0250000",""]
["90706","SINAPI-I",38037,"1,0500000",""]
["90706","SINAPI",88246,"0,0975000",""]
["90706","SINAPI",88316,"0,0975000",""]
["90708",null,null,"","0,5341425"]
["90708","SINAPI",5631,"0,0422000",""]
["90708","SINAPI",5632,"0,0262000",""]
["90708","SINAPI-I",20078,"0,0694000",""]
["90708","SINAPI-I",41782,"1,0500000",""]
["90708","SINAPI",88246,"0,1301000",""]
["90708","SINAPI",88316,"0,1301000",""]
["90724",null,null,"","70,6158910"]
["90724","SINAPI",88246,"0,5086000",""]
["90724","SINAPI",88316,"0,5086000",""]
["90724","SINAPI",88629,"0,0018000",""]
["90725",null,null,"","70,2403663"]
["90725","SINAPI",88246,"0,6217000",""]
["90725","SINAPI",88316,"0,6217000",""]
["90725","SINAPI",88629,"0,0025000",""]
["90726",null,null,"","69,8717949"]
["90726","SINAPI",88246,"0,7348000",""]
["90726","SINAPI",88316,"0,7348000",""]
["90726","SINAPI",88629,"0,0033000",""]
["90727",null,null,"","69,6241018"]
["90727","SINAPI",88246,"0,8479000",""]
["90727","SINAPI",88316,"0,8479000",""]
["90727","SINAPI",88629,"0,0040000",""]
["90728",null,null,"","69,4363460"]
["90728","SINAPI",88246,"0,9610000",""]
["90728","SINAPI",88316,"0,9610000",""]
["90728","SINAPI",88629,"0,0047000",""]
["90729",null,null,"","69,2974849"]
["90729","SINAPI",88246,"1,0741000",""]
["90729","SINAPI",88316,"1,0741000",""]
["90729","SINAPI",88629,"0,0054000",""]
["90730",null,null,"","69,1720494"]
["90730","SINAPI",88246,"1,1872000",""]
["90730","SINAPI",88316,"1,1872000",""]
["90730","SINAPI",88629,"0,0061000",""]
["90731",null,null,"","69,0935047"]
["90731","SINAPI",88246,"1,3003000",""]
["90731","SINAPI",88316,"1,3003000",""]
["90731","SINAPI",88629,"0,0068000",""]
["90732",null,null,"","68,9271113"]
["90732","SINAPI",88246,"1,6396000",""]
["90732","SINAPI",88316,"1,6396000",""]
["90732","SINAPI",88629,"0,0089000",""]
["90733",null,null,"","74,5704468"]
["90733","SINAPI",88246,"0,0753000",""]
["90733","SINAPI",88316,"0,0753000",""]
["90734",null,null,"","74,8554914"]
["90734","SINAPI",88246,"0,0892000",""]
["90734","SINAPI",88316,"0,0892000",""]
["90735",null,null,"","74,6867168"]
["90735","SINAPI",88246,"0,1030000",""]
["90735","SINAPI",88316,"0,1030000",""]
["90736",null,null,"","74,5054946"]
["90736","SINAPI",88246,"0,1169000",""]
["90736","SINAPI",88316,"0,1169000",""]
["90737",null,null,"","74,3137255"]
["90737","SINAPI",88246,"0,1308000",""]
["90737","SINAPI",88316,"0,1308000",""]
["90738",null,null,"","74,3362832"]
["90738","SINAPI",88246,"0,1447000",""]
["90738","SINAPI",88316,"0,1447000",""]
["90739",null,null,"","44,7183100"]
["90739","SINAPI",5678,"0,0283000",""]
["90739","SINAPI",5679,"0,0176000",""]
["90739","SINAPI",88246,"0,0873000",""]
["90739","SINAPI",88316,"0,0873000",""]
["90740",null,null,"","74,3523317"]
["90740","SINAPI",88246,"0,0993000",""]
["90740","SINAPI",88316,"0,0993000",""]
["90741",null,null,"","74,5454546"]
["90741","SINAPI",88246,"0,1132000",""]
["90741","SINAPI",88316,"0,1132000",""]
["90742",null,null,"","74,6450305"]
["90742","SINAPI",88246,"0,1271000",""]
["90742","SINAPI",88316,"0,1271000",""]
["90743",null,null,"","74,4990893"]
["90743","SINAPI",88246,"0,1410000",""]
["90743","SINAPI",88316,"0,1410000",""]
["90744",null,null,"","74,4610282"]
["90744","SINAPI",88246,"0,1549000",""]
["90744","SINAPI",88316,"0,1549000",""]
["90745",null,null,"","44,6428572"]
["90745","SINAPI",5678,"0,0316000",""]
["90745","SINAPI",5679,"0,0196000",""]
["90745","SINAPI",88246,"0,0975000",""]
["90745","SINAPI",88316,"0,0975000",""]
["90746",null,null,"","74,7603834"]
["90746","SINAPI",88246,"0,0814000",""]
["90746","SINAPI",88316,"0,0814000",""]
["90747",null,null,"","34,7906403"]
["90747","SINAPI",5631,"0,0422000",""]
["90747","SINAPI",5632,"0,0262000",""]
["90747","SINAPI",88246,"0,1301000",""]
["90747","SINAPI",88316,"0,1301000",""]
["94869",null,null,"","0,2993691"]
["94869","SINAPI-I",20078,"0,0379000",""]
["94869","SINAPI-I",41779,"1,0500000",""]
["94869","SINAPI",88246,"0,0200000",""]
["94869","SINAPI",88316,"0,0200000",""]
["94870",null,null,"","30,4347826"]
["94870","SINAPI-I",20078,"0,0379000",""]
["94870","SINAPI",88246,"0,0200000",""]
["94870","SINAPI",88316,"0,0200000",""]
["94871",null,null,"","0,3382302"]
["94871","SINAPI-I",20078,"0,0417000",""]
["94871","SINAPI-I",41780,"1,0500000",""]
["94871","SINAPI",88246,"0,0349000",""]
["94871","SINAPI",88316,"0,0349000",""]
["94872",null,null,"","39,1304347"]
["94872","SINAPI-I",20078,"0,0417000",""]
["94872","SINAPI",88246,"0,0349000",""]
["94872","SINAPI",88316,"0,0349000",""]
["94875",null,null,"","0,5004393"]
["94875","SINAPI",5631,"0,0638000",""]
["94875","SINAPI",5632,"0,0397000",""]
["94875","SINAPI-I",20078,"0,1042000",""]
["94875","SINAPI-I",41783,"1,0500000",""]
["94875","SINAPI",88246,"0,1970000",""]
["94875","SINAPI",88316,"0,1970000",""]
["94876",null,null,"","30,9909909"]
["94876","SINAPI",5631,"0,0638000",""]
["94876","SINAPI",5632,"0,0397000",""]
["94876","SINAPI-I",20078,"0,1042000",""]
["94876","SINAPI",88246,"0,1970000",""]
["94876","SINAPI",88316,"0,1970000",""]
["94878",null,null,"","31,5034310"]
["94878","SINAPI",5631,"0,0749000",""]
["94878","SINAPI",5632,"0,0466000",""]
["94878","SINAPI-I",20078,"0,1042000",""]
["94878","SINAPI",88246,"0,2311000",""]
["94878","SINAPI",88316,"0,2311000",""]
["94879",null,null,"","0,4674610"]
["94879","SINAPI",5631,"0,0917000",""]
["94879","SINAPI",5632,"0,0570000",""]
["94879","SINAPI-I",20078,"0,2083000",""]
["94879","SINAPI-I",41785,"1,0500000",""]
["94879","SINAPI",88246,"0,2830000",""]
["94879","SINAPI",88316,"0,2830000",""]
["94880",null,null,"","29,6927508"]
["94880","SINAPI",5631,"0,0917000",""]
["94880","SINAPI",5632,"0,0570000",""]
["94880","SINAPI-I",20078,"0,2083000",""]
["94880","SINAPI",88246,"0,2830000",""]
["94880","SINAPI",88316,"0,2830000",""]
["94881",null,null,"","0,4026919"]
["94881","SINAPI",5631,"0,1088000",""]
["94881","SINAPI",5632,"0,0676000",""]
["94881","SINAPI-I",20078,"0,2083000",""]
["94881","SINAPI-I",41786,"1,0500000",""]
["94881","SINAPI",88246,"0,3355000",""]
["94881","SINAPI",88316,"0,3355000",""]
["94882",null,null,"","30,4140786"]
["94882","SINAPI",5631,"0,1088000",""]
["94882","SINAPI",5632,"0,0676000",""]
["94882","SINAPI-I",20078,"0,2083000",""]
["94882","SINAPI",88246,"0,3355000",""]
["94882","SINAPI",88316,"0,3355000",""]
["94884",null,null,"","31,3592233"]
["94884","SINAPI",5631,"0,1434000",""]
["94884","SINAPI",5632,"0,0891000",""]
["94884","SINAPI-I",20078,"0,2083000",""]
["94884","SINAPI",88246,"0,4424000",""]
["94884","SINAPI",88316,"0,4424000",""]
["97121",null,null,"","71,9844358"]
["97121","SINAPI-I",20078,"0,0042000",""]
["97121","SINAPI",88246,"0,0640000",""]
["97121","SINAPI",88316,"0,0640000",""]
["97122",null,null,"","69,6485624"]
["97122","SINAPI-I",20078,"0,0073000",""]
["97122","SINAPI",88246,"0,0756000",""]
["97122","SINAPI",88316,"0,0756000",""]
["97123",null,null,"","69,3150685"]
["97123","SINAPI-I",20078,"0,0094000",""]
["97123","SINAPI",88246,"0,0872000",""]
["97123","SINAPI",88316,"0,0872000",""]
["97124",null,null,"","70,9523810"]
["97124","SINAPI-I",20078,"0,0042000",""]
["97124","SINAPI",88246,"0,0519000",""]
["97124","SINAPI",88316,"0,0519000",""]
["97125",null,null,"","68,6046512"]
["97125","SINAPI-I",20078,"0,0073000",""]
["97125","SINAPI",88246,"0,0613000",""]
["97125","SINAPI",88316,"0,0613000",""]
["97126",null,null,"","68,0000000"]
["97126","SINAPI-I",20078,"0,0094000",""]
["97126","SINAPI",88246,"0,0707000",""]
["97126","SINAPI",88316,"0,0707000",""]
["102264",null,null,"","10,6949236"]
["102264","SINAPI-I",303,"0,1667000",""]
["102264","SINAPI-I",9836,"1,0500000",""]
["102264","SINAPI-I",20078,"0,0104200",""]
["102264","SINAPI",88246,"0,0752800",""]
["102264","SINAPI",88316,"0,0752800",""]
["102265",null,null,"","68,7589473"]
["102265","SINAPI",88246,"2,0920000",""]
["102265","SINAPI",88316,"2,0920000",""]
["102265","SINAPI",88629,"0,0117000",""]
["102266",null,null,"","68,7090368"]
["102266","SINAPI",88246,"2,3182000",""]
["102266","SINAPI",88316,"2,3182000",""]
["102266","SINAPI",88629,"0,0131000",""]
["102267",null,null,"","68,6203320"]
["102267","SINAPI",88246,"2,6575000",""]
["102267","SINAPI",88316,"2,6575000",""]
["102267","SINAPI",88629,"0,0153000",""]
["102268",null,null,"","68,5924451"]
["102268","SINAPI",88246,"2,9968000",""]
["102268","SINAPI",88316,"2,9968000",""]
["102268","SINAPI",88629,"0,0174000",""]
["102269",null,null,"","68,5152839"]
["102269","SINAPI",88246,"3,6754000",""]
["102269","SINAPI",88316,"3,6754000",""]
["102269","SINAPI",88629,"0,0216000",""]
["105260",null,null,"","9,9515868"]
["105260","SINAPI-I",20078,"0,0042000",""]
["105260","SINAPI-I",36375,"1,0250000",""]
["105260","SINAPI",88246,"0,0640000",""]
["105260","SINAPI",88316,"0,0640000",""]
["105285",null,null,"","8,2229580"]
["105285","SINAPI-I",20078,"0,0042000",""]
["105285","SINAPI-I",36375,"1,0250000",""]
["105285","SINAPI",88246,"0,0519000",""]
["105285","SINAPI",88316,"0,0519000",""]
["105286",null,null,"","31,9982956"]
["105286","SINAPI-I",3845,"1,0000000",""]
["105286","SINAPI-I",20078,"0,0250000",""]
["105286","SINAPI",88246,"0,2585000",""]
["105286","SINAPI",88316,"0,2585000",""]
["105287",null,null,"","28,2861124"]
["105287","SINAPI-I",3845,"1,0000000",""]
["105287","SINAPI-I",20078,"0,0250000",""]
["105287","SINAPI",88246,"0,2097000",""]
["105287","SINAPI",88316,"0,2097000",""]
["105288",null,null,"","23,6610711"]
["105288","SINAPI-I",11045,"1,0000000",""]
["105288","SINAPI-I",20078,"0,0438000",""]
["105288","SINAPI",88246,"0,3054000",""]
["105288","SINAPI",88316,"0,3054000",""]
["105289",null,null,"","20,4139495"]
["105289","SINAPI-I",11045,"1,0000000",""]
["105289","SINAPI-I",20078,"0,0438000",""]
["105289","SINAPI",88246,"0,2478000",""]
["105289","SINAPI",88316,"0,2478000",""]
["105290",null,null,"","20,5246295"]
["105290","SINAPI-I",3837,"1,0000000",""]
["105290","SINAPI-I",20078,"0,0563000",""]
["105290","SINAPI",88246,"0,3523000",""]
["105290","SINAPI",88316,"0,3523000",""]
["105291",null,null,"","17,5612848"]
["105291","SINAPI-I",3837,"1,0000000",""]
["105291","SINAPI-I",20078,"0,0563000",""]
["105291","SINAPI",88246,"0,2858000",""]
["105291","SINAPI",88316,"0,2858000",""]
["105292",null,null,"","29,2607003"]
["105292","SINAPI-I",1831,"1,0000000",""]
["105292","SINAPI-I",20078,"0,0250000",""]
["105292","SINAPI",88246,"0,3877000",""]
["105292","SINAPI",88316,"0,3877000",""]
["105293",null,null,"","25,6446188"]
["105293","SINAPI-I",1831,"1,0000000",""]
["105293","SINAPI-I",20078,"0,0250000",""]
["105293","SINAPI",88246,"0,3146000",""]
["105293","SINAPI",88316,"0,3146000",""]
["105294",null,null,"","17,7733333"]
["105294","SINAPI-I",1825,"1,0000000",""]
["105294","SINAPI-I",20078,"0,0438000",""]
["105294","SINAPI",88246,"0,4580000",""]
["105294","SINAPI",88316,"0,4580000",""]
["105295",null,null,"","15,1019837"]
["105295","SINAPI-I",1825,"1,0000000",""]
["105295","SINAPI-I",20078,"0,0438000",""]
["105295","SINAPI",88246,"0,3716000",""]
["105295","SINAPI",88316,"0,3716000",""]
["105296",null,null,"","12,2238117"]
["105296","SINAPI-I",1827,"1,0000000",""]
["105296","SINAPI-I",20078,"0,0563000",""]
["105296","SINAPI",88246,"0,5284000",""]
["105296","SINAPI",88316,"0,5284000",""]
["105308",null,null,"","67,6886793"]
["105308","SINAPI-I",20078,"0,0136000",""]
["105308","SINAPI",88246,"0,0988000",""]
["105308","SINAPI",88316,"0,0988000",""]
["105309",null,null,"","66,9584246"]
["105309","SINAPI-I",20078,"0,0155000",""]
["105309","SINAPI",88246,"0,1058000",""]
["105309","SINAPI",88316,"0,1058000",""]
["105310",null,null,"","66,9144982"]
["105310","SINAPI-I",20078,"0,0188000",""]
["105310","SINAPI",88246,"0,1243000",""]
["105310","SINAPI",88316,"0,1243000",""]
["105311",null,null,"","68,8427300"]
["105311","SINAPI-I",20078,"0,0094000",""]
["105311","SINAPI",88246,"0,0806000",""]
["105311","SINAPI",88316,"0,0806000",""]
["105312",null,null,"","66,1891118"]
["105312","SINAPI-I",20078,"0,0136000",""]
["105312","SINAPI",88246,"0,0802000",""]
["105312","SINAPI",88316,"0,0802000",""]
["105313",null,null,"","65,4353563"]
["105313","SINAPI-I",20078,"0,0155000",""]
["105313","SINAPI",88246,"0,0858000",""]
["105313","SINAPI",88316,"0,0858000",""]
["105314",null,null,"","65,2561248"]
["105314","SINAPI-I",20078,"0,0188000",""]
["105314","SINAPI",88246,"0,1009000",""]
["105314","SINAPI",88316,"0,1009000",""]
["105315",null,null,"","67,9687500"]
["105315","SINAPI-I",20078,"0,0250000",""]
["105315","SINAPI",88246,"0,2097000",""]
["105315","SINAPI",88316,"0,2097000",""]
["105316",null,null,"","50,5895565"]
["105316","SINAPI",5678,"0,0221000",""]
["105316","SINAPI",5679,"0,0534000",""]
["105316","SINAPI-I",20078,"0,0678000",""]
["105316","SINAPI",88246,"0,2873000",""]
["105316","SINAPI",88316,"0,1915000",""]
["105327",null,null,"","6,3023995"]
["105327","SINAPI-I",20078,"0,0073000",""]
["105327","SINAPI-I",36376,"1,0250000",""]
["105327","SINAPI",88246,"0,0756000",""]
["105327","SINAPI",88316,"0,0756000",""]
["105328",null,null,"","5,1997649"]
["105328","SINAPI-I",20078,"0,0073000",""]
["105328","SINAPI-I",36376,"1,0250000",""]
["105328","SINAPI",88246,"0,0613000",""]
["105328","SINAPI",88316,"0,0613000",""]
["105329",null,null,"","4,4993775"]
["105329","SINAPI-I",20078,"0,0094000",""]
["105329","SINAPI-I",36377,"1,0250000",""]
["105329","SINAPI",88246,"0,0872000",""]
["105329","SINAPI",88316,"0,0872000",""]
["105330",null,null,"","3,6703850"]
["105330","SINAPI-I",20078,"0,0094000",""]
["105330","SINAPI-I",36377,"1,0250000",""]
["105330","SINAPI",88246,"0,0707000",""]
["105330","SINAPI",88316,"0,0707000",""]
["105331",null,null,"","5,8087130"]
["105331","SINAPI-I",9825,"1,0250000",""]
["105331","SINAPI-I",20078,"0,0094000",""]
["105331","SINAPI",88246,"0,0806000",""]
["105331","SINAPI",88316,"0,0806000",""]
["105332",null,null,"","4,8030495"]
["105332","SINAPI-I",9825,"1,0250000",""]
["105332","SINAPI-I",20078,"0,0094000",""]
["105332","SINAPI",88246,"0,0654000",""]
["105332","SINAPI",88316,"0,0654000",""]
["105333",null,null,"","2,8322811"]
["105333","SINAPI",5678,"0,0081000",""]
["105333","SINAPI",5679,"0,0387000",""]
["105333","SINAPI-I",9829,"1,0250000",""]
["105333","SINAPI-I",20078,"0,0188000",""]
["105333","SINAPI",88246,"0,1270000",""]
["105333","SINAPI",88316,"0,1270000",""]
["105334",null,null,"","2,1479988"]
["105334","SINAPI",5678,"0,0081000",""]
["105334","SINAPI",5679,"0,0195000",""]
["105334","SINAPI-I",9829,"1,0250000",""]
["105334","SINAPI-I",20078,"0,0188000",""]
["105334","SINAPI",88246,"0,1030000",""]
["105334","SINAPI",88316,"0,1030000",""]
["105335",null,null,"","2,2215505"]
["105335","SINAPI",5678,"0,0095000",""]
["105335","SINAPI",5679,"0,0458000",""]
["105335","SINAPI-I",9826,"1,0250000",""]
["105335","SINAPI-I",20078,"0,0229000",""]
["105335","SINAPI",88246,"0,1502000",""]
["105335","SINAPI",88316,"0,1502000",""]
["105336",null,null,"","1,6861862"]
["105336","SINAPI",5678,"0,0095000",""]
["105336","SINAPI",5679,"0,0231000",""]
["105336","SINAPI-I",9826,"1,0250000",""]
["105336","SINAPI-I",20078,"0,0229000",""]
["105336","SINAPI",88246,"0,1219000",""]
["105336","SINAPI",88316,"0,1219000",""]
["105337",null,null,"","1,8227630"]
["105337","SINAPI",5678,"0,0110000",""]
["105337","SINAPI",5679,"0,0529000",""]
["105337","SINAPI-I",9827,"1,0250000",""]
["105337","SINAPI-I",20078,"0,0271000",""]
["105337","SINAPI",88246,"0,1734000",""]
["105337","SINAPI",88316,"0,1734000",""]
["105338",null,null,"","1,3807825"]
["105338","SINAPI",5678,"0,0110000",""]
["105338","SINAPI",5679,"0,0267000",""]
["105338","SINAPI-I",9827,"1,0250000",""]
["105338","SINAPI-I",20078,"0,0271000",""]
["105338","SINAPI",88246,"0,1407000",""]
["105338","SINAPI",88316,"0,1407000",""]
["105339",null,null,"","67,9856116"]
["105339","SINAPI-I",20078,"0,0094000",""]
["105339","SINAPI",88246,"0,0654000",""]
["105339","SINAPI",88316,"0,0654000",""]
["105359",null,null,"","68,8990826"]
["105359","SINAPI-I",20078,"0,0250000",""]
["105359","SINAPI",88246,"0,2585000",""]
["105359","SINAPI",88316,"0,2585000",""]
["105360",null,null,"","66,8674699"]
["105360","SINAPI-I",20078,"0,0438000",""]
["105360","SINAPI",88246,"0,3054000",""]
["105360","SINAPI",88316,"0,3054000",""]
["105361",null,null,"","66,0012879"]
["105361","SINAPI-I",20078,"0,0563000",""]
["105361","SINAPI",88246,"0,3523000",""]
["105361","SINAPI",88316,"0,3523000",""]
["105362",null,null,"","70,5440901"]
["105362","SINAPI-I",20078,"0,0250000",""]
["105362","SINAPI",88246,"0,3877000",""]
["105362","SINAPI",88316,"0,3877000",""]
["105363",null,null,"","68,9601656"]
["105363","SINAPI-I",20078,"0,0438000",""]
["105363","SINAPI",88246,"0,4580000",""]
["105363","SINAPI",88316,"0,4580000",""]
["105364",null,null,"","68,4163702"]
["105364","SINAPI-I",20078,"0,0563000",""]
["105364","SINAPI",88246,"0,5284000",""]
["105364","SINAPI",88316,"0,5284000",""]
["105365",null,null,"","68,8329520"]
["105365","SINAPI-I",20078,"0,0500000",""]
["105365","SINAPI",88246,"0,5169000",""]
["105365","SINAPI",88316,"0,5169000",""]
["105366",null,null,"","66,7166980"]
["105366","SINAPI-I",20078,"0,0875000",""]
["105366","SINAPI",88246,"0,6107000",""]
["105366","SINAPI",88316,"0,6107000",""]
["105367",null,null,"","65,9485531"]
["105367","SINAPI-I",20078,"0,1125000",""]
["105367","SINAPI",88246,"0,7045000",""]
["105367","SINAPI",88316,"0,7045000",""]
["105368",null,null,"","13,1168831"]
["105368","SINAPI",5678,"0,0195000",""]
["105368","SINAPI",5679,"0,0472000",""]
["105368","SINAPI-I",20078,"0,0275000",""]
["105368","SINAPI-I",40418,"1,0000000",""]
["105368","SINAPI",88246,"0,1335000",""]
["105368","SINAPI",88316,"0,0890000",""]
["105370",null,null,"","10,9881165"]
["105370","SINAPI",5678,"0,0260000",""]
["105370","SINAPI",5679,"0,0629000",""]
["105370","SINAPI-I",20078,"0,0549000",""]
["105370","SINAPI-I",40421,"1,0000000",""]
["105370","SINAPI",88246,"0,1779000",""]
["105370","SINAPI",88316,"0,1186000",""]
["105371",null,null,"","64,3353942"]
["105371","SINAPI-I",20078,"0,1125000",""]
["105371","SINAPI",88246,"0,5716000",""]
["105371","SINAPI",88316,"0,5716000",""]
["105372",null,null,"","45,3566623"]
["105372","SINAPI",5678,"0,0130000",""]
["105372","SINAPI",5679,"0,0315000",""]
["105372","SINAPI-I",20078,"0,0275000",""]
["105372","SINAPI",88246,"0,0890000",""]
["105372","SINAPI",88316,"0,0593000",""]
["105373",null,null,"","46,4285715"]
["105373","SINAPI",5678,"0,0141000",""]
["105373","SINAPI",5679,"0,0340000",""]
["105373","SINAPI-I",20078,"0,0326000",""]
["105373","SINAPI",88246,"0,1123000",""]
["105373","SINAPI",88316,"0,0749000",""]
["105374",null,null,"","10,2378999"]
["105374","SINAPI-I",1827,"1,0000000",""]
["105374","SINAPI-I",20078,"0,0563000",""]
["105374","SINAPI",88246,"0,4287000",""]
["105374","SINAPI",88316,"0,4287000",""]
["105375",null,null,"","20,2928663"]
["105375","SINAPI-I",11378,"1,0000000",""]
["105375","SINAPI-I",20078,"0,1125000",""]
["105375","SINAPI",88246,"0,7045000",""]
["105375","SINAPI",88316,"0,7045000",""]
["105376",null,null,"","17,3708920"]
["105376","SINAPI-I",11378,"1,0000000",""]
["105376","SINAPI-I",20078,"0,1125000",""]
["105376","SINAPI",88246,"0,5716000",""]
["105376","SINAPI",88316,"0,5716000",""]
["105381",null,null,"","65,3357532"]
["105381","SINAPI-I",20078,"0,0438000",""]
["105381","SINAPI",88246,"0,2478000",""]
["105381","SINAPI",88316,"0,2478000",""]
["105382",null,null,"","64,3687065"]
["105382","SINAPI-I",20078,"0,0563000",""]
["105382","SINAPI",88246,"0,2858000",""]
["105382","SINAPI",88316,"0,2858000",""]
["105383",null,null,"","69,7408537"]
["105383","SINAPI-I",20078,"0,0250000",""]
["105383","SINAPI",88246,"0,3146000",""]
["105383","SINAPI",88316,"0,3146000",""]
["105384",null,null,"","67,9446889"]
["105384","SINAPI-I",20078,"0,0438000",""]
["105384","SINAPI",88246,"0,3716000",""]
["105384","SINAPI",88316,"0,3716000",""]
["105385",null,null,"","67,2413794"]
["105385","SINAPI-I",20078,"0,0563000",""]
["105385","SINAPI",88246,"0,4287000",""]
["105385","SINAPI",88316,"0,4287000",""]
["105386",null,null,"","67,8531702"]
["105386","SINAPI-I",20078,"0,0500000",""]
["105386","SINAPI",88246,"0,4194000",""]
["105386","SINAPI",88316,"0,4194000",""]
["105387",null,null,"","65,2488688"]
["105387","SINAPI-I",20078,"0,0875000",""]
["105387","SINAPI",88246,"0,4955000",""]
["105387","SINAPI",88316,"0,4955000",""]
["92833",null,null,"","2,0797227"]
["92833","SINAPI",5631,"0,0160000",""]
["92833","SINAPI",5632,"0,0311000",""]
["92833","SINAPI-I",40335,"1,0300000",""]
["92833","SINAPI-I",40340,"0,4000000",""]
["92833","SINAPI",88246,"0,0715000",""]
["92833","SINAPI",88316,"0,1431000",""]
["92834",null,null,"","22,8865979"]
["92834","SINAPI",5631,"0,0160000",""]
["92834","SINAPI",5632,"0,0311000",""]
["92834","SINAPI-I",40340,"0,4000000",""]
["92834","SINAPI",88246,"0,0715000",""]
["92834","SINAPI",88316,"0,1431000",""]
["92835",null,null,"","2,8224190"]
["92835","SINAPI",5631,"0,0228000",""]
["92835","SINAPI",5632,"0,0443000",""]
["92835","SINAPI-I",7740,"1,0300000",""]
["92835","SINAPI-I",40341,"0,4000000",""]
["92835","SINAPI",88246,"0,1021000",""]
["92835","SINAPI",88316,"0,2041000",""]
["92836",null,null,"","24,7946812"]
["92836","SINAPI",5631,"0,0228000",""]
["92836","SINAPI",5632,"0,0443000",""]
["92836","SINAPI-I",40341,"0,4000000",""]
["92836","SINAPI",88246,"0,1021000",""]
["92836","SINAPI",88316,"0,2041000",""]
["92837",null,null,"","2,0653314"]
["92837","SINAPI",5631,"0,0297000",""]
["92837","SINAPI",5632,"0,0576000",""]
["92837","SINAPI-I",7741,"1,0300000",""]
["92837","SINAPI-I",40342,"0,4000000",""]
["92837","SINAPI",88246,"0,1326000",""]
["92837","SINAPI",88316,"0,2651000",""]
["92838",null,null,"","25,7311761"]
["92838","SINAPI",5631,"0,0297000",""]
["92838","SINAPI",5632,"0,0576000",""]
["92838","SINAPI-I",40342,"0,4000000",""]
["92838","SINAPI",88246,"0,1326000",""]
["92838","SINAPI",88316,"0,2651000",""]
["92839",null,null,"","2,0698787"]
["92839","SINAPI",5631,"0,0365000",""]
["92839","SINAPI",5632,"0,0708000",""]
["92839","SINAPI-I",7774,"1,0300000",""]
["92839","SINAPI-I",40343,"0,4000000",""]
["92839","SINAPI",88246,"0,1631000",""]
["92839","SINAPI",88316,"0,3262000",""]
["92840",null,null,"","26,0780287"]
["92840","SINAPI",5631,"0,0365000",""]
["92840","SINAPI",5632,"0,0708000",""]
["92840","SINAPI-I",40343,"0,4000000",""]
["92840","SINAPI",88246,"0,1631000",""]
["92840","SINAPI",88316,"0,3262000",""]
["92841",null,null,"","1,8866743"]
["92841","SINAPI",5631,"0,0433000",""]
["92841","SINAPI",5632,"0,0841000",""]
["92841","SINAPI-I",7744,"1,0300000",""]
["92841","SINAPI-I",40344,"0,4000000",""]
["92841","SINAPI",88246,"0,1936000",""]
["92841","SINAPI",88316,"0,3872000",""]
["92842",null,null,"","24,6273228"]
["92842","SINAPI",5631,"0,0433000",""]
["92842","SINAPI",5632,"0,0841000",""]
["92842","SINAPI-I",40344,"0,4000000",""]
["92842","SINAPI",88246,"0,1936000",""]
["92842","SINAPI",88316,"0,3872000",""]
["92843",null,null,"","2,1115796"]
["92843","SINAPI",5631,"0,0501000",""]
["92843","SINAPI",5632,"0,0973000",""]
["92843","SINAPI-I",7773,"1,0300000",""]
["92843","SINAPI-I",40345,"0,4000000",""]
["92843","SINAPI",88246,"0,2241000",""]
["92843","SINAPI",88316,"0,4482000",""]
["92844",null,null,"","23,9622641"]
["92844","SINAPI",5631,"0,0501000",""]
["92844","SINAPI",5632,"0,0973000",""]
["92844","SINAPI-I",40345,"0,4000000",""]
["92844","SINAPI",88246,"0,2241000",""]
["92844","SINAPI",88316,"0,4482000",""]
["92845",null,null,"","1,6167646"]
["92845","SINAPI",5631,"0,0570000",""]
["92845","SINAPI",5632,"0,1106000",""]
["92845","SINAPI-I",7754,"1,0300000",""]
["92845","SINAPI-I",40346,"0,4000000",""]
["92845","SINAPI",88246,"0,2546000",""]
["92845","SINAPI",88316,"0,5092000",""]
["92846",null,null,"","23,7397157"]
["92846","SINAPI",5631,"0,0570000",""]
["92846","SINAPI",5632,"0,1106000",""]
["92846","SINAPI-I",40346,"0,4000000",""]
["92846","SINAPI",88246,"0,2546000",""]
["92846","SINAPI",88316,"0,5092000",""]
["92847",null,null,"","1,7663245"]
["92847","SINAPI",5631,"0,0638000",""]
["92847","SINAPI",5632,"0,1238000",""]
["92847","SINAPI-I",7720,"1,0300000",""]
["92847","SINAPI-I",40347,"0,4000000",""]
["92847","SINAPI",88246,"0,2851000",""]
["92847","SINAPI",88316,"0,5703000",""]
["92848",null,null,"","22,5291434"]
["92848","SINAPI",5631,"0,0638000",""]
["92848","SINAPI",5632,"0,1238000",""]
["92848","SINAPI-I",40347,"0,4000000",""]
["92848","SINAPI",88246,"0,2851000",""]
["92848","SINAPI",88316,"0,5703000",""]
["92849",null,null,"","2,5256035"]
["92849","SINAPI",5631,"0,0196000",""]
["92849","SINAPI",5632,"0,0380000",""]
["92849","SINAPI-I",40335,"1,0300000",""]
["92849","SINAPI-I",40340,"0,4000000",""]
["92849","SINAPI",88246,"0,0875000",""]
["92849","SINAPI",88316,"0,1750000",""]
["92850",null,null,"","25,1152073"]
["92850","SINAPI",5631,"0,0196000",""]
["92850","SINAPI",5632,"0,0380000",""]
["92850","SINAPI-I",40340,"0,4000000",""]
["92850","SINAPI",88246,"0,0875000",""]
["92850","SINAPI",88316,"0,1750000",""]
["92851",null,null,"","3,4087917"]
["92851","SINAPI",5631,"0,0279000",""]
["92851","SINAPI",5632,"0,0542000",""]
["92851","SINAPI-I",7740,"1,0300000",""]
["92851","SINAPI-I",40341,"0,4000000",""]
["92851","SINAPI",88246,"0,1248000",""]
["92851","SINAPI",88316,"0,2497000",""]
["92852",null,null,"","26,9044321"]
["92852","SINAPI",5631,"0,0279000",""]
["92852","SINAPI",5632,"0,0542000",""]
["92852","SINAPI-I",40341,"0,4000000",""]
["92852","SINAPI",88246,"0,1248000",""]
["92852","SINAPI",88316,"0,2497000",""]
["92853",null,null,"","2,4930816"]
["92853","SINAPI",5631,"0,0363000",""]
["92853","SINAPI",5632,"0,0704000",""]
["92853","SINAPI-I",7741,"1,0300000",""]
["92853","SINAPI-I",40342,"0,4000000",""]
["92853","SINAPI",88246,"0,1622000",""]
["92853","SINAPI",88316,"0,3243000",""]
["92854",null,null,"","27,6893523"]
["92854","SINAPI",5631,"0,0363000",""]
["92854","SINAPI",5632,"0,0704000",""]
["92854","SINAPI-I",40342,"0,4000000",""]
["92854","SINAPI",88246,"0,1622000",""]
["92854","SINAPI",88316,"0,3243000",""]
["92855",null,null,"","2,5032247"]
["92855","SINAPI",5631,"0,0446000",""]
["92855","SINAPI",5632,"0,0866000",""]
["92855","SINAPI-I",7774,"1,0300000",""]
["92855","SINAPI-I",40343,"0,4000000",""]
["92855","SINAPI",88246,"0,1995000",""]
["92855","SINAPI",88316,"0,3990000",""]
["92856",null,null,"","28,0551163"]
["92856","SINAPI",5631,"0,0446000",""]
["92856","SINAPI",5632,"0,0866000",""]
["92856","SINAPI-I",40343,"0,4000000",""]
["92856","SINAPI",88246,"0,1995000",""]
["92856","SINAPI",88316,"0,3990000",""]
["92857",null,null,"","2,2864578"]
["92857","SINAPI",5631,"0,0530000",""]
["92857","SINAPI",5632,"0,1029000",""]
["92857","SINAPI-I",7744,"1,0300000",""]
["92857","SINAPI-I",40344,"0,4000000",""]
["92857","SINAPI",88246,"0,2368000",""]
["92857","SINAPI",88316,"0,4736000",""]
["92858",null,null,"","26,6956049"]
["92858","SINAPI",5631,"0,0530000",""]
["92858","SINAPI",5632,"0,1029000",""]
["92858","SINAPI-I",40344,"0,4000000",""]
["92858","SINAPI",88246,"0,2368000",""]
["92858","SINAPI",88316,"0,4736000",""]
["92859",null,null,"","2,5578544"]
["92859","SINAPI",5631,"0,0613000",""]
["92859","SINAPI",5632,"0,1191000",""]
["92859","SINAPI-I",7773,"1,0300000",""]
["92859","SINAPI-I",40345,"0,4000000",""]
["92859","SINAPI",88246,"0,2741000",""]
["92859","SINAPI",88316,"0,5483000",""]
["92860",null,null,"","26,0703946"]
["92860","SINAPI",5631,"0,0613000",""]
["92860","SINAPI",5632,"0,1191000",""]
["92860","SINAPI-I",40345,"0,4000000",""]
["92860","SINAPI",88246,"0,2741000",""]
["92860","SINAPI",88316,"0,5483000",""]
["92861",null,null,"","1,9628046"]
["92861","SINAPI",5631,"0,0697000",""]
["92861","SINAPI",5632,"0,1353000",""]
["92861","SINAPI-I",7754,"1,0300000",""]
["92861","SINAPI-I",40346,"0,4000000",""]
["92861","SINAPI",88246,"0,3115000",""]
["92861","SINAPI",88316,"0,6229000",""]
["92862",null,null,"","25,8480776"]
["92862","SINAPI",5631,"0,0697000",""]
["92862","SINAPI",5632,"0,1353000",""]
["92862","SINAPI-I",40346,"0,4000000",""]
["92862","SINAPI",88246,"0,3115000",""]
["92862","SINAPI",88316,"0,6229000",""]
["92863",null,null,"","2,1428219"]
["92863","SINAPI",5631,"0,0780000",""]
["92863","SINAPI",5632,"0,1515000",""]
["92863","SINAPI-I",7720,"1,0300000",""]
["92863","SINAPI-I",40347,"0,4000000",""]
["92863","SINAPI",88246,"0,3488000",""]
["92863","SINAPI",88316,"0,6976000",""]
["92864",null,null,"","24,6657602"]
["92864","SINAPI",5631,"0,0780000",""]
["92864","SINAPI",5632,"0,1515000",""]
["92864","SINAPI-I",40347,"0,4000000",""]
["92864","SINAPI",88246,"0,3488000",""]
["92864","SINAPI",88316,"0,6976000",""]
["92210",null,null,"","8,7838274"]
["92210","SINAPI",5631,"0,0481000",""]
["92210","SINAPI",5632,"0,0934000",""]
["92210","SINAPI-I",7745,"1,0300000",""]
["92210","SINAPI",88246,"0,2151000",""]
["92210","SINAPI",88316,"0,4302000",""]
["92210","SINAPI",88629,"0,0016000",""]
["92211",null,null,"","9,2618162"]
["92211","SINAPI",5631,"0,0612000",""]
["92211","SINAPI",5632,"0,1188000",""]
["92211","SINAPI-I",7714,"1,0300000",""]
["92211","SINAPI",88246,"0,2735000",""]
["92211","SINAPI",88316,"0,5471000",""]
["92211","SINAPI",88629,"0,0030000",""]
["92212",null,null,"","7,3855960"]
["92212","SINAPI",5631,"0,0743000",""]
["92212","SINAPI",5632,"0,1442000",""]
["92212","SINAPI-I",7725,"1,0300000",""]
["92212","SINAPI",88246,"0,3320000",""]
["92212","SINAPI",88316,"0,6640000",""]
["92212","SINAPI",88629,"0,0047000",""]
["92213",null,null,"","6,5593801"]
["92213","SINAPI",5631,"0,0874000",""]
["92213","SINAPI",5632,"0,1696000",""]
["92213","SINAPI-I",7742,"1,0300000",""]
["92213","SINAPI",88246,"0,3905000",""]
["92213","SINAPI",88316,"0,7810000",""]
["92213","SINAPI",88629,"0,0068000",""]
["92214",null,null,"","6,2667553"]
["92214","SINAPI",5631,"0,1005000",""]
["92214","SINAPI",5632,"0,1950000",""]
["92214","SINAPI-I",7750,"1,0300000",""]
["92214","SINAPI",88246,"0,4489000",""]
["92214","SINAPI",88316,"0,8979000",""]
["92214","SINAPI",88629,"0,0093000",""]
["92215",null,null,"","6,2064716"]
["92215","SINAPI",5631,"0,1135000",""]
["92215","SINAPI",5632,"0,2204000",""]
["92215","SINAPI-I",7756,"1,0300000",""]
["92215","SINAPI",88246,"0,5074000",""]
["92215","SINAPI",88316,"1,0148000",""]
["92215","SINAPI",88629,"0,0122000",""]
["92216",null,null,"","6,7182857"]
["92216","SINAPI",5631,"0,1266000",""]
["92216","SINAPI",5632,"0,2458000",""]
["92216","SINAPI-I",7753,"1,0300000",""]
["92216","SINAPI",88246,"0,5659000",""]
["92216","SINAPI",88316,"1,1317000",""]
["92216","SINAPI",88629,"0,0154000",""]
["92219",null,null,"","9,4909895"]
["92219","SINAPI",5631,"0,0532000",""]
["92219","SINAPI",5632,"0,1033000",""]
["92219","SINAPI-I",7745,"1,0300000",""]
["92219","SINAPI",88246,"0,2379000",""]
["92219","SINAPI",88316,"0,4757000",""]
["92219","SINAPI",88629,"0,0016000",""]
["92220",null,null,"","10,0046726"]
["92220","SINAPI",5631,"0,0678000",""]
["92220","SINAPI",5632,"0,1317000",""]
["92220","SINAPI-I",7714,"1,0300000",""]
["92220","SINAPI",88246,"0,3031000",""]
["92220","SINAPI",88316,"0,6063000",""]
["92220","SINAPI",88629,"0,0030000",""]
["92221",null,null,"","8,0214995"]
["92221","SINAPI",5631,"0,0824000",""]
["92221","SINAPI",5632,"0,1600000",""]
["92221","SINAPI-I",7725,"1,0300000",""]
["92221","SINAPI",88246,"0,3684000",""]
["92221","SINAPI",88316,"0,7368000",""]
["92221","SINAPI",88629,"0,0047000",""]
["92222",null,null,"","7,1439533"]
["92222","SINAPI",5631,"0,0970000",""]
["92222","SINAPI",5632,"0,1884000",""]
["92222","SINAPI-I",7742,"1,0300000",""]
["92222","SINAPI",88246,"0,4337000",""]
["92222","SINAPI",88316,"0,8674000",""]
["92222","SINAPI",88629,"0,0068000",""]
["92223",null,null,"","6,8275891"]
["92223","SINAPI",5631,"0,1116000",""]
["92223","SINAPI",5632,"0,2167000",""]
["92223","SINAPI-I",7750,"1,0300000",""]
["92223","SINAPI",88246,"0,4990000",""]
["92223","SINAPI",88316,"0,9980000",""]
["92223","SINAPI",88629,"0,0093000",""]
["92224",null,null,"","6,7623968"]
["92224","SINAPI",5631,"0,1263000",""]
["92224","SINAPI",5632,"0,2451000",""]
["92224","SINAPI-I",7756,"1,0300000",""]
["92224","SINAPI",88246,"0,5643000",""]
["92224","SINAPI",88316,"1,1285000",""]
["92224","SINAPI",88629,"0,0122000",""]
["92226",null,null,"","7,3115880"]
["92226","SINAPI",5631,"0,1409000",""]
["92226","SINAPI",5632,"0,2734000",""]
["92226","SINAPI-I",7753,"1,0300000",""]
["92226","SINAPI",88246,"0,6295000",""]
["92226","SINAPI",88316,"1,2591000",""]
["92226","SINAPI",88629,"0,0154000",""]
["92808",null,null,"","42,3823911"]
["92808","SINAPI",5631,"0,0350000",""]
["92808","SINAPI",5632,"0,0680000",""]
["92808","SINAPI",88246,"0,1566000",""]
["92808","SINAPI",88316,"0,3132000",""]
["92808","SINAPI",88629,"0,0007000",""]
["92809",null,null,"","41,9623574"]
["92809","SINAPI",5631,"0,0481000",""]
["92809","SINAPI",5632,"0,0934000",""]
["92809","SINAPI",88246,"0,2151000",""]
["92809","SINAPI",88316,"0,4302000",""]
["92809","SINAPI",88629,"0,0016000",""]
["92810",null,null,"","41,5336986"]
["92810","SINAPI",5631,"0,0612000",""]
["92810","SINAPI",5632,"0,1188000",""]
["92810","SINAPI",88246,"0,2735000",""]
["92810","SINAPI",88316,"0,5471000",""]
["92810","SINAPI",88629,"0,0030000",""]
["92811",null,null,"","41,1821519"]
["92811","SINAPI",5631,"0,0743000",""]
["92811","SINAPI",5632,"0,1442000",""]
["92811","SINAPI",88246,"0,3320000",""]
["92811","SINAPI",88316,"0,6640000",""]
["92811","SINAPI",88629,"0,0047000",""]
["92812",null,null,"","40,8582997"]
["92812","SINAPI",5631,"0,0874000",""]
["92812","SINAPI",5632,"0,1696000",""]
["92812","SINAPI",88246,"0,3905000",""]
["92812","SINAPI",88316,"0,7810000",""]
["92812","SINAPI",88629,"0,0068000",""]
["92813",null,null,"","40,5214257"]
["92813","SINAPI",5631,"0,1005000",""]
["92813","SINAPI",5632,"0,1950000",""]
["92813","SINAPI",88246,"0,4489000",""]
["92813","SINAPI",88316,"0,8979000",""]
["92813","SINAPI",88629,"0,0093000",""]
["92814",null,null,"","40,2031931"]
["92814","SINAPI",5631,"0,1135000",""]
["92814","SINAPI",5632,"0,2204000",""]
["92814","SINAPI",88246,"0,5074000",""]
["92814","SINAPI",88316,"1,0148000",""]
["92814","SINAPI",88629,"0,0122000",""]
["92815",null,null,"","39,9037434"]
["92815","SINAPI",5631,"0,1266000",""]
["92815","SINAPI",5632,"0,2458000",""]
["92815","SINAPI",88246,"0,5659000",""]
["92815","SINAPI",88316,"1,1317000",""]
["92815","SINAPI",88629,"0,0154000",""]
["92816",null,null,"","5,6556003"]
["92816","SINAPI",5631,"0,1528000",""]
["92816","SINAPI",5632,"0,2966000",""]
["92816","SINAPI-I",7757,"1,0300000",""]
["92816","SINAPI",88246,"0,6828000",""]
["92816","SINAPI",88316,"1,3656000",""]
["92816","SINAPI",88629,"0,0230000",""]
["92817",null,null,"","39,2980339"]
["92817","SINAPI",5631,"0,1528000",""]
["92817","SINAPI",5632,"0,2966000",""]
["92817","SINAPI",88246,"0,6828000",""]
["92817","SINAPI",88316,"1,3656000",""]
["92817","SINAPI",88629,"0,0230000",""]
["92818",null,null,"","5,0704616"]
["92818","SINAPI",5631,"0,1920000",""]
["92818","SINAPI",5632,"0,3728000",""]
["92818","SINAPI-I",7758,"1,0300000",""]
["92818","SINAPI",88246,"0,8582000",""]
["92818","SINAPI",88316,"1,7164000",""]
["92818","SINAPI",88629,"0,0372000",""]
["92819",null,null,"","38,4884259"]
["92819","SINAPI",5631,"0,1920000",""]
["92819","SINAPI",5632,"0,3728000",""]
["92819","SINAPI",88246,"0,8582000",""]
["92819","SINAPI",88316,"1,7164000",""]
["92819","SINAPI",88629,"0,0372000",""]
["92820",null,null,"","42,3377640"]
["92820","SINAPI",5631,"0,0386000",""]
["92820","SINAPI",5632,"0,0750000",""]
["92820","SINAPI",88246,"0,1726000",""]
["92820","SINAPI",88316,"0,3452000",""]
["92820","SINAPI",88629,"0,0007000",""]
["92821",null,null,"","42,0095159"]
["92821","SINAPI",5631,"0,0532000",""]
["92821","SINAPI",5632,"0,1033000",""]
["92821","SINAPI",88246,"0,2379000",""]
["92821","SINAPI",88316,"0,4757000",""]
["92821","SINAPI",88629,"0,0016000",""]
["92822",null,null,"","41,6198705"]
["92822","SINAPI",5631,"0,0678000",""]
["92822","SINAPI",5632,"0,1317000",""]
["92822","SINAPI",88246,"0,3031000",""]
["92822","SINAPI",88316,"0,6063000",""]
["92822","SINAPI",88629,"0,0030000",""]
["92824",null,null,"","41,3249213"]
["92824","SINAPI",5631,"0,0824000",""]
["92824","SINAPI",5632,"0,1600000",""]
["92824","SINAPI",88246,"0,3684000",""]
["92824","SINAPI",88316,"0,7368000",""]
["92824","SINAPI",88629,"0,0047000",""]
["92825",null,null,"","41,0312914"]
["92825","SINAPI",5631,"0,0970000",""]
["92825","SINAPI",5632,"0,1884000",""]
["92825","SINAPI",88246,"0,4337000",""]
["92825","SINAPI",88316,"0,8674000",""]
["92825","SINAPI",88629,"0,0068000",""]
["92826",null,null,"","40,7384073"]
["92826","SINAPI",5631,"0,1116000",""]
["92826","SINAPI",5632,"0,2167000",""]
["92826","SINAPI",88246,"0,4990000",""]
["92826","SINAPI",88316,"0,9980000",""]
["92826","SINAPI",88629,"0,0093000",""]
["92827",null,null,"","40,4175825"]
["92827","SINAPI",5631,"0,1263000",""]
["92827","SINAPI",5632,"0,2451000",""]
["92827","SINAPI",88246,"0,5643000",""]
["92827","SINAPI",88316,"1,1285000",""]
["92827","SINAPI",88629,"0,0122000",""]
["92828",null,null,"","40,1380384"]
["92828","SINAPI",5631,"0,1409000",""]
["92828","SINAPI",5632,"0,2734000",""]
["92828","SINAPI",88246,"0,6295000",""]
["92828","SINAPI",88316,"1,2591000",""]
["92828","SINAPI",88629,"0,0154000",""]
["92829",null,null,"","6,1694550"]
["92829","SINAPI",5631,"0,1701000",""]
["92829","SINAPI",5632,"0,3301000",""]
["92829","SINAPI-I",7757,"1,0300000",""]
["92829","SINAPI",88246,"0,7601000",""]
["92829","SINAPI",88316,"1,5202000",""]
["92829","SINAPI",88629,"0,0230000",""]
["92830",null,null,"","39,5993717"]
["92830","SINAPI",5631,"0,1701000",""]
["92830","SINAPI",5632,"0,3301000",""]
["92830","SINAPI",88246,"0,7601000",""]
["92830","SINAPI",88316,"1,5202000",""]
["92830","SINAPI",88629,"0,0230000",""]
["92831",null,null,"","5,5324334"]
["92831","SINAPI",5631,"0,2139000",""]
["92831","SINAPI",5632,"0,4152000",""]
["92831","SINAPI-I",7758,"1,0300000",""]
["92831","SINAPI",88246,"0,9559000",""]
["92831","SINAPI",88316,"1,9118000",""]
["92831","SINAPI",88629,"0,0372000",""]
["92832",null,null,"","38,8467101"]
["92832","SINAPI",5631,"0,2139000",""]
["92832","SINAPI",5632,"0,4152000",""]
["92832","SINAPI",88246,"0,9559000",""]
["92832","SINAPI",88316,"1,9118000",""]
["92832","SINAPI",88629,"0,0372000",""]
["95565",null,null,"","7,4591720"]
["95565","SINAPI",5631,"0,0350000",""]
["95565","SINAPI",5632,"0,0680000",""]
["95565","SINAPI-I",40334,"1,0300000",""]
["95565","SINAPI",88246,"0,1566000",""]
["95565","SINAPI",88316,"0,3132000",""]
["95565","SINAPI",88629,"0,0007000",""]
["95566",null,null,"","8,0784723"]
["95566","SINAPI",5631,"0,0386000",""]
["95566","SINAPI",5632,"0,0750000",""]
["95566","SINAPI-I",40334,"1,0300000",""]
["95566","SINAPI",88246,"0,1726000",""]
["95566","SINAPI",88316,"0,3452000",""]
["95566","SINAPI",88629,"0,0007000",""]
["95567",null,null,"","11,8441683"]
["95567","SINAPI",5631,"0,0350000",""]
["95567","SINAPI",5632,"0,0680000",""]
["95567","SINAPI-I",7796,"1,0300000",""]
["95567","SINAPI",88246,"0,1566000",""]
["95567","SINAPI",88316,"0,3132000",""]
["95567","SINAPI",88629,"0,0007000",""]
["95568",null,null,"","13,2038834"]
["95568","SINAPI",5631,"0,0481000",""]
["95568","SINAPI",5632,"0,0934000",""]
["95568","SINAPI-I",7781,"1,0300000",""]
["95568","SINAPI",88246,"0,2151000",""]
["95568","SINAPI",88316,"0,4302000",""]
["95568","SINAPI",88629,"0,0016000",""]
["95569",null,null,"","11,8599115"]
["95569","SINAPI",5631,"0,0612000",""]
["95569","SINAPI",5632,"0,1188000",""]
["95569","SINAPI-I",7795,"1,0300000",""]
["95569","SINAPI",88246,"0,2735000",""]
["95569","SINAPI",88316,"0,5471000",""]
["95569","SINAPI",88629,"0,0030000",""]
["95570",null,null,"","12,6933895"]
["95570","SINAPI",5631,"0,0386000",""]
["95570","SINAPI",5632,"0,0750000",""]
["95570","SINAPI-I",7796,"1,0300000",""]
["95570","SINAPI",88246,"0,1726000",""]
["95570","SINAPI",88316,"0,3452000",""]
["95570","SINAPI",88629,"0,0007000",""]
["95571",null,null,"","14,1177577"]
["95571","SINAPI",5631,"0,0532000",""]
["95571","SINAPI",5632,"0,1033000",""]
["95571","SINAPI-I",7781,"1,0300000",""]
["95571","SINAPI",88246,"0,2379000",""]
["95571","SINAPI",88316,"0,4757000",""]
["95571","SINAPI",88629,"0,0016000",""]
["95572",null,null,"","12,7312367"]
["95572","SINAPI",5631,"0,0678000",""]
["95572","SINAPI",5632,"0,1317000",""]
["95572","SINAPI-I",7795,"1,0300000",""]
["95572","SINAPI",88246,"0,3031000",""]
["95572","SINAPI",88316,"0,6063000",""]
["95572","SINAPI",88629,"0,0030000",""]
["97127",null,null,"","67,6404495"]
["97127","SINAPI-I",20078,"0,0146000",""]
["97127","SINAPI",88246,"0,1038000",""]
["97127","SINAPI",88316,"0,1038000",""]
["97128",null,null,"","55,1495017"]
["97128","SINAPI",5678,"0,0081000",""]
["97128","SINAPI",5679,"0,0387000",""]
["97128","SINAPI-I",20078,"0,0188000",""]
["97128","SINAPI",88246,"0,1270000",""]
["97128","SINAPI",88316,"0,1270000",""]
["97132",null,null,"","54,5110411"]
["97132","SINAPI",88316,"0,2199000",""]
["97139","SINAPI",88246,"0,1784000",""]
["103091","SINAPI",88248,"0,0617000",""]
["103095",null,null,"","41,0293068"]
["103098","SINAPI",5930,"0,2327000",""]
["103102","SINAPI",88248,"0,4247000",""]
["103106",null,null,"","32,5881942"]
["103110","SINAPI",5928,"0,3061000",""]
["103118",null,null,"","39,1673905"]
["103121","SINAPI",5930,"0,2214000",""]
["103125","SINAPI",88248,"0,7280000",""]
["103129",null,null,"","39,0049868"]
["103132","SINAPI",5930,"2,2946000",""]
["103136","SINAPI",88248,"3,8724000",""]
["103144","SINAPI",5930,"0,4840000",""]
["103148","SINAPI",88248,"0,7829000",""]
["103152",null,null,"","38,8270934"]
["103377",null,null,"","0,4724088"]
["103387","SINAPI",5928,"0,0328000",""]
["103392",null,null,"","0,2667739"]
["103400",null,null,"","73,4104047"]
["103413",null,null,"","73,4403670"]
["103418","SINAPI",88316,"2,3095000",""]
["103425","SINAPI",88246,"0,0577000",""]
["103429","SINAPI",88316,"2,3095000",""]
["103434",null,null,"","9,8281287"]
["103439","SINAPI-I",37442,"1,0000000",""]
["98445","SINAPI",88239,"0,6890000",""]
["98447","SINAPI",88262,"0,5640000",""]
["98449","SINAPI",88239,"0,6200000",""]
["98453","SINAPI-I",6194,"1,8033000",""]
["98455","SINAPI-I",43681,"2,1000760",""]
["98458","SINAPI-I",6194,"2,0000000",""]
["98462","SINAPI-I",5061,"1,8710000",""]
["105114","SINAPI",88309,"12,6830000",""]
["105126","SINAPI",88309,"0,1200000",""]
["5631",null,null,"","13,2733727"]
["5680","SINAPI",88860,"1,0000000",""]
["5811","SINAPI",5695,"1,0000000",""]
["5851","SINAPI",5721,"1,0000000",""]
["5867","SINAPI",5730,"1,0000000",""]
["5882","SINAPI",88848,"1,0000000",""]
["5901","SINAPI",53831,"1,0000000",""]
["5928","SINAPI",89259,"1,0000000",""]
["5944","SINAPI",89130,"1,0000000",""]
["67826","SINAPI",7060,"1,0000000",""]
["73467","SINAPI",88282,"1,0000000",""]
["83765","SINAPI",88317,"1,0000000",""]
["88399","SINAPI",88400,"1,0000000",""]
["88843","SINAPI",88839,"1,0000000",""]
["89028","SINAPI",89024,"1,0000000",""]
["89257","SINAPI",88302,"1,0000000",""]
["89843","SINAPI",89214,"1,0000000",""]
["90586","SINAPI",90582,"1,0000000",""]
["90643","SINAPI",90639,"1,0000000",""]
["90662","SINAPI",90660,"1,0000000",""]
["90680","SINAPI",90678,"1,0000000",""]
["90972","SINAPI",90968,"1,0000000",""]
["91386","SINAPI",91380,"1,0000000",""]
["91634","SINAPI",91633,"1,0000000",""]
["92106","SINAPI",92102,"1,0000000",""]
["92145","SINAPI",92141,"1,0000000",""]
["92716","SINAPI",92714,"1,0000000",""]
["93224","SINAPI",93223,"1,0000000",""]
["93415","SINAPI",93411,"1,0000000",""]
["93439",null,null,"","38,2011496"]
["95127","SINAPI",95124,"1,0000000",""]
["95212","SINAPI",95210,"1,0000000",""]
["95276","SINAPI",95275,"1,0000000",""]
["95702",null,null,"","59,0401569"]
["95720","SINAPI",95717,"1,0000000",""]
["96158",null,null,"","20,6961178"]
["96463","SINAPI",96460,"1,0000000",""]
["100647","SINAPI",100645,"1,0000000",""]
["104097","SINAPI",104096,"1,0000000",""]
["5806","SINAPI",88853,"1,0000000",""]
["5841","SINAPI",89015,"1,0000000",""]
["5892","SINAPI",91354,"1,0000000",""]
["5930","SINAPI",88286,"1,0000000",""]
["5952","SINAPI",88298,"1,0000000",""]
["6880","SINAPI",7038,"1,0000000",""]
["83766",null,null,"","52,7490997"]
["88404",null,null,"","0,0000000"]
["89022","SINAPI",89019,"1,0000000",""]
["89273","SINAPI",89268,"1,0000000",""]
["90587","SINAPI",90583,"1,0000000",""]
["90663","SINAPI",90658,"1,0000000",""]
["90687","SINAPI",90683,"1,0000000",""]
["91032",null,null,"","29,5699741"]
["91486",null,null,"","29,3072289"]
["92139","SINAPI",92133,"1,0000000",""]
["92967","SINAPI",92963,"1,0000000",""]
["93282",null,null,"","83,9349594"]
["93409","SINAPI",93405,"1,0000000",""]
["95122","SINAPI",88304,"1,0000000",""]
["95259","SINAPI",95255,"1,0000000",""]
["95632","SINAPI",95628,"1,0000000",""]
["96155","SINAPI",96053,"1,0000000",""]
["96464","SINAPI",96460,"1,0000000",""]
["104092","SINAPI",104088,"1,0000000",""]
["5664","SINAPI-I",36531,"0,0000700",""]
["5705","SINAPI-I",37731,"0,0000690",""]
["5727","SINAPI-I",6069,"0,0000667",""]
["7032","SINAPI-I",14405,"0,0000300",""]
["7051",null,null,"","0,0000000"]
["7061",null,null,"","0,0000000"]
["53794","SINAPI-I",9914,"0,0000500",""]
["53840",null,null,"","0,0000000"]
["53866","SINAPI-I",14250,"1,8800000",""]
["87444","SINAPI-I",4221,"0,7087200",""]
["88400",null,null,"","0,0000000"]
["88434","SINAPI-I",37548,"0,0000640",""]
["88834",null,null,"","0,0000000"]
["88848","SINAPI-I",36485,"0,0000141",""]
["88900",null,null,"","0,0000000"]
["89030","SINAPI-I",7622,"0,0000137",""]
["89212",null,null,"","0,0000000"]
["89230","SINAPI-I",13877,"0,0000467",""]
["89241",null,null,"","0,0000000"]
["89256","SINAPI-I",4221,"14,1700000",""]
["89268",null,null,"","0,0000000"]
["89879","SINAPI-I",37763,"0,0000141",""]
["90621",null,null,"","0,0000000"]
["90635","SINAPI-I",39919,"0,0000700",""]
["90647",null,null,"","0,0000000"]
["90664","SINAPI-I",39828,"0,0000700",""]
["90676","SINAPI-I",38543,"0,0000533",""]
["90968","SINAPI-I",36525,"0,0000533",""]
["90995",null,null,"","0,0000000"]
["91030",null,null,"","0,0000000"]
["91354","SINAPI-I",37754,"0,0000343",""]
["91368",null,null,"","0,0000000"]
["91381","SINAPI-I",37758,"0,0000141",""]
["91397",null,null,"","0,0000000"]
["91631",null,null,"","0,0000000"]
["91643",null,null,"","0,0000000"]
["92101","SINAPI-I",44060,"0,0000300",""]
["92110","SINAPI-I",38410,"0,0000800",""]
["92141",null,null,"","0,0000000"]
["92240",null,null,"","0,0000000"]
["93230","SINAPI-I",13891,"0,0000148",""]
["93277",null,null,"","0,0000000"]
["93296","SINAPI-I",44474,"0,0000057",""]
["93406",null,null,"","0,0000000"]
["93419",null,null,"","0,0000000"]
["93431","SINAPI-I",9912,"0,0000600",""]
["95119",null,null,"","0,0000000"]
["95256","SINAPI-I",11616,"0,0000148",""]
["95269",null,null,"","0,0000000"]
["95618","SINAPI-I",11651,"0,0000148",""]
["95701",null,null,"","0,0000000"]
["95717","SINAPI-I",40636,"0,0000148",""]
["96009","SINAPI-I",13726,"0,0000143",""]
["96032","SINAPI-I",37734,"0,0000059",""]
["96057","SINAPI-I",4221,"11,2600000",""]
["96301",null,null,"","0,0000000"]
["98763","SINAPI-I",2705,"4,5900000",""]
["100645",null,null,"","0,0000000"]
["102826","SINAPI-I",2705,"6,3800000",""]
["102897",null,null,"","0,0000000"]
["103229","SINAPI-I",4221,"16,2260000",""]
["104088",null,null,"","0,0000000"]
["104694","SINAPI-I",2705,"2,1300000",""]
["92259","SINAPI",93287,"0,1133000",""]
["92262","SINAPI-I",40552,"0,0400000",""]
["92540","SINAPI-I",4408,"3,3130000",""]
["92544",null,null,"","22,4919093"]
["92546","SINAPI",88239,"2,5940000",""]
["92548","SINAPI-I",39027,"1,6500000",""]
["92550","SINAPI-I",4415,"4,0000000",""]
["92551","SINAPI",88262,"18,7350000",""]
["92553","SINAPI-I",4400,"10,0000000",""]
["92554","SINAPI",88239,"6,0530000",""]
["92559","SINAPI-I",4400,"5,0000000",""]
["92560","SINAPI-I",39027,"2,4000000",""]
["92562","SINAPI-I",4415,"3,0000000",""]
["92563","SINAPI-I",21142,"1,0000000",""]
["92564","SINAPI",88262,"26,2290000",""]
["100381","SINAPI-I",4425,"0,2150000",""]
["100386","SINAPI-I",5075,"0,2400000",""]
["100389",null,null,"","56,5789475"]
["100391","SINAPI",88239,"0,2190000",""]
["100393","SINAPI",93282,"0,0047000",""]
["94192",null,null,"","12,1485522"]
["94198","SINAPI",93282,"0,0333000",""]
["94442","SINAPI",93281,"0,0240000",""]
["94443","SINAPI",88316,"0,3250000",""]
["94207","SINAPI-I",1607,"1,2700000",""]
["94218","SINAPI",88323,"0,1390000",""]
["94219",null,null,"","28,0814339"]
["94221","SINAPI",88316,"0,2090000",""]
["100327","SINAPI",93281,"0,0132000",""]
["100330","SINAPI",88323,"0,1830000",""]
["100435",null,null,"","7,9961922"]
["94228","SINAPI-I",142,"0,0810000",""]
["94229","SINAPI",93281,"0,0132000",""]
["92255","SINAPI-I",11964,"12,0000000",""]
["92569","SINAPI-I",40547,"0,0600000",""]
["92571","SINAPI-I",40839,"0,0050000",""]
["92573","SINAPI-I",40547,"0,0600000",""]
["92574","SINAPI",93281,"0,0155000",""]
["92577","SINAPI-I",40424,"0,2000000",""]
["92578","SINAPI",88278,"0,2830000",""]
["92586",null,null,"","10,5577817"]
["92592",null,null,"","11,8083594"]
["92596","SINAPI-I",40598,"112,8600000",""]
["92602","SINAPI-I",40598,"41,0400000",""]
["92606","SINAPI",92255,"1,0000000",""]
["92612","SINAPI-I",10997,"0,3780000",""]
["92618","SINAPI-I",10997,"0,5220000",""]
["100359","SINAPI",88262,"14,9880000",""]
["100361","SINAPI-I",21142,"1,0000000",""]
["100363","SINAPI-I",4415,"20,0000000",""]
["100364","SINAPI-I",5069,"0,5090000",""]
["100365","SINAPI",92262,"1,0000000",""]
["100367","SINAPI-I",4425,"6,5000000",""]
["100371","SINAPI-I",4415,"5,0000000",""]
["100373",null,null,"","32,4076368"]
["100374","SINAPI-I",4425,"12,0000000",""]
["100375","SINAPI",92262,"1,0000000",""]
["100377","SINAPI",88278,"0,0180000",""]
["100382","SINAPI",93281,"0,0062000",""]
["104184","SINAPI",88248,"0,6240000",""]
["102665","SINAPI-I",4718,"0,1760000",""]
["102668","SINAPI",88316,"0,2946000",""]
["102672","SINAPI-I",3899,"0,1667000",""]
["102673","SINAPI",93382,"0,1000000",""]
["102677","SINAPI",5679,"0,1755000",""]
["102679","SINAPI-I",4718,"0,8250000",""]
["102684","SINAPI-I",4021,"4,6000000",""]
["102687","SINAPI",5678,"0,0314000",""]
["102689","SINAPI-I",3899,"0,0476000",""]
["102693","SINAPI-I",4718,"0,1674000",""]
["102696","SINAPI",88309,"0,0819000",""]
["102703","SINAPI-I",4718,"0,4314000",""]
["102708","SINAPI-I",3899,"1,0000000",""]
["102719",null,null,"","18,7208105"]
["102723","SINAPI",93358,"0,0900000",""]
["103653","SINAPI",88309,"0,0049000",""]
["92744","SINAPI",5631,"0,0667000",""]
["92746","SINAPI-I",5063,"0,0017000",""]
["92748",null,null,"","15,3472212"]
["92751","SINAPI",5632,"1,5106000",""]
["92753","SINAPI",5632,"0,6674000",""]
["92755","SINAPI-I",4011,"1,1500000",""]
["92757","SINAPI-I",4730,"0,3900000",""]
["91069","SINAPI",88830,"0,0590000",""]
["91070","SINAPI",88377,"0,3159000",""]
["91071","SINAPI",88831,"0,5812000",""]
["91073","SINAPI",88831,"0,3910000",""]
["91074","SINAPI",88831,"0,3134000",""]
["91075","SINAPI",90651,"1,1669000",""]
["91076","SINAPI",88831,"0,6545000",""]
["91077","SINAPI",90662,"0,0263000",""]
["91078","SINAPI",90651,"0,5585000",""]
["91080","SINAPI",90662,"0,0284000",""]
["91081","SINAPI",90982,"1,1826000",""]
["91082","SINAPI",90979,"0,0410000",""]
["91083","SINAPI",90656,"0,0734000",""]
["91084","SINAPI",90979,"0,0470000",""]
["91086","SINAPI",90663,"0,4532000",""]
["91089","SINAPI-I",370,"0,1159000",""]
["91089","SINAPI",102726,"0,2500000",""]
["91090","SINAPI",95967,"0,4851000",""]
["91092","SINAPI-I",370,"0,0983000",""]
["91092","SINAPI",102726,"0,2500000",""]
["91093","SINAPI",90982,"0,7720000",""]
["91096","SINAPI-I",39014,"5,0033000",""]
["91097","SINAPI-I",1379,"51,4186000",""]
["91098","SINAPI-I",39014,"5,0033000",""]
["91099","SINAPI-I",4720,"0,0654000",""]
["91100","SINAPI-I",1379,"43,6336000",""]
["91101","SINAPI-I",39014,"5,8732000",""]
["93959",null,null,"","58,8642955"]
["93959","SINAPI",95967,"0,4849000",""]
["93961","SINAPI",90626,"0,2693000",""]
["93967","SINAPI-I",39848,"2,0000000",""]
["93969","SINAPI",6259,"0,0376000",""]
["93969","SINAPI",95967,"0,3839000",""]
["100332","SINAPI-I",4006,"0,0530000",""]
["100335","SINAPI-I",4006,"0,0530000",""]
["100342",null,null,"","20,6823027"]
["100346","SINAPI-I",39017,"0,2120000",""]
["100349","SINAPI",90586,"0,1220000",""]
["104842","SINAPI",5903,"0,0454000",""]
["104843","SINAPI",90776,"0,1995000",""]
["104846","SINAPI",90776,"0,1792000",""]
["104848","SINAPI",90625,"0,0791000",""]
["104849","SINAPI",90778,"0,0204000",""]
["104851","SINAPI-I",44480,"1,0715000",""]
["104853",null,null,"","25,4989308"]
["104854","SINAPI",90625,"0,0871000",""]
["104879","SINAPI",5903,"0,0516000",""]
["104880","SINAPI",90778,"0,0349000",""]
["104887","SINAPI-I",44480,"1,0715000",""]
["104889",null,null,"","23,6787564"]
["104890","SINAPI",90631,"0,0385000",""]
["104891","SINAPI",90778,"0,0104000",""]
["102990","SINAPI-I",10541,"1,0300000",""]
["102997","SINAPI-I",4509,"0,8506000",""]
["102999","SINAPI",94964,"0,1823000",""]
["103003","SINAPI-I",11245,"1,0000000",""]
["103005","SINAPI",96536,"0,6200000",""]
["103007","SINAPI-I",2692,"0,0071000",""]
["97933","SINAPI",5678,"0,1502000",""]
["97936","SINAPI",97734,"0,0280000",""]
["97947","SINAPI",96536,"0,7600000",""]
["97948","SINAPI",89998,"3,8254000",""]
["97949","SINAPI",94970,"0,1628000",""]
["97950","SINAPI",88628,"0,9206000",""]
["97951","SINAPI-I",43386,"1,0000000",""]
["97952","SINAPI",97737,"0,0680000",""]
["97955","SINAPI",5678,"0,0599000",""]
["97956","SINAPI-I",660,"21,0000000",""]
["97957",null,null,"","31,3662209"]
["97957","SINAPI",89996,"1,9744000",""]
["97961","SINAPI",88628,"0,5972000",""]
["97973","SINAPI-I",25067,"89,8319000",""]
["97976","SINAPI-I",2692,"0,0104000",""]
["97977","SINAPI-I",4491,"0,2267000",""]
["97977","SINAPI",101623,"0,3402000",""]
["97980","SINAPI-I",5069,"0,0276000",""]
["97981","SINAPI",88316,"9,6255000",""]
["97985","SINAPI",89995,"0,0314000",""]
["97988","SINAPI",88309,"17,5654000",""]
["97992","SINAPI",89995,"0,0942000",""]
["97993","SINAPI",100475,"0,7090000",""]
["97994","SINAPI",97738,"0,0221000",""]
["97996","SINAPI-I",4491,"0,3663000",""]
["97997","SINAPI-I",660,"15,2250000",""]
["97999","SINAPI",89995,"0,0523000",""]
["98003","SINAPI-I",660,"23,1000000",""]
["98006",null,null,"","29,5819679"]
["98006","SINAPI",92767,"34,8364000",""]
["98008",null,null,"","29,3545532"]
["98008","SINAPI",100475,"0,6379000",""]
["98010","SINAPI-I",4517,"0,5676000",""]
["98012","SINAPI",89993,"0,0598000",""]
["98013","SINAPI",89995,"0,0677000",""]
["98014","SINAPI",89993,"0,0598000",""]
["98016",null,null,"","28,2136172"]
["98016","SINAPI",92767,"40,2864000",""]
["98018","SINAPI-I",4517,"0,8316000",""]
["98020","SINAPI-I",25067,"150,8690000",""]
["98021","SINAPI",87316,"0,0739000",""]
["98022","SINAPI",89993,"0,0598000",""]
["98023","SINAPI",89995,"0,0754000",""]
["98024","SINAPI",89993,"0,0598000",""]
["98026",null,null,"","27,4530396"]
["98028","SINAPI-I",5069,"0,0796000",""]
["98029","SINAPI",87316,"0,1075000",""]
["98030","SINAPI",88309,"37,2405000",""]
["98031","SINAPI",87316,"0,0907000",""]
["98032","SINAPI",89993,"0,0598000",""]
["98033","SINAPI",89995,"0,0908000",""]
["98036","SINAPI-I",660,"72,4500000",""]
["98036","SINAPI",101624,"2,4168000",""]
["98038","SINAPI-I",5069,"0,0796000",""]
["98039","SINAPI",87316,"0,1075000",""]
["98040","SINAPI",88309,"52,2072000",""]
["98041","SINAPI",87316,"0,1159000",""]
["98042","SINAPI",89993,"0,0598000",""]
["98044","SINAPI",94970,"2,8974000",""]
["98046","SINAPI-I",5069,"0,0971000",""]
["98046","SINAPI",101624,"3,0528000",""]
["98048","SINAPI-I",5069,"0,1030000",""]
["98049","SINAPI",87316,"0,1411000",""]
["98051","SINAPI",87316,"0,0211000",""]
["98406","SINAPI",88907,"0,2282000",""]
["98407","SINAPI-I",25067,"86,3878000",""]
["98408","SINAPI-I",4491,"0,4773000",""]
["98409","SINAPI",5678,"0,1309000",""]
["98410","SINAPI",101623,"0,4078000",""]
["99241","SINAPI",89996,"1,9744000",""]
["99242","SINAPI",101623,"0,5890000",""]
["99246","SINAPI",88309,"0,8306000",""]
["99248","SINAPI-I",6193,"1,4307000",""]
["99249","SINAPI",88309,"22,0195000",""]
["99252","SINAPI",88309,"14,9453000",""]
["99254","SINAPI",89996,"1,9744000",""]
["99256","SINAPI",89995,"0,1354000",""]
["99261","SINAPI",89995,"0,0446000",""]
["99265","SINAPI",5679,"0,3075000",""]
["99266","SINAPI-I",660,"17,8500000",""]
["99267","SINAPI",88309,"26,0350000",""]
["99268","SINAPI-I",43441,"1,0000000",""]
["99270",null,null,"","14,3709945"]
["99271","SINAPI",88309,"33,5434000",""]
["99273","SINAPI",5678,"0,0118000",""]
["99274","SINAPI-I",2692,"0,0245000",""]
["99275",null,null,"","21,2527177"]
["99276","SINAPI",88316,"21,1533000",""]
["99278","SINAPI",88309,"0,4628000",""]
["99279","SINAPI",89993,"0,0598000",""]
["99281","SINAPI",89996,"1,9744000",""]
["99283","SINAPI",96536,"0,2513000",""]
["99284","SINAPI",89996,"1,9744000",""]
["99286","SINAPI-I",2692,"0,0296000",""]
["99286","SINAPI",94970,"1,3124000",""]
["99287","SINAPI",88908,"0,8477000",""]
["99289","SINAPI",88309,"29,6695000",""]
["99291","SINAPI",89996,"1,9744000",""]
["99292","SINAPI",92767,"9,8963000",""]
["99294","SINAPI-I",6193,"2,6082000",""]
["99296",null,null,"","36,9988837"]
["99297","SINAPI",89998,"3,6403000",""]
["99298","SINAPI",89996,"1,9744000",""]
["99300","SINAPI",97738,"0,0221000",""]
["99301","SINAPI",94970,"1,1974000",""]
["99303","SINAPI-I",2692,"0,0347000",""]
["99303","SINAPI",94970,"2,2486000",""]
["99305","SINAPI-I",6193,"3,0222000",""]
["99306",null,null,"","37,0334162"]
["99308","SINAPI",97738,"0,0221000",""]
["99310","SINAPI-I",4517,"1,0296000",""]
["99310","SINAPI",97738,"0,0221000",""]
["99312","SINAPI-I",6193,"2,1942000",""]
["99313","SINAPI-I",2692,"0,0423000",""]
["99314",null,null,"","37,0591072"]
["99317","SINAPI",88316,"21,3071000",""]
["99319","SINAPI",88316,"7,2211000",""]
["99320","SINAPI",89996,"1,9744000",""]
["99321","SINAPI",89998,"3,3318000",""]
["99322","SINAPI",89996,"1,9744000",""]
["99324","SINAPI-I",4491,"0,7548000",""]
["99326","SINAPI",87316,"0,0781000",""]
["99327","SINAPI",88628,"1,1770000",""]
["101800","SINAPI",89995,"0,0680000",""]
["101801","SINAPI",88628,"0,1363000",""]
["101806","SINAPI",101616,"0,8100000",""]
["101807","SINAPI",101616,"0,8100000",""]
["101809","SINAPI",88316,"2,7202000",""]
["102142","SINAPI",88309,"2,7258000",""]
["102457","SINAPI",101625,"0,4986000",""]
["94265","SINAPI-I",34492,"0,0533000",""]
["94267","SINAPI-I",370,"0,0149000",""]
["94270","SINAPI",88309,"0,3482000",""]
["94271","SINAPI-I",34492,"0,1307000",""]
["94276","SINAPI",88629,"0,0012000",""]
["94280","SINAPI-I",41680,"2,5769000",""]
["94282","SINAPI",88316,"0,3991000",""]
["94285","SINAPI-I",4517,"0,2000000",""]
["94288","SINAPI-I",4517,"0,2000000",""]
["94290","SINAPI",88309,"0,3705000",""]
["104492","SINAPI",5940,"0,0499000",""]
["104497","SINAPI",88629,"0,0490000",""]
["102727","SINAPI",91692,"0,0084000",""]
["102731","SINAPI-I",39017,"0,3670000",""]
["102734",null,null,"","17,5516224"]
["102736","SINAPI",90587,"0,1330000",""]
["102739","SINAPI",102727,"9,2667000",""]
["102743","SINAPI",102730,"9,5027000",""]
["102745","SINAPI",102736,"4,4060000",""]
["102747","SINAPI",102734,"45,1384000",""]
["102749","SINAPI",102731,"179,2610000",""]
["102752",null,null,"","17,3668041"]
["102753","SINAPI",102736,"5,5191000",""]
["102758","SINAPI",102727,"21,7734000",""]
["102760","SINAPI",102730,"82,3275000",""]
["102762","SINAPI",102729,"243,1383000",""]
["102764","SINAPI",102730,"254,4138000",""]
["102766","SINAPI",102727,"63,2481000",""]
["102768",null,null,"","16,3477467"]
["102770","SINAPI",96620,"3,2494000",""]
["102776","SINAPI",92743,"14,0000000",""]
["102781","SINAPI",92756,"12,0000000",""]
["102787","SINAPI",92744,"4,0000000",""]
["102791","SINAPI",92756,"24,0000000",""]
["102797",null,null,"","17,8004011"]
["102801","SINAPI",92743,"38,0000000",""]
["101575","SINAPI-I",6189,"0,1811000",""]
["101578","SINAPI-I",6189,"0,4278000",""]
["101580","SINAPI",88316,"0,1239000",""]
["101583","SINAPI",88316,"0,5980000",""]
["101586","SINAPI-I",5061,"0,0559000",""]
["101588","SINAPI-I",21138,"0,0543000",""]
["101591","SINAPI",5631,"0,2276000",""]
["101604","SINAPI",5631,"0,0180000",""]
["90790",null,null,"","1,2004049"]
["90795",null,null,"","5,6766604"]
["90797","SINAPI",88629,"0,0229000",""]
["90806","SINAPI-I",39027,"0,2000000",""]
["90821","SINAPI",88316,"0,7070000",""]
["90842","SINAPI",90806,"1,0000000",""]
["90846","SINAPI",90825,"1,0000000",""]
["90850","SINAPI",90823,"1,0000000",""]
["91010","SINAPI",88316,"0,7070000",""]
["91014",null,null,"","15,0601626"]
["91287","SINAPI",88316,"1,3750000",""]
["91305",null,null,"","16,2724135"]
["91313",null,null,"","18,4843678"]
["91316","SINAPI",91292,"1,0000000",""]
["91321","SINAPI",90823,"1,0000000",""]
["91325","SINAPI",91292,"1,0000000",""]
["91330","SINAPI",100659,"9,8000000",""]
["100675",null,null,"","1,3447394"]
["100679","SINAPI",91292,"1,0000000",""]
["100683","SINAPI",91011,"1,0000000",""]
["100687",null,null,"","14,2353886"]
["100691",null,null,"","11,1358819"]
["100694","SINAPI",91299,"1,0000000",""]
["100700","SINAPI",88627,"0,0250000",""]
["100667","SINAPI-I",142,"0,8351000",""]
["100669","SINAPI-I",5067,"0,0222226",""]
["100671","SINAPI-I",40660,"1,0000000",""]
["94562",null,null,"","9,1760238"]
["99837","SINAPI-I",1332,"0,8960000",""]
["99841","SINAPI-I",11964,"3,3330000",""]
["90838","SINAPI",88629,"0,0422000",""]
["94805","SINAPI-I",7568,"8,8000000",""]
["100702","SINAPI",88309,"0,2820000",""]
["100704","SINAPI",88261,"0,5310000",""]
["100708","SINAPI",88316,"0,6240000",""]
["102153",null,null,"","11,4663159"]
["102159","SINAPI-I",39961,"0,2310000",""]
["102163",null,null,"","8,6469374"]
["102165","SINAPI",88325,"0,6270000",""]
["102168","SINAPI",88316,"0,3460000",""]
["102172","SINAPI-I",11185,"1,0000000",""]
["102177","SINAPI-I",34360,"0,8390000",""]
["102180","SINAPI-I",10506,"1,0000000",""]
["102190","SINAPI",88325,"0,4010000",""]
["94570","SINAPI",88309,"0,5190000",""]
["94589","SINAPI-I",43657,"1,0000000",""]
["101096","SINAPI",88309,"0,6490000",""]
["101097","SINAPI",94971,"1,2000000",""]
["101099","SINAPI",88316,"1,1680000",""]
["101102","SINAPI",90778,"0,1220000",""]
["101104","SINAPI",88313,"10,0190000",""]
["101105","SINAPI",95579,"13,1850000",""]
["101107","SINAPI-I",38405,"1,1300000",""]
["101108","SINAPI",97913,"0,3750000",""]
["101110","SINAPI",88316,"0,3150000",""]
["101113","SINAPI",100206,"0,0375000",""]
["95605","SINAPI",102275,"1,2650000",""]
["100651","SINAPI-I",43360,"0,1133000",""]
["100653",null,null,"","4,8961918"]
["100654","SINAPI",90778,"0,0250000",""]
["100656","SINAPI-I",10997,"0,0379000",""]
["100658","SINAPI",88317,"0,1630000",""]
["100893","SINAPI",90776,"0,0009000",""]
["100897","SINAPI-I",38405,"0,1426000",""]
["100899",null,null,"","27,6484890"]
["100900","SINAPI",100973,"0,3534000",""]
["101176","SINAPI",95583,"0,6330000",""]
["95241",null,null,"","29,7079276"]
["96624","SINAPI-I",4718,"1,1900000",""]
["97086","SINAPI-I",6193,"1,3800000",""]
["97089","SINAPI",88238,"0,0130000",""]
["97093","SINAPI-I",42407,"0,2230000",""]
["97101","SINAPI",97082,"0,0350000",""]
["97103","SINAPI",97083,"1,0000000",""]
["100324","SINAPI",88316,"0,6340000",""]
["103076","SINAPI",97089,"3,6000000",""]
["103079","SINAPI",96624,"0,1000000",""]
["92263","SINAPI",91693,"0,2550000",""]
["92265","SINAPI",91692,"0,0500000",""]
["92268","SINAPI",91692,"0,0050000",""]
["92270","SINAPI",91693,"0,2240000",""]
["92413","SINAPI",92269,"0,2750000",""]
["92419","SINAPI-I",40271,"0,1960000",""]
["92421","SINAPI-I",40287,"0,7850000",""]
["92427","SINAPI-I",40275,"0,3930000",""]
["92431","SINAPI-I",40271,"0,1960000",""]
["92435","SINAPI-I",2692,"0,0040000",""]
["92443","SINAPI",92264,"0,0670000",""]
["92446","SINAPI",92273,"1,6800000",""]
["92449",null,null,"","26,2050989"]
["92451","SINAPI",88239,"0,2050000",""]
["92453","SINAPI-I",6193,"0,4850000",""]
["92455","SINAPI",92265,"0,4140000",""]
["92460","SINAPI-I",2692,"0,0100000",""]
["92461","SINAPI",92272,"2,9640000",""]
["92464","SINAPI-I",10749,"1,1860000",""]
["92466","SINAPI-I",2692,"0,0040000",""]
["92468","SINAPI-I",40287,"0,4740000",""]
["92470","SINAPI-I",40287,"0,4740000",""]
["92474","SINAPI",88239,"0,2700000",""]
["92476","SINAPI",92266,"0,1350000",""]
["92478","SINAPI",92266,"0,1050000",""]
["92480","SINAPI",88239,"0,1730000",""]
["92486","SINAPI-I",6193,"1,0490000",""]
["92490","SINAPI-I",40270,"0,0380000",""]
["92496",null,null,"","30,3777378"]
["92504","SINAPI",92267,"0,0870000",""]
["92510","SINAPI-I",2692,"0,0100000",""]
["92515","SINAPI-I",2692,"0,0100000",""]
["92520","SINAPI",88239,"0,1720000",""]
["92526",null,null,"","24,8867753"]
["92532",null,null,"","22,9829545"]
["96258",null,null,"","34,5059456"]
["96530","SINAPI-I",4491,"2,2440000",""]
["96531","SINAPI",88262,"1,4240000",""]
["96533","SINAPI-I",4517,"1,0530000",""]
["96535","SINAPI-I",4517,"3,6090000",""]
["96536","SINAPI",88262,"1,0880000",""]
["96538","SINAPI-I",5073,"0,1040000",""]
["96541","SINAPI-I",5074,"0,0050000",""]
["96542","SINAPI",91692,"0,0140000",""]
["101792","SINAPI",92273,"0,5450000",""]
["101971",null,null,"","13,6525821"]
["101973","SINAPI",91693,"0,1290000",""]
["101977","SINAPI",88239,"0,7570000",""]
["101985","SINAPI",91692,"0,0870000",""]
["101988","SINAPI-I",1345,"1,1830000",""]
["101989","SINAPI",91692,"0,0810000",""]
["101991","SINAPI",88262,"1,0500000",""]
["101994",null,null,"","10,2116069"]
["101995","SINAPI",88262,"0,8720000",""]
["102000",null,null,"","44,0444526"]
["102002","SINAPI",88262,"4,5420000",""]
["102005","SINAPI-I",2692,"0,0040000",""]
["102008","SINAPI-I",2692,"0,0170000",""]
["102010","SINAPI",88239,"0,5810000",""]
["102013",null,null,"","35,2999751"]
["102015","SINAPI",101993,"0,9200000",""]
["102039","SINAPI-I",6193,"0,2990000",""]
["102042","SINAPI-I",2692,"0,0100000",""]
["102044","SINAPI",88239,"0,4930000",""]
["102046","SINAPI",101999,"1,0200000",""]
["102049","SINAPI",88262,"3,4880000",""]
["102052","SINAPI-I",2692,"0,0040000",""]
["102063","SINAPI-I",40304,"0,0810000",""]
["102066","SINAPI-I",40304,"0,1030000",""]
["102069","SINAPI-I",10749,"1,1230000",""]
["102071","SINAPI-I",40304,"0,0930000",""]
["102074",null,null,"","24,2443943"]
["102077","SINAPI",95946,"114,4000000",""]
["102086","SINAPI-I",4517,"1,0790000",""]
["102090","SINAPI-I",5073,"0,0440000",""]
["103760","SINAPI",92267,"0,5770000",""]
["103762","SINAPI",88262,"0,8640000",""]
["104925","SINAPI-I",6212,"4,4880000",""]
["104927","SINAPI-I",5073,"0,0200000",""]
["104928","SINAPI",91692,"0,0450000",""]
["89996","SINAPI",88245,"0,0615000",""]
["91593","SINAPI",88238,"0,0040000",""]
["91596","SINAPI-I",43132,"0,0105000",""]
["91600",null,null,"","19,2941176"]
["91603","SINAPI-I",34,"1,1100000",""]
["92761","SINAPI-I",39017,"0,7430000",""]
["92768","SINAPI-I",43132,"0,0250000",""]
["92771","SINAPI-I",39017,"0,3570000",""]
["92774","SINAPI-I",43132,"0,0250000",""]
["92802","SINAPI",88238,"0,0026000",""]
["92875","SINAPI-I",43053,"1,0700000",""]
["92881",null,null,"","0,1897533"]
["92888",null,null,"","1,9538188"]
["92917",null,null,"","17,9468772"]
["92922","SINAPI",88238,"0,0057000",""]
["95448","SINAPI",88245,"0,0006000",""]
["95579","SINAPI-I",43132,"0,0200000",""]
["95582","SINAPI-I",39017,"0,0170000",""]
["95944","SINAPI",88245,"0,2970000",""]
["95948","SINAPI-I",39017,"0,1500000",""]
["96546",null,null,"","21,6119828"]
["100066","SINAPI",88245,"0,0260000",""]
["102922","SINAPI",88238,"0,0299000",""]
["104105","SINAPI",88238,"0,0015000",""]
["104109",null,null,"","24,2637644"]
["104919","SINAPI",88238,"0,0310000",""]
["104922","SINAPI-I",43132,"0,0250000",""]
["90278","SINAPI",88316,"2,3275000",""]
["90280","SINAPI-I",4720,"0,5670000",""]
["90282","SINAPI",88830,"0,9834000",""]
["90284","SINAPI",88377,"1,5543000",""]
["94965","SINAPI-I",4721,"0,5934000",""]
["94968",null,null,"","16,1890869"]
["94970","SINAPI-I",370,"0,7609000",""]
["94972","SINAPI-I",1379,"391,1663000",""]
["94975","SINAPI-I",1379,"277,8415000",""]
["96557","SINAPI",88309,"0,3340000",""]
["99431","SINAPI",90587,"0,0620000",""]
["99437","SINAPI",88309,"0,2910000",""]
["102473","SINAPI-I",4734,"0,5992000",""]
["102476",null,null,"","10,6142707"]
["102478","SINAPI-I",370,"0,6296000",""]
["102480","SINAPI-I",1379,"279,6271000",""]
["102482","SINAPI",89226,"0,6102000",""]
["103183","SINAPI",90586,"0,1480000",""]
["103671","SINAPI-I",38408,"1,1030000",""]
["103673","SINAPI",90586,"0,0940000",""]
["103676","SINAPI-I",38408,"1,1030000",""]
["103679","SINAPI-I",38408,"1,1030000",""]
["103681","SINAPI",88316,"1,1450000",""]
["103684","SINAPI",88316,"1,2130000",""]
["104916","SINAPI",88245,"0,1660000",""]
["101963","SINAPI",92273,"0,9700000",""]
["101166","SINAPI",88316,"4,1720000",""]
["98577","SINAPI",88316,"0,2359000",""]
["93187","SINAPI",92802,"0,7900000",""]
["93197","SINAPI-I",2692,"0,0100000",""]
["105021","SINAPI",92270,"0,0400000",""]
["105024",null,null,"","31,8995633"]
["105025","SINAPI",92802,"0,7900000",""]
["105027","SINAPI",92801,"0,4900000",""]
["105030","SINAPI-I",39017,"6,0000000",""]
["105032","SINAPI",88316,"0,0440000",""]
["105039","SINAPI",88309,"0,0440000",""]
["97733","SINAPI",94971,"1,2000000",""]
["97735","SINAPI-I",1358,"1,3112000",""]
["97736","SINAPI",88261,"0,9326000",""]
["97737","SINAPI",88316,"25,5235000",""]
["97738","SINAPI",88316,"31,7545000",""]
["97739","SINAPI",92767,"21,9997000",""]
["98616","SINAPI",97913,"0,0442000",""]
["98618","SINAPI",100973,"0,1963000",""]
["98620","SINAPI",91634,"0,0081000",""]
["98622","SINAPI",88316,"0,1891000",""]
["98624","SINAPI",90680,"0,0495000",""]
["98626","SINAPI-I",34493,"0,2874000",""]
["98657","SINAPI-I",5068,"0,2954000",""]
["98658","SINAPI",96546,"5,8800000",""]
["98749",null,null,"","35,5089820"]
["100763","SINAPI",93287,"0,0041475",""]
["100765","SINAPI-I",1333,"0,0600050",""]
["100766","SINAPI",100716,"0,0227000",""]
["100771","SINAPI-I",4777,"1,0910000",""]
["100772","SINAPI",100719,"0,0284761",""]
["100774","SINAPI",93288,"0,0003824",""]
["100776","SINAPI-I",4777,"0,1852148",""]
["100777","SINAPI",93288,"0,0004054",""]
["103795","SINAPI-I",40287,"0,2699000",""]
["103801","SINAPI",88316,"3,6844000",""]
["103929","SINAPI",103796,"10,0011000",""]
["105041","SINAPI-I",4500,"1,0915900",""]
["105045","SINAPI-I",10527,"0,0007749",""]
["105053",null,null,"","3,7103640"]
["105058",null,null,"","2,8107044"]
["105071","SINAPI-I",43055,"0,1557700",""]
["105080","SINAPI-I",4335,"1,1000000",""]
["105082","SINAPI",88239,"0,3038500",""]
["105085",null,null,"","19,9828473"]
["105088",null,null,"","13,8547008"]
["105090","SINAPI-I",6180,"1,0162000",""]
["105093","SINAPI-I",10527,"0,0009252",""]
["105101","SINAPI-I",10527,"0,0010793",""]
["98555","SINAPI-I",135,"3,4615000",""]
["98546","SINAPI",88243,"0,2102000",""]
["98554","SINAPI",88270,"0,5703000",""]
["98566","SINAPI-I",10931,"1,0500000",""]
["98569","SINAPI",88309,"1,1653000",""]
["91835","SINAPI",88247,"0,0910000",""]
["91840","SINAPI",88264,"0,1230000",""]
["91847",null,null,"","20,1565557"]
["91851","SINAPI-I",43132,"0,0023000",""]
["91856","SINAPI",88247,"0,1490000",""]
["91861","SINAPI",88264,"0,1660000",""]
["91866","SINAPI",88264,"0,0800000",""]
["91872","SINAPI-I",2685,"1,0170000",""]
["95726","SINAPI",88264,"0,0640000",""]
["97669","SINAPI-I",2442,"1,1000000",""]
["91876","SINAPI",88247,"0,1600000",""]
["91881","SINAPI",88264,"0,1570000",""]
["91887",null,null,"","55,1550713"]
["91901","SINAPI",88264,"0,1380000",""]
["91910",null,null,"","43,7017994"]
["91916","SINAPI-I",12034,"1,0000000",""]
["91922","SINAPI",88247,"0,3650000",""]
["93017","SINAPI",88264,"0,4260000",""]
["93026",null,null,"","26,2518451"]
["91924",null,null,"","29,7794117"]
["91931","SINAPI",88264,"0,0510000",""]
["91935","SINAPI-I",995,"1,2434000",""]
["92982","SINAPI-I",21127,"0,0100000",""]
["92988","SINAPI",88264,"0,0830000",""]
["92996","SINAPI-I",999,"1,0150000",""]
["101884","SINAPI-I",21127,"0,0100000",""]
["91939","SINAPI",88264,"0,5500000",""]
["91943","SINAPI",88629,"0,0012000",""]
["92867","SINAPI",88264,"0,5500000",""]
["92871",null,null,"","59,0787360"]
["95779","SINAPI-I",2565,"1,0000000",""]
["95782","SINAPI",88247,"0,2550000",""]
["95791","SINAPI",88264,"0,4948000",""]
["95805","SINAPI",88247,"0,2397000",""]
["95809",null,null,"","43,0158730"]
["95814",null,null,"","30,6974858"]
["95817","SINAPI",88264,"0,4490000",""]
["97882","SINAPI",101619,"0,0490000",""]
["97885","SINAPI",88309,"0,1160000",""]
["97889","SINAPI",101619,"0,1210000",""]
["97892","SINAPI",5678,"0,0087000",""]
["97893","SINAPI",101619,"0,1210000",""]
["104397","SINAPI-I",11950,"2,0000000",""]
["104401","SINAPI-I",39330,"1,0000000",""]
["104404","SINAPI",88264,"0,3967000",""]
["93659","SINAPI",88247,"0,1892000",""]
["93663","SINAPI",88264,"0,1325000",""]
["93667","SINAPI-I",1570,"3,0000000",""]
["93671","SINAPI-I",34709,"1,0000000",""]
["97360",null,null,"","3,1012889"]
["101876",null,null,"","16,5740005"]
["101890","SINAPI",88264,"0,0663000",""]
["101894","SINAPI-I",1576,"3,0000000",""]
["101898","SINAPI-I",2379,"1,0000000",""]
["101901","SINAPI",88264,"0,1428000",""]
["101938","SINAPI-I",39808,"1,0000000",""]
["91947","SINAPI-I",38099,"1,0000000",""]
["91957","SINAPI",91956,"1,0000000",""]
["91962","SINAPI-I",38113,"2,0000000",""]
["91968",null,null,"","41,7504187"]
["91972","SINAPI-I",38113,"2,0000000",""]
["91978","SINAPI-I",38115,"1,0000000",""]
["91983",null,null,"","11,4125186"]
["91994","SINAPI-I",38101,"1,0000000",""]
["92000",null,null,"","41,5217391"]
["92005",null,null,"","40,4537466"]
["92011",null,null,"","39,6579156"]
["92015","SINAPI",88264,"0,6000000",""]
["92020","SINAPI",88264,"1,1530000",""]
["92026",null,null,"","41,5616246"]
["92035","SINAPI",91946,"1,0000000",""]
["97597","SINAPI",88264,"0,3758000",""]
["100902","SINAPI-I",39386,"1,0000000",""]
["101489","SINAPI-I",11950,"4,0000000",""]
["101490","SINAPI-I",4346,"3,0000000",""]
["101490","SINAPI",96986,"1,0000000",""]
["101492","SINAPI",91873,"6,0500000",""]
["101493","SINAPI",88247,"0,3162000",""]
["101494","SINAPI-I",14153,"0,0600000",""]
["101494","SINAPI",104749,"1,0000000",""]
["101495","SINAPI",96986,"1,0000000",""]
["101496","SINAPI",91886,"1,0000000",""]
["101497","SINAPI",88264,"3,5078000",""]
["101499","SINAPI-I",11950,"4,0000000",""]
["101499","SINAPI",104749,"1,0000000",""]
["101500","SINAPI",96986,"1,0000000",""]
["101501","SINAPI",91885,"1,0000000",""]
["101502","SINAPI",88264,"2,9102000",""]
["101503","SINAPI-I",34643,"1,0000000",""]
["101504","SINAPI",104749,"1,0000000",""]
["101505","SINAPI",96986,"1,0000000",""]
["101506","SINAPI",91885,"1,0000000",""]
["101507","SINAPI-I",39809,"1,0000000",""]
["101508","SINAPI-I",14153,"0,0600000",""]
["101509",null,null,"","18,7376150"]
["101509","SINAPI",100578,"1,0000000",""]
["101511","SINAPI",91885,"1,0000000",""]
["101512","SINAPI-I",39996,"0,1664000",""]
["101513","SINAPI",91872,"1,3000000",""]
["101514","SINAPI",96986,"1,0000000",""]
["101516","SINAPI-I",11950,"4,0000000",""]
["101517","SINAPI",96977,"1,9500000",""]
["101520","SINAPI",96977,"1,9500000",""]
["101522","SINAPI",88247,"0,2150000",""]
["101523","SINAPI",93666,"1,0000000",""]
["101524","SINAPI",104749,"1,0000000",""]
["101526","SINAPI",91935,"19,8000000",""]
["101527","SINAPI",97668,"6,3000000",""]
["101529","SINAPI",91872,"1,3000000",""]
["101532","SINAPI",91872,"1,3000000",""]
["101533","SINAPI",96986,"1,0000000",""]
["101535","SINAPI",88264,"1,3379000",""]
["101536","SINAPI",96977,"1,9500000",""]
["101539","SINAPI-I",11267,"4,0000000",""]
["101542","SINAPI-I",11267,"2,0000000",""]
["101549","SINAPI-I",1564,"1,0000000",""]
["101560","SINAPI",88264,"0,0029000",""]
["101567","SINAPI-I",998,"1,0401000",""]
["101633","SINAPI-I",21127,"0,0210000",""]
["101653","SINAPI-I",2512,"1,0000000",""]
["101655","SINAPI",88264,"0,2381000",""]
["101665",null,null,"","41,4276807"]
["100580","SINAPI",88247,"1,7330000",""]
["100584",null,null,"","25,0326072"]
["100588","SINAPI-I",863,"13,0000000",""]
["100591","SINAPI",88247,"1,9160000",""]
["100595",null,null,"","21,9927906"]
["100602","SINAPI",94962,"0,8360000",""]
["100605","SINAPI",88264,"8,7070000",""]
["100609","SINAPI-I",863,"10,5000000",""]
["100612",null,null,"","27,7526888"]
["100614","SINAPI",94962,"0,4700000",""]
["100620",null,null,"","1,7646837"]
["100623","SINAPI",88247,"1,4130000",""]
["102103",null,null,"","2,6657331"]
["102107","SINAPI",5928,"0,3595800",""]
["103654",null,null,"","0,5904605"]
["96973","SINAPI",88264,"0,2484000",""]
["96977",null,null,"","2,1607764"]
["98463","SINAPI-I",7568,"1,0000000",""]
["104751","SINAPI",88247,"0,1863000",""]
["104755","SINAPI",88264,"0,1863000",""]
["104761","SINAPI",102275,"0,0853000",""]
["104765",null,null,"","44,4375000"]
["104770","SINAPI",88264,"0,0495000",""]
["104780","SINAPI",91692,"0,0491000",""]
["101909","SINAPI-I",10892,"1,0000000",""]
["101912","SINAPI-I",20971,"1,0000000",""]
["101916","SINAPI-I",3148,"0,1661000",""]
["98262","SINAPI",88264,"0,0641000",""]
["98268",null,null,"","20,0642054"]
["98272","SINAPI-I",11924,"1,0500000",""]
["98282",null,null,"","60,9870741"]
["98287","SINAPI-I",11901,"1,0500000",""]
["98291","SINAPI",88247,"0,0238000",""]
["98402","SINAPI",88264,"0,1143000",""]
["100561","SINAPI",88247,"0,9650000",""]
["101795","SINAPI-I",5069,"0,0137000",""]
["101799","SINAPI",88309,"1,6647000",""]
["103247","SINAPI-I",13246,"4,0000000",""]
["103249","SINAPI-I",11976,"6,0000000",""]
["103251","SINAPI-I",43191,"1,0000000",""]
["103253","SINAPI-I",37591,"2,0000000",""]
["103255","SINAPI",100308,"2,6335000",""]
["103257","SINAPI-I",13294,"1,0000000",""]
["103261",null,null,"","1,2338463"]
["103262","SINAPI",100308,"4,3619000",""]
["103264","SINAPI-I",13348,"6,0000000",""]
["103266",null,null,"","2,1250648"]
["103267","SINAPI",100308,"3,9711000",""]
["103269","SINAPI-I",37591,"2,0000000",""]
["103271","SINAPI-I",13348,"4,0000000",""]
["103274","SINAPI",100308,"5,0091000",""]
["103276","SINAPI-I",39996,"1,2800000",""]
["103288","SINAPI",90443,"0,6500000",""]
["101936","SINAPI-I",3458,"3,0000000",""]
["98294","SINAPI",88247,"0,0169000",""]
["98298","SINAPI",88264,"0,0331000",""]
["98593","SINAPI-I",39595,"1,0000000",""]
["89356","SINAPI-I",9868,"1,0493000",""]
["89402","SINAPI",88248,"0,1586000",""]
["89448",null,null,"","6,1114439"]
["89452","SINAPI-I",9872,"1,0493000",""]
["89511","SINAPI",88248,"0,2939000",""]
["89580","SINAPI",88267,"0,1309000",""]
["89716","SINAPI",88248,"0,1455000",""]
["89773","SINAPI",88267,"0,0482000",""]
["89848","SINAPI-I",9836,"1,0549000",""]
["92275","SINAPI",88267,"0,0439000",""]
["92280",null,null,"","1,7981480"]
["92284","SINAPI-I",39736,"1,0225000",""]
["92310","SINAPI",88267,"0,2516000",""]
["92324","SINAPI",88248,"0,5772000",""]
["92337","SINAPI",88248,"0,3460000",""]
["92342","SINAPI",88248,"0,5200000",""]
["92361","SINAPI",88267,"0,1000000",""]
["92366","SINAPI",88248,"0,2150000",""]
["92654",null,null,"","13,1322399"]
["92688","SINAPI-I",7700,"1,0390000",""]
["92691","SINAPI",88317,"0,3820000",""]
["94603","SINAPI",88248,"0,5133000",""]
["94649",null,null,"","17,3396674"]
["94652","SINAPI-I",38383,"0,0169000",""]
["94722","SINAPI-I",38031,"1,0493000",""]
["96635","SINAPI",104092,"0,1696000",""]
["96646","SINAPI",104091,"0,1225000",""]
["96668","SINAPI-I",36278,"1,0667000",""]
["96671","SINAPI",88267,"0,1716000",""]
["96675","SINAPI",88248,"0,3524000",""]
["96682","SINAPI",104097,"0,2730000",""]
["96720","SINAPI",88267,"0,1033000",""]
["96724",null,null,"","15,7163624"]
["96726","SINAPI",104098,"0,1562000",""]
["96730","SINAPI",88248,"0,1520000",""]
["96733","SINAPI-I",38984,"1,0667000",""]
["97328","SINAPI-I",39664,"1,0211000",""]
["97332","SINAPI-I",39741,"1,0211000",""]
["97336",null,null,"","2,0145440"]
["97498","SINAPI-I",40626,"1,0390000",""]
["100788","SINAPI-I",9886,"1,0000000",""]
["100793","SINAPI",88267,"0,3230000",""]
["100803",null,null,"","23,9068441"]
["101919","SINAPI-I",9891,"1,0000000",""]
["101922","SINAPI-I",3933,"1,0000000",""]
["101925","SINAPI",88267,"1,2580000",""]
["101929",null,null,"","18,7483241"]
["101932","SINAPI-I",7307,"0,0105000",""]
["101935","SINAPI-I",6300,"1,0000000",""]
["103870","SINAPI",88267,"0,5080000",""]
["103979",null,null,"","33,1076506"]
["104194","SINAPI",88267,"0,2260000",""]
["105138","SINAPI-I",38383,"0,0137000",""]
["105141",null,null,"","16,5256994"]
["105143","SINAPI-I",20083,"0,0125000",""]
["105153","SINAPI",88267,"0,2579000",""]
["89363","SINAPI-I",3500,"1,0000000",""]
["89365","SINAPI",88248,"0,1520000",""]
["89368","SINAPI",88248,"0,1812000",""]
["89371","SINAPI-I",122,"0,0047000",""]
["89374","SINAPI-I",122,"0,0047000",""]
["89376","SINAPI-I",38383,"0,0291000",""]
["89382","SINAPI-I",122,"0,0071000",""]
["89385","SINAPI-I",122,"0,0059000",""]
["89387","SINAPI-I",38383,"0,0403000",""]
["89391","SINAPI-I",38383,"0,0371000",""]
["89394",null,null,"","31,9218241"]
["89396","SINAPI-I",20083,"0,0105000",""]
["89399","SINAPI-I",20083,"0,0128000",""]
["89408",null,null,"","59,7355770"]
["89410","SINAPI-I",20083,"0,0080000",""]
["89413","SINAPI-I",20083,"0,0110000",""]
["89415","SINAPI",88267,"0,1621000",""]
["89418","SINAPI",88267,"0,0781000",""]
["89423","SINAPI-I",20083,"0,0060000",""]
["89428","SINAPI",88267,"0,0906000",""]
["89431","SINAPI",88267,"0,1081000",""]
["89434","SINAPI-I",3860,"1,0000000",""]
["89438","SINAPI-I",20083,"0,0090000",""]
["89439","SINAPI-I",38383,"0,0390000",""]
["89443",null,null,"","47,9052823"]
["89481",null,null,"","49,4208494"]
["89493","SINAPI-I",38383,"0,0131000",""]
["89497",null,null,"","29,2496171"]
["89500",null,null,"","30,4140127"]
["89502","SINAPI-I",20083,"0,0220000",""]
["89505","SINAPI-I",20083,"0,0300000",""]
["89507","SINAPI",88267,"0,1506000",""]
["89517","SINAPI-I",20083,"0,0500000",""]
["89520","SINAPI",88248,"0,0607000",""]
["89523","SINAPI-I",3525,"1,0000000",""]
["89525","SINAPI",88267,"0,2071000",""]
["89529",null,null,"","12,6718792"]
["89531","SINAPI",88248,"0,1288000",""]
["89544",null,null,"","13,2404181"]
["89546","SINAPI-I",122,"0,0049000",""]
["89548",null,null,"","9,8915401"]
["89551","SINAPI-I",3860,"1,0000000",""]
["89553","SINAPI",88248,"0,0524000",""]
["89555","SINAPI",88267,"0,0577000",""]
["89562","SINAPI-I",3872,"1,0000000",""]
["89564","SINAPI",88267,"0,0635000",""]
["89568","SINAPI-I",9894,"1,0000000",""]
["89570","SINAPI",88248,"0,0659000",""]
["89573","SINAPI-I",299,"2,0000000",""]
["89577","SINAPI-I",20083,"0,0220000",""]
["89585","SINAPI",88248,"0,2729000",""]
["89592","SINAPI-I",300,"2,0000000",""]
["89594","SINAPI",88248,"0,0847000",""]
["89597","SINAPI-I",122,"0,0212000",""]
["89599","SINAPI",88267,"0,1158000",""]
["89609","SINAPI-I",20083,"0,0300000",""]
["89615",null,null,"","2,5748871"]
["89620",null,null,"","35,9281437"]
["89623","SINAPI-I",20083,"0,0210000",""]
["89626","SINAPI-I",20083,"0,0270000",""]
["89628","SINAPI",88267,"0,2000000",""]
["89631","SINAPI-I",7145,"1,0000000",""]
["89638","SINAPI",88267,"0,1103000",""]
["89646","SINAPI",88248,"0,1645000",""]
["89650","SINAPI",88267,"0,1937000",""]
["89654","SINAPI-I",21114,"0,0533000",""]
["89657","SINAPI",88248,"0,0735000",""]
["89661","SINAPI",88267,"0,0930000",""]
["89666","SINAPI-I",21114,"0,0667000",""]
["89672","SINAPI",88267,"0,1097000",""]
["89676","SINAPI-I",38007,"1,0000000",""]
["89679",null,null,"","9,2795994"]
["89682","SINAPI",88248,"0,1291000",""]
["89685","SINAPI",88248,"0,2316000",""]
["89689","SINAPI",88267,"0,1194000",""]
["89693","SINAPI-I",20078,"0,1725000",""]
["89700",null,null,"","26,4003473"]
["89703","SINAPI-I",21114,"0,1200000",""]
["89718",null,null,"","13,8008205"]
["89721","SINAPI",88248,"0,1247000",""]
["89726","SINAPI-I",3516,"1,0000000",""]
["89729",null,null,"","21,4867617"]
["89735","SINAPI",88248,"0,1379000",""]
["89739","SINAPI-I",20078,"0,0750000",""]
["89743","SINAPI-I",297,"2,0000000",""]
["89747",null,null,"","10,3166496"]
["89750","SINAPI-I",301,"2,0000000",""]
["89753","SINAPI",88248,"0,0919000",""]
["89757","SINAPI",88248,"0,0981000",""]
["89765","SINAPI-I",38010,"1,0000000",""]
["89769","SINAPI",88267,"0,2311000",""]
["89777","SINAPI",88248,"0,0929000",""]
["89780","SINAPI-I",37966,"1,0000000",""]
["89783","SINAPI",88267,"0,1693000",""]
["89786","SINAPI",88248,"0,2203000",""]
["89794","SINAPI-I",37976,"1,0000000",""]
["89801",null,null,"","12,7703398"]
["89803","SINAPI",88267,"0,0343000",""]
["89806","SINAPI",88248,"0,1257000",""]
["89810","SINAPI-I",301,"2,0000000",""]
["89813",null,null,"","13,6593591"]
["89816","SINAPI",88248,"0,0624000",""]
["89824","SINAPI-I",21114,"0,1600000",""]
["89827","SINAPI-I",3662,"1,0000000",""]
["89831",null,null,"","3,8539553"]
["89834","SINAPI-I",301,"3,0000000",""]
["89838","SINAPI-I",21114,"0,2400000",""]
["89841","SINAPI",88248,"0,1447000",""]
["89852",null,null,"","21,5103945"]
["89855","SINAPI-I",37952,"1,0000000",""]
["89860","SINAPI-I",301,"3,0000000",""]
["89866","SINAPI",88267,"0,1106000",""]
["89869","SINAPI",88267,"0,1474000",""]
["90373","SINAPI-I",20083,"0,0070000",""]
["92291","SINAPI-I",38383,"0,1006000",""]
["92293","SINAPI",88267,"0,0593000",""]
["92296","SINAPI-I",12732,"0,0176000",""]
["92299","SINAPI-I",12734,"1,0000000",""]
["92301","SINAPI",88248,"0,1931000",""]
["92304","SINAPI",88248,"0,3708000",""]
["92316","SINAPI-I",12732,"0,0064000",""]
["92318","SINAPI",88248,"0,2299000",""]
["92327","SINAPI",88248,"0,2339000",""]
["92330","SINAPI-I",12724,"1,0000000",""]
["92332","SINAPI-I",39897,"0,0011000",""]
["92344","SINAPI",88248,"0,6450000",""]
["92351","SINAPI-I",3148,"0,0240000",""]
["92354","SINAPI",88248,"1,1370000",""]
["92357","SINAPI-I",7307,"0,0110000",""]
["92370","SINAPI-I",3910,"1,0000000",""]
["92373","SINAPI",88267,"0,5820000",""]
["92376","SINAPI",88248,"0,6440000",""]
["92383","SINAPI-I",3148,"0,0170000",""]
["92386","SINAPI",88248,"0,8730000",""]
["92389","SINAPI-I",12402,"1,0000000",""]
["92637",null,null,"","54,0988548"]
["92639","SINAPI",88267,"1,1640000",""]
["92644","SINAPI",88248,"1,6560000",""]
["92660","SINAPI-I",3148,"0,0170000",""]
["92666","SINAPI",88248,"0,3980000",""]
["92670","SINAPI-I",3148,"0,0130000",""]
["92673",null,null,"","32,3951048"]
["92675","SINAPI",88267,"0,5430000",""]
["92679","SINAPI-I",3448,"1,0000000",""]
["92682","SINAPI-I",3148,"0,0250000",""]
["92693","SINAPI",88248,"0,1730000",""]
["92697","SINAPI-I",3148,"0,0130000",""]
["92698","SINAPI",88267,"0,2590000",""]
["92703","SINAPI-I",3472,"1,0000000",""]
["92706","SINAPI-I",3148,"0,0200000",""]
["92891",null,null,"","10,0169534"]
["92894","SINAPI-I",9884,"1,0000000",""]
["92901",null,null,"","11,8765697"]
["92904","SINAPI-I",9883,"1,0000000",""]
["92907","SINAPI-I",3926,"1,0000000",""]
["92910","SINAPI-I",3148,"0,0300000",""]
["92913","SINAPI",88248,"0,7580000",""]
["92920","SINAPI-I",7307,"0,0030000",""]
["92931",null,null,"","35,3152613"]
["92934","SINAPI-I",7307,"0,0070000",""]
["92937","SINAPI-I",3930,"1,0000000",""]
["92940","SINAPI",88267,"0,3180000",""]
["92943","SINAPI",88248,"0,3370000",""]
["92946","SINAPI-I",7307,"0,0060000",""]
["92950",null,null,"","17,6648884"]
["93054","SINAPI-I",3148,"0,0053000",""]
["93056","SINAPI-I",39857,"1,0000000",""]
["93059","SINAPI-I",38383,"0,0255000",""]
["93061","SINAPI",88248,"0,0966000",""]
["93064","SINAPI",88248,"0,1166000",""]
["93067","SINAPI-I",12732,"0,0240000",""]
["93072","SINAPI",88248,"0,1854000",""]
["93076","SINAPI-I",39897,"0,0012000",""]
["93078","SINAPI",88248,"0,1413000",""]
["93081","SINAPI-I",39897,"0,0003500",""]
["93084",null,null,"","30,6062819"]
["93086","SINAPI-I",39873,"1,0000000",""]
["93089",null,null,"","8,8940776"]
["93094","SINAPI-I",39868,"1,0000000",""]
["93098","SINAPI",88248,"0,1133000",""]
["93101","SINAPI-I",39871,"1,0000000",""]
["93103","SINAPI",88267,"0,1031000",""]
["93106","SINAPI",88248,"0,1031000",""]
["93109","SINAPI-I",12732,"0,0048000",""]
["93114","SINAPI-I",38383,"0,0503000",""]
["93117","SINAPI-I",12732,"0,0014000",""]
["93119","SINAPI-I",39880,"1,0000000",""]
["93121","SINAPI-I",39897,"0,0006000",""]
["93124","SINAPI-I",39897,"0,0044000",""]
["93133",null,null,"","34,2977380"]
["94471",null,null,"","25,0801983"]
["94473","SINAPI",88267,"0,5489000",""]
["94476","SINAPI",88248,"0,6478000",""]
["94606","SINAPI-I",12728,"1,0000000",""]
["94610","SINAPI-I",39897,"0,0076000",""]
["94615","SINAPI-I",39897,"0,0060000",""]
["94623","SINAPI-I",12732,"0,0450000",""]
["94625","SINAPI-I",39897,"0,0126000",""]
["94658","SINAPI-I",20083,"0,0055000",""]
["94660","SINAPI",88248,"0,0670000",""]
["94663",null,null,"","28,6195286"]
["94665","SINAPI",88267,"0,1256000",""]
["94671",null,null,"","13,0113636"]
["94674",null,null,"","36,1477572"]
["94676","SINAPI-I",20083,"0,0140000",""]
["94678","SINAPI",88267,"0,1401000",""]
["94681","SINAPI",88267,"0,1885000",""]
["94684","SINAPI-I",3513,"1,0000000",""]
["94687","SINAPI-I",1962,"1,0000000",""]
["94690","SINAPI-I",20083,"0,0165000",""]
["94695",null,null,"","20,0519143"]
["94698",null,null,"","16,9746131"]
["94700","SINAPI-I",20083,"0,0750000",""]
["94702","SINAPI",88267,"0,5838000",""]
["94706","SINAPI-I",99,"1,0000000",""]
["94724","SINAPI",88267,"0,0342000",""]
["94728","SINAPI",88248,"0,0560000",""]
["94731","SINAPI",88267,"0,0718000",""]
["94734","SINAPI",88267,"0,1764000",""]
["94739","SINAPI",88248,"0,4013000",""]
["94743",null,null,"","11,5763546"]
["94756","SINAPI",88267,"0,0685000",""]
["94761",null,null,"","5,9724278"]
["94764","SINAPI-I",44254,"1,0000000",""]
["94768","SINAPI",88248,"0,1418000",""]
["94863","SINAPI",88267,"0,1764000",""]
["95694","SINAPI-I",20078,"0,1150000",""]
["96638",null,null,"","63,5514020"]
["96651","SINAPI",88267,"0,1241000",""]
["96655","SINAPI",104091,"0,0944000",""]
["96659","SINAPI-I",38441,"1,0000000",""]
["96662","SINAPI",88267,"0,0849000",""]
["96666","SINAPI",104091,"0,1192000",""]
["96686","SINAPI-I",38434,"1,0000000",""]
["96693","SINAPI",88248,"0,3794000",""]
["96696","SINAPI",104098,"0,1657000",""]
["96700",null,null,"","27,3910214"]
["96704","SINAPI-I",38993,"1,0000000",""]
["96707","SINAPI",88267,"0,2963000",""]
["96710","SINAPI",88248,"0,2309000",""]
["96714","SINAPI-I",38459,"1,0000000",""]
["96738","SINAPI",88267,"0,0738000",""]
["96741","SINAPI-I",38442,"1,0000000",""]
["96745","SINAPI-I",38446,"1,0000000",""]
["96748","SINAPI-I",36360,"1,0000000",""]
["96752","SINAPI-I",38437,"1,0000000",""]
["96755","SINAPI-I",38440,"1,0000000",""]
["96764","SINAPI-I",38462,"1,0000000",""]
["96806",null,null,"","12,5940415"]
["96809","SINAPI",88267,"0,2038000",""]
["96814",null,null,"","22,7592267"]
["96817","SINAPI",88248,"0,1925000",""]
["96821","SINAPI-I",38851,"1,0000000",""]
["96827","SINAPI-I",3148,"0,0021000",""]
["96838","SINAPI-I",3148,"0,0021000",""]
["96841","SINAPI",88267,"0,3268000",""]
["96846","SINAPI-I",3148,"0,0027000",""]
["96850",null,null,"","26,4109759"]
["96855","SINAPI",88248,"0,1505000",""]
["96862","SINAPI-I",38874,"1,0000000",""]
["96872","SINAPI-I",38836,"1,0000000",""]
["96875","SINAPI",88267,"0,5525000",""]
["96879","SINAPI",88248,"0,3719000",""]
["97432","SINAPI",88248,"0,4670000",""]
["97435","SINAPI-I",40416,"1,0000000",""]
["97438","SINAPI-I",40412,"2,0000000",""]
["97447","SINAPI",88248,"0,5650000",""]
["97452","SINAPI-I",40388,"1,0000000",""]
["97455","SINAPI-I",11002,"0,0670000",""]
["97458","SINAPI",88267,"1,0220000",""]
["97461","SINAPI",88248,"0,1500000",""]
["97467",null,null,"","11,6547599"]
["97475","SINAPI",88267,"0,3900000",""]
["97480","SINAPI-I",11002,"0,0180000",""]
["97483","SINAPI",88267,"0,3600000",""]
["97486","SINAPI",88248,"0,4500000",""]
["97489","SINAPI-I",40391,"1,0000000",""]
["97492","SINAPI",88317,"0,3840000",""]
["97502","SINAPI-I",40363,"1,0000000",""]
["97506","SINAPI",88317,"0,1510000",""]
["97511","SINAPI",88267,"0,2090000",""]
["97515","SINAPI",88248,"0,2430000",""]
["97520",null,null,"","7,7567151"]
["97522","SINAPI",88317,"0,2260000",""]
["97526","SINAPI-I",40422,"1,0000000",""]
["97532","SINAPI",88317,"0,3480000",""]
["97537","SINAPI",88267,"0,1140000",""]
["97544","SINAPI-I",11002,"0,0180000",""]
["97548",null,null,"","20,4370027"]
["97550","SINAPI",88317,"0,5720000",""]
["97554","SINAPI-I",40394,"1,0000000",""]
["103808","SINAPI",88248,"0,4163000",""]
["103811","SINAPI-I",39871,"1,0000000",""]
["103813","SINAPI",88267,"0,5649000",""]
["103816","SINAPI-I",38383,"0,0810000",""]
["103819","SINAPI-I",12724,"1,0000000",""]
["103821","SINAPI-I",39897,"0,0012000",""]
["103824","SINAPI-I",39863,"1,0000000",""]
["103829","SINAPI",88267,"0,3766000",""]
["103832","SINAPI-I",12732,"0,0042000",""]
["103838","SINAPI-I",12714,"1,0000000",""]
["103840","SINAPI-I",39869,"1,0000000",""]
["103842","SINAPI",88267,"0,3046000",""]
["103845","SINAPI-I",39897,"0,0016000",""]
["103851","SINAPI-I",3148,"0,0042000",""]
["103854",null,null,"","1,4219007"]
["103856","SINAPI-I",39886,"1,0000000",""]
["103858","SINAPI-I",39897,"0,0006000",""]
["103861","SINAPI-I",39897,"0,0016000",""]
["103863","SINAPI",88267,"0,1592000",""]
["103875","SINAPI-I",39879,"1,0000000",""]
["103878","SINAPI-I",38383,"0,0644000",""]
["103880","SINAPI-I",39871,"1,0000000",""]
["103883","SINAPI-I",38383,"0,0545000",""]
["103885","SINAPI",88267,"0,1635000",""]
["103888","SINAPI-I",12724,"1,0000000",""]
["103891","SINAPI-I",12732,"0,0048000",""]
["103896","SINAPI-I",39857,"1,0000000",""]
["103899","SINAPI-I",38383,"0,0364000",""]
["103901","SINAPI",88248,"0,3269000",""]
["103947","SINAPI-I",122,"0,0059000",""]
["103950","SINAPI-I",122,"0,0059000",""]
["103952","SINAPI-I",38383,"0,0281000",""]
["103958","SINAPI-I",122,"0,0141000",""]
["103964","SINAPI-I",122,"0,0094000",""]
["103967","SINAPI-I",38383,"0,0161000",""]
["103971","SINAPI-I",38383,"0,0206000",""]
["103975",null,null,"","25,2553916"]
["103980","SINAPI-I",20083,"0,0140000",""]
["103983","SINAPI-I",20083,"0,0140000",""]
["103990",null,null,"","13,3257403"]
["103992","SINAPI-I",20083,"0,0125000",""]
["103995","SINAPI-I",20083,"0,0220000",""]
["103997","SINAPI",88267,"0,1530000",""]
["104002",null,null,"","27,6361529"]
["104003","SINAPI-I",122,"0,0129000",""]
["104008","SINAPI",88248,"0,2610000",""]
["104012","SINAPI",88248,"0,2361000",""]
["104016","SINAPI",88248,"0,2027000",""]
["104020","SINAPI",88267,"0,1353000",""]
["104025","SINAPI-I",21114,"0,1600000",""]
["104028","SINAPI",88248,"0,1243000",""]
["104170","SINAPI",88248,"0,1734000",""]
["104173","SINAPI-I",20047,"1,0000000",""]
["104175","SINAPI",88267,"0,3179000",""]
["104179","SINAPI-I",20078,"0,0575000",""]
["104193","SINAPI",88267,"0,5259000",""]
["104199","SINAPI",88267,"0,1093000",""]
["104320","SINAPI-I",122,"0,0094000",""]
["104322","SINAPI-I",38383,"0,0066000",""]
["104341","SINAPI-I",20083,"0,0075000",""]
["104344","SINAPI",88248,"0,2325000",""]
["104347","SINAPI",88248,"0,2446000",""]
["104351","SINAPI-I",122,"0,0167000",""]
["104356","SINAPI",88248,"0,0724000",""]
["104579","SINAPI-I",39295,"1,0000000",""]
["104584","SINAPI",88248,"0,1767000",""]
["105149",null,null,"","55,1569507"]
["105154","SINAPI-I",122,"0,0071000",""]
["105156","SINAPI-I",38383,"0,0112000",""]
["105159","SINAPI-I",38383,"0,0308000",""]
["105166","SINAPI-I",21114,"0,1600000",""]
["105170","SINAPI-I",3500,"1,0000000",""]
["105174","SINAPI",88248,"0,3989000",""]
["105177","SINAPI-I",7307,"0,0070000",""]
["105180","SINAPI-I",122,"0,0118000",""]
["105183","SINAPI-I",122,"0,0259000",""]
["105195",null,null,"","12,0180371"]
["105198","SINAPI-I",7307,"0,0084000",""]
["105201","SINAPI-I",3148,"0,0354000",""]
["105204","SINAPI-I",1792,"1,0000000",""]
["105207","SINAPI",88248,"0,6478000",""]
["105210","SINAPI-I",7307,"0,0084000",""]
["105213","SINAPI",88267,"0,4163000",""]
["105221","SINAPI",88248,"0,0840000",""]
["105225",null,null,"","17,4641148"]
["105228","SINAPI",88267,"0,0718000",""]
["105232","SINAPI-I",38993,"1,0000000",""]
["105234","SINAPI",88267,"0,0659000",""]
["97898","SINAPI",5678,"0,0738000",""]
["97902","SINAPI-I",5069,"0,0125000",""]
["97903","SINAPI",87316,"0,0196000",""]
["97904","SINAPI",88309,"8,4539000",""]
["97905","SINAPI",97734,"0,0252000",""]
["97907","SINAPI-I",2692,"0,0068000",""]
["97908","SINAPI-I",4491,"0,1776000",""]
["98104","SINAPI-I",2692,"0,0027000",""]
["98106","SINAPI",88316,"8,7309000",""]
["98107","SINAPI",97733,"0,0132000",""]
["99250","SINAPI-I",4517,"0,0880000",""]
["99251","SINAPI-I",7258,"61,4307000",""]
["99253","SINAPI",87316,"0,0148000",""]
["99255","SINAPI",97735,"0,0700000",""]
["99260","SINAPI",5679,"0,0178000",""]
["99262","SINAPI",88628,"0,1039000",""]
["99264","SINAPI",94970,"0,1675000",""]
["102591","SINAPI",88267,"0,0857000",""]
["102598",null,null,"","79,0055249"]
["102604",null,null,"","78,5910339"]
["102614",null,null,"","0,6873964"]
["102618","SINAPI",88267,"1,4821000",""]
["102621","SINAPI",88248,"1,4821000",""]
["102623","SINAPI",94491,"1,0000000",""]
["89482","SINAPI-I",38383,"0,0068000",""]
["89495","SINAPI",88248,"0,1119000",""]
["89709","SINAPI",88248,"0,1652000",""]
["86872","SINAPI-I",20271,"1,0000000",""]
["86876","SINAPI",88316,"0,3106000",""]
["86880","SINAPI-I",3146,"0,0480000",""]
["86883","SINAPI",88267,"0,0845000",""]
["86887","SINAPI",88316,"0,0481000",""]
["86893","SINAPI-I",4823,"0,5228000",""]
["86901","SINAPI",88274,"0,8458000",""]
["86905","SINAPI-I",3146,"0,0420000",""]
["86909","SINAPI",88267,"0,1667000",""]
["86914","SINAPI",88316,"0,0481000",""]
["86920","SINAPI",86872,"1,0000000",""]
["86923","SINAPI",86882,"1,0000000",""]
["86933",null,null,"","6,4375301"]
["86936","SINAPI",86900,"1,0000000",""]
["86940","SINAPI",86881,"1,0000000",""]
["86943","SINAPI",86906,"1,0000000",""]
["93442","SINAPI",86884,"1,0000000",""]
["95472",null,null,"","4,1714285"]
["100851","SINAPI-I",11761,"1,0000000",""]
["100854","SINAPI",88316,"0,2033000",""]
["100859","SINAPI",88267,"2,1153000",""]
["100863",null,null,"","4,6275496"]
["100867","SINAPI-I",4351,"6,0000000",""]
["100870","SINAPI",88267,"0,9485000",""]
["98052","SINAPI",88316,"1,2228000",""]
["98054","SINAPI",88628,"0,0858000",""]
["98056","SINAPI-I",12567,"6,0000000",""]
["98058",null,null,"","14,1236247"]
["98059","SINAPI",97738,"0,0154000",""]
["98061","SINAPI",5678,"1,5451000",""]
["98063","SINAPI",5678,"0,6001000",""]
["98066","SINAPI",88309,"30,4787000",""]
["98067","SINAPI-I",6193,"1,8216000",""]
["98068","SINAPI-I",7258,"2702,0465000",""]
["98069","SINAPI",5678,"0,1906000",""]
["98070","SINAPI",5679,"0,4164000",""]
["98071","SINAPI-I",4517,"0,9240000",""]
["98073","SINAPI-I",2692,"0,0194000",""]
["98074","SINAPI-I",2692,"0,0265000",""]
["98074","SINAPI",96536,"3,8400000",""]
["98075","SINAPI",89995,"0,4800000",""]
["98076","SINAPI",89995,"0,5280000",""]
["98077","SINAPI",87316,"0,2418000",""]
["98078","SINAPI",97734,"0,0252000",""]
["98081","SINAPI",96536,"3,1200000",""]
["98082","SINAPI",88628,"0,4747000",""]
["98083","SINAPI",88316,"23,3912000",""]
["98084","SINAPI",5679,"0,2634000",""]
["98085","SINAPI-I",2692,"0,0347000",""]
["98086","SINAPI-I",660,"71,4000000",""]
["98087","SINAPI",92767,"53,1484000",""]
["98088","SINAPI",89996,"3,9488000",""]
["98089","SINAPI",87316,"0,1003000",""]
["98090","SINAPI",89993,"0,1196000",""]
["98091","SINAPI-I",2692,"0,0326000",""]
["98091","SINAPI",92767,"44,8644000",""]
["98092","SINAPI",89996,"3,9488000",""]
["98094","SINAPI",89996,"7,4040000",""]
["98099","SINAPI",89998,"5,4296000",""]
["98101","SINAPI-I",4720,"3,0624000",""]
["98109","SINAPI-I",4517,"0,1408000",""]
["98110","SINAPI",101618,"0,0141000",""]
["89349","SINAPI-I",3148,"0,0084000",""]
["89987",null,null,"","7,2135532"]
["94490","SINAPI-I",38383,"0,0080000",""]
["94493",null,null,"","4,2696486"]
["94497",null,null,"","7,6476667"]
["94501","SINAPI-I",3148,"0,0452000",""]
["94794","SINAPI",88248,"0,3743000",""]
["95249","SINAPI-I",11749,"1,0000000",""]
["95253","SINAPI",88248,"0,3398000",""]
["99622",null,null,"","3,5261344"]
["99626","SINAPI-I",3148,"0,0452000",""]
["99629","SINAPI",88248,"0,1485000",""]
["99633",null,null,"","4,4460081"]
["103009","SINAPI-I",3148,"0,0302000",""]
["103017",null,null,"","1,4799391"]
["103036","SINAPI-I",3148,"0,0084000",""]
["103039","SINAPI",88248,"0,2633000",""]
["103043",null,null,"","8,3600256"]
["103047","SINAPI-I",11673,"1,0000000",""]
["103049","SINAPI-I",38383,"0,0080000",""]
["95636","SINAPI-I",6019,"1,0000000",""]
["95638","SINAPI-I",4893,"1,0000000",""]
["95639","SINAPI",88267,"5,9878000",""]
["95642","SINAPI-I",3529,"6,0000000",""]
["95643","SINAPI-I",6016,"4,0000000",""]
["95644","SINAPI-I",9875,"0,9444000",""]
["95647","SINAPI-I",7142,"3,0000000",""]
["95648","SINAPI",88248,"1,6421000",""]
["95650","SINAPI-I",37960,"2,0000000",""]
["95651","SINAPI-I",44400,"4,0000000",""]
["95653","SINAPI-I",6017,"2,0000000",""]
["95654","SINAPI-I",44263,"3,0000000",""]
["95658","SINAPI",88248,"4,1061000",""]
["95659","SINAPI",104092,"1,9121000",""]
["95661","SINAPI-I",44174,"2,0000000",""]
["95662","SINAPI",88248,"4,6390000",""]
["95664","SINAPI-I",38434,"8,0000000",""]
["95665","SINAPI-I",38982,"0,9600000",""]
["95668","SINAPI-I",38436,"2,0000000",""]
["95669","SINAPI",104091,"1,9127000",""]
["95671","SINAPI-I",3148,"0,0504000",""]
["95672","SINAPI-I",38436,"2,0000000",""]
["95675","SINAPI-I",3148,"0,0132000",""]
["97741","SINAPI-I",9875,"0,9444000",""]
["105135","SINAPI-I",3148,"0,0192000",""]
["90446","SINAPI",88248,"0,1138000",""]
["90452","SINAPI",88248,"0,0545000",""]
["90456","SINAPI",88247,"0,0438000",""]
["90460","SINAPI",88248,"0,0594000",""]
["90463","SINAPI",88248,"0,0123000",""]
["90469","SINAPI",88629,"0,0079000",""]
["91176","SINAPI-I",395,"1,7857000",""]
["91182","SINAPI-I",14153,"0,0149000",""]
["91187","SINAPI",88267,"0,6622000",""]
["91191","SINAPI",88267,"0,2121000",""]
["94480","SINAPI-I",7696,"0,3117000",""]
["94481","SINAPI-I",4209,"1,0000000",""]
["94482","SINAPI-I",6010,"1,0000000",""]
["96559","SINAPI-I",39997,"7,0000000",""]
["96562","SINAPI",88247,"0,1711000",""]
["101802","SINAPI",5678,"0,0677000",""]
["101803","SINAPI-I",4517,"0,1760000",""]
["101804","SINAPI-I",5069,"0,0187000",""]
["101805","SINAPI-I",2692,"0,0095000",""]
["102113","SINAPI-I",39997,"4,0000000",""]
["102115","SINAPI",88267,"3,2890000",""]
["102117","SINAPI",88267,"2,2020000",""]
["102119","SINAPI",88267,"2,2774000",""]
["102123","SINAPI-I",39997,"4,0000000",""]
["102138","SINAPI",88247,"0,6330000",""]
["103522","SINAPI-I",34482,"1,0000000",""]
["104781",null,null,"","85,3164559"]
["104784","SINAPI-I",20065,"0,1500000",""]
["104032",null,null,"","30,6889352"]
["104036","SINAPI-I",37419,"1,0000000",""]
["104045",null,null,"","21,2290502"]
["104049","SINAPI-I",107,"1,0000000",""]
["104056","SINAPI",88316,"0,0446000",""]
["104062","SINAPI",88246,"0,2524000",""]
["104065","SINAPI-I",20078,"0,0875000",""]
["104082","SINAPI-I",20078,"0,0313000",""]
["104086","SINAPI-I",20078,"0,0417000",""]
["96521",null,null,"","31,3833793"]
["96526",null,null,"","73,7706639"]
["101119","SINAPI",89031,"0,0372000",""]
["101123","SINAPI",88844,"0,0302000",""]
["101128",null,null,"","17,9084073"]
["101131","SINAPI",5849,"0,0157000",""]
["101134","SINAPI",93589,"0,2500000",""]
["101138","SINAPI",88316,"0,0251000",""]
["101144","SINAPI",93592,"0,2500000",""]
["101148","SINAPI",88316,"0,0251000",""]
["101151",null,null,"","14,9038461"]
["101153","SINAPI",100975,"1,3000000",""]
["101209","SINAPI",88907,"0,0078000",""]
["101212","SINAPI",5631,"0,0114000",""]
["101218","SINAPI",89883,"0,0479000",""]
["101222","SINAPI",88316,"0,0108000",""]
["101225",null,null,"","8,5912823"]
["101228","SINAPI",88908,"0,0020000",""]
["101231","SINAPI",5632,"0,0022000",""]
["101234","SINAPI",5631,"0,0096000",""]
["101241","SINAPI",5632,"0,0022000",""]
["101244","SINAPI",88316,"0,0091000",""]
["101247","SINAPI",89876,"0,0551000",""]
["101250","SINAPI",88908,"0,0016000",""]
["101253","SINAPI",88907,"0,0066000",""]
["101256","SINAPI",91387,"0,0244000",""]
["101263","SINAPI",88907,"0,0101000",""]
["101266","SINAPI",5631,"0,0107000",""]
["101269","SINAPI",91386,"0,0585000",""]
["101272","SINAPI",88316,"0,0134000",""]
["101276",null,null,"","9,6734693"]
["102355",null,null,"","40,7066204"]
["90094",null,null,"","25,4448398"]
["90101","SINAPI",5678,"0,0493000",""]
["90105","SINAPI",5678,"0,0324000",""]
["102279",null,null,"","25,5072463"]
["102283","SINAPI",5631,"0,0357000",""]
["102287","SINAPI",88907,"0,0276000",""]
["102292","SINAPI",88316,"0,0399000",""]
["102302","SINAPI",5679,"0,0436000",""]
["102306","SINAPI",88316,"0,0945000",""]
["102312",null,null,"","22,5916453"]
["102316","SINAPI",5631,"0,0215000",""]
["102321","SINAPI",88907,"0,0161000",""]
["102325","SINAPI",88316,"0,1239000",""]
["94310","SINAPI",88316,"0,0273000",""]
["94319","SINAPI-I",6079,"1,3889000",""]
["94329","SINAPI",88316,"0,0379000",""]
["94339","SINAPI",91533,"0,1634000",""]
["96385","SINAPI",88316,"0,0330000",""]
["93368",null,null,"","34,8244348"]
["93373",null,null,"","39,2129306"]
["93382","SINAPI",91533,"0,1962000",""]
["104730","SINAPI",5632,"0,0402000",""]
["104733","SINAPI",5679,"0,0777000",""]
["104735","SINAPI",88316,"0,0822000",""]
["104738","SINAPI",91533,"0,1962000",""]
["104741","SINAPI",5901,"0,0054000",""]
["101619","SINAPI",88309,"2,4938000",""]
["101622","SINAPI",88316,"1,1204000",""]
["101624","SINAPI",91533,"0,0325000",""]
["103322","SINAPI-I",37395,"0,0050000",""]
["103325","SINAPI-I",37395,"0,0100000",""]
["103327","SINAPI",88309,"0,9900000",""]
["103330","SINAPI",88309,"1,2000000",""]
["103350","SINAPI-I",34557,"0,8050000",""]
["103356","SINAPI",88309,"0,7700000",""]
["89283","SINAPI-I",38603,"1,4400000",""]
["89291","SINAPI",88316,"0,4300000",""]
["89306",null,null,"","37,1505958"]
["101158","SINAPI-I",44324,"0,0100000",""]
["103320","SINAPI-I",37395,"0,0100000",""]
["103337","SINAPI-I",37395,"0,0050000",""]
["103339","SINAPI",88316,"0,6500000",""]
["103342","SINAPI-I",34592,"18,1400000",""]
["89455","SINAPI-I",34570,"9,9900000",""]
["89464","SINAPI-I",38599,"1,2700000",""]
["89478","SINAPI-I",38588,"1,5500000",""]
["96358","SINAPI-I",39443,"0,4803000",""]
["96360","SINAPI-I",39413,"2,1060000",""]
["96361","SINAPI",88316,"0,2370000",""]
["96363","SINAPI-I",39419,"0,9117000",""]
["96364","SINAPI-I",39434,"1,0978000",""]
["96366","SINAPI-I",39413,"4,2120000",""]
["96369","SINAPI-I",39413,"4,2120000",""]
["96370","SINAPI",88278,"0,3440000",""]
["96373","SINAPI",88278,"0,0660000",""]
["102253",null,null,"","8,8115278"]
["102255","SINAPI",91692,"0,1450000",""]
["102258",null,null,"","34,6217985"]
["104720","SINAPI",88316,"0,2950000",""]
["104722","SINAPI-I",39419,"1,0686000",""]
["104723","SINAPI-I",39434,"1,0978000",""]
["101154","SINAPI",87292,"0,0160000",""]
["101814","SINAPI-I",4741,"0,0440000",""]
["101819","SINAPI-I",367,"0,1140000",""]
["101828","SINAPI",88316,"4,2001000",""]
["101831","SINAPI",91533,"0,2050000",""]
["101834","SINAPI",91533,"0,2050000",""]
["101837","SINAPI",5867,"0,0154000",""]
["101840",null,null,"","13,1701430"]
["101843",null,null,"","5,1574623"]
["101847","SINAPI",88316,"0,1333000",""]
["101850","SINAPI-I",367,"0,1140000",""]
["101855","SINAPI-I",367,"0,1140000",""]
["101857","SINAPI",88260,"0,2294000",""]
["101860",null,null,"","59,0251573"]
["101862","SINAPI-I",370,"0,0568000",""]
["101867",null,null,"","59,8825258"]
["101869","SINAPI",91277,"0,0055000",""]
["102988",null,null,"","63,8794728"]
["100577","SINAPI",96463,"0,0010000",""]
["96389","SINAPI",5903,"0,0220000",""]
["96390","SINAPI",5923,"0,0200000",""]
["96391","SINAPI",96463,"0,0050000",""]
["96398",null,null,"","2,1427252"]
["96399","SINAPI",73436,"0,0040000",""]
["100564","SINAPI",5932,"0,0080000",""]
["100565","SINAPI",88316,"0,1600000",""]
["100567",null,null,"","3,8301136"]
["100568","SINAPI-I",1379,"179,7300000",""]
["100570","SINAPI",5923,"0,0320000",""]
["100571","SINAPI",89036,"0,0320000",""]
["100572","SINAPI",96464,"0,0460000",""]
["100575","SINAPI",5932,"0,0001000",""]
["101768",null,null,"","31,0344827"]
["92391","SINAPI-I",40517,"1,0045000",""]
["92393","SINAPI",88260,"0,1239000",""]
["92397","SINAPI-I",36155,"1,0041000",""]
["92400",null,null,"","10,8189655"]
["92403","SINAPI-I",370,"0,0568000",""]
["92404","SINAPI",91283,"0,0038000",""]
["93679","SINAPI",91285,"0,1371000",""]
["93681","SINAPI",91277,"0,0055000",""]
["97105","SINAPI",97115,"0,0475900",""]
["97106","SINAPI",97117,"0,7438400",""]
["97107","SINAPI",97113,"1,0000000",""]
["97108","SINAPI",95270,"0,0166800",""]
["97109","SINAPI",95271,"0,0369300",""]
["97111","SINAPI",88316,"0,2574600",""]
["97112","SINAPI",90586,"0,0110100",""]
["97119","SINAPI-I",42407,"0,1900800",""]
["101169","SINAPI-I",4385,"0,0330000",""]
["101172","SINAPI",88628,"0,0440000",""]
["103904","SINAPI",97117,"0,7438430",""]
["103906","SINAPI-I",2692,"0,0019220",""]
["103907",null,null,"","8,4259065"]
["103908","SINAPI",97120,"0,4113330",""]
["103911",null,null,"","6,8264548"]
["103911","SINAPI",97115,"0,0761440",""]
["103912","SINAPI",97089,"0,0180000",""]
["103914","SINAPI-I",4517,"0,0513330",""]
["103915","SINAPI-I",42409,"0,4000000",""]
["103916","SINAPI",90587,"0,0221610",""]
["103918","SINAPI",97115,"0,0365210",""]
["104433","SINAPI",88316,"0,2440000",""]
["103695","SINAPI-I",4491,"3,0800000",""]
["103697","SINAPI",102197,"0,8400000",""]
["95996","SINAPI",5837,"0,0678000",""]
["96394","SINAPI-I",4718,"0,0733000",""]
["96395","SINAPI",95872,"0,0118000",""]
["88415","SINAPI",88316,"0,0092000",""]
["88423",null,null,"","14,1233056"]
["88429","SINAPI-I",38877,"2,6872600",""]
["88488","SINAPI",88310,"0,2270000",""]
["88496","SINAPI-I",3767,"0,0802000",""]
["96127","SINAPI-I",3767,"0,0400000",""]
["96130","SINAPI",88310,"0,4322000",""]
["96134",null,null,"","53,7773360"]
["104641","SINAPI",88316,"0,0544000",""]
["102200","SINAPI-I",3767,"0,5000000",""]
["102204","SINAPI-I",10475,"0,1015000",""]
["102219","SINAPI-I",5318,"0,0140000",""]
["102225","SINAPI-I",10478,"0,1992000",""]
["102234",null,null,"","36,7311827"]
["100719","SINAPI-I",7307,"0,1908000",""]
["100723","SINAPI",88310,"0,0635000",""]
["100729",null,null,"","5,7337220"]
["100743","SINAPI",88310,"0,0635000",""]
["100749",null,null,"","42,2553191"]
["100753","SINAPI-I",43649,"0,1150000",""]
["100760",null,null,"","55,3200693"]
["102489","SINAPI",88316,"0,1500000",""]
["102494","SINAPI-I",44072,"0,2016000",""]
["102505","SINAPI-I",12815,"0,0400000",""]
["102509",null,null,"","34,4033232"]
["102513",null,null,"","52,6465442"]
["101750","SINAPI",88309,"0,3620000",""]
["101751","SINAPI",88316,"0,2399000",""]
["87248","SINAPI",88256,"0,2411000",""]
["87255","SINAPI-I",1292,"1,1326400",""]
["87261","SINAPI",88256,"1,1136000",""]
["104593","SINAPI-I",34357,"0,1060000",""]
["104597",null,null,"","12,8398991"]
["104599","SINAPI",88316,"0,2351000",""]
["104606","SINAPI-I",1381,"9,1325000",""]
["104609","SINAPI-I",21108,"1,1217600",""]
["98681",null,null,"","31,5847904"]
["98686","SINAPI",88256,"0,8210000",""]
["101090","SINAPI",88260,"0,8420000",""]
["101726","SINAPI",88316,"1,1000000",""]
["101727",null,null,"","2,3424457"]
["101734","SINAPI",88309,"0,7535000",""]
["101748","SINAPI",88316,"0,0450000",""]
["101738","SINAPI-I",6186,"1,0350000",""]
["88649","SINAPI-I",1287,"0,1500000",""]
["94990",null,null,"","25,5067546"]
["94991","SINAPI",88316,"1,7828000",""]
["94994","SINAPI-I",5068,"0,0240000",""]
["101747","SINAPI-I",34492,"0,0814000",""]
["87624","SINAPI-I",1379,"0,5000000",""]
["87633","SINAPI",88309,"0,2450000",""]
["87642","SINAPI",87373,"0,0530000",""]
["87682","SINAPI",88309,"0,2480000",""]
["87692","SINAPI",88316,"0,1420000",""]
["87703",null,null,"","10,1067125"]
["87738","SINAPI-I",1379,"0,5000000",""]
["87755","SINAPI",88316,"0,2940000",""]
["87765","SINAPI-I",1379,"0,5000000",""]
["88470","SINAPI",88309,"0,0830000",""]
["88477","SINAPI-I",38546,"0,0430000",""]
["90933","SINAPI-I",10931,"1,1430000",""]
["90942","SINAPI",88316,"0,2510000",""]
["90954","SINAPI-I",38545,"1,4350000",""]
["87881",null,null,"","16,0664819"]
["87886","SINAPI",87402,"0,0034000",""]
["87891","SINAPI",88309,"0,0868000",""]
["87897","SINAPI",87313,"0,0037000",""]
["87903",null,null,"","23,9263803"]
["87908","SINAPI",88316,"0,0318000",""]
["87415",null,null,"","40,9826589"]
["87424","SINAPI-I",3315,"17,0737900",""]
["87439","SINAPI",88269,"0,5542500",""]
["87530","SINAPI",88316,"0,2362000",""]
["87543",null,null,"","23,0360065"]
["87548","SINAPI",87369,"0,0194000",""]
["87778","SINAPI",87407,"0,0314000",""]
["87784","SINAPI",88309,"0,8690000",""]
["87791",null,null,"","24,6638913"]
["87795","SINAPI",87407,"0,0293000",""]
["87801","SINAPI",88309,"0,6000000",""]
["87807",null,null,"","45,3013798"]
["87820","SINAPI",87407,"0,0493000",""]
["87825","SINAPI",88309,"1,0370000",""]
["87831","SINAPI",88316,"1,2000000",""]
["87841","SINAPI",87404,"0,0239000",""]
["87852","SINAPI-I",36887,"0,3820000",""]
["90408","SINAPI",88309,"0,5325000",""]
["104208","SINAPI",90669,"0,4441000",""]
["104211","SINAPI",88309,"1,1050000",""]
["104214","SINAPI",90669,"1,4329000",""]
["104217","SINAPI",88316,"0,6010000",""]
["104220","SINAPI",90669,"0,4749000",""]
["104224","SINAPI",90668,"0,1009000",""]
["104232",null,null,"","40,1940570"]
["104235","SINAPI",88316,"0,3290000",""]
["104238","SINAPI",88316,"0,5320000",""]
["104241","SINAPI",88316,"0,5320000",""]
["104245","SINAPI",88309,"0,5800000",""]
["104248","SINAPI",90668,"0,1441000",""]
["104257","SINAPI",87292,"0,0493000",""]
["104262",null,null,"","58,8004534"]
["104627","SINAPI",88316,"0,1043100",""]
["104633",null,null,"","49,1822429"]
["104951","SINAPI",87292,"0,0304000",""]
["104955","SINAPI",88309,"0,6051000",""]
["104960","SINAPI",88316,"0,0309000",""]
["104970","SINAPI",88309,"0,5871000",""]
["104975","SINAPI",88316,"0,2173000",""]
["105185","SINAPI",88316,"0,3120000",""]
["105188","SINAPI-I",36887,"0,2280000",""]
["87267",null,null,"","27,6568705"]
["87271","SINAPI",88316,"0,3413000",""]
["104613","SINAPI",88256,"0,6232000",""]
["104617","SINAPI-I",34357,"1,6900000",""]
["101965",null,null,"","17,8091249"]
["96112","SINAPI-I",3283,"1,1114000",""]
["104756","SINAPI-I",20212,"3,9861000",""]
["96110","SINAPI-I",39435,"9,6469000",""]
["96114","SINAPI-I",39443,"1,2267000",""]
["96111","SINAPI-I",40552,"0,0336000",""]
["96485",null,null,"","18,1969394"]
["91519",null,null,"","74,2146597"]
["104412","SINAPI-I",34353,"0,0860000",""]
["104416","SINAPI",88309,"0,0570000",""]
["104421","SINAPI",88309,"0,3070000",""]
["87283","SINAPI",88831,"1,0100000",""]
["87287","SINAPI",88377,"3,1400000",""]
["87290","SINAPI",89226,"2,6300000",""]
["87295","SINAPI",88830,"1,2900000",""]
["87299","SINAPI-I",370,"1,2700000",""]
["87302","SINAPI",89225,"0,7800000",""]
["87308",null,null,"","17,9241581"]
["87317",null,null,"","17,0530252"]
["87320","SINAPI-I",7334,"190,6100000",""]
["87325","SINAPI-I",367,"0,7800000",""]
["87327","SINAPI-I",43617,"0,0540000",""]
["87330","SINAPI-I",1379,"279,1600000",""]
["87332","SINAPI",88316,"0,6300000",""]
["87337","SINAPI",88386,"1,1400000",""]
["87340","SINAPI",88392,"3,6600000",""]
["87343","SINAPI",88377,"5,1800000",""]
["87346","SINAPI-I",370,"1,3900000",""]
["87349","SINAPI",88316,"0,5800000",""]
["87352",null,null,"","29,3488385"]
["87355","SINAPI-I",1379,"333,3000000",""]
["87361",null,null,"","2,6467079"]
["87363","SINAPI-I",1379,"259,5400000",""]
["87366","SINAPI-I",43617,"0,0620000",""]
["87370",null,null,"","25,8370907"]
["87374","SINAPI",88316,"11,1000000",""]
["87379",null,null,"","3,9597721"]
["87386","SINAPI",88386,"0,9400000",""]
["87390","SINAPI",88377,"2,1400000",""]
["87394","SINAPI",88393,"0,7000000",""]
["87397","SINAPI",88398,"2,2900000",""]
["87405","SINAPI",88433,"0,5000000",""]
["88626",null,null,"","16,6178268"]
["100464","SINAPI",88377,"5,3200000",""]
["100466","SINAPI",88398,"1,5600000",""]
["100470","SINAPI",88393,"0,7600000",""]
["100475",null,null,"","12,1121816"]
["100478","SINAPI-I",1379,"474,8700000",""]
["100481","SINAPI",88377,"3,5100000",""]
["100488","SINAPI-I",370,"1,1400000",""]
["100490","SINAPI",88316,"0,7100000",""]
["105515","SINAPI-I",370,"0,9750000",""]
["100195",null,null,"","75,0000000"]
["100203","SINAPI",88316,"0,0516000",""]
["100212",null,null,"","72,5651578"]
["100227","SINAPI",88316,"0,0474000",""]
["100237",null,null,"","73,1012659"]
["100245","SINAPI",88316,"0,3727000",""]
["100254",null,null,"","72,3336854"]
["100264","SINAPI",88316,"1,8326000",""]
["100273",null,null,"","72,7564103"]
["99803","SINAPI",88316,"0,0970000",""]
["99811","SINAPI",88316,"0,1650000",""]
["99817",null,null,"","31,0286677"]
["99822",null,null,"","74,1935484"]
["97013",null,null,"","15,0269276"]
["97014","SINAPI",91693,"0,0094000",""]
["97017","SINAPI-I",5068,"0,0140000",""]
["97033","SINAPI",88239,"0,3599000",""]
["97040","SINAPI",88262,"0,2332000",""]
["97048",null,null,"","16,6666666"]
["97064","SINAPI",88278,"0,6976800",""]
["104990",null,null,"","36,1031518"]
["105104","SINAPI",5930,"13,1700000",""]
["97626","SINAPI",88309,"3,5586000",""]
["97633",null,null,"","73,5307728"]
["97637",null,null,"","77,4647888"]
["97644",null,null,"","73,9130435"]
["97650",null,null,"","74,0277778"]
["97654","SINAPI",93287,"0,0859000",""]
["97658","SINAPI",92717,"0,8868000",""]
["104790","SINAPI",90964,"1,1370000",""]
["104796","SINAPI",5952,"0,0672000",""]
["104799","SINAPI",88316,"0,3631000",""]
["99059","SINAPI-I",4417,"0,7445000",""]
["99061",null,null,"","55,6831111"]
["99063","SINAPI-I",7356,"0,0011000",""]
["93591","SINAPI",89877,"0,0032000",""]
["93598","SINAPI",89877,"0,0019000",""]
["95429","SINAPI",89883,"0,0034000",""]
["95880","SINAPI",89883,"0,0031000",""]
["100938",null,null,"","9,4919786"]
["100943","SINAPI",89877,"0,0051000",""]
["100950","SINAPI",5930,"0,0050000",""]
["100963","SINAPI",5903,"0,0014000",""]
["100975","SINAPI",89876,"0,0169000",""]
["102332","SINAPI",92242,"0,0042000",""]
["100976",null,null,"","10,6904231"]
["100980","SINAPI",88907,"0,0042000",""]
["100983","SINAPI",89876,"0,0169000",""]
["100993",null,null,"","17,0340681"]
["100997","SINAPI",5631,"0,0056000",""]
["101000","SINAPI",89883,"0,0102000",""]
["101007","SINAPI",6259,"0,0193000",""]
["101014","SINAPI",5930,"0,0483000",""]
["101018","SINAPI",88316,"0,1907000",""]
["101468",null,null,"","20,8536585"]
["101477","SINAPI",88316,"0,1021000",""]
["101483",null,null,"","20,8423326"]
["101488","SINAPI",5928,"0,2295000",""]
["101190","SINAPI-I",4102,"0,4000000",""]
["101193","SINAPI-I",346,"0,1800000",""]
["101197","SINAPI-I",43130,"0,0790000",""]
["101203","SINAPI-I",5076,"0,0120000",""]
["102362","SINAPI",94962,"0,0045000",""]
["102364","SINAPI",88316,"0,9774000",""]
["98516","SINAPI",88441,"0,6113000",""]
["98522","SINAPI",88309,"1,1229000",""]
["98504","SINAPI",88441,"0,0277000",""]
["105004","SINAPI",88309,"0,6300000",""]
["103185","SINAPI-I",42429,"1,0000000",""]
["103189","SINAPI",88309,"1,2341000",""]
["103192","SINAPI-I",5068,"0,0395000",""]
["103194","SINAPI-I",42436,"1,0000000",""]
["103206","SINAPI",5795,"0,0583000",""]
["103210","SINAPI",87298,"0,0032000",""]
["103310",null,null,"","2,1180596"]
["103315","SINAPI-I",20211,"2,7273000",""]
["98526","SINAPI",5678,"0,1622000",""]
["98530",null,null,"","72,5124379"]
["98534","SINAPI",88316,"4,0278000",""]
["88241","SINAPI-I",37373,"1,0000000",""]
["88243","SINAPI",95313,"1,0000000",""]
["88246","SINAPI-I",43488,"1,0000000",""]
["88248","SINAPI-I",37372,"1,0000000",""]
["88251","SINAPI-I",252,"1,0000000",""]
["88253",null,null,"","86,2507957"]
["88256","SINAPI-I",43489,"1,0000000",""]
["88263","SINAPI-I",4235,"1,0000000",""]
["88266",null,null,"","81,0512655"]
["88269","SINAPI-I",37371,"1,0000000",""]
["88272","SINAPI-I",37370,"1,0000000",""]
["88274","SINAPI-I",4755,"1,0000000",""]
["88277","SINAPI-I",37372,"1,0000000",""]
["88282","SINAPI-I",43488,"1,0000000",""]
["88286","SINAPI-I",4096,"1,0000000",""]
["88291","SINAPI-I",37370,"1,0000000",""]
["88293","SINAPI-I",37370,"1,0000000",""]
["88295","SINAPI-I",37372,"1,0000000",""]
["88297","SINAPI-I",37371,"1,0000000",""]
["88301","SINAPI-I",43464,"1,0000000",""]
["88304",null,null,"","90,0042901"]
["88306","SINAPI",95368,"1,0000000",""]
["88309","SINAPI-I",37370,"1,0000000",""]
["88311","SINAPI-I",12874,"1,0000000",""]
["88313",null,null,"","81,9309811"]
["88315","SINAPI-I",37371,"1,0000000",""]
["88321","SINAPI",95383,"1,0000000",""]
["88324","SINAPI-I",37372,"1,0000000",""]
["88377","SINAPI-I",37372,"1,0000000",""]
["90766","SINAPI-I",37372,"1,0000000",""]
["90769","SINAPI-I",37372,"1,0000000",""]
["90772","SINAPI-I",43482,"1,0000000",""]
["90780","SINAPI-I",37372,"1,0000000",""]
["93561",null,null,"","92,0191494"]
["93564","SINAPI-I",40864,"1,0000000",""]
["93567","SINAPI-I",40864,"1,0000000",""]
["93569","SINAPI",95419,"1,0000000",""]
["93572","SINAPI-I",40863,"1,0000000",""]
["95309",null,null,"","100,0000000"]
["95330","SINAPI-I",1213,"0,0132800",""]
["95343",null,null,"","100,0000000"]
["95352","SINAPI-I",7595,"0,0095700",""]
["95362",null,null,"","100,0000000"]
["95372","SINAPI-I",4783,"0,0169900",""]
["95383",null,null,"","100,0000000"]
["95406","SINAPI-I",7592,"0,0095700",""]
["95421",null,null,"","100,0000000"]
["100289","SINAPI-I",43491,"1,0000000",""]
["100303",null,null,"","71,6981133"]
["100307","SINAPI",100295,"1,0000000",""]
["100315",null,null,"","100,0000000"]
["100534","SINAPI-I",43494,"1,0000000",""]
["101302","SINAPI-I",40931,"0,0071600",""]
["101312",null,null,"","100,0000000"]
["101328","SINAPI-I",40988,"0,0043800",""]
["101338",null,null,"","100,0000000"]
["101348","SINAPI-I",40982,"0,0071600",""]
["101358",null,null,"","100,0000000"]
["101375","SINAPI-I",40864,"1,0000000",""]
["101377","SINAPI-I",43501,"1,0000000",""]
["101379","SINAPI-I",43477,"1,0000000",""]
["101382",null,null,"","73,9283389"]
["101383","SINAPI",101295,"1,0000000",""]
["101386",null,null,"","76,0219124"]
["101391","SINAPI-I",40862,"1,0000000",""]
["101394","SINAPI-I",40861,"1,0000000",""]
["101394","SINAPI-I",43501,"1,0000000",""]
["101394","SINAPI",101307,"1,0000000",""]
["101395",null,null,"","72,1483929"]
["101395","SINAPI-I",40861,"1,0000000",""]
["101395","SINAPI-I",40862,"1,0000000",""]
["101395","SINAPI-I",40863,"1,0000000",""]
["101395","SINAPI-I",40864,"1,0000000",""]
["101395","SINAPI-I",40913,"1,0000000",""]
["101395","SINAPI-I",43471,"1,0000000",""]
["101395","SINAPI-I",43495,"1,0000000",""]
["101395","SINAPI",101309,"1,0000000",""]
["101396",null,null,"","74,2619920"]
["101396","SINAPI-I",40861,"1,0000000",""]
["101396","SINAPI-I",40862,"1,0000000",""]
["101396","SINAPI-I",40863,"1,0000000",""]
["101396","SINAPI-I",40864,"1,0000000",""]
["101396","SINAPI-I",40915,"1,0000000",""]
["101396","SINAPI-I",43471,"1,0000000",""]
["101396","SINAPI-I",43495,"1,0000000",""]
["101396","SINAPI",101310,"1,0000000",""]
["101397",null,null,"","75,3433887"]
["101397","SINAPI-I",40861,"1,0000000",""]
["101397","SINAPI-I",40862,"1,0000000",""]
["101397","SINAPI-I",40863,"1,0000000",""]
["101397","SINAPI-I",40864,"1,0000000",""]
["101397","SINAPI-I",40914,"1,0000000",""]
["101397","SINAPI-I",43471,"1,0000000",""]
["101397","SINAPI-I",43495,"1,0000000",""]
["101397","SINAPI",101311,"1,0000000",""]
["101398",null,null,"","76,8540910"]
["101398","SINAPI-I",40861,"1,0000000",""]
["101398","SINAPI-I",40862,"1,0000000",""]
["101398","SINAPI-I",40863,"1,0000000",""]
["101398","SINAPI-I",40864,"1,0000000",""]
["101398","SINAPI-I",40976,"1,0000000",""]
["101398","SINAPI-I",43476,"1,0000000",""]
["101398","SINAPI-I",43500,"1,0000000",""]
["101398","SINAPI",101312,"1,0000000",""]
["101399",null,null,"","75,8421501"]
["101399","SINAPI-I",40861,"1,0000000",""]
["101399","SINAPI-I",40862,"1,0000000",""]
["101399","SINAPI-I",40863,"1,0000000",""]
["101399","SINAPI-I",40864,"1,0000000",""]
["101399","SINAPI-I",40918,"1,0000000",""]
["101399","SINAPI-I",43472,"1,0000000",""]
["101399","SINAPI-I",43496,"1,0000000",""]
["101399","SINAPI",101313,"1,0000000",""]
["101401",null,null,"","79,8018548"]
["101401","SINAPI-I",40861,"1,0000000",""]
["101401","SINAPI-I",40862,"1,0000000",""]
["101401","SINAPI-I",40863,"1,0000000",""]
["101401","SINAPI-I",40864,"1,0000000",""]
["101401","SINAPI-I",40922,"1,0000000",""]
["101401","SINAPI-I",43472,"1,0000000",""]
["101401","SINAPI-I",43496,"1,0000000",""]
["101401","SINAPI",101315,"1,0000000",""]
["101402",null,null,"","78,7649915"]
["101402","SINAPI-I",40861,"1,0000000",""]
["101402","SINAPI-I",40862,"1,0000000",""]
["101402","SINAPI-I",40863,"1,0000000",""]
["101402","SINAPI-I",40864,"1,0000000",""]
["101402","SINAPI-I",40928,"1,0000000",""]
["101402","SINAPI-I",43473,"1,0000000",""]
["101402","SINAPI-I",43497,"1,0000000",""]
["101402","SINAPI",101316,"1,0000000",""]
["101407",null,null,"","74,8915196"]
["101407","SINAPI-I",40861,"1,0000000",""]
["101407","SINAPI-I",40862,"1,0000000",""]
["101407","SINAPI-I",40863,"1,0000000",""]
["101407","SINAPI-I",40864,"1,0000000",""]
["101407","SINAPI-I",41075,"1,0000000",""]
["101407","SINAPI-I",43477,"1,0000000",""]
["101407","SINAPI-I",43501,"1,0000000",""]
["101407","SINAPI",101322,"1,0000000",""]
["101408",null,null,"","76,2684315"]
["101408","SINAPI-I",40861,"1,0000000",""]
["101408","SINAPI-I",40862,"1,0000000",""]
["101408","SINAPI-I",40863,"1,0000000",""]
["101408","SINAPI-I",40864,"1,0000000",""]
["101408","SINAPI-I",41076,"1,0000000",""]
["101408","SINAPI-I",43477,"1,0000000",""]
["101408","SINAPI-I",43501,"1,0000000",""]
["101408","SINAPI",101323,"1,0000000",""]
["101409",null,null,"","87,1788423"]
["101409","SINAPI-I",40861,"1,0000000",""]
["101409","SINAPI-I",40862,"1,0000000",""]
["101409","SINAPI-I",40863,"1,0000000",""]
["101409","SINAPI-I",40864,"1,0000000",""]
["101409","SINAPI-I",40929,"1,0000000",""]
["101409","SINAPI-I",43476,"1,0000000",""]
["101409","SINAPI-I",43500,"1,0000000",""]
["101409","SINAPI",101325,"1,0000000",""]
["101410",null,null,"","71,4191262"]
["101410","SINAPI-I",40861,"1,0000000",""]
["101410","SINAPI-I",40862,"1,0000000",""]
["101410","SINAPI-I",40863,"1,0000000",""]
["101410","SINAPI-I",40864,"1,0000000",""]
["101410","SINAPI-I",41077,"1,0000000",""]
["101410","SINAPI-I",43477,"1,0000000",""]
["101410","SINAPI-I",43501,"1,0000000",""]
["101410","SINAPI",101326,"1,0000000",""]
["101412",null,null,"","72,1861292"]
["101412","SINAPI-I",40861,"1,0000000",""]
["101412","SINAPI-I",40862,"1,0000000",""]
["101412","SINAPI-I",40863,"1,0000000",""]
["101412","SINAPI-I",40864,"1,0000000",""]
["101412","SINAPI-I",40977,"1,0000000",""]
["101412","SINAPI-I",43480,"1,0000000",""]
["101412","SINAPI-I",43504,"1,0000000",""]
["101412","SINAPI",101329,"1,0000000",""]
["101413",null,null,"","73,9567374"]
["101413","SINAPI-I",40861,"1,0000000",""]
["101413","SINAPI-I",40862,"1,0000000",""]
["101413","SINAPI-I",40863,"1,0000000",""]
["101413","SINAPI-I",40864,"1,0000000",""]
["101413","SINAPI-I",40916,"1,0000000",""]
["101413","SINAPI-I",43471,"1,0000000",""]
["101413","SINAPI-I",43495,"1,0000000",""]
["101413","SINAPI",101330,"1,0000000",""]
["101414",null,null,"","74,9179146"]
["101414","SINAPI-I",40861,"1,0000000",""]
["101414","SINAPI-I",40862,"1,0000000",""]
["101414","SINAPI-I",40863,"1,0000000",""]
["101414","SINAPI-I",40864,"1,0000000",""]
["101414","SINAPI-I",41067,"1,0000000",""]
["101414","SINAPI-I",43477,"1,0000000",""]
["101414","SINAPI-I",43501,"1,0000000",""]
["101414","SINAPI",101331,"1,0000000",""]
["101415",null,null,"","88,4240812"]
["101415","SINAPI-I",40861,"1,0000000",""]
["101415","SINAPI-I",40862,"1,0000000",""]
["101415","SINAPI-I",40863,"1,0000000",""]
["101415","SINAPI-I",40864,"1,0000000",""]
["101415","SINAPI-I",40974,"1,0000000",""]
["101415","SINAPI-I",43476,"1,0000000",""]
["101415","SINAPI-I",43500,"1,0000000",""]
["101415","SINAPI",101333,"1,0000000",""]
["101416",null,null,"","76,5698194"]
["101416","SINAPI-I",40861,"1,0000000",""]
["101416","SINAPI-I",40862,"1,0000000",""]
["101416","SINAPI-I",40863,"1,0000000",""]
["101416","SINAPI-I",40864,"1,0000000",""]
["101416","SINAPI-I",40925,"1,0000000",""]
["101416","SINAPI-I",43472,"1,0000000",""]
["101416","SINAPI-I",43496,"1,0000000",""]
["101416","SINAPI",101334,"1,0000000",""]
["101417",null,null,"","72,5614001"]
["101417","SINAPI-I",40861,"1,0000000",""]
["101417","SINAPI-I",40862,"1,0000000",""]
["101417","SINAPI-I",40863,"1,0000000",""]
["101417","SINAPI-I",40864,"1,0000000",""]
["101417","SINAPI-I",40924,"1,0000000",""]
["101417","SINAPI-I",43472,"1,0000000",""]
["101417","SINAPI-I",43496,"1,0000000",""]
["101417","SINAPI",101303,"1,0000000",""]
["101418",null,null,"","82,4673286"]
["101418","SINAPI-I",40861,"1,0000000",""]
["101418","SINAPI-I",40862,"1,0000000",""]
["101418","SINAPI-I",40863,"1,0000000",""]
["101418","SINAPI-I",40864,"1,0000000",""]
["101418","SINAPI-I",40983,"1,0000000",""]
["101418","SINAPI-I",43476,"1,0000000",""]
["101418","SINAPI-I",43500,"1,0000000",""]
["101418","SINAPI",101308,"1,0000000",""]
["101419",null,null,"","83,7437944"]
["101419","SINAPI-I",40861,"1,0000000",""]
["101419","SINAPI-I",40862,"1,0000000",""]
["101419","SINAPI-I",40863,"1,0000000",""]
["101419","SINAPI-I",40864,"1,0000000",""]
["101419","SINAPI-I",40921,"1,0000000",""]
["101419","SINAPI-I",43472,"1,0000000",""]
["101419","SINAPI-I",43496,"1,0000000",""]
["101419","SINAPI",101320,"1,0000000",""]
["101420",null,null,"","80,1597665"]
["101420","SINAPI-I",40861,"1,0000000",""]
["101420","SINAPI-I",40862,"1,0000000",""]
["101420","SINAPI-I",40863,"1,0000000",""]
["101420","SINAPI-I",40864,"1,0000000",""]
["101420","SINAPI-I",41038,"1,0000000",""]
["101420","SINAPI-I",43476,"1,0000000",""]
["101420","SINAPI-I",43500,"1,0000000",""]
["101420","SINAPI",101324,"1,0000000",""]
["101421",null,null,"","82,8643522"]
["101421","SINAPI-I",40861,"1,0000000",""]
["101421","SINAPI-I",40862,"1,0000000",""]
["101421","SINAPI-I",40863,"1,0000000",""]
["101421","SINAPI-I",40864,"1,0000000",""]
["101421","SINAPI-I",40988,"1,0000000",""]
["101421","SINAPI-I",43476,"1,0000000",""]
["101421","SINAPI-I",43500,"1,0000000",""]
["101421","SINAPI",101328,"1,0000000",""]
["101422",null,null,"","77,5440997"]
["101422","SINAPI-I",40861,"1,0000000",""]
["101422","SINAPI-I",40862,"1,0000000",""]
["101422","SINAPI-I",40863,"1,0000000",""]
["101422","SINAPI-I",40864,"1,0000000",""]
["101422","SINAPI-I",40990,"1,0000000",""]
["101422","SINAPI-I",43476,"1,0000000",""]
["101422","SINAPI-I",43500,"1,0000000",""]
["101422","SINAPI",101332,"1,0000000",""]
["101424",null,null,"","82,5693911"]
["101424","SINAPI-I",40861,"1,0000000",""]
["101424","SINAPI-I",40862,"1,0000000",""]
["101424","SINAPI-I",40863,"1,0000000",""]
["101424","SINAPI-I",40864,"1,0000000",""]
["101424","SINAPI-I",40992,"1,0000000",""]
["101424","SINAPI-I",43476,"1,0000000",""]
["101424","SINAPI-I",43500,"1,0000000",""]
["101424","SINAPI",101336,"1,0000000",""]
["101425",null,null,"","87,2493784"]
["101425","SINAPI-I",40863,"1,0000000",""]
["101425","SINAPI-I",40864,"1,0000000",""]
["101425","SINAPI-I",41094,"1,0000000",""]
["101425","SINAPI-I",43481,"1,0000000",""]
["101425","SINAPI-I",43505,"1,0000000",""]
["101425","SINAPI",101337,"1,0000000",""]
["101426",null,null,"","85,3752317"]
["101426","SINAPI-I",40861,"1,0000000",""]
["101426","SINAPI-I",40862,"1,0000000",""]
["101426","SINAPI-I",40863,"1,0000000",""]
["101426","SINAPI-I",40864,"1,0000000",""]
["101426","SINAPI-I",40980,"1,0000000",""]
["101426","SINAPI-I",43476,"1,0000000",""]
["101426","SINAPI-I",43500,"1,0000000",""]
["101426","SINAPI",101338,"1,0000000",""]
["101427",null,null,"","86,0611052"]
["101427","SINAPI-I",40861,"1,0000000",""]
["101427","SINAPI-I",40862,"1,0000000",""]
["101427","SINAPI-I",40863,"1,0000000",""]
["101427","SINAPI-I",40864,"1,0000000",""]
["101427","SINAPI-I",41031,"1,0000000",""]
["101427","SINAPI-I",43476,"1,0000000",""]
["101427","SINAPI-I",43500,"1,0000000",""]
["101427","SINAPI",101339,"1,0000000",""]
["101428",null,null,"","83,6270907"]
["101428","SINAPI-I",40861,"1,0000000",""]
["101428","SINAPI-I",40862,"1,0000000",""]
["101428","SINAPI-I",40863,"1,0000000",""]
["101428","SINAPI-I",40864,"1,0000000",""]
["101428","SINAPI-I",40986,"1,0000000",""]
["101428","SINAPI-I",43476,"1,0000000",""]
["101428","SINAPI-I",43500,"1,0000000",""]
["101428","SINAPI",101340,"1,0000000",""]
["101429",null,null,"","79,2909514"]
["101429","SINAPI-I",40861,"1,0000000",""]
["101429","SINAPI-I",40862,"1,0000000",""]
["101429","SINAPI-I",40863,"1,0000000",""]
["101429","SINAPI-I",40864,"1,0000000",""]
["101429","SINAPI-I",40978,"1,0000000",""]
["101429","SINAPI-I",43476,"1,0000000",""]
["101429","SINAPI-I",43500,"1,0000000",""]
["101429","SINAPI",101341,"1,0000000",""]
["101430",null,null,"","86,0611052"]
["101430","SINAPI-I",40861,"1,0000000",""]
["101430","SINAPI-I",40862,"1,0000000",""]
["101430","SINAPI-I",40863,"1,0000000",""]
["101430","SINAPI-I",40864,"1,0000000",""]
["101430","SINAPI-I",41043,"1,0000000",""]
["101430","SINAPI-I",43476,"1,0000000",""]
["101430","SINAPI-I",43500,"1,0000000",""]
["101430","SINAPI",101342,"1,0000000",""]
["101431",null,null,"","84,8342323"]
["101431","SINAPI-I",40861,"1,0000000",""]
["101431","SINAPI-I",40862,"1,0000000",""]
["101431","SINAPI-I",40863,"1,0000000",""]
["101431","SINAPI-I",40864,"1,0000000",""]
["101431","SINAPI-I",40987,"1,0000000",""]
["101431","SINAPI-I",43476,"1,0000000",""]
["101431","SINAPI-I",43500,"1,0000000",""]
["101431","SINAPI",101343,"1,0000000",""]
["101432",null,null,"","83,7209087"]
["101432","SINAPI-I",40861,"1,0000000",""]
["101432","SINAPI-I",40862,"1,0000000",""]
["101432","SINAPI-I",40863,"1,0000000",""]
["101432","SINAPI-I",40864,"1,0000000",""]
["101432","SINAPI-I",40981,"1,0000000",""]
["101432","SINAPI-I",43476,"1,0000000",""]
["101432","SINAPI-I",43500,"1,0000000",""]
["101432","SINAPI",101344,"1,0000000",""]
["101433",null,null,"","89,1844915"]
["101433","SINAPI-I",40861,"1,0000000",""]
["101433","SINAPI-I",40862,"1,0000000",""]
["101433","SINAPI-I",40863,"1,0000000",""]
["101433","SINAPI-I",40864,"1,0000000",""]
["101433","SINAPI-I",41036,"1,0000000",""]
["101433","SINAPI-I",43476,"1,0000000",""]
["101433","SINAPI-I",43500,"1,0000000",""]
["101433","SINAPI",101345,"1,0000000",""]
["101434",null,null,"","83,4103781"]
["101434","SINAPI-I",40861,"1,0000000",""]
["101434","SINAPI-I",40862,"1,0000000",""]
["101434","SINAPI-I",40863,"1,0000000",""]
["101434","SINAPI-I",40864,"1,0000000",""]
["101434","SINAPI-I",40979,"1,0000000",""]
["101434","SINAPI-I",43476,"1,0000000",""]
["101434","SINAPI-I",43500,"1,0000000",""]
["101434","SINAPI",101346,"1,0000000",""]
["101435",null,null,"","85,7399845"]
["101435","SINAPI-I",40861,"1,0000000",""]
["101435","SINAPI-I",40862,"1,0000000",""]
["101435","SINAPI-I",40863,"1,0000000",""]
["101435","SINAPI-I",40864,"1,0000000",""]
["101435","SINAPI-I",40998,"1,0000000",""]
["101435","SINAPI-I",43476,"1,0000000",""]
["101435","SINAPI-I",43500,"1,0000000",""]
["101435","SINAPI",101347,"1,0000000",""]
["101436",null,null,"","83,1883030"]
["101436","SINAPI-I",40861,"1,0000000",""]
["101436","SINAPI-I",40862,"1,0000000",""]
["101436","SINAPI-I",40863,"1,0000000",""]
["101436","SINAPI-I",40864,"1,0000000",""]
["101436","SINAPI-I",40982,"1,0000000",""]
["101436","SINAPI-I",43476,"1,0000000",""]
["101436","SINAPI-I",43500,"1,0000000",""]
["101436","SINAPI",101348,"1,0000000",""]
["101437",null,null,"","89,3367924"]
["101437","SINAPI-I",40861,"1,0000000",""]
["101437","SINAPI-I",40862,"1,0000000",""]
["101437","SINAPI-I",40863,"1,0000000",""]
["101437","SINAPI-I",40864,"1,0000000",""]
["101437","SINAPI-I",41026,"1,0000000",""]
["101437","SINAPI-I",43476,"1,0000000",""]
["101437","SINAPI-I",43500,"1,0000000",""]
["101437","SINAPI",101349,"1,0000000",""]
["101438",null,null,"","89,3367924"]
["101438","SINAPI-I",40861,"1,0000000",""]
["101438","SINAPI-I",40862,"1,0000000",""]
["101438","SINAPI-I",40863,"1,0000000",""]
["101438","SINAPI-I",40864,"1,0000000",""]
["101438","SINAPI-I",41024,"1,0000000",""]
["101438","SINAPI-I",43476,"1,0000000",""]
["101438","SINAPI-I",43500,"1,0000000",""]
["101438","SINAPI",101350,"1,0000000",""]
["101439",null,null,"","86,0611052"]
["101439","SINAPI-I",40861,"1,0000000",""]
["101439","SINAPI-I",40862,"1,0000000",""]
["101439","SINAPI-I",40863,"1,0000000",""]
["101439","SINAPI-I",40864,"1,0000000",""]
["101439","SINAPI-I",41033,"1,0000000",""]
["101439","SINAPI-I",43476,"1,0000000",""]
["101439","SINAPI-I",43500,"1,0000000",""]
["101439","SINAPI",101351,"1,0000000",""]
["101440",null,null,"","86,0611052"]
["101440","SINAPI-I",40861,"1,0000000",""]
["101440","SINAPI-I",40862,"1,0000000",""]
["101440","SINAPI-I",40863,"1,0000000",""]
["101440","SINAPI-I",40864,"1,0000000",""]
["101440","SINAPI-I",41040,"1,0000000",""]
["101440","SINAPI-I",43476,"1,0000000",""]
["101440","SINAPI-I",43500,"1,0000000",""]
["101440","SINAPI",101352,"1,0000000",""]
["101441",null,null,"","83,4457119"]
["101441","SINAPI-I",40861,"1,0000000",""]
["101441","SINAPI-I",40862,"1,0000000",""]
["101441","SINAPI-I",40863,"1,0000000",""]
["101441","SINAPI-I",40864,"1,0000000",""]
["101441","SINAPI-I",41012,"1,0000000",""]
["101441","SINAPI-I",43476,"1,0000000",""]
["101441","SINAPI-I",43500,"1,0000000",""]
["101441","SINAPI",101353,"1,0000000",""]
["101443",null,null,"","89,3367924"]
["101443","SINAPI-I",40861,"1,0000000",""]
["101443","SINAPI-I",40862,"1,0000000",""]
["101443","SINAPI-I",40863,"1,0000000",""]
["101443","SINAPI-I",40864,"1,0000000",""]
["101443","SINAPI-I",41001,"1,0000000",""]
["101443","SINAPI-I",43476,"1,0000000",""]
["101443","SINAPI-I",43500,"1,0000000",""]
["101443","SINAPI",101355,"1,0000000",""]
["101444",null,null,"","74,9430012"]
["101444","SINAPI-I",40861,"1,0000000",""]
["101444","SINAPI-I",40862,"1,0000000",""]
["101444","SINAPI-I",40863,"1,0000000",""]
["101444","SINAPI-I",40864,"1,0000000",""]
["101444","SINAPI-I",41066,"1,0000000",""]
["101444","SINAPI-I",43477,"1,0000000",""]
["101444","SINAPI-I",43501,"1,0000000",""]
["101444","SINAPI",101356,"1,0000000",""]
["101445",null,null,"","75,0455032"]
["101445","SINAPI-I",40861,"1,0000000",""]
["101445","SINAPI-I",40862,"1,0000000",""]
["101445","SINAPI-I",40863,"1,0000000",""]
["101445","SINAPI-I",40864,"1,0000000",""]
["101445","SINAPI-I",41065,"1,0000000",""]
["101445","SINAPI-I",43477,"1,0000000",""]
["101445","SINAPI-I",43501,"1,0000000",""]
["101445","SINAPI",101357,"1,0000000",""]
["101446",null,null,"","70,0369846"]
["101446","SINAPI-I",40861,"1,0000000",""]
["101446","SINAPI-I",40862,"1,0000000",""]
["101446","SINAPI-I",40863,"1,0000000",""]
["101446","SINAPI-I",40864,"1,0000000",""]
["101446","SINAPI-I",41079,"1,0000000",""]
["101446","SINAPI-I",43478,"1,0000000",""]
["101446","SINAPI-I",43502,"1,0000000",""]
["101446","SINAPI",101358,"1,0000000",""]
["101447",null,null,"","69,4173232"]
["101447","SINAPI-I",40861,"1,0000000",""]
["101447","SINAPI-I",40862,"1,0000000",""]
["101447","SINAPI-I",40863,"1,0000000",""]
["101447","SINAPI-I",40864,"1,0000000",""]
["101447","SINAPI-I",41082,"1,0000000",""]
["101447","SINAPI-I",43478,"1,0000000",""]
["101447","SINAPI-I",43502,"1,0000000",""]
["101447","SINAPI",101359,"1,0000000",""]
["101448",null,null,"","70,0369846"]
["101448","SINAPI-I",40861,"1,0000000",""]
["101448","SINAPI-I",40862,"1,0000000",""]
["101448","SINAPI-I",40863,"1,0000000",""]
["101448","SINAPI-I",40864,"1,0000000",""]
["101448","SINAPI-I",41081,"1,0000000",""]
["101448","SINAPI-I",43478,"1,0000000",""]
["101448","SINAPI-I",43502,"1,0000000",""]
["101448","SINAPI",101360,"1,0000000",""]
["101449",null,null,"","80,7821888"]
["101449","SINAPI-I",40861,"1,0000000",""]
["101449","SINAPI-I",40862,"1,0000000",""]
["101449","SINAPI-I",40863,"1,0000000",""]
["101449","SINAPI-I",40864,"1,0000000",""]
["101449","SINAPI-I",41091,"1,0000000",""]
["101449","SINAPI-I",43476,"1,0000000",""]
["101449","SINAPI-I",43500,"1,0000000",""]
["101449","SINAPI",101361,"1,0000000",""]
["101451",null,null,"","74,8915196"]
["101451","SINAPI-I",40861,"1,0000000",""]
["101451","SINAPI-I",40862,"1,0000000",""]
["101451","SINAPI-I",40863,"1,0000000",""]
["101451","SINAPI-I",40864,"1,0000000",""]
["101451","SINAPI-I",40910,"1,0000000",""]
["101451","SINAPI-I",43477,"1,0000000",""]
["101451","SINAPI-I",43501,"1,0000000",""]
["101451","SINAPI",101363,"1,0000000",""]
["101452",null,null,"","70,7156373"]
["101452","SINAPI-I",40861,"1,0000000",""]
["101452","SINAPI-I",40862,"1,0000000",""]
["101452","SINAPI-I",40863,"1,0000000",""]
["101452","SINAPI-I",40864,"1,0000000",""]
["101452","SINAPI-I",41084,"1,0000000",""]
["101452","SINAPI-I",43479,"1,0000000",""]
["101452","SINAPI-I",43503,"1,0000000",""]
["101452","SINAPI",101364,"1,0000000",""]
["101453",null,null,"","74,9566985"]
["101453","SINAPI-I",40861,"1,0000000",""]
["101453","SINAPI-I",40862,"1,0000000",""]
["101453","SINAPI-I",40863,"1,0000000",""]
["101453","SINAPI-I",40864,"1,0000000",""]
["101453","SINAPI-I",41087,"1,0000000",""]
["101453","SINAPI-I",43480,"1,0000000",""]
["101453","SINAPI-I",43504,"1,0000000",""]
["101453","SINAPI",101365,"1,0000000",""]
["101454",null,null,"","76,8048576"]
["101454","SINAPI-I",40861,"1,0000000",""]
["101454","SINAPI-I",40862,"1,0000000",""]
["101454","SINAPI-I",40863,"1,0000000",""]
["101454","SINAPI-I",40864,"1,0000000",""]
["101454","SINAPI-I",41088,"1,0000000",""]
["101454","SINAPI-I",43480,"1,0000000",""]
["101454","SINAPI-I",43504,"1,0000000",""]
["101454","SINAPI",101366,"1,0000000",""]
["101456",null,null,"","92,2490416"]
["101456","SINAPI-I",40863,"1,0000000",""]
["101456","SINAPI-I",40864,"1,0000000",""]
["101456","SINAPI-I",41089,"1,0000000",""]
["101456","SINAPI-I",43470,"1,0000000",""]
["101456","SINAPI-I",43494,"1,0000000",""]
["101456","SINAPI",101368,"1,0000000",""]
["101457",null,null,"","88,9678283"]
["101457","SINAPI-I",40861,"1,0000000",""]
["101457","SINAPI-I",40862,"1,0000000",""]
["101457","SINAPI-I",40863,"1,0000000",""]
["101457","SINAPI-I",40864,"1,0000000",""]
["101457","SINAPI-I",41092,"1,0000000",""]
["101457","SINAPI-I",43476,"1,0000000",""]
["101457","SINAPI-I",43500,"1,0000000",""]
["101457","SINAPI",101369,"1,0000000",""]
["101458",null,null,"","75,1206417"]
["101458","SINAPI-I",40861,"1,0000000",""]
["101458","SINAPI-I",40862,"1,0000000",""]
["101458","SINAPI-I",40863,"1,0000000",""]
["101458","SINAPI-I",40864,"1,0000000",""]
["101458","SINAPI-I",41097,"1,0000000",""]
["101458","SINAPI-I",43471,"1,0000000",""]
["101458","SINAPI-I",43495,"1,0000000",""]
["101458","SINAPI",101370,"1,0000000",""]
["101459",null,null,"","72,4227391"]
["101459","SINAPI-I",40861,"1,0000000",""]
["101459","SINAPI-I",40862,"1,0000000",""]
["101459","SINAPI-I",40863,"1,0000000",""]
["101459","SINAPI-I",40864,"1,0000000",""]
["101459","SINAPI-I",41073,"1,0000000",""]
["101459","SINAPI-I",43477,"1,0000000",""]
["101459","SINAPI-I",43501,"1,0000000",""]
["101459","SINAPI",101371,"1,0000000",""]
["101460",null,null,"","72,7232729"]
["101460","SINAPI-I",40861,"1,0000000",""]
["101460","SINAPI-I",40862,"1,0000000",""]
["101460","SINAPI-I",40863,"1,0000000",""]
["101460","SINAPI-I",40864,"1,0000000",""]
["101460","SINAPI-I",41096,"1,0000000",""]
["101460","SINAPI-I",43479,"1,0000000",""]

{"sheet":"Banco","index":1,"n_rows":18891,"n_cols":11,"rows_kept":4500,"cut":true,"hidden":false,"merged":[[0,1,0,3],[3,8,4,8]],"bounds":{"rows_first":2000,"rows_last":500,"rows_between":2000,"halvings":0}}
[null,"BANCO DE CUSTOS - REFERÊNCIA 1.10",null,null,null,null,null,null,"AS = ATRIBUÍDO SÃO PAULO"]
[null,"DATA PREÇO / RT (SINAPI):",null,"LOCALIDADE / DATA EMISSÃO (SINAPI):",null,null,null,null,"CR = COEFICIENTE DE REPRESENTATIVIDADE"]
[null,"08/2024",null,"PORTO ALEGRE",null,null,null,null,"C = COLETADO"]
[null,"11/09/2024",null,"",null,null,null,null,"ORIGEM DO PREÇO"]
[null,"FONTE","CÓDIGO","DESCRIÇÃO","UNIDADE","CUSTO UNITÁRIO\nDESONERADO","CUSTO UNITÁRIO\nNÃO DESONERADO",null,null,"% MO\nDESONERADO","% MO\nNÃO DESONERADO"]
[]
[{"$f":"CONCATENAR","v":"0 0"},{"$f":"OFFSET(Composições!$A$1,MATCH(COUNTIF($H$1:$H7,\"Composições\"),Composições!$K:$K,0)-1,COLUMN(Banco!B$6)-1)","v":0},{"$f":"OFFSET(Composições!$A$1,MATCH(COUNTIF($H$1:$H7,\"Composições\"),Composições!$K:$K,0)-1,COLUMN(Banco!C$6)-1)","v":0},{"$f":"IF(COUNTIF(OFFSET(Banco!$A$6,1,0,NCOMPOSICOES),$A7)>1,\"CÓDIGO REPETIDO\",OFFSET(Composições!$A$1,MATCH(COUNTIF($H$1:$H7,\"Composições\"),Composições!$K:$K,0)-1,COLUMN(Banco!D$6)-1))","v":"CÓDIGO REPETIDO"},{"$f":"OFFSET(Composições!$A$1,MATCH(COUNTIF($H$1:$H7,\"Composições\"),Composições!$K:$K,0)-1,COLUMN(Banco!E$6)-1)","v":0},{"$f":"OFFSET(Composições!$A$1,MATCH(COUNTIF($H$1:$H7,\"Composições\"),Composições!$K:$K,0)-1,COLUMN(Banco!F$6)-1)","v":0},{"$f":"OFFSET(Composições!$A$1,MATCH(COUNTIF($H$1:$H7,\"Composições\"),Composições!$K:$K,0)-1,COLUMN(Banco!G$6)-1)","v":0},"Composições"]
[{"$f":"CONCATENAR","v":"0 0"},{"$f":"OFFSET(Composições!$A$1,MATCH(COUNTIF($H$1:$H8,\"Composições\"),Composições!$K:$K,0)-1,COLUMN(Banco!B$6)-1)","v":0},{"$f":"OFFSET(Composições!$A$1,MATCH(COUNTIF($H$1:$H8,\"Composições\"),Composições!$K:$K,0)-1,COLUMN(Banco!C$6)-1)","v":0},{"$f":"IF(COUNTIF(OFFSET(Banco!$A$6,1,0,NCOMPOSICOES),$A8)>1,\"CÓDIGO REPETIDO\",OFFSET(Composições!$A$1,MATCH(COUNTIF($H$1:$H8,\"Composições\"),Composições!$K:$K,0)-1,COLUMN(Banco!D$6)-1))","v":"CÓDIGO REPETIDO"},{"$f":"OFFSET(Composições!$A$1,MATCH(COUNTIF($H$1:$H8,\"Composições\"),Composições!$K:$K,0)-1,COLUMN(Banco!E$6)-1)","v":0},{"$f":"OFFSET(Composições!$A$1,MATCH(COUNTIF($H$1:$H8,\"Composições\"),Composições!$K:$K,0)-1,COLUMN(Banco!F$6)-1)","v":0},{"$f":"OFFSET(Composições!$A$1,MATCH(COUNTIF($H$1:$H8,\"Composições\"),Composições!$K:$K,0)-1,COLUMN(Banco!G$6)-1)","v":0},"Composições"]
[{"$f":"CONCATENAR","v":"0 0"},{"$f":"OFFSET(Composições!$A$1,MATCH(COUNTIF($H$1:$H9,\"Composições\"),Composições!$K:$K,0)-1,COLUMN(Banco!B$6)-1)","v":0},{"$f":"OFFSET(Composições!$A$1,MATCH(COUNTIF($H$1:$H9,\"Composições\"),Composições!$K:$K,0)-1,COLUMN(Banco!C$6)-1)","v":0},{"$f":"IF(COUNTIF(OFFSET(Banco!$A$6,1,0,NCOMPOSICOES),$A9)>1,\"CÓDIGO REPETIDO\",OFFSET(Composições!$A$1,MATCH(COUNTIF($H$1:$H9,\"Composições\"),Composições!$K:$K,0)-1,COLUMN(Banco!D$6)-1))","v":"CÓDIGO REPETIDO"},{"$f":"OFFSET(Composições!$A$1,MATCH(COUNTIF($H$1:$H9,\"Composições\"),Composições!$K:$K,0)-1,COLUMN(Banco!E$6)-1)","v":0},{"$f":"OFFSET(Composições!$A$1,MATCH(COUNTIF($H$1:$H9,\"Composições\"),Composições!$K:$K,0)-1,COLUMN(Banco!F$6)-1)","v":0},{"$f":"OFFSET(Composições!$A$1,MATCH(COUNTIF($H$1:$H9,\"Composições\"),Composições!$K:$K,0)-1,COLUMN(Banco!G$6)-1)","v":0},"Composições"]
[{"$f":"CONCATENAR","v":"0 0"},{"$f":"OFFSET(Composições!$A$1,MATCH(COUNTIF($H$1:$H10,\"Composições\"),Composições!$K:$K,0)-1,COLUMN(Banco!B$6)-1)","v":0},{"$f":"OFFSET(Composições!$A$1,MATCH(COUNTIF($H$1:$H10,\"Composições\"),Composições!$K:$K,0)-1,COLUMN(Banco!C$6)-1)","v":0},{"$f":"IF(COUNTIF(OFFSET(Banco!$A$6,1,0,NCOMPOSICOES),$A10)>1,\"CÓDIGO REPETIDO\",OFFSET(Composições!$A$1,MATCH(COUNTIF($H$1:$H10,\"Composições\"),Composições!$K:$K,0)-1,COLUMN(Banco!D$6)-1))","v":"CÓDIGO REPETIDO"},{"$f":"OFFSET(Composições!$A$1,MATCH(COUNTIF($H$1:$H10,\"Composições\"),Composições!$K:$K,0)-1,COLUMN(Banco!E$6)-1)","v":0},{"$f":"OFFSET(Composições!$A$1,MATCH(COUNTIF($H$1:$H10,\"Composições\"),Composições!$K:$K,0)-1,COLUMN(Banco!F$6)-1)","v":0},{"$f":"OFFSET(Composições!$A$1,MATCH(COUNTIF($H$1:$H10,\"Composições\"),Composições!$K:$K,0)-1,COLUMN(Banco!G$6)-1)","v":0},"Composições"]
["0 0",{"$f":"OFFSET(Composições!$A$1,MATCH(COUNTIF($H$1:$H11,\"Composições\"),Composições!$K:$K,0)-1,COLUMN(Banco!B$6)-1)","v":0},{"$f":"OFFSET(Composições!$A$1,MATCH(COUNTIF($H$1:$H11,\"Composições\"),Composições!$K:$K,0)-1,COLUMN(Banco!C$6)-1)","v":0},{"$f":"IF(COUNTIF(OFFSET(Banco!$A$6,1,0,NCOMPOSICOES),$A11)>1,\"CÓDIGO REPETIDO\",OFFSET(Composições!$A$1,MATCH(COUNTIF($H$1:$H11,\"Composições\"),Composições!$K:$K,0)-1,COLUMN(Banco!D$6)-1))","v":"CÓDIGO REPETIDO"},{"$f":"OFFSET(Composições!$A$1,MATCH(COUNTIF($H$1:$H11,\"Composições\"),Composições!$K:$K,0)-1,COLUMN(Banco!E$6)-1)","v":0},{"$f":"OFFSET(Composições!$A$1,MATCH(COUNTIF($H$1:$H11,\"Composições\"),Composições!$K:$K,0)-1,COLUMN(Banco!F$6)-1)","v":0},{"$f":"OFFSET(Composições!$A$1,MATCH(COUNTIF($H$1:$H11,\"Composições\"),Composições!$K:$K,0)-1,COLUMN(Banco!G$6)-1)","v":0},"Composições"]
["0 0",{"$f":"OFFSET(Composições!$A$1,MATCH(COUNTIF($H$1:$H12,\"Composições\"),Composições!$K:$K,0)-1,COLUMN(Banco!B$6)-1)","v":0},{"$f":"OFFSET(Composições!$A$1,MATCH(COUNTIF($H$1:$H12,\"Composições\"),Composições!$K:$K,0)-1,COLUMN(Banco!C$6)-1)","v":0},{"$f":"IF(COUNTIF(OFFSET(Banco!$A$6,1,0,NCOMPOSICOES),$A12)>1,\"CÓDIGO REPETIDO\",OFFSET(Composições!$A$1,MATCH(COUNTIF($H$1:$H12,\"Composições\"),Composições!$K:$K,0)-1,COLUMN(Banco!D$6)-1))","v":"CÓDIGO REPETIDO"},{"$f":"OFFSET(Composições!$A$1,MATCH(COUNTIF($H$1:$H12,\"Composições\"),Composições!$K:$K,0)-1,COLUMN(Banco!E$6)-1)","v":0},{"$f":"OFFSET(Composições!$A$1,MATCH(COUNTIF($H$1:$H12,\"Composições\"),Composições!$K:$K,0)-1,COLUMN(Banco!F$6)-1)","v":0},{"$f":"OFFSET(Composições!$A$1,MATCH(COUNTIF($H$1:$H12,\"Composições\"),Composições!$K:$K,0)-1,COLUMN(Banco!G$6)-1)","v":0},"Composições"]
["0 0",{"$f":"OFFSET(Composições!$A$1,MATCH(COUNTIF($H$1:$H13,\"Composições\"),Composições!$K:$K,0)-1,COLUMN(Banco!B$6)-1)","v":0},{"$f":"OFFSET(Composições!$A$1,MATCH(COUNTIF($H$1:$H13,\"Composições\"),Composições!$K:$K,0)-1,COLUMN(Banco!C$6)-1)","v":0},{"$f":"IF(COUNTIF(OFFSET(Banco!$A$6,1,0,NCOMPOSICOES),$A13)>1,\"CÓDIGO REPETIDO\",OFFSET(Composições!$A$1,MATCH(COUNTIF($H$1:$H13,\"Composições\"),Composições!$K:$K,0)-1,COLUMN(Banco!D$6)-1))","v":"CÓDIGO REPETIDO"},{"$f":"OFFSET(Composições!$A$1,MATCH(COUNTIF($H$1:$H13,\"Composições\"),Composições!$K:$K,0)-1,COLUMN(Banco!E$6)-1)","v":0},{"$f":"OFFSET(Composições!$A$1,MATCH(COUNTIF($H$1:$H13,\"Composições\"),Composições!$K:$K,0)-1,COLUMN(Banco!F$6)-1)","v":0},{"$f":"OFFSET(Composições!$A$1,MATCH(COUNTIF($H$1:$H13,\"Composições\"),Composições!$K:$K,0)-1,COLUMN(Banco!G$6)-1)","v":0},"Composições"]
["0 0",{"$f":"OFFSET(Composições!$A$1,MATCH(COUNTIF($H$1:$H14,\"Composições\"),Composições!$K:$K,0)-1,COLUMN(Banco!B$6)-1)","v":0},{"$f":"OFFSET(Composições!$A$1,MATCH(COUNTIF($H$1:$H14,\"Composições\"),Composições!$K:$K,0)-1,COLUMN(Banco!C$6)-1)","v":0},{"$f":"IF(COUNTIF(OFFSET(Banco!$A$6,1,0,NCOMPOSICOES),$A14)>1,\"CÓDIGO REPETIDO\",OFFSET(Composições!$A$1,MATCH(COUNTIF($H$1:$H14,\"Composições\"),Composições!$K:$K,0)-1,COLUMN(Banco!D$6)-1))","v":"CÓDIGO REPETIDO"},{"$f":"OFFSET(Composições!$A$1,MATCH(COUNTIF($H$1:$H14,\"Composições\"),Composições!$K:$K,0)-1,COLUMN(Banco!E$6)-1)","v":0},{"$f":"OFFSET(Composições!$A$1,MATCH(COUNTIF($H$1:$H14,\"Composições\"),Composições!$K:$K,0)-1,COLUMN(Banco!F$6)-1)","v":0},{"$f":"OFFSET(Composições!$A$1,MATCH(COUNTIF($H$1:$H14,\"Composições\"),Composições!$K:$K,0)-1,COLUMN(Banco!G$6)-1)","v":0},"Composições"]
["0 0",{"$f":"OFFSET(Composições!$A$1,MATCH(COUNTIF($H$1:$H15,\"Composições\"),Composições!$K:$K,0)-1,COLUMN(Banco!B$6)-1)","v":0},{"$f":"OFFSET(Composições!$A$1,MATCH(COUNTIF($H$1:$H15,\"Composições\"),Composições!$K:$K,0)-1,COLUMN(Banco!C$6)-1)","v":0},{"$f":"IF(COUNTIF(OFFSET(Banco!$A$6,1,0,NCOMPOSICOES),$A15)>1,\"CÓDIGO REPETIDO\",OFFSET(Composições!$A$1,MATCH(COUNTIF($H$1:$H15,\"Composições\"),Composições!$K:$K,0)-1,COLUMN(Banco!D$6)-1))","v":"CÓDIGO REPETIDO"},{"$f":"OFFSET(Composições!$A$1,MATCH(COUNTIF($H$1:$H15,\"Composições\"),Composições!$K:$K,0)-1,COLUMN(Banco!E$6)-1)","v":0},{"$f":"OFFSET(Composições!$A$1,MATCH(COUNTIF($H$1:$H15,\"Composições\"),Composições!$K:$K,0)-1,COLUMN(Banco!F$6)-1)","v":0},{"$f":"OFFSET(Composições!$A$1,MATCH(COUNTIF($H$1:$H15,\"Composições\"),Composições!$K:$K,0)-1,COLUMN(Banco!G$6)-1)","v":0},"Composições"]
["0 0",{"$f":"OFFSET(Composições!$A$1,MATCH(COUNTIF($H$1:$H16,\"Composições\"),Composições!$K:$K,0)-1,COLUMN(Banco!B$6)-1)","v":0},{"$f":"OFFSET(Composições!$A$1,MATCH(COUNTIF($H$1:$H16,\"Composições\"),Composições!$K:$K,0)-1,COLUMN(Banco!C$6)-1)","v":0},{"$f":"IF(COUNTIF(OFFSET(Banco!$A$6,1,0,NCOMPOSICOES),$A16)>1,\"CÓDIGO REPETIDO\",OFFSET(Composições!$A$1,MATCH(COUNTIF($H$1:$H16,\"Composições\"),Composições!$K:$K,0)-1,COLUMN(Banco!D$6)-1))","v":"CÓDIGO REPETIDO"},{"$f":"OFFSET(Composições!$A$1,MATCH(COUNTIF($H$1:$H16,\"Composições\"),Composições!$K:$K,0)-1,COLUMN(Banco!E$6)-1)","v":0},{"$f":"OFFSET(Composições!$A$1,MATCH(COUNTIF($H$1:$H16,\"Composições\"),Composições!$K:$K,0)-1,COLUMN(Banco!F$6)-1)","v":0},{"$f":"OFFSET(Composições!$A$1,MATCH(COUNTIF($H$1:$H16,\"Composições\"),Composições!$K:$K,0)-1,COLUMN(Banco!G$6)-1)","v":0},"Composições"]
["0 0",{"$f":"OFFSET(Composições!$A$1,MATCH(COUNTIF($H$1:$H17,\"Composições\"),Composições!$K:$K,0)-1,COLUMN(Banco!B$6)-1)","v":0},{"$f":"OFFSET(Composições!$A$1,MATCH(COUNTIF($H$1:$H17,\"Composições\"),Composições!$K:$K,0)-1,COLUMN(Banco!C$6)-1)","v":0},{"$f":"IF(COUNTIF(OFFSET(Banco!$A$6,1,0,NCOMPOSICOES),$A17)>1,\"CÓDIGO REPETIDO\",OFFSET(Composições!$A$1,MATCH(COUNTIF($H$1:$H17,\"Composições\"),Composições!$K:$K,0)-1,COLUMN(Banco!D$6)-1))","v":"CÓDIGO REPETIDO"},{"$f":"OFFSET(Composições!$A$1,MATCH(COUNTIF($H$1:$H17,\"Composições\"),Composições!$K:$K,0)-1,COLUMN(Banco!E$6)-1)","v":0},{"$f":"OFFSET(Composições!$A$1,MATCH(COUNTIF($H$1:$H17,\"Composições\"),Composições!$K:$K,0)-1,COLUMN(Banco!F$6)-1)","v":0},{"$f":"OFFSET(Composições!$A$1,MATCH(COUNTIF($H$1:$H17,\"Composições\"),Composições!$K:$K,0)-1,COLUMN(Banco!G$6)-1)","v":0},"Composições"]
["0 0",{"$f":"OFFSET(Composições!$A$1,MATCH(COUNTIF($H$1:$H18,\"Composições\"),Composições!$K:$K,0)-1,COLUMN(Banco!B$6)-1)","v":0},{"$f":"OFFSET(Composições!$A$1,MATCH(COUNTIF($H$1:$H18,\"Composições\"),Composições!$K:$K,0)-1,COLUMN(Banco!C$6)-1)","v":0},{"$f":"IF(COUNTIF(OFFSET(Banco!$A$6,1,0,NCOMPOSICOES),$A18)>1,\"CÓDIGO REPETIDO\",OFFSET(Composições!$A$1,MATCH(COUNTIF($H$1:$H18,\"Composições\"),Composições!$K:$K,0)-1,COLUMN(Banco!D$6)-1))","v":"CÓDIGO REPETIDO"},{"$f":"OFFSET(Composições!$A$1,MATCH(COUNTIF($H$1:$H18,\"Composições\"),Composições!$K:$K,0)-1,COLUMN(Banco!E$6)-1)","v":0},{"$f":"OFFSET(Composições!$A$1,MATCH(COUNTIF($H$1:$H18,\"Composições\"),Composições!$K:$K,0)-1,COLUMN(Banco!F$6)-1)","v":0},{"$f":"OFFSET(Composições!$A$1,MATCH(COUNTIF($H$1:$H18,\"Composições\"),Composições!$K:$K,0)-1,COLUMN(Banco!G$6)-1)","v":0},"Composições"]
["0 0",{"$f":"OFFSET(Composições!$A$1,MATCH(COUNTIF($H$1:$H19,\"Composições\"),Composições!$K:$K,0)-1,COLUMN(Banco!B$6)-1)","v":0},{"$f":"OFFSET(Composições!$A$1,MATCH(COUNTIF($H$1:$H19,\"Composições\"),Composições!$K:$K,0)-1,COLUMN(Banco!C$6)-1)","v":0},{"$f":"IF(COUNTIF(OFFSET(Banco!$A$6,1,0,NCOMPOSICOES),$A19)>1,\"CÓDIGO REPETIDO\",OFFSET(Composições!$A$1,MATCH(COUNTIF($H$1:$H19,\"Composições\"),Composições!$K:$K,0)-1,COLUMN(Banco!D$6)-1))","v":"CÓDIGO REPETIDO"},{"$f":"OFFSET(Composições!$A$1,MATCH(COUNTIF($H$1:$H19,\"Composições\"),Composições!$K:$K,0)-1,COLUMN(Banco!E$6)-1)","v":0},{"$f":"OFFSET(Composições!$A$1,MATCH(COUNTIF($H$1:$H19,\"Composições\"),Composições!$K:$K,0)-1,COLUMN(Banco!F$6)-1)","v":0},{"$f":"OFFSET(Composições!$A$1,MATCH(COUNTIF($H$1:$H19,\"Composições\"),Composições!$K:$K,0)-1,COLUMN(Banco!G$6)-1)","v":0},"Composições"]
["0 0",{"$f":"OFFSET(Composições!$A$1,MATCH(COUNTIF($H$1:$H20,\"Composições\"),Composições!$K:$K,0)-1,COLUMN(Banco!B$6)-1)","v":0},{"$f":"OFFSET(Composições!$A$1,MATCH(COUNTIF($H$1:$H20,\"Composições\"),Composições!$K:$K,0)-1,COLUMN(Banco!C$6)-1)","v":0},{"$f":"IF(COUNTIF(OFFSET(Banco!$A$6,1,0,NCOMPOSICOES),$A20)>1,\"CÓDIGO REPETIDO\",OFFSET(Composições!$A$1,MATCH(COUNTIF($H$1:$H20,\"Composições\"),Composições!$K:$K,0)-1,COLUMN(Banco!D$6)-1))","v":"CÓDIGO REPETIDO"},{"$f":"OFFSET(Composições!$A$1,MATCH(COUNTIF($H$1:$H20,\"Composições\"),Composições!$K:$K,0)-1,COLUMN(Banco!E$6)-1)","v":0},{"$f":"OFFSET(Composições!$A$1,MATCH(COUNTIF($H$1:$H20,\"Composições\"),Composições!$K:$K,0)-1,COLUMN(Banco!F$6)-1)","v":0},{"$f":"OFFSET(Composições!$A$1,MATCH(COUNTIF($H$1:$H20,\"Composições\"),Composições!$K:$K,0)-1,COLUMN(Banco!G$6)-1)","v":0},"Composições"]
["0 0",{"$f":"OFFSET(Composições!$A$1,MATCH(COUNTIF($H$1:$H21,\"Composições\"),Composições!$K:$K,0)-1,COLUMN(Banco!B$6)-1)","v":0},{"$f":"OFFSET(Composições!$A$1,MATCH(COUNTIF($H$1:$H21,\"Composições\"),Composições!$K:$K,0)-1,COLUMN(Banco!C$6)-1)","v":0},{"$f":"IF(COUNTIF(OFFSET(Banco!$A$6,1,0,NCOMPOSICOES),$A21)>1,\"CÓDIGO REPETIDO\",OFFSET(Composições!$A$1,MATCH(COUNTIF($H$1:$H21,\"Composições\"),Composições!$K:$K,0)-1,COLUMN(Banco!D$6)-1))","v":"CÓDIGO REPETIDO"},{"$f":"OFFSET(Composições!$A$1,MATCH(COUNTIF($H$1:$H21,\"Composições\"),Composições!$K:$K,0)-1,COLUMN(Banco!E$6)-1)","v":0},{"$f":"OFFSET(Composições!$A$1,MATCH(COUNTIF($H$1:$H21,\"Composições\"),Composições!$K:$K,0)-1,COLUMN(Banco!F$6)-1)","v":0},{"$f":"OFFSET(Composições!$A$1,MATCH(COUNTIF($H$1:$H21,\"Composições\"),Composições!$K:$K,0)-1,COLUMN(Banco!G$6)-1)","v":0},"Composições"]
["Composição C-103672",{"$f":"OFFSET(Composições!$A$1,MATCH(COUNTIF($H$1:$H22,\"Composições\"),Composições!$K:$K,0)-1,COLUMN(Banco!B$6)-1)","v":"Composição"},{"$f":"OFFSET(Composições!$A$1,MATCH(COUNTIF($H$1:$H22,\"Composições\"),Composições!$K:$K,0)-1,COLUMN(Banco!C$6)-1)","v":"C-103672"},{"$f":"IF(COUNTIF(OFFSET(Banco!$A$6,1,0,NCOMPOSICOES),$A22)>1,\"CÓDIGO REPETIDO\",OFFSET(Composições!$A$1,MATCH(COUNTIF($H$1:$H22,\"Composições\"),Composições!$K:$K,0)-1,COLUMN(Banco!D$6)-1))","v":"CONCRETAGEM DE PILARES, FCK 30 MPA, COM USO DE BOMBA, LANÇAMENTO E ADENSAMENTO"},{"$f":"OFFSET(Composições!$A$1,MATCH(COUNTIF($H$1:$H22,\"Composições\"),Composições!$K:$K,0)-1,COLUMN(Banco!E$6)-1)","v":"m³"},{"$f":"OFFSET(Composições!$A$1,MATCH(COUNTIF($H$1:$H22,\"Composições\"),Composições!$K:$K,0)-1,COLUMN(Banco!F$6)-1)","v":682.31999999999994},{"$f":"OFFSET(Composições!$A$1,MATCH(COUNTIF($H$1:$H22,\"Composições\"),Composições!$K:$K,0)-1,COLUMN(Banco!G$6)-1)","v":0},"Composições"]
["Composição C-103675",{"$f":"OFFSET(Composições!$A$1,MATCH(COUNTIF($H$1:$H23,\"Composições\"),Composições!$K:$K,0)-1,COLUMN(Banco!B$6)-1)","v":"Composição"},{"$f":"OFFSET(Composições!$A$1,MATCH(COUNTIF($H$1:$H23,\"Composições\"),Composições!$K:$K,0)-1,COLUMN(Banco!C$6)-1)","v":"C-103675"},{"$f":"IF(COUNTIF(OFFSET(Banco!$A$6,1,0,NCOMPOSICOES),$A23)>1,\"CÓDIGO REPETIDO\",OFFSET(Composições!$A$1,MATCH(COUNTIF($H$1:$H23,\"Composições\"),Composições!$K:$K,0)-1,COLUMN(Banco!D$6)-1))","v":"CONCRETAGEM DE VIGAS E LAJES, FCK 30 MPA, COM USO DE BOMBA, LANÇAMENTO, ADENSAMENTO E ACABAMENTO"},{"$f":"OFFSET(Composições!$A$1,MATCH(COUNTIF($H$1:$H23,\"Composições\"),Composições!$K:$K,0)-1,COLUMN(Banco!E$6)-1)","v":"m³"},{"$f":"OFFSET(Composições!$A$1,MATCH(COUNTIF($H$1:$H23,\"Composições\"),Composições!$K:$K,0)-1,COLUMN(Banco!F$6)-1)","v":682.3599999999999},{"$f":"OFFSET(Composições!$A$1,MATCH(COUNTIF($H$1:$H23,\"Composições\"),Composições!$K:$K,0)-1,COLUMN(Banco!G$6)-1)","v":0},"Composições"]
["Composição C-100068",{"$f":"OFFSET(Composições!$A$1,MATCH(COUNTIF($H$1:$H24,\"Composições\"),Composições!$K:$K,0)-1,COLUMN(Banco!B$6)-1)","v":"Composição"},{"$f":"OFFSET(Composições!$A$1,MATCH(COUNTIF($H$1:$H24,\"Composições\"),Composições!$K:$K,0)-1,COLUMN(Banco!C$6)-1)","v":"C-100068"},{"$f":"IF(COUNTIF(OFFSET(Banco!$A$6,1,0,NCOMPOSICOES),$A24)>1,\"CÓDIGO REPETIDO\",OFFSET(Composições!$A$1,MATCH(COUNTIF($H$1:$H24,\"Composições\"),Composições!$K:$K,0)-1,COLUMN(Banco!D$6)-1))","v":"ARMAÇÃO DO SISTEMA DE PAREDES DE CONCRETO, EXECUTADA COMO REFORÇO, VERGALHÃO DE 16,0 MM DE DIÂMETRO"},{"$f":"OFFSET(Composições!$A$1,MATCH(COUNTIF($H$1:$H24,\"Composições\"),Composições!$K:$K,0)-1,COLUMN(Banco!E$6)-1)","v":"KG    "},{"$f":"OFFSET(Composições!$A$1,MATCH(COUNTIF($H$1:$H24,\"Composições\"),Composições!$K:$K,0)-1,COLUMN(Banco!F$6)-1)","v":9.5200000000000014},{"$f":"OFFSET(Composições!$A$1,MATCH(COUNTIF($H$1:$H24,\"Composições\"),Composições!$K:$K,0)-1,COLUMN(Banco!G$6)-1)","v":0},"Composições"]
[{"$f":"CONCATENAR","v":"COTAÇÃO 0"},{"$f":"OFFSET(Cotações!$A$1,MATCH(COUNTIF($H$1:$H25,\"Cotações\"),Cotações!$J:$J,0)-1,COLUMN(Banco!B$6)-1)","v":"COTAÇÃO"},{"$f":"OFFSET(Cotações!$A$1,MATCH(COUNTIF($H$1:$H25,\"Cotações\"),Cotações!$J:$J,0)-1,COLUMN(Banco!C$6)-1)","v":0},{"$f":"IF(COUNTIF(OFFSET(Banco!$A$6,1+NCOMPOSICOES,0,NCOTACOES),$A25)>1,\"CÓDIGO REPETIDO\",OFFSET(Cotações!$A$1,MATCH(COUNTIF($H$1:$H25,\"Cotações\"),Cotações!$J:$J,0)-1,COLUMN(Banco!D$6)-1))","v":"CÓDIGO REPETIDO"},{"$f":"OFFSET(Cotações!$A$1,MATCH(COUNTIF($H$1:$H25,\"Cotações\"),Cotações!$J:$J,0)-1,COLUMN(Banco!E$6)-1)","v":0},{"$f":"OFFSET(Cotações!$A$1,MATCH(COUNTIF($H$1:$H25,\"Cotações\"),Cotações!$J:$J,0)-1,COLUMN(Banco!F$6)-1)","v":{"$error":"#NUM!"}},{"$f":"OFFSET(Cotações!$A$1,MATCH(COUNTIF($H$1:$H25,\"Cotações\"),Cotações!$J:$J,0)-1,COLUMN(Banco!F$6)-1)","v":{"$error":"#NUM!"}},"Cotações"]
["COTAÇÃO 0",{"$f":"OFFSET(Cotações!$A$1,MATCH(COUNTIF($H$1:$H26,\"Cotações\"),Cotações!$J:$J,0)-1,COLUMN(Banco!B$6)-1)","v":"COTAÇÃO"},{"$f":"OFFSET(Cotações!$A$1,MATCH(COUNTIF($H$1:$H26,\"Cotações\"),Cotações!$J:$J,0)-1,COLUMN(Banco!C$6)-1)","v":0},{"$f":"IF(COUNTIF(OFFSET(Banco!$A$6,1+NCOMPOSICOES,0,NCOTACOES),$A26)>1,\"CÓDIGO REPETIDO\",OFFSET(Cotações!$A$1,MATCH(COUNTIF($H$1:$H26,\"Cotações\"),Cotações!$J:$J,0)-1,COLUMN(Banco!D$6)-1))","v":"CÓDIGO REPETIDO"},{"$f":"OFFSET(Cotações!$A$1,MATCH(COUNTIF($H$1:$H26,\"Cotações\"),Cotações!$J:$J,0)-1,COLUMN(Banco!E$6)-1)","v":0},{"$f":"OFFSET(Cotações!$A$1,MATCH(COUNTIF($H$1:$H26,\"Cotações\"),Cotações!$J:$J,0)-1,COLUMN(Banco!F$6)-1)","v":{"$error":"#NUM!"}},{"$f":"OFFSET(Cotações!$A$1,MATCH(COUNTIF($H$1:$H26,\"Cotações\"),Cotações!$J:$J,0)-1,COLUMN(Banco!F$6)-1)","v":{"$error":"#NUM!"}},"Cotações"]
["COTAÇÃO 0",{"$f":"OFFSET(Cotações!$A$1,MATCH(COUNTIF($H$1:$H27,\"Cotações\"),Cotações!$J:$J,0)-1,COLUMN(Banco!B$6)-1)","v":"COTAÇÃO"},{"$f":"OFFSET(Cotações!$A$1,MATCH(COUNTIF($H$1:$H27,\"Cotações\"),Cotações!$J:$J,0)-1,COLUMN(Banco!C$6)-1)","v":0},{"$f":"IF(COUNTIF(OFFSET(Banco!$A$6,1+NCOMPOSICOES,0,NCOTACOES),$A27)>1,\"CÓDIGO REPETIDO\",OFFSET(Cotações!$A$1,MATCH(COUNTIF($H$1:$H27,\"Cotações\"),Cotações!$J:$J,0)-1,COLUMN(Banco!D$6)-1))","v":"CÓDIGO REPETIDO"},{"$f":"OFFSET(Cotações!$A$1,MATCH(COUNTIF($H$1:$H27,\"Cotações\"),Cotações!$J:$J,0)-1,COLUMN(Banco!E$6)-1)","v":0},{"$f":"OFFSET(Cotações!$A$1,MATCH(COUNTIF($H$1:$H27,\"Cotações\"),Cotações!$J:$J,0)-1,COLUMN(Banco!F$6)-1)","v":{"$error":"#NUM!"}},{"$f":"OFFSET(Cotações!$A$1,MATCH(COUNTIF($H$1:$H27,\"Cotações\"),Cotações!$J:$J,0)-1,COLUMN(Banco!F$6)-1)","v":{"$error":"#NUM!"}},"Cotações"]
["COTAÇÃO 0",{"$f":"OFFSET(Cotações!$A$1,MATCH(COUNTIF($H$1:$H28,\"Cotações\"),Cotações!$J:$J,0)-1,COLUMN(Banco!B$6)-1)","v":"COTAÇÃO"},{"$f":"OFFSET(Cotações!$A$1,MATCH(COUNTIF($H$1:$H28,\"Cotações\"),Cotações!$J:$J,0)-1,COLUMN(Banco!C$6)-1)","v":0},{"$f":"IF(COUNTIF(OFFSET(Banco!$A$6,1+NCOMPOSICOES,0,NCOTACOES),$A28)>1,\"CÓDIGO REPETIDO\",OFFSET(Cotações!$A$1,MATCH(COUNTIF($H$1:$H28,\"Cotações\"),Cotações!$J:$J,0)-1,COLUMN(Banco!D$6)-1))","v":"CÓDIGO REPETIDO"},{"$f":"OFFSET(Cotações!$A$1,MATCH(COUNTIF($H$1:$H28,\"Cotações\"),Cotações!$J:$J,0)-1,COLUMN(Banco!E$6)-1)","v":0},{"$f":"OFFSET(Cotações!$A$1,MATCH(COUNTIF($H$1:$H28,\"Cotações\"),Cotações!$J:$J,0)-1,COLUMN(Banco!F$6)-1)","v":{"$error":"#NUM!"}},{"$f":"OFFSET(Cotações!$A$1,MATCH(COUNTIF($H$1:$H28,\"Cotações\"),Cotações!$J:$J,0)-1,COLUMN(Banco!F$6)-1)","v":{"$error":"#NUM!"}},"Cotações"]
["COTAÇÃO 0",{"$f":"OFFSET(Cotações!$A$1,MATCH(COUNTIF($H$1:$H29,\"Cotações\"),Cotações!$J:$J,0)-1,COLUMN(Banco!B$6)-1)","v":"COTAÇÃO"},{"$f":"OFFSET(Cotações!$A$1,MATCH(COUNTIF($H$1:$H29,\"Cotações\"),Cotações!$J:$J,0)-1,COLUMN(Banco!C$6)-1)","v":0},{"$f":"IF(COUNTIF(OFFSET(Banco!$A$6,1+NCOMPOSICOES,0,NCOTACOES),$A29)>1,\"CÓDIGO REPETIDO\",OFFSET(Cotações!$A$1,MATCH(COUNTIF($H$1:$H29,\"Cotações\"),Cotações!$J:$J,0)-1,COLUMN(Banco!D$6)-1))","v":"CÓDIGO REPETIDO"},{"$f":"OFFSET(Cotações!$A$1,MATCH(COUNTIF($H$1:$H29,\"Cotações\"),Cotações!$J:$J,0)-1,COLUMN(Banco!E$6)-1)","v":0},{"$f":"OFFSET(Cotações!$A$1,MATCH(COUNTIF($H$1:$H29,\"Cotações\"),Cotações!$J:$J,0)-1,COLUMN(Banco!F$6)-1)","v":{"$error":"#NUM!"}},{"$f":"OFFSET(Cotações!$A$1,MATCH(COUNTIF($H$1:$H29,\"Cotações\"),Cotações!$J:$J,0)-1,COLUMN(Banco!F$6)-1)","v":{"$error":"#NUM!"}},"Cotações"]
["COTAÇÃO 0",{"$f":"OFFSET(Cotações!$A$1,MATCH(COUNTIF($H$1:$H30,\"Cotações\"),Cotações!$J:$J,0)-1,COLUMN(Banco!B$6)-1)","v":"COTAÇÃO"},{"$f":"OFFSET(Cotações!$A$1,MATCH(COUNTIF($H$1:$H30,\"Cotações\"),Cotações!$J:$J,0)-1,COLUMN(Banco!C$6)-1)","v":0},{"$f":"IF(COUNTIF(OFFSET(Banco!$A$6,1+NCOMPOSICOES,0,NCOTACOES),$A30)>1,\"CÓDIGO REPETIDO\",OFFSET(Cotações!$A$1,MATCH(COUNTIF($H$1:$H30,\"Cotações\"),Cotações!$J:$J,0)-1,COLUMN(Banco!D$6)-1))","v":"CÓDIGO REPETIDO"},{"$f":"OFFSET(Cotações!$A$1,MATCH(COUNTIF($H$1:$H30,\"Cotações\"),Cotações!$J:$J,0)-1,COLUMN(Banco!E$6)-1)","v":0},{"$f":"OFFSET(Cotações!$A$1,MATCH(COUNTIF($H$1:$H30,\"Cotações\"),Cotações!$J:$J,0)-1,COLUMN(Banco!F$6)-1)","v":{"$error":"#NUM!"}},{"$f":"OFFSET(Cotações!$A$1,MATCH(COUNTIF($H$1:$H30,\"Cotações\"),Cotações!$J:$J,0)-1,COLUMN(Banco!F$6)-1)","v":{"$error":"#NUM!"}},"Cotações"]
["COTAÇÃO 0",{"$f":"OFFSET(Cotações!$A$1,MATCH(COUNTIF($H$1:$H31,\"Cotações\"),Cotações!$J:$J,0)-1,COLUMN(Banco!B$6)-1)","v":"COTAÇÃO"},{"$f":"OFFSET(Cotações!$A$1,MATCH(COUNTIF($H$1:$H31,\"Cotações\"),Cotações!$J:$J,0)-1,COLUMN(Banco!C$6)-1)","v":0},{"$f":"IF(COUNTIF(OFFSET(Banco!$A$6,1+NCOMPOSICOES,0,NCOTACOES),$A31)>1,\"CÓDIGO REPETIDO\",OFFSET(Cotações!$A$1,MATCH(COUNTIF($H$1:$H31,\"Cotações\"),Cotações!$J:$J,0)-1,COLUMN(Banco!D$6)-1))","v":"CÓDIGO REPETIDO"},{"$f":"OFFSET(Cotações!$A$1,MATCH(COUNTIF($H$1:$H31,\"Cotações\"),Cotações!$J:$J,0)-1,COLUMN(Banco!E$6)-1)","v":0},{"$f":"OFFSET(Cotações!$A$1,MATCH(COUNTIF($H$1:$H31,\"Cotações\"),Cotações!$J:$J,0)-1,COLUMN(Banco!F$6)-1)","v":{"$error":"#NUM!"}},{"$f":"OFFSET(Cotações!$A$1,MATCH(COUNTIF($H$1:$H31,\"Cotações\"),Cotações!$J:$J,0)-1,COLUMN(Banco!F$6)-1)","v":{"$error":"#NUM!"}},"Cotações"]
["COTAÇÃO 0",{"$f":"OFFSET(Cotações!$A$1,MATCH(COUNTIF($H$1:$H32,\"Cotações\"),Cotações!$J:$J,0)-1,COLUMN(Banco!B$6)-1)","v":"COTAÇÃO"},{"$f":"OFFSET(Cotações!$A$1,MATCH(COUNTIF($H$1:$H32,\"Cotações\"),Cotações!$J:$J,0)-1,COLUMN(Banco!C$6)-1)","v":0},{"$f":"IF(COUNTIF(OFFSET(Banco!$A$6,1+NCOMPOSICOES,0,NCOTACOES),$A32)>1,\"CÓDIGO REPETIDO\",OFFSET(Cotações!$A$1,MATCH(COUNTIF($H$1:$H32,\"Cotações\"),Cotações!$J:$J,0)-1,COLUMN(Banco!D$6)-1))","v":"CÓDIGO REPETIDO"},{"$f":"OFFSET(Cotações!$A$1,MATCH(COUNTIF($H$1:$H32,\"Cotações\"),Cotações!$J:$J,0)-1,COLUMN(Banco!E$6)-1)","v":0},{"$f":"OFFSET(Cotações!$A$1,MATCH(COUNTIF($H$1:$H32,\"Cotações\"),Cotações!$J:$J,0)-1,COLUMN(Banco!F$6)-1)","v":{"$error":"#NUM!"}},{"$f":"OFFSET(Cotações!$A$1,MATCH(COUNTIF($H$1:$H32,\"Cotações\"),Cotações!$J:$J,0)-1,COLUMN(Banco!F$6)-1)","v":{"$error":"#NUM!"}},"Cotações"]
["COTAÇÃO 0",{"$f":"OFFSET(Cotações!$A$1,MATCH(COUNTIF($H$1:$H33,\"Cotações\"),Cotações!$J:$J,0)-1,COLUMN(Banco!B$6)-1)","v":"COTAÇÃO"},{"$f":"OFFSET(Cotações!$A$1,MATCH(COUNTIF($H$1:$H33,\"Cotações\"),Cotações!$J:$J,0)-1,COLUMN(Banco!C$6)-1)","v":0},{"$f":"IF(COUNTIF(OFFSET(Banco!$A$6,1+NCOMPOSICOES,0,NCOTACOES),$A33)>1,\"CÓDIGO REPETIDO\",OFFSET(Cotações!$A$1,MATCH(COUNTIF($H$1:$H33,\"Cotações\"),Cotações!$J:$J,0)-1,COLUMN(Banco!D$6)-1))","v":"CÓDIGO REPETIDO"},{"$f":"OFFSET(Cotações!$A$1,MATCH(COUNTIF($H$1:$H33,\"Cotações\"),Cotações!$J:$J,0)-1,COLUMN(Banco!E$6)-1)","v":0},{"$f":"OFFSET(Cotações!$A$1,MATCH(COUNTIF($H$1:$H33,\"Cotações\"),Cotações!$J:$J,0)-1,COLUMN(Banco!F$6)-1)","v":{"$error":"#NUM!"}},{"$f":"OFFSET(Cotações!$A$1,MATCH(COUNTIF($H$1:$H33,\"Cotações\"),Cotações!$J:$J,0)-1,COLUMN(Banco!F$6)-1)","v":{"$error":"#NUM!"}},"Cotações"]
["COTAÇÃO 0",{"$f":"OFFSET(Cotações!$A$1,MATCH(COUNTIF($H$1:$H34,\"Cotações\"),Cotações!$J:$J,0)-1,COLUMN(Banco!B$6)-1)","v":"COTAÇÃO"},{"$f":"OFFSET(Cotações!$A$1,MATCH(COUNTIF($H$1:$H34,\"Cotações\"),Cotações!$J:$J,0)-1,COLUMN(Banco!C$6)-1)","v":0},{"$f":"IF(COUNTIF(OFFSET(Banco!$A$6,1+NCOMPOSICOES,0,NCOTACOES),$A34)>1,\"CÓDIGO REPETIDO\",OFFSET(Cotações!$A$1,MATCH(COUNTIF($H$1:$H34,\"Cotações\"),Cotações!$J:$J,0)-1,COLUMN(Banco!D$6)-1))","v":"CÓDIGO REPETIDO"},{"$f":"OFFSET(Cotações!$A$1,MATCH(COUNTIF($H$1:$H34,\"Cotações\"),Cotações!$J:$J,0)-1,COLUMN(Banco!E$6)-1)","v":0},{"$f":"OFFSET(Cotações!$A$1,MATCH(COUNTIF($H$1:$H34,\"Cotações\"),Cotações!$J:$J,0)-1,COLUMN(Banco!F$6)-1)","v":{"$error":"#NUM!"}},{"$f":"OFFSET(Cotações!$A$1,MATCH(COUNTIF($H$1:$H34,\"Cotações\"),Cotações!$J:$J,0)-1,COLUMN(Banco!F$6)-1)","v":{"$error":"#NUM!"}},"Cotações"]
["COTAÇÃO 0",{"$f":"OFFSET(Cotações!$A$1,MATCH(COUNTIF($H$1:$H35,\"Cotações\"),Cotações!$J:$J,0)-1,COLUMN(Banco!B$6)-1)","v":"COTAÇÃO"},{"$f":"OFFSET(Cotações!$A$1,MATCH(COUNTIF($H$1:$H35,\"Cotações\"),Cotações!$J:$J,0)-1,COLUMN(Banco!C$6)-1)","v":0},{"$f":"IF(COUNTIF(OFFSET(Banco!$A$6,1+NCOMPOSICOES,0,NCOTACOES),$A35)>1,\"CÓDIGO REPETIDO\",OFFSET(Cotações!$A$1,MATCH(COUNTIF($H$1:$H35,\"Cotações\"),Cotações!$J:$J,0)-1,COLUMN(Banco!D$6)-1))","v":"CÓDIGO REPETIDO"},{"$f":"OFFSET(Cotações!$A$1,MATCH(COUNTIF($H$1:$H35,\"Cotações\"),Cotações!$J:$J,0)-1,COLUMN(Banco!E$6)-1)","v":0},{"$f":"OFFSET(Cotações!$A$1,MATCH(COUNTIF($H$1:$H35,\"Cotações\"),Cotações!$J:$J,0)-1,COLUMN(Banco!F$6)-1)","v":{"$error":"#NUM!"}},{"$f":"OFFSET(Cotações!$A$1,MATCH(COUNTIF($H$1:$H35,\"Cotações\"),Cotações!$J:$J,0)-1,COLUMN(Banco!F$6)-1)","v":{"$error":"#NUM!"}},"Cotações"]
["COTAÇÃO 0",{"$f":"OFFSET(Cotações!$A$1,MATCH(COUNTIF($H$1:$H36,\"Cotações\"),Cotações!$J:$J,0)-1,COLUMN(Banco!B$6)-1)","v":"COTAÇÃO"},{"$f":"OFFSET(Cotações!$A$1,MATCH(COUNTIF($H$1:$H36,\"Cotações\"),Cotações!$J:$J,0)-1,COLUMN(Banco!C$6)-1)","v":0},{"$f":"IF(COUNTIF(OFFSET(Banco!$A$6,1+NCOMPOSICOES,0,NCOTACOES),$A36)>1,\"CÓDIGO REPETIDO\",OFFSET(Cotações!$A$1,MATCH(COUNTIF($H$1:$H36,\"Cotações\"),Cotações!$J:$J,0)-1,COLUMN(Banco!D$6)-1))","v":"CÓDIGO REPETIDO"},{"$f":"OFFSET(Cotações!$A$1,MATCH(COUNTIF($H$1:$H36,\"Cotações\"),Cotações!$J:$J,0)-1,COLUMN(Banco!E$6)-1)","v":0},{"$f":"OFFSET(Cotações!$A$1,MATCH(COUNTIF($H$1:$H36,\"Cotações\"),Cotações!$J:$J,0)-1,COLUMN(Banco!F$6)-1)","v":{"$error":"#NUM!"}},{"$f":"OFFSET(Cotações!$A$1,MATCH(COUNTIF($H$1:$H36,\"Cotações\"),Cotações!$J:$J,0)-1,COLUMN(Banco!F$6)-1)","v":{"$error":"#NUM!"}},"Cotações"]
["COTAÇÃO 0",{"$f":"OFFSET(Cotações!$A$1,MATCH(COUNTIF($H$1:$H37,\"Cotações\"),Cotações!$J:$J,0)-1,COLUMN(Banco!B$6)-1)","v":"COTAÇÃO"},{"$f":"OFFSET(Cotações!$A$1,MATCH(COUNTIF($H$1:$H37,\"Cotações\"),Cotações!$J:$J,0)-1,COLUMN(Banco!C$6)-1)","v":0},{"$f":"IF(COUNTIF(OFFSET(Banco!$A$6,1+NCOMPOSICOES,0,NCOTACOES),$A37)>1,\"CÓDIGO REPETIDO\",OFFSET(Cotações!$A$1,MATCH(COUNTIF($H$1:$H37,\"Cotações\"),Cotações!$J:$J,0)-1,COLUMN(Banco!D$6)-1))","v":"CÓDIGO REPETIDO"},{"$f":"OFFSET(Cotações!$A$1,MATCH(COUNTIF($H$1:$H37,\"Cotações\"),Cotações!$J:$J,0)-1,COLUMN(Banco!E$6)-1)","v":0},{"$f":"OFFSET(Cotações!$A$1,MATCH(COUNTIF($H$1:$H37,\"Cotações\"),Cotações!$J:$J,0)-1,COLUMN(Banco!F$6)-1)","v":{"$error":"#NUM!"}},{"$f":"OFFSET(Cotações!$A$1,MATCH(COUNTIF($H$1:$H37,\"Cotações\"),Cotações!$J:$J,0)-1,COLUMN(Banco!F$6)-1)","v":{"$error":"#NUM!"}},"Cotações"]
[{"$f":"CONCATENAR","v":"SINAPI-I 38605"},"SINAPI-I",38605,"ABERTURA PARA ENCAIXE DE CUBA OU LAVATORIO EM BANCADA DE MARMORE/ GRANITO OU OUTRO TIPO DE PEDRA NATURAL                                                                                                                                                                                                                                                                                                                                                                                                  ","UN    ","150,51",null,"SINAPI-I -  ","CR"]
[{"$f":"CONCATENAR","v":"SINAPI-I 11270"},"SINAPI-I",11270,"ABRACADEIRA DE LATAO PARA FIXACAO DE CABO PARA-RAIO, DIMENSOES 32 X 24 X 24 MM                                                                                                                                                                                                                                                                                                                                                                                                                            ","UN    ","2,74",null,null,"AS"]
[{"$f":"CONCATENAR","v":"SINAPI-I 412"},"SINAPI-I",412,"ABRACADEIRA DE NYLON PARA AMARRACAO DE CABOS, COMPRIMENTO DE *230* X *7,6* MM                                                                                                                                                                                                                                                                                                                                                                                                                             ","UN    ","1,02",null,null,"CR"]
[{"$f":"CONCATENAR","v":"SINAPI-I 414"},"SINAPI-I",414,"ABRACADEIRA DE NYLON PARA AMARRACAO DE CABOS, COMPRIMENTO DE 100 X 2,5 MM                                                                                                                                                                                                                                                                                                                                                                                                                                 ","UN    ","0,06",null,null,"CR"]
[{"$f":"CONCATENAR","v":"SINAPI-I 410"},"SINAPI-I",410,"ABRACADEIRA DE NYLON PARA AMARRACAO DE CABOS, COMPRIMENTO DE 150 X *3,6* MM                                                                                                                                                                                                                                                                                                                                                                                                                               ","UN    ","0,15",null,null,"CR"]
[{"$f":"CONCATENAR","v":"SINAPI-I 411"},"SINAPI-I",411,"ABRACADEIRA DE NYLON PARA AMARRACAO DE CABOS, COMPRIMENTO DE 200 X *4,6* MM                                                                                                                                                                                                                                                                                                                                                                                                                               ","UN    ","0,20",null,null,"C "]
[{"$f":"CONCATENAR","v":"SINAPI-I 408"},"SINAPI-I",408,"ABRACADEIRA DE NYLON PARA AMARRACAO DE CABOS, COMPRIMENTO DE 390 X *4,6* MM                                                                                                                                                                                                                                                                                                                                                                                                                               ","UN    ","0,99",null,null,"CR"]
[{"$f":"CONCATENAR","v":"SINAPI-I 39131"},"SINAPI-I",39131,"ABRACADEIRA EM ACO PARA AMARRACAO DE ELETRODUTOS, TIPO D, COM 1 1/2\" E CUNHA DE FIXACAO                                                                                                                                                                                                                                                                                                                                                                                                                   ","UN    ","5,10",null,null,"CR"]
[{"$f":"CONCATENAR","v":"SINAPI-I 394"},"SINAPI-I",394,"ABRACADEIRA EM ACO PARA AMARRACAO DE ELETRODUTOS, TIPO D, COM 1 1/2\" E PARAFUSO DE FIXACAO                                                                                                                                                                                                                                                                                                                                                                                                                ","UN    ","5,17",null,null,"CR"]
[{"$f":"CONCATENAR","v":"SINAPI-I 39130"},"SINAPI-I",39130,"ABRACADEIRA EM ACO PARA AMARRACAO DE ELETRODUTOS, TIPO D, COM 1 1/4\" E CUNHA DE FIXACAO                                                                                                                                                                                                                                                                                                                                                                                                                   ","UN    ","4,65",null,null,"CR"]
[{"$f":"CONCATENAR","v":"SINAPI-I 395"},"SINAPI-I",395,"ABRACADEIRA EM ACO PARA AMARRACAO DE ELETRODUTOS, TIPO D, COM 1 1/4\" E PARAFUSO DE FIXACAO                                                                                                                                                                                                                                                                                                                                                                                                                ","UN    ","4,97",null,null,"CR"]
[{"$f":"CONCATENAR","v":"SINAPI-I 39127"},"SINAPI-I",39127,"ABRACADEIRA EM ACO PARA AMARRACAO DE ELETRODUTOS, TIPO D, COM 1/2\" E CUNHA DE FIXACAO                                                                                                                                                                                                                                                                                                                                                                                                                     ","UN    ","2,45",null,null,"CR"]
[{"$f":"CONCATENAR","v":"SINAPI-I 392"},"SINAPI-I",392,"ABRACADEIRA EM ACO PARA AMARRACAO DE ELETRODUTOS, TIPO D, COM 1/2\" E PARAFUSO DE FIXACAO                                                                                                                                                                                                                                                                                                                                                                                                                  ","UN    ","2,52",null,null,"CR"]
[{"$f":"CONCATENAR","v":"SINAPI-I 39129"},"SINAPI-I",39129,"ABRACADEIRA EM ACO PARA AMARRACAO DE ELETRODUTOS, TIPO D, COM 1\" E CUNHA DE FIXACAO                                                                                                                                                                                                                                                                                                                                                                                                                       ","UN    ","2,87",null,null,"CR"]
[{"$f":"CONCATENAR","v":"SINAPI-I 393"},"SINAPI-I",393,"ABRACADEIRA EM ACO PARA AMARRACAO DE ELETRODUTOS, TIPO D, COM 1\" E PARAFUSO DE FIXACAO                                                                                                                                                                                                                                                                                                                                                                                                                    ","UN    ","3,00",null,null,"C "]
[{"$f":"CONCATENAR","v":"SINAPI-I 39133"},"SINAPI-I",39133,"ABRACADEIRA EM ACO PARA AMARRACAO DE ELETRODUTOS, TIPO D, COM 2 1/2\" E CUNHA DE FIXACAO                                                                                                                                                                                                                                                                                                                                                                                                                   ","UN    ","6,70",null,null,"CR"]
[{"$f":"CONCATENAR","v":"SINAPI-I 397"},"SINAPI-I",397,"ABRACADEIRA EM ACO PARA AMARRACAO DE ELETRODUTOS, TIPO D, COM 2 1/2\" E PARAFUSO DE FIXACAO                                                                                                                                                                                                                                                                                                                                                                                                                ","UN    ","7,40",null,null,"CR"]
[{"$f":"CONCATENAR","v":"SINAPI-I 39132"},"SINAPI-I",39132,"ABRACADEIRA EM ACO PARA AMARRACAO DE ELETRODUTOS, TIPO D, COM 2\" E CUNHA DE FIXACAO                                                                                                                                                                                                                                                                                                                                                                                                                       ","UN    ","5,36",null,null,"CR"]
[{"$f":"CONCATENAR","v":"SINAPI-I 396"},"SINAPI-I",396,"ABRACADEIRA EM ACO PARA AMARRACAO DE ELETRODUTOS, TIPO D, COM 2\" E PARAFUSO DE FIXACAO                                                                                                                                                                                                                                                                                                                                                                                                                    ","UN    ","5,74",null,null,"CR"]
[{"$f":"CONCATENAR","v":"SINAPI-I 39135"},"SINAPI-I",39135,"ABRACADEIRA EM ACO PARA AMARRACAO DE ELETRODUTOS, TIPO D, COM 3 1/2\" E CUNHA DE FIXACAO                                                                                                                                                                                                                                                                                                                                                                                                                   ","UN    ","10,72",null,null,"CR"]
[{"$f":"CONCATENAR","v":"SINAPI-I 39128"},"SINAPI-I",39128,"ABRACADEIRA EM ACO PARA AMARRACAO DE ELETRODUTOS, TIPO D, COM 3/4\" E CUNHA DE FIXACAO                                                                                                                                                                                                                                                                                                                                                                                                                     ","UN    ","2,68",null,null,"CR"]
[{"$f":"CONCATENAR","v":"SINAPI-I 400"},"SINAPI-I",400,"ABRACADEIRA EM ACO PARA AMARRACAO DE ELETRODUTOS, TIPO D, COM 3/4\" E PARAFUSO DE FIXACAO                                                                                                                                                                                                                                                                                                                                                                                                                  ","UN    ","2,61",null,null,"CR"]
[{"$f":"CONCATENAR","v":"SINAPI-I 39125"},"SINAPI-I",39125,"ABRACADEIRA EM ACO PARA AMARRACAO DE ELETRODUTOS, TIPO D, COM 3/8\" E PARAFUSO DE FIXACAO                                                                                                                                                                                                                                                                                                                                                                                                                  ","UN    ","2,68",null,null,"CR"]
[{"$f":"CONCATENAR","v":"SINAPI-I 39134"},"SINAPI-I",39134,"ABRACADEIRA EM ACO PARA AMARRACAO DE ELETRODUTOS, TIPO D, COM 3\" E CUNHA DE FIXACAO                                                                                                                                                                                                                                                                                                                                                                                                                       ","UN    ","8,93",null,null,"CR"]
[{"$f":"CONCATENAR","v":"SINAPI-I 398"},"SINAPI-I",398,"ABRACADEIRA EM ACO PARA AMARRACAO DE ELETRODUTOS, TIPO D, COM 3\" E PARAFUSO DE FIXACAO                                                                                                                                                                                                                                                                                                                                                                                                                    ","UN    ","8,23",null,null,"CR"]
[{"$f":"CONCATENAR","v":"SINAPI-I 39126"},"SINAPI-I",39126,"ABRACADEIRA EM ACO PARA AMARRACAO DE ELETRODUTOS, TIPO D, COM 4\" E CUNHA DE FIXACAO                                                                                                                                                                                                                                                                                                                                                                                                                       ","UN    ","12,06",null,null,"CR"]
[{"$f":"CONCATENAR","v":"SINAPI-I 399"},"SINAPI-I",399,"ABRACADEIRA EM ACO PARA AMARRACAO DE ELETRODUTOS, TIPO D, COM 4\" E PARAFUSO DE FIXACAO                                                                                                                                                                                                                                                                                                                                                                                                                    ","UN    ","10,62",null,null,"CR"]
[{"$f":"CONCATENAR","v":"SINAPI-I 39158"},"SINAPI-I",39158,"ABRACADEIRA EM ACO PARA AMARRACAO DE ELETRODUTOS, TIPO ECONOMICA (GOTA), COM 8\"                                                                                                                                                                                                                                                                                                                                                                                                                           ","UN    ","28,53",null,null,"CR"]
[{"$f":"CONCATENAR","v":"SINAPI-I 39141"},"SINAPI-I",39141,"ABRACADEIRA EM ACO PARA AMARRACAO DE ELETRODUTOS, TIPO U SIMPLES, COM 1 1/2\"                                                                                                                                                                                                                                                                                                                                                                                                                              ","UN    ","2,07",null,null,"CR"]
[{"$f":"CONCATENAR","v":"SINAPI-I 39140"},"SINAPI-I",39140,"ABRACADEIRA EM ACO PARA AMARRACAO DE ELETRODUTOS, TIPO U SIMPLES, COM 1 1/4\"                                                                                                                                                                                                                                                                                                                                                                                                                              ","UN    ","1,88",null,null,"CR"]
[{"$f":"CONCATENAR","v":"SINAPI-I 39137"},"SINAPI-I",39137,"ABRACADEIRA EM ACO PARA AMARRACAO DE ELETRODUTOS, TIPO U SIMPLES, COM 1/2\"                                                                                                                                                                                                                                                                                                                                                                                                                                ","UN    ","1,08",null,null,"CR"]
[{"$f":"CONCATENAR","v":"SINAPI-I 39139"},"SINAPI-I",39139,"ABRACADEIRA EM ACO PARA AMARRACAO DE ELETRODUTOS, TIPO U SIMPLES, COM 1\"                                                                                                                                                                                                                                                                                                                                                                                                                                  ","UN    ","1,56",null,null,"CR"]
[{"$f":"CONCATENAR","v":"SINAPI-I 39143"},"SINAPI-I",39143,"ABRACADEIRA EM ACO PARA AMARRACAO DE ELETRODUTOS, TIPO U SIMPLES, COM 2 1/2\"                                                                                                                                                                                                                                                                                                                                                                                                                              ","UN    ","4,27",null,null,"CR"]
[{"$f":"CONCATENAR","v":"SINAPI-I 39142"},"SINAPI-I",39142,"ABRACADEIRA EM ACO PARA AMARRACAO DE ELETRODUTOS, TIPO U SIMPLES, COM 2\"                                                                                                                                                                                                                                                                                                                                                                                                                                  ","UN    ","3,06",null,null,"CR"]
[{"$f":"CONCATENAR","v":"SINAPI-I 39138"},"SINAPI-I",39138,"ABRACADEIRA EM ACO PARA AMARRACAO DE ELETRODUTOS, TIPO U SIMPLES, COM 3/4\"                                                                                                                                                                                                                                                                                                                                                                                                                                ","UN    ","1,14",null,null,"CR"]
[{"$f":"CONCATENAR","v":"SINAPI-I 39136"},"SINAPI-I",39136,"ABRACADEIRA EM ACO PARA AMARRACAO DE ELETRODUTOS, TIPO U SIMPLES, COM 3/8\"                                                                                                                                                                                                                                                                                                                                                                                                                                ","UN    ","0,76",null,null,"CR"]
[{"$f":"CONCATENAR","v":"SINAPI-I 39144"},"SINAPI-I",39144,"ABRACADEIRA EM ACO PARA AMARRACAO DE ELETRODUTOS, TIPO U SIMPLES, COM 3\"                                                                                                                                                                                                                                                                                                                                                                                                                                  ","UN    ","4,97",null,null,"CR"]
[{"$f":"CONCATENAR","v":"SINAPI-I 39145"},"SINAPI-I",39145,"ABRACADEIRA EM ACO PARA AMARRACAO DE ELETRODUTOS, TIPO U SIMPLES, COM 4\"                                                                                                                                                                                                                                                                                                                                                                                                                                  ","UN    ","8,20",null,null,"CR"]
[{"$f":"CONCATENAR","v":"SINAPI-I 12615"},"SINAPI-I",12615,"ABRACADEIRA PVC, PARA CALHA PLUVIAL, DIAMETRO ENTRE *80 E 100* MM, PARA DRENAGEM PLUVIAL PREDIAL                                                                                                                                                                                                                                                                                                                                                                                                          ","UN    ","13,21",null,null,"CR"]
[{"$f":"CONCATENAR","v":"SINAPI-I 11927"},"SINAPI-I",11927,"ABRACADEIRA, GALVANIZADA/ZINCADA, ROSCA SEM FIM, PARAFUSO INOX, LARGURA FITA *12,6 A *14 MM, D = 2\" A 2 1/2\"                                                                                                                                                                                                                                                                                                                                                                                              ","UN    ","8,20",null,null,"AS"]
[{"$f":"CONCATENAR","v":"SINAPI-I 11928"},"SINAPI-I",11928,"ABRACADEIRA, GALVANIZADA/ZINCADA, ROSCA SEM FIM, PARAFUSO INOX, LARGURA FITA *12,6 A *14 MM, D = 3\" A 3 3/4\"                                                                                                                                                                                                                                                                                                                                                                                              ","UN    ","9,39",null,null,"AS"]
[{"$f":"CONCATENAR","v":"SINAPI-I 11929"},"SINAPI-I",11929,"ABRACADEIRA, GALVANIZADA/ZINCADA, ROSCA SEM FIM, PARAFUSO INOX, LARGURA FITA *12,6 A *14 MM, D = 4\" A 4 3/4\"                                                                                                                                                                                                                                                                                                                                                                                              ","UN    ","14,53",null,null,"AS"]
[{"$f":"CONCATENAR","v":"SINAPI-I 36801"},"SINAPI-I",36801,"ACABAMENTO DE METAL CROMADO PARA REGISTRO PEQUENO, DE PAREDE, 1/2\" OU 3/4\"                                                                                                                                                                                                                                                                                                                                                                                                                                ","UN    ","55,62",null,null,"CR"]
[{"$f":"CONCATENAR","v":"SINAPI-I 36246"},"SINAPI-I",36246,"ACABAMENTO SIMPLES/CONVENCIONAL PARA FORRO PVC, TIPO \"U\" OU \"C\", COR BRANCA, COMPRIMENTO 6 M                                                                                                                                                                                                                                                                                                                                                                                                              ","M     ","5,64",null,null,"CR"]
[{"$f":"CONCATENAR","v":"SINAPI-I 37600"},"SINAPI-I",37600,"ACESSORIO DE LIGACAO NAO ELETRICO PARA CARGAS EXPLOSIVAS, TUBO DE 6 M                                                                                                                                                                                                                                                                                                                                                                                                                                     ","UN    ","104,86",null,null,"AS"]
[{"$f":"CONCATENAR","v":"SINAPI-I 37599"},"SINAPI-I",37599,"ACESSORIO INICIADOR NAO ELETRICO, TUBO DE 6 M, TEMPO DE RETARDO DE *160* MS                                                                                                                                                                                                                                                                                                                                                                                                                               ","UN    ","97,60",null,null,"AS"]
[{"$f":"CONCATENAR","v":"SINAPI-I 1"},"SINAPI-I",1,"ACETILENO (RECARGA DE GAS ACETILENO PARA CILINDRO DE CONJUNTO OXICORTE GRANDE) NAO INCLUI TROCA/MANUTENCAO DO CILINDRO                                                                                                                                                                                                                                                                                                                                                                                    ","KG    ","92,50",null,null,"C "]
[{"$f":"CONCATENAR","v":"SINAPI-I 3"},"SINAPI-I",3,"ACIDO CLORIDRICO / ACIDO MURIATICO, DILUICAO 10% A 12% PARA USO EM LIMPEZA                                                                                                                                                                                                                                                                                                                                                                                                                                ","L     ","18,47",null,null,"CR"]
[{"$f":"CONCATENAR","v":"SINAPI-I 43054"},"SINAPI-I",43054,"ACO CA-25, 10,0 MM, OU 12,5 MM, OU 16,0 MM, OU 20,0 MM, OU 25,0 MM, VERGALHAO                                                                                                                                                                                                                                                                                                                                                                                                                             ","KG    ","9,23",null,null,"CR"]
[{"$f":"CONCATENAR","v":"SINAPI-I 42402"},"SINAPI-I",42402,"ACO CA-25, 16,0 MM, BARRA DE TRANSFERENCIA                                                                                                                                                                                                                                                                                                                                                                                                                                                                ","KG    ","8,82",null,null,"CR"]
[{"$f":"CONCATENAR","v":"SINAPI-I 42403"},"SINAPI-I",42403,"ACO CA-25, 20,0 MM, BARRA DE TRANSFERENCIA                                                                                                                                                                                                                                                                                                                                                                                                                                                                ","KG    ","11,31",null,null,"CR"]
[{"$f":"CONCATENAR","v":"SINAPI-I 42404"},"SINAPI-I",42404,"ACO CA-25, 25,0 MM, BARRA DE TRANSFERENCIA                                                                                                                                                                                                                                                                                                                                                                                                                                                                ","KG    ","11,25",null,null,"CR"]
[{"$f":"CONCATENAR","v":"SINAPI-I 42405"},"SINAPI-I",42405,"ACO CA-25, 32,0 MM, BARRA DE TRANSFERENCIA                                                                                                                                                                                                                                                                                                                                                                                                                                                                ","KG    ","11,98",null,null,"CR"]
[{"$f":"CONCATENAR","v":"SINAPI-I 34341"},"SINAPI-I",34341,"ACO CA-25, 32,0 MM, VERGALHAO                                                                                                                                                                                                                                                                                                                                                                                                                                                                             ","KG    ","10,40",null,null,"CR"]
[{"$f":"CONCATENAR","v":"SINAPI-I 43053"},"SINAPI-I",43053,"ACO CA-25, 6,3 MM OU 8,0 MM, VERGALHAO                                                                                                                                                                                                                                                                                                                                                                                                                                                                    ","KG    ","8,24",null,null,"CR"]
[{"$f":"CONCATENAR","v":"SINAPI-I 43058"},"SINAPI-I",43058,"ACO CA-50, 10,0 MM, OU 12,5 MM, OU 16,0 MM, OU 20,0 MM, DOBRADO E CORTADO                                                                                                                                                                                                                                                                                                                                                                                                                                 ","KG    ","8,55",null,null,"CR"]
[{"$f":"CONCATENAR","v":"SINAPI-I 34"},"SINAPI-I",34,"ACO CA-50, 10,0 MM, VERGALHAO                                                                                                                                                                                                                                                                                                                                                                                                                                                                             ","KG    ","8,59",null,null,"CR"]
[{"$f":"CONCATENAR","v":"SINAPI-I 43055"},"SINAPI-I",43055,"ACO CA-50, 12,5 MM OU 16,0 MM, VERGALHAO                                                                                                                                                                                                                                                                                                                                                                                                                                                                  ","KG    ","7,44",null,null,"C "]
[{"$f":"CONCATENAR","v":"SINAPI-I 43056"},"SINAPI-I",43056,"ACO CA-50, 20,0 MM OU 25,0 MM, VERGALHAO                                                                                                                                                                                                                                                                                                                                                                                                                                                                  ","KG    ","8,58",null,null,"CR"]
[{"$f":"CONCATENAR","v":"SINAPI-I 43057"},"SINAPI-I",43057,"ACO CA-50, 32,0 MM, VERGALHAO                                                                                                                                                                                                                                                                                                                                                                                                                                                                             ","KG    ","9,43",null,null,"CR"]
[{"$f":"CONCATENAR","v":"SINAPI-I 34449"},"SINAPI-I",34449,"ACO CA-50, 6,3 MM, DOBRADO E CORTADO                                                                                                                                                                                                                                                                                                                                                                                                                                                                      ","KG    ","10,08",null,null,"CR"]
[{"$f":"CONCATENAR","v":"SINAPI-I 32"},"SINAPI-I",32,"ACO CA-50, 6,3 MM, VERGALHAO                                                                                                                                                                                                                                                                                                                                                                                                                                                                              ","KG    ","9,06",null,null,"CR"]
[{"$f":"CONCATENAR","v":"SINAPI-I 33"},"SINAPI-I",33,"ACO CA-50, 8,0 MM, VERGALHAO                                                                                                                                                                                                                                                                                                                                                                                                                                                                              ","KG    ","9,11",null,null,"CR"]
[{"$f":"CONCATENAR","v":"SINAPI-I 43061"},"SINAPI-I",43061,"ACO CA-60, 4,2 MM OU 5,0 MM, DOBRADO E CORTADO                                                                                                                                                                                                                                                                                                                                                                                                                                                            ","KG    ","8,51",null,null,"CR"]
[{"$f":"CONCATENAR","v":"SINAPI-I 43059"},"SINAPI-I",43059,"ACO CA-60, 4,2 MM, OU 5,0 MM, OU 6,0 MM, OU 7,0 MM, VERGALHAO                                                                                                                                                                                                                                                                                                                                                                                                                                             ","KG    ","8,13",null,null,"CR"]
[{"$f":"CONCATENAR","v":"SINAPI-I 43062"},"SINAPI-I",43062,"ACO CA-60, 6,0 MM OU 7,0 MM, DOBRADO E CORTADO                                                                                                                                                                                                                                                                                                                                                                                                                                                            ","KG    ","9,01",null,null,"CR"]
[{"$f":"CONCATENAR","v":"SINAPI-I 43060"},"SINAPI-I",43060,"ACO CA-60, 8,0 MM OU 9,5 MM, VERGALHAO                                                                                                                                                                                                                                                                                                                                                                                                                                                                    ","KG    ","7,08",null,null,"CR"]
[{"$f":"CONCATENAR","v":"SINAPI-I 40410"},"SINAPI-I",40410,"ACOPLAMENTO RIGIDO EM FERRO FUNDIDO PARA SISTEMA DE TUBULACAO RANHURADA, DN 50 MM (2\")                                                                                                                                                                                                                                                                                                                                                                                                                    ","UN    ","19,19",null,null,"AS"]
[{"$f":"CONCATENAR","v":"SINAPI-I 40411"},"SINAPI-I",40411,"ACOPLAMENTO RIGIDO EM FERRO FUNDIDO PARA SISTEMA DE TUBULACAO RANHURADA, DN 65 MM (2 1/2\")                                                                                                                                                                                                                                                                                                                                                                                                                ","UN    ","20,82",null,null,"AS"]
[{"$f":"CONCATENAR","v":"SINAPI-I 40412"},"SINAPI-I",40412,"ACOPLAMENTO RIGIDO EM FERRO FUNDIDO PARA SISTEMA DE TUBULACAO RANHURADA, DN 80 MM (3\")                                                                                                                                                                                                                                                                                                                                                                                                                    ","UN    ","23,37",null,null,"AS"]
[{"$f":"CONCATENAR","v":"SINAPI-I 44254"},"SINAPI-I",44254,"ADAPTADOR CPVC, ROSCAVEL, COM FLANGES E ANEL DE VEDACAO, 15 MM, CAIXA D'AGUA PARA AGUA QUENTE                                                                                                                                                                                                                                                                                                                                                                                                             ","UN    ","28,32",null,null,"CR"]
[{"$f":"CONCATENAR","v":"SINAPI-I 44255"},"SINAPI-I",44255,"ADAPTADOR CPVC, ROSCAVEL, COM FLANGES E ANEL DE VEDACAO, 22 MM, CAIXA D'AGUA PARA AGUA QUENTE                                                                                                                                                                                                                                                                                                                                                                                                             ","UN    ","31,39",null,null,"CR"]
[{"$f":"CONCATENAR","v":"SINAPI-I 44256"},"SINAPI-I",44256,"ADAPTADOR CPVC, ROSCAVEL, COM FLANGES E ANEL DE VEDACAO, 28 MM, CAIXA D'AGUA PARA AGUA QUENTE                                                                                                                                                                                                                                                                                                                                                                                                             ","UN    ","35,46",null,null,"CR"]
[{"$f":"CONCATENAR","v":"SINAPI-I 44257"},"SINAPI-I",44257,"ADAPTADOR CPVC, ROSCAVEL, COM FLANGES E ANEL DE VEDACAO, 35 MM, CAIXA D'AGUA PARA AGUA QUENTE                                                                                                                                                                                                                                                                                                                                                                                                             ","UN    ","56,09",null,null,"CR"]
[{"$f":"CONCATENAR","v":"SINAPI-I 44258"},"SINAPI-I",44258,"ADAPTADOR CPVC, ROSCAVEL, COM FLANGES E ANEL DE VEDACAO, 42 MM, CAIXA D'AGUA PARA AGUA QUENTE                                                                                                                                                                                                                                                                                                                                                                                                             ","UN    ","64,11",null,null,"CR"]
[{"$f":"CONCATENAR","v":"SINAPI-I 44259"},"SINAPI-I",44259,"ADAPTADOR CPVC, ROSCAVEL, COM FLANGES E ANEL DE VEDACAO, 54 MM, CAIXA D'AGUA PARA AGUA QUENTE                                                                                                                                                                                                                                                                                                                                                                                                             ","UN    ","87,99",null,null,"CR"]
[{"$f":"CONCATENAR","v":"SINAPI-I 37997"},"SINAPI-I",37997,"ADAPTADOR CPVC, SOLDAVEL, 15 MM, PARA AGUA QUENTE                                                                                                                                                                                                                                                                                                                                                                                                                                                         ","UN    ","16,88",null,null,"CR"]
[{"$f":"CONCATENAR","v":"SINAPI-I 37998"},"SINAPI-I",37998,"ADAPTADOR CPVC, SOLDAVEL, 22 MM, PARA AGUA QUENTE                                                                                                                                                                                                                                                                                                                                                                                                                                                         ","UN    ","22,59",null,null,"CR"]
[{"$f":"CONCATENAR","v":"SINAPI-I 55"},"SINAPI-I",55,"ADAPTADOR DE COMPRESSAO EM POLIPROPILENO (PP), PARA TUBO EM PEAD, 20 MM X 1/2\", PARA LIGACAO PREDIAL DE AGUA (NTS 179)                                                                                                                                                                                                                                                                                                                                                                                    ","UN    ","5,86",null,null,"C "]
[{"$f":"CONCATENAR","v":"SINAPI-I 61"},"SINAPI-I",61,"ADAPTADOR DE COMPRESSAO EM POLIPROPILENO (PP), PARA TUBO EM PEAD, 20 MM X 3/4\", PARA LIGACAO PREDIAL DE AGUA (NTS 179)                                                                                                                                                                                                                                                                                                                                                                                    ","UN    ","5,54",null,null,"CR"]
[{"$f":"CONCATENAR","v":"SINAPI-I 62"},"SINAPI-I",62,"ADAPTADOR DE COMPRESSAO EM POLIPROPILENO (PP), PARA TUBO EM PEAD, 32 MM X 1\", PARA LIGACAO PREDIAL DE AGUA (NTS 179)                                                                                                                                                                                                                                                                                                                                                                                      ","UN    ","11,48",null,null,"CR"]
[{"$f":"CONCATENAR","v":"SINAPI-I 10899"},"SINAPI-I",10899,"ADAPTADOR EM LATAO, ENGATE RAPIDO 2 1/2\" X ROSCA INTERNA 5 FIOS 2 1/2\", PARA INSTALACAO PREDIAL DE COMBATE A INCENDIO                                                                                                                                                                                                                                                                                                                                                                                     ","UN    ","77,91",null,null,"CR"]
[{"$f":"CONCATENAR","v":"SINAPI-I 10900"},"SINAPI-I",10900,"ADAPTADOR EM LATAO, ENGATE RAPIDO1 1/2\" X ROSCA INTERNA 5 FIOS 2 1/2\", PARA INSTALACAO PREDIAL DE COMBATE A INCENDIO                                                                                                                                                                                                                                                                                                                                                                                      ","UN    ","60,97",null,null,"CR"]
[{"$f":"CONCATENAR","v":"SINAPI-I 47"},"SINAPI-I",47,"ADAPTADOR PVC PBA, BOLSA/ROSCA, JE, DN 100 / DE 110 MM                                                                                                                                                                                                                                                                                                                                                                                                                                                    ","UN    ","60,45",null,null,"AS"]
[{"$f":"CONCATENAR","v":"SINAPI-I 48"},"SINAPI-I",48,"ADAPTADOR PVC PBA, BOLSA/ROSCA, JE, DN 50 / DE 60 MM                                                                                                                                                                                                                                                                                                                                                                                                                                                      ","UN    ","15,77",null,null,"AS"]
[{"$f":"CONCATENAR","v":"SINAPI-I 46"},"SINAPI-I",46,"ADAPTADOR PVC PBA, BOLSA/ROSCA, JE, DN 75 / DE 85 MM                                                                                                                                                                                                                                                                                                                                                                                                                                                      ","UN    ","35,35",null,null,"AS"]
[{"$f":"CONCATENAR","v":"SINAPI-I 52"},"SINAPI-I",52,"ADAPTADOR PVC PBA, PONTA/ROSCA, JE, DN 50 / DE 60 MM                                                                                                                                                                                                                                                                                                                                                                                                                                                      ","UN    ","11,98",null,null,"AS"]
[{"$f":"CONCATENAR","v":"SINAPI-I 43"},"SINAPI-I",43,"ADAPTADOR PVC PBA, PONTA/ROSCA, JE, DN 75 / DE 85 MM                                                                                                                                                                                                                                                                                                                                                                                                                                                      ","UN    ","40,43",null,null,"AS"]
[{"$f":"CONCATENAR","v":"SINAPI-I 103"},"SINAPI-I",103,"ADAPTADOR PVC SOLDAVEL CURTO COM BOLSA E ROSCA, 110 MM X 4\", PARA AGUA FRIA                                                                                                                                                                                                                                                                                                                                                                                                                               ","UN    ","45,31",null,null,"CR"]
[{"$f":"CONCATENAR","v":"SINAPI-I 107"},"SINAPI-I",107,"ADAPTADOR PVC SOLDAVEL CURTO COM BOLSA E ROSCA, 20 MM X 1/2\", PARA AGUA FRIA                                                                                                                                                                                                                                                                                                                                                                                                                              ","UN    ","0,85",null,null,"CR"]
[{"$f":"CONCATENAR","v":"SINAPI-I 65"},"SINAPI-I",65,"ADAPTADOR PVC SOLDAVEL CURTO COM BOLSA E ROSCA, 25 MM X 3/4\", PARA AGUA FRIA                                                                                                                                                                                                                                                                                                                                                                                                                              ","UN    ","0,93",null,null,"CR"]
[{"$f":"CONCATENAR","v":"SINAPI-I 108"},"SINAPI-I",108,"ADAPTADOR PVC SOLDAVEL CURTO COM BOLSA E ROSCA, 32 MM X 1\", PARA AGUA FRIA                                                                                                                                                                                                                                                                                                                                                                                                                                ","UN    ","1,88",null,null,"CR"]
[{"$f":"CONCATENAR","v":"SINAPI-I 110"},"SINAPI-I",110,"ADAPTADOR PVC SOLDAVEL CURTO COM BOLSA E ROSCA, 40 MM X 1 1/2\", PARA AGUA FRIA                                                                                                                                                                                                                                                                                                                                                                                                                            ","UN    ","6,52",null,null,"CR"]
[{"$f":"CONCATENAR","v":"SINAPI-I 109"},"SINAPI-I",109,"ADAPTADOR PVC SOLDAVEL CURTO COM BOLSA E ROSCA, 40 MM X 1 1/4\", PARA AGUA FRIA                                                                                                                                                                                                                                                                                                                                                                                                                            ","UN    ","3,88",null,null,"CR"]
[{"$f":"CONCATENAR","v":"SINAPI-I 111"},"SINAPI-I",111,"ADAPTADOR PVC SOLDAVEL CURTO COM BOLSA E ROSCA, 50 MM X 1 1/4\", PARA AGUA FRIA                                                                                                                                                                                                                                                                                                                                                                                                                            ","UN    ","8,82",null,null,"CR"]
[{"$f":"CONCATENAR","v":"SINAPI-I 112"},"SINAPI-I",112,"ADAPTADOR PVC SOLDAVEL CURTO COM BOLSA E ROSCA, 50 MM X1 1/2\", PARA AGUA FRIA                                                                                                                                                                                                                                                                                                                                                                                                                             ","UN    ","4,67",null,null,"CR"]
[{"$f":"CONCATENAR","v":"SINAPI-I 113"},"SINAPI-I",113,"ADAPTADOR PVC SOLDAVEL CURTO COM BOLSA E ROSCA, 60 MM X 2\", PARA AGUA FRIA                                                                                                                                                                                                                                                                                                                                                                                                                                ","UN    ","11,70",null,null,"CR"]
[{"$f":"CONCATENAR","v":"SINAPI-I 104"},"SINAPI-I",104,"ADAPTADOR PVC SOLDAVEL CURTO COM BOLSA E ROSCA, 75 MM X 2 1/2\", PARA AGUA FRIA                                                                                                                                                                                                                                                                                                                                                                                                                            ","UN    ","20,36",null,null,"CR"]
[{"$f":"CONCATENAR","v":"SINAPI-I 102"},"SINAPI-I",102,"ADAPTADOR PVC SOLDAVEL CURTO COM BOLSA E ROSCA, 85 MM X 3\", PARA AGUA FRIA                                                                                                                                                                                                                                                                                                                                                                                                                                ","UN    ","28,07",null,null,"CR"]
[{"$f":"CONCATENAR","v":"SINAPI-I 95"},"SINAPI-I",95,"ADAPTADOR PVC SOLDAVEL, COM FLANGE E ANEL DE VEDACAO, 20 MM X 1/2\", PARA CAIXA D'AGUA                                                                                                                                                                                                                                                                                                                                                                                                                     ","UN    ","11,86",null,null,"CR"]
[{"$f":"CONCATENAR","v":"SINAPI-I 96"},"SINAPI-I",96,"ADAPTADOR PVC SOLDAVEL, COM FLANGE E ANEL DE VEDACAO, 25 MM X 3/4\", PARA CAIXA D'AGUA                                                                                                                                                                                                                                                                                                                                                                                                                     ","UN    ","12,90",null,null,"CR"]
[{"$f":"CONCATENAR","v":"SINAPI-I 97"},"SINAPI-I",97,"ADAPTADOR PVC SOLDAVEL, COM FLANGE E ANEL DE VEDACAO, 32 MM X 1\", PARA CAIXA D'AGUA                                                                                                                                                                                                                                                                                                                                                                                                                       ","UN    ","19,41",null,null,"CR"]
[{"$f":"CONCATENAR","v":"SINAPI-I 98"},"SINAPI-I",98,"ADAPTADOR PVC SOLDAVEL, COM FLANGE E ANEL DE VEDACAO, 40 MM X 1 1/4\", PARA CAIXA D'AGUA                                                                                                                                                                                                                                                                                                                                                                                                                   ","UN    ","29,06",null,null,"CR"]
[{"$f":"CONCATENAR","v":"SINAPI-I 99"},"SINAPI-I",99,"ADAPTADOR PVC SOLDAVEL, COM FLANGE E ANEL DE VEDACAO, 50 MM X 1 1/2\", PARA CAIXA D'AGUA                                                                                                                                                                                                                                                                                                                                                                                                                   ","UN    ","27,47",null,null,"CR"]
[{"$f":"CONCATENAR","v":"SINAPI-I 60"},"SINAPI-I",60,"ADAPTADOR PVC, COM REGISTRO, PARA PEAD, 20 MM X 3/4\", PARA LIGACAO PREDIAL DE AGUA                                                                                                                                                                                                                                                                                                                                                                                                                        ","UN    ","7,60",null,null,"CR"]
[{"$f":"CONCATENAR","v":"SINAPI-I 72"},"SINAPI-I",72,"ADAPTADOR PVC, ROSCAVEL, COM FLANGES E ANEL DE VEDACAO, 1 1/2\", PARA CAIXA D'AGUA                                                                                                                                                                                                                                                                                                                                                                                                                         ","UN    ","52,68",null,null,"CR"]
[{"$f":"CONCATENAR","v":"SINAPI-I 67"},"SINAPI-I",67,"ADAPTADOR PVC, ROSCAVEL, COM FLANGES E ANEL DE VEDACAO, 1/2\", PARA CAIXA D'AGUA                                                                                                                                                                                                                                                                                                                                                                                                                           ","UN    ","17,03",null,null,"CR"]
[{"$f":"CONCATENAR","v":"SINAPI-I 71"},"SINAPI-I",71,"ADAPTADOR PVC, ROSCAVEL, COM FLANGES E ANEL DE VEDACAO, 1\", PARA CAIXA D'AGUA                                                                                                                                                                                                                                                                                                                                                                                                                             ","UN    ","32,53",null,null,"CR"]
[{"$f":"CONCATENAR","v":"SINAPI-I 73"},"SINAPI-I",73,"ADAPTADOR PVC, ROSCAVEL, COM FLANGES E ANEL DE VEDACAO, 3/4\", PARA CAIXA D'AGUA                                                                                                                                                                                                                                                                                                                                                                                                                           ","UN    ","16,30",null,null,"CR"]
[{"$f":"CONCATENAR","v":"SINAPI-I 100"},"SINAPI-I",100,"ADAPTADOR PVC, SOLDAVEL, COM FLANGES E ANEL DE VEDACAO, 60 MM X 2\", PARA CAIXA D'AGUA                                                                                                                                                                                                                                                                                                                                                                                                                     ","UN    ","47,99",null,null,"CR"]
[{"$f":"CONCATENAR","v":"SINAPI-I 75"},"SINAPI-I",75,"ADAPTADOR PVC, SOLDAVEL, COM FLANGES LIVRES, 110 MM X 4\", PARA CAIXA D'AGUA                                                                                                                                                                                                                                                                                                                                                                                                                               ","UN    ","279,79",null,null,"CR"]
[{"$f":"CONCATENAR","v":"SINAPI-I 83"},"SINAPI-I",83,"ADAPTADOR PVC, SOLDAVEL, COM FLANGES LIVRES, 75 MM X 2 1/2\", PARA CAIXA D'AGUA                                                                                                                                                                                                                                                                                                                                                                                                                            ","UN    ","223,69",null,null,"CR"]
[{"$f":"CONCATENAR","v":"SINAPI-I 74"},"SINAPI-I",74,"ADAPTADOR PVC, SOLDAVEL, COM FLANGES LIVRES, 85 MM X 3\", PARA CAIXA D'AGUA                                                                                                                                                                                                                                                                                                                                                                                                                                ","UN    ","319,81",null,null,"CR"]
[{"$f":"CONCATENAR","v":"SINAPI-I 106"},"SINAPI-I",106,"ADAPTADOR PVC, SOLDAVEL, LONGO, COM FLANGE LIVRE, 110 MM X 4\", PARA CAIXA D'AGUA                                                                                                                                                                                                                                                                                                                                                                                                                          ","UN    ","404,41",null,null,"CR"]
[{"$f":"CONCATENAR","v":"SINAPI-I 88"},"SINAPI-I",88,"ADAPTADOR PVC, SOLDAVEL, LONGO, COM FLANGE LIVRE, 32 MM X 1\", PARA CAIXA D'AGUA                                                                                                                                                                                                                                                                                                                                                                                                                           ","UN    ","11,36",null,null,"CR"]
[{"$f":"CONCATENAR","v":"SINAPI-I 82"},"SINAPI-I",82,"ADAPTADOR PVC, SOLDAVEL, LONGO, COM FLANGE LIVRE, 75 MM X 2 1/2\", PARA CAIXA D'AGUA                                                                                                                                                                                                                                                                                                                                                                                                                       ","UN    ","212,82",null,null,"CR"]
[{"$f":"CONCATENAR","v":"SINAPI-I 105"},"SINAPI-I",105,"ADAPTADOR PVC, SOLDAVEL, LONGO, COM FLANGE LIVRE, 85 MM X 3\", PARA CAIXA D'AGUA                                                                                                                                                                                                                                                                                                                                                                                                                           ","UN    ","301,56",null,null,"CR"]
[{"$f":"CONCATENAR","v":"SINAPI-I 39719"},"SINAPI-I",39719,"ADESIVO / COLA DE CONTATO LIQUIDO, A BASE DE RESINAS, PARA COLAGEM DE ESPUMA PARA ISOLAMENTO TERMICO FLEXIVEL                                                                                                                                                                                                                                                                                                                                                                                             ","L     ","187,14",null,null,"CR"]
[{"$f":"CONCATENAR","v":"SINAPI-I 3410"},"SINAPI-I",3410,"ADESIVO / COLA PARA EPS (ISOPOR) E OUTROS MATERIAIS                                                                                                                                                                                                                                                                                                                                                                                                                                                       ","KG    ","42,09",null,null,"CR"]
[{"$f":"CONCATENAR","v":"SINAPI-I 4791"},"SINAPI-I",4791,"ADESIVO ACRILICO DE BASE AQUOSA / COLA DE CONTATO                                                                                                                                                                                                                                                                                                                                                                                                                                                         ","KG    ","33,52",null,null,"CR"]
[{"$f":"CONCATENAR","v":"SINAPI-I 157"},"SINAPI-I",157,"ADESIVO ESTRUTURAL A BASE DE RESINA EPOXI PARA INJECAO EM TRINCAS, BICOMPONENTE, BAIXA VISCOSIDADE                                                                                                                                                                                                                                                                                                                                                                                                        ","KG    ","158,41",null,null,"CR"]
[{"$f":"CONCATENAR","v":"SINAPI-I 156"},"SINAPI-I",156,"ADESIVO ESTRUTURAL A BASE DE RESINA EPOXI, BICOMPONENTE, FLUIDO                                                                                                                                                                                                                                                                                                                                                                                                                                           ","KG    ","56,40",null,null,"CR"]
[{"$f":"CONCATENAR","v":"SINAPI-I 131"},"SINAPI-I",131,"ADESIVO ESTRUTURAL A BASE DE RESINA EPOXI, BICOMPONENTE, PASTOSO (TIXOTROPICO)                                                                                                                                                                                                                                                                                                                                                                                                                            ","KG    ","48,23",null,null,"CR"]
[{"$f":"CONCATENAR","v":"SINAPI-I 21114"},"SINAPI-I",21114,"ADESIVO PARA TUBOS CPVC, *75* G                                                                                                                                                                                                                                                                                                                                                                                                                                                                           ","UN    ","36,89",null,null,"CR"]
[{"$f":"CONCATENAR","v":"SINAPI-I 119"},"SINAPI-I",119,"ADESIVO PLASTICO PARA PVC, BISNAGA COM 75 GR                                                                                                                                                                                                                                                                                                                                                                                                                                                              ","UN    ","9,35",null,null,"C "]
[{"$f":"CONCATENAR","v":"SINAPI-I 122"},"SINAPI-I",122,"ADESIVO PLASTICO PARA PVC, FRASCO COM *850* GR                                                                                                                                                                                                                                                                                                                                                                                                                                                            ","UN    ","71,94",null,null,"CR"]
[{"$f":"CONCATENAR","v":"SINAPI-I 20080"},"SINAPI-I",20080,"ADESIVO PLASTICO PARA PVC, FRASCO COM 175 GR                                                                                                                                                                                                                                                                                                                                                                                                                                                              ","UN    ","23,48",null,null,"CR"]
[{"$f":"CONCATENAR","v":"SINAPI-I 124"},"SINAPI-I",124,"ADITIVO ACELERADOR DE PEGA E ENDURECIMENTO PARA ARGAMASSAS E CONCRETOS, LIQUIDO E ISENTO DE CLORETOS                                                                                                                                                                                                                                                                                                                                                                                                      ","L     ","18,60",null,null,"CR"]
[{"$f":"CONCATENAR","v":"SINAPI-I 7334"},"SINAPI-I",7334,"ADITIVO ADESIVO LIQUIDO PARA ARGAMASSAS DE REVESTIMENTOS CIMENTICIOS                                                                                                                                                                                                                                                                                                                                                                                                                                      ","L     ","18,67",null,null,"CR"]
[{"$f":"CONCATENAR","v":"SINAPI-I 45146"},"SINAPI-I",45146,"ADITIVO IMPERMEABILIZANTE CRISTALIZANTE PARA CONCRETO                                                                                                                                                                                                                                                                                                                                                                                                                                                     ","KG    ","35,67",null,null,"CR"]
[{"$f":"CONCATENAR","v":"SINAPI-I 123"},"SINAPI-I",123,"ADITIVO IMPERMEABILIZANTE DE PEGA NORMAL PARA ARGAMASSAS E CONCRETOS SEM ARMACAO, LIQUIDO E ISENTO DE CLORETOS                                                                                                                                                                                                                                                                                                                                                                                            ","L     ","7,61",null,null,"C "]
[{"$f":"CONCATENAR","v":"SINAPI-I 127"},"SINAPI-I",127,"ADITIVO IMPERMEABILIZANTE DE PEGA ULTRARRAPIDA, LIQUIDO E ISENTO DE CLORETOS                                                                                                                                                                                                                                                                                                                                                                                                                              ","L     ","18,17",null,null,"CR"]
[{"$f":"CONCATENAR","v":"SINAPI-I 133"},"SINAPI-I",133,"ADITIVO LIQUIDO INCORPORADOR DE AR PARA CONCRETO E ARGAMASSA, LIQUIDO E ISENTO DE CLORETOS                                                                                                                                                                                                                                                                                                                                                                                                                ","L     ","7,54",null,null,"CR"]
[{"$f":"CONCATENAR","v":"SINAPI-I 43617"},"SINAPI-I",43617,"ADITIVO PLASTIFICANTE E ESTABILIZADOR PARA ARGAMASSAS DE ASSENTAMENTO E REBOCO, LIQUIDO E ISENTO DE CLORETOS                                                                                                                                                                                                                                                                                                                                                                                              ","L     ","8,43",null,null,"CR"]
[{"$f":"CONCATENAR","v":"SINAPI-I 132"},"SINAPI-I",132,"ADITIVO PLASTIFICANTE RETARDADOR DE PEGA E REDUTOR DE AGUA PARA CONCRETO, LIQUIDO E ISENTO DE CLORETOS                                                                                                                                                                                                                                                                                                                                                                                                    ","L     ","7,82",null,null,"CR"]
[{"$f":"CONCATENAR","v":"SINAPI-I 43618"},"SINAPI-I",43618,"ADITIVO SUPERPLASTIFICANTE DE PEGA NORMAL PARA CONCRETO, LIQUIDO E ISENTO DE CLORETOS                                                                                                                                                                                                                                                                                                                                                                                                                     ","KG    ","19,69",null,null,"CR"]
[{"$f":"CONCATENAR","v":"SINAPI-I 37476"},"SINAPI-I",37476,"ADUELA/ GALERIA PRE-MOLDADA DE CONCRETO ARMADO, SECAO QUADRADA INTERNA DE 1,50 X 1,50 M (L X A), MISULA DE 20 X 20 CM, C = 1,00 M, ESPESSURA MIN = 15 CM, TB-45 E FCK DO CONCRETO = 30 MPA                                                                                                                                                                                                                                                                                                                ","UN    ","3.826,89",null,null,"CR"]
[{"$f":"CONCATENAR","v":"SINAPI-I 37478"},"SINAPI-I",37478,"ADUELA/ GALERIA PRE-MOLDADA DE CONCRETO ARMADO, SECAO RETANGULAR INTERNA DE 2,00 X 2,00 M (L X A), MISULA DE 20 X 20 CM, C = 1,00 M, ESPESSURA MIN = 15 CM, TB-45 E FCK DO CONCRETO = 30 MPA                                                                                                                                                                                                                                                                                                              ","UN    ","4.793,27",null,null,"CR"]
[{"$f":"CONCATENAR","v":"SINAPI-I 37477"},"SINAPI-I",37477,"ADUELA/ GALERIA PRE-MOLDADA DE CONCRETO ARMADO, SECAO RETANGULAR INTERNA DE 2,50 X 2,50 M (L X A), MISULA DE 20 X 20 CM, C = 1,00 M, ESPESSURA MIN = 15 CM, TB-45 E FCK DO CONCRETO = 30 MPA                                                                                                                                                                                                                                                                                                              ","UN    ","6.494,11",null,null,"CR"]
[{"$f":"CONCATENAR","v":"SINAPI-I 37479"},"SINAPI-I",37479,"ADUELA/ GALERIA PRE-MOLDADA DE CONCRETO ARMADO, SECAO RETANGULAR INTERNA DE 3,00 X 3,00 M (L X A), MISULA DE 20 X 20 CM, C = 1.00 M, ESPESSURA MIN = 20 CM, TB-45 E FCK DO CONCRETO = 30 MPA                                                                                                                                                                                                                                                                                                              ","UN    ","7.702,10",null,null,"CR"]
[{"$f":"CONCATENAR","v":"SINAPI-I 4319"},"SINAPI-I",4319,"AFASTADOR PARA TELHA DE FIBROCIMENTO CANALETE 90 OU KALHETAO                                                                                                                                                                                                                                                                                                                                                                                                                                              ","UN    ","1,81",null,null,"CR"]
[{"$f":"CONCATENAR","v":"SINAPI-I 42409"},"SINAPI-I",42409,"AGENTE DE CURA, PROTETOR DA EVAPORACAO DA AGUA DE HIDRATACAO DO CONCRETO                                                                                                                                                                                                                                                                                                                                                                                                                                  ","KG    ","12,40",null,null,"CR"]
[{"$f":"CONCATENAR","v":"SINAPI-I 40553"},"SINAPI-I",40553,"AGREGADO RECICLADO, TIPO RACHAO RECICLADO CINZA, CLASSE A                                                                                                                                                                                                                                                                                                                                                                                                                                                 ","M3    ","60,00",null,null,"AS"]
[{"$f":"CONCATENAR","v":"SINAPI-I 6114"},"SINAPI-I",6114,"AJUDANTE DE ARMADOR (HORISTA)                                                                                                                                                                                                                                                                                                                                                                                                                                                                             ","H     ","15,68",null,null,"CR"]
[{"$f":"CONCATENAR","v":"SINAPI-I 40912"},"SINAPI-I",40912,"AJUDANTE DE ARMADOR (MENSALISTA)                                                                                                                                                                                                                                                                                                                                                                                                                                                                          ","MES   ","2.752,30",null,null,"CR"]
[{"$f":"CONCATENAR","v":"SINAPI-I 247"},"SINAPI-I",247,"AJUDANTE DE ELETRICISTA (HORISTA)                                                                                                                                                                                                                                                                                                                                                                                                                                                                         ","H     ","15,68",null,null,"CR"]
[{"$f":"CONCATENAR","v":"SINAPI-I 40919"},"SINAPI-I",40919,"AJUDANTE DE ELETRICISTA (MENSALISTA)                                                                                                                                                                                                                                                                                                                                                                                                                                                                      ","MES   ","2.752,30",null,null,"CR"]
[{"$f":"CONCATENAR","v":"SINAPI-I 44499"},"SINAPI-I",44499,"AJUDANTE DE ESTRUTURAS METALICAS (HORISTA)                                                                                                                                                                                                                                                                                                                                                                                                                                                                ","H     ","15,68",null,null,"CR"]
[{"$f":"CONCATENAR","v":"SINAPI-I 40984"},"SINAPI-I",40984,"AJUDANTE DE ESTRUTURAS METALICAS (MENSALISTA)                                                                                                                                                                                                                                                                                                                                                                                                                                                             ","MES   ","2.752,30",null,null,"CR"]
[{"$f":"CONCATENAR","v":"SINAPI-I 248"},"SINAPI-I",248,"AJUDANTE DE OPERACAO EM GERAL (HORISTA)                                                                                                                                                                                                                                                                                                                                                                                                                                                                   ","H     ","15,61",null,null,"CR"]
[{"$f":"CONCATENAR","v":"SINAPI-I 41086"},"SINAPI-I",41086,"AJUDANTE DE OPERACAO EM GERAL (MENSALISTA)                                                                                                                                                                                                                                                                                                                                                                                                                                                                ","MES   ","2.739,01",null,null,"CR"]
[{"$f":"CONCATENAR","v":"SINAPI-I 34466"},"SINAPI-I",34466,"AJUDANTE DE PINTOR (HORISTA)                                                                                                                                                                                                                                                                                                                                                                                                                                                                              ","H     ","15,68",null,null,"CR"]
[{"$f":"CONCATENAR","v":"SINAPI-I 41083"},"SINAPI-I",41083,"AJUDANTE DE PINTOR (MENSALISTA)                                                                                                                                                                                                                                                                                                                                                                                                                                                                           ","MES   ","2.752,30",null,null,"CR"]
[{"$f":"CONCATENAR","v":"SINAPI-I 252"},"SINAPI-I",252,"AJUDANTE DE SERRALHEIRO (HORISTA)                                                                                                                                                                                                                                                                                                                                                                                                                                                                         ","H     ","15,68",null,null,"CR"]
[{"$f":"CONCATENAR","v":"SINAPI-I 40909"},"SINAPI-I",40909,"AJUDANTE DE SERRALHEIRO (MENSALISTA)                                                                                                                                                                                                                                                                                                                                                                                                                                                                      ","MES   ","2.752,30",null,null,"CR"]
[{"$f":"CONCATENAR","v":"SINAPI-I 242"},"SINAPI-I",242,"AJUDANTE ESPECIALIZADO (HORISTA)                                                                                                                                                                                                                                                                                                                                                                                                                                                                          ","H     ","15,61",null,null,"CR"]
[{"$f":"CONCATENAR","v":"SINAPI-I 41085"},"SINAPI-I",41085,"AJUDANTE ESPECIALIZADO (MENSALISTA)                                                                                                                                                                                                                                                                                                                                                                                                                                                                       ","MES   ","2.739,01",null,null,"CR"]
[{"$f":"CONCATENAR","v":"SINAPI-I 427"},"SINAPI-I",427,"ALCA PREFORMADA DE CONTRA POSTE, EM ACO GALVANIZADO, PARA CABO 3/16\", COMPRIMENTO *860* MM                                                                                                                                                                                                                                                                                                                                                                                                                ","UN    ","6,55",null,null,"AS"]
[{"$f":"CONCATENAR","v":"SINAPI-I 417"},"SINAPI-I",417,"ALCA PREFORMADA DE DISTRIBUICAO, EM ACO GALVANIZADO, PARA CABO DE ALUMINIO DIAMETRO 16 A 25 MM                                                                                                                                                                                                                                                                                                                                                                                                            ","UN    ","3,08",null,null,"AS"]
[{"$f":"CONCATENAR","v":"SINAPI-I 11273"},"SINAPI-I",11273,"ALCA PREFORMADA DE DISTRIBUICAO, EM ACO GALVANIZADO, PARA CONDUTORES DE ALUMINIO AWG 1/0 (CAA 6/1 OU CA 7 FIOS)                                                                                                                                                                                                                                                                                                                                                                                           ","UN    ","9,58",null,null,"AS"]
[{"$f":"CONCATENAR","v":"SINAPI-I 11272"},"SINAPI-I",11272,"ALCA PREFORMADA DE DISTRIBUICAO, EM ACO GALVANIZADO, PARA CONDUTORES DE ALUMINIO AWG 2 (CAA 6/1 OU CA 7 FIOS)                                                                                                                                                                                                                                                                                                                                                                                             ","UN    ","5,78",null,null,"AS"]
[{"$f":"CONCATENAR","v":"SINAPI-I 11275"},"SINAPI-I",11275,"ALCA PREFORMADA DE SERVICO, EM ACO GALVANIZADO, PARA CONDUTORES DE ALUMINIO AWG 4 (CAA 6/1)                                                                                                                                                                                                                                                                                                                                                                                                               ","UN    ","2,32",null,null,"AS"]
[{"$f":"CONCATENAR","v":"SINAPI-I 11274"},"SINAPI-I",11274,"ALCA PREFORMADA DE SERVICO, EM ACO GALVANIZADO, PARA CONDUTORES DE ALUMINIO AWG 6 (CAA 6/1)                                                                                                                                                                                                                                                                                                                                                                                                               ","UN    ","1,77",null,null,"AS"]
[{"$f":"CONCATENAR","v":"SINAPI-I 38470"},"SINAPI-I",38470,"ALICATE DE CORTE DIAGONAL 6\" COM ISOLAMENTO                                                                                                                                                                                                                                                                                                                                                                                                                                                               ","UN    ","64,35",null,null,"C "]
[{"$f":"CONCATENAR","v":"SINAPI-I 38547"},"SINAPI-I",38547,"ALICATE DE CRIMPAR RJ11, RJ12 E RJ45                                                                                                                                                                                                                                                                                                                                                                                                                                                                      ","UN    ","175,60",null,null,"CR"]
[{"$f":"CONCATENAR","v":"SINAPI-I 38469"},"SINAPI-I",38469,"ALICATE DE PRESSAO PARA SOLDA DE CHAPA 18\"                                                                                                                                                                                                                                                                                                                                                                                                                                                                ","UN    ","188,82",null,null,"CR"]
[{"$f":"CONCATENAR","v":"SINAPI-I 38467"},"SINAPI-I",38467,"ALICATE DE PRESSAO 11\" PARA SOLDA, TIPO C                                                                                                                                                                                                                                                                                                                                                                                                                                                                 ","UN    ","106,24",null,null,"CR"]
[{"$f":"CONCATENAR","v":"SINAPI-I 38468"},"SINAPI-I",38468,"ALICATE DE PRESSAO 11\" PARA SOLDA, TIPO U                                                                                                                                                                                                                                                                                                                                                                                                                                                                 ","UN    ","116,91",null,null,"CR"]
[{"$f":"CONCATENAR","v":"SINAPI-I 38471"},"SINAPI-I",38471,"ALICATE PARA ANEIS DE PISTAO, CAPACIDADE 50 A 100 MM                                                                                                                                                                                                                                                                                                                                                                                                                                                      ","UN    ","151,82",null,null,"CR"]
[{"$f":"CONCATENAR","v":"SINAPI-I 37370"},"SINAPI-I",37370,"ALIMENTACAO - HORISTA (COLETADO CAIXA - ENCARGOS COMPLEMENTARES)                                                                                                                                                                                                                                                                                                                                                                                                                                          ","H     ","1,40",null,null,"C "]
[{"$f":"CONCATENAR","v":"SINAPI-I 40862"},"SINAPI-I",40862,"ALIMENTACAO - MENSALISTA (COLETADO CAIXA - ENCARGOS COMPLEMENTARES)                                                                                                                                                                                                                                                                                                                                                                                                                                       ","MES   ","263,20",null,null,"C "]
[{"$f":"CONCATENAR","v":"SINAPI-I 10658"},"SINAPI-I",10658,"ALISADORA DE CONCRETO COM MOTOR A GASOLINA DE 5,5 HP, PESO COM MOTOR DE 78 KG, 4 PAS                                                                                                                                                                                                                                                                                                                                                                                                                      ","UN    ","7.709,00",null,null,"AS"]
[{"$f":"CONCATENAR","v":"SINAPI-I 253"},"SINAPI-I",253,"ALMOXARIFE (HORISTA)                                                                                                                                                                                                                                                                                                                                                                                                                                                                                      ","H     ","20,57",null,null,"C "]
[{"$f":"CONCATENAR","v":"SINAPI-I 40809"},"SINAPI-I",40809,"ALMOXARIFE (MENSALISTA)                                                                                                                                                                                                                                                                                                                                                                                                                                                                                   ","MES   ","3.609,05",null,null,"CR"]
[{"$f":"CONCATENAR","v":"SINAPI-I 42428"},"SINAPI-I",42428,"ALONGADOR COM TRES ALTURAS, EM TUBO DE ACO CARBONO, PINTURA NO PROCESSO ELETROSTATICO - EQUIPAMENTO DE GINASTICA PARA ACADEMIA AO AR LIVRE / ACADEMIA DA TERCEIRA IDADE - ATI                                                                                                                                                                                                                                                                                                                             ","UN    ","2.271,00",null,null,"AS"]
[{"$f":"CONCATENAR","v":"SINAPI-I 301"},"SINAPI-I",301,"ANEL BORRACHA PARA TUBO ESGOTO PREDIAL, DN 100 MM (NBR 5688)                                                                                                                                                                                                                                                                                                                                                                                                                                              ","UN    ","3,07",null,null,"C "]
[{"$f":"CONCATENAR","v":"SINAPI-I 296"},"SINAPI-I",296,"ANEL BORRACHA PARA TUBO ESGOTO PREDIAL, DN 50 MM (NBR 5688)                                                                                                                                                                                                                                                                                                                                                                                                                                               ","UN    ","1,73",null,null,"CR"]
[{"$f":"CONCATENAR","v":"SINAPI-I 297"},"SINAPI-I",297,"ANEL BORRACHA PARA TUBO ESGOTO PREDIAL, DN 75 MM (NBR 5688)                                                                                                                                                                                                                                                                                                                                                                                                                                               ","UN    ","2,55",null,null,"CR"]
[{"$f":"CONCATENAR","v":"SINAPI-I 299"},"SINAPI-I",299,"ANEL BORRACHA, DN 100 MM, PARA TUBO SERIE REFORCADA ESGOTO PREDIAL                                                                                                                                                                                                                                                                                                                                                                                                                                        ","UN    ","3,60",null,null,"CR"]
[{"$f":"CONCATENAR","v":"SINAPI-I 300"},"SINAPI-I",300,"ANEL BORRACHA, DN 150 MM, PARA TUBO SERIE REFORCADA ESGOTO PREDIAL                                                                                                                                                                                                                                                                                                                                                                                                                                        ","UN    ","12,46",null,null,"CR"]
[{"$f":"CONCATENAR","v":"SINAPI-I 20085"},"SINAPI-I",20085,"ANEL BORRACHA, DN 50 MM, PARA TUBO SERIE REFORCADA ESGOTO PREDIAL                                                                                                                                                                                                                                                                                                                                                                                                                                         ","UN    ","2,28",null,null,"CR"]
[{"$f":"CONCATENAR","v":"SINAPI-I 298"},"SINAPI-I",298,"ANEL BORRACHA, DN 75 MM, PARA TUBO SERIE REFORCADA ESGOTO PREDIAL                                                                                                                                                                                                                                                                                                                                                                                                                                         ","UN    ","2,77",null,null,"CR"]
[{"$f":"CONCATENAR","v":"SINAPI-I 311"},"SINAPI-I",311,"ANEL BORRACHA, PARA TUBO PVC DEFOFO, DN 100 MM (NBR 7665)                                                                                                                                                                                                                                                                                                                                                                                                                                                 ","UN    ","10,28",null,null,"CR"]
[{"$f":"CONCATENAR","v":"SINAPI-I 318"},"SINAPI-I",318,"ANEL BORRACHA, PARA TUBO PVC DEFOFO, DN 150 MM (NBR 7665)                                                                                                                                                                                                                                                                                                                                                                                                                                                 ","UN    ","20,70",null,null,"CR"]
[{"$f":"CONCATENAR","v":"SINAPI-I 319"},"SINAPI-I",319,"ANEL BORRACHA, PARA TUBO PVC DEFOFO, DN 200 MM (NBR 7665)                                                                                                                                                                                                                                                                                                                                                                                                                                                 ","UN    ","32,45",null,null,"CR"]
[{"$f":"CONCATENAR","v":"SINAPI-I 303"},"SINAPI-I",303,"ANEL BORRACHA, PARA TUBO PVC, REDE COLETOR ESGOTO, DN 100 MM (NBR 7362)                                                                                                                                                                                                                                                                                                                                                                                                                                   ","UN    ","3,40",null,null,"CR"]
[{"$f":"CONCATENAR","v":"SINAPI-I 305"},"SINAPI-I",305,"ANEL BORRACHA, PARA TUBO PVC, REDE COLETOR ESGOTO, DN 150 MM (NBR 7362)                                                                                                                                                                                                                                                                                                                                                                                                                                   ","UN    ","10,70",null,null,"CR"]
[{"$f":"CONCATENAR","v":"SINAPI-I 306"},"SINAPI-I",306,"ANEL BORRACHA, PARA TUBO PVC, REDE COLETOR ESGOTO, DN 200 MM (NBR 7362)                                                                                                                                                                                                                                                                                                                                                                                                                                   ","UN    ","16,22",null,null,"CR"]
[{"$f":"CONCATENAR","v":"SINAPI-I 307"},"SINAPI-I",307,"ANEL BORRACHA, PARA TUBO PVC, REDE COLETOR ESGOTO, DN 250 MM (NBR 7362)                                                                                                                                                                                                                                                                                                                                                                                                                                   ","UN    ","40,99",null,null,"CR"]
[{"$f":"CONCATENAR","v":"SINAPI-I 309"},"SINAPI-I",309,"ANEL BORRACHA, PARA TUBO PVC, REDE COLETOR ESGOTO, DN 350 MM (NBR 7362)                                                                                                                                                                                                                                                                                                                                                                                                                                   ","UN    ","67,15",null,null,"CR"]
[{"$f":"CONCATENAR","v":"SINAPI-I 310"},"SINAPI-I",310,"ANEL BORRACHA, PARA TUBO PVC, REDE COLETOR ESGOTO, DN 400 MM (NBR 7362)                                                                                                                                                                                                                                                                                                                                                                                                                                   ","UN    ","93,07",null,null,"CR"]
[{"$f":"CONCATENAR","v":"SINAPI-I 328"},"SINAPI-I",328,"ANEL BORRACHA, PARA TUBO/CONEXAO PVC PBA, DN 100 MM, PARA REDE AGUA                                                                                                                                                                                                                                                                                                                                                                                                                                       ","UN    ","8,13",null,null,"CR"]
[{"$f":"CONCATENAR","v":"SINAPI-I 325"},"SINAPI-I",325,"ANEL BORRACHA, PARA TUBO/CONEXAO PVC PBA, DN 50 MM, PARA REDE AGUA                                                                                                                                                                                                                                                                                                                                                                                                                                        ","UN    ","2,40",null,null,"CR"]
[{"$f":"CONCATENAR","v":"SINAPI-I 20326"},"SINAPI-I",20326,"ANEL BORRACHA, PARA TUBO/CONEXAO PVC PBA, DN 60 MM, PARA REDE AGUA                                                                                                                                                                                                                                                                                                                                                                                                                                        ","UN    ","4,39",null,null,"CR"]
[{"$f":"CONCATENAR","v":"SINAPI-I 329"},"SINAPI-I",329,"ANEL BORRACHA, PARA TUBO/CONEXAO PVC PBA, DN 75 MM, PARA REDE AGUA                                                                                                                                                                                                                                                                                                                                                                                                                                        ","UN    ","6,80",null,null,"CR"]
[{"$f":"CONCATENAR","v":"SINAPI-I 308"},"SINAPI-I",308,"ANEL BORRACHA, PARA TUBO, PVC REDE COLETOR ESGOTO, DN 300 MM (NBR 7362)                                                                                                                                                                                                                                                                                                                                                                                                                                   ","UN    ","91,49",null,null,"CR"]
[{"$f":"CONCATENAR","v":"SINAPI-I 39642"},"SINAPI-I",39642,"ANEL DE BORRACHA PARA VEDACAO DE DUTO PEAD CORRUGADO PARA ELETRICA, DN 1 1/2\" (NBR 15715)                                                                                                                                                                                                                                                                                                                                                                                                                 ","UN    ","3,01",null,null,"CR"]
[{"$f":"CONCATENAR","v":"SINAPI-I 39641"},"SINAPI-I",39641,"ANEL DE BORRACHA PARA VEDACAO DE DUTO PEAD CORRUGADO PARA ELETRICA, DN 1 1/4\" (NBR 15715)                                                                                                                                                                                                                                                                                                                                                                                                                 ","UN    ","2,64",null,null,"CR"]
[{"$f":"CONCATENAR","v":"SINAPI-I 39643"},"SINAPI-I",39643,"ANEL DE BORRACHA PARA VEDACAO DE DUTO PEAD CORRUGADO PARA ELETRICA, DN 2\" (NBR 15715)                                                                                                                                                                                                                                                                                                                                                                                                                     ","UN    ","3,54",null,null,"CR"]
[{"$f":"CONCATENAR","v":"SINAPI-I 39644"},"SINAPI-I",39644,"ANEL DE BORRACHA PARA VEDACAO DE DUTO PEAD CORRUGADO PARA ELETRICA, DN 3\" (NBR 15715)                                                                                                                                                                                                                                                                                                                                                                                                                     ","UN    ","5,49",null,null,"CR"]
[{"$f":"CONCATENAR","v":"SINAPI-I 39645"},"SINAPI-I",39645,"ANEL DE BORRACHA PARA VEDACAO DE DUTO PEAD CORRUGADO PARA ELETRICA, DN 4\" (NBR 15715)                                                                                                                                                                                                                                                                                                                                                                                                                     ","UN    ","6,01",null,null,"CR"]
[{"$f":"CONCATENAR","v":"SINAPI-I 41610"},"SINAPI-I",41610,"ANEL DE CONCRETO ARMADO COM FUNDO, PARA FOSSA E POCO 1,50 X *0,50* M                                                                                                                                                                                                                                                                                                                                                                                                                                      ","UN    ","709,98",null,null,"CR"]
[{"$f":"CONCATENAR","v":"SINAPI-I 41611"},"SINAPI-I",41611,"ANEL DE CONCRETO ARMADO COM FUNDO, PARA FOSSA E POCO 2,00 X *0,50* M                                                                                                                                                                                                                                                                                                                                                                                                                                      ","UN    ","1.119,07",null,null,"CR"]
[{"$f":"CONCATENAR","v":"SINAPI-I 41612"},"SINAPI-I",41612,"ANEL DE CONCRETO ARMADO COM FUNDO, PARA FOSSA E POCO 2,50 X *0,50* M                                                                                                                                                                                                                                                                                                                                                                                                                                      ","UN    ","1.571,34",null,null,"CR"]
[{"$f":"CONCATENAR","v":"SINAPI-I 41637"},"SINAPI-I",41637,"ANEL DE CONCRETO ARMADO, COM FUROS/DRENO PARA SUMIDOURO, D = 0,80 M, H = 0,50 M                                                                                                                                                                                                                                                                                                                                                                                                                           ","UN    ","146,89",null,null,"CR"]
[{"$f":"CONCATENAR","v":"SINAPI-I 41638"},"SINAPI-I",41638,"ANEL DE CONCRETO ARMADO, COM FUROS/DRENO PARA SUMIDOURO, D = 1,00 M, H = 0,50M                                                                                                                                                                                                                                                                                                                                                                                                                            ","UN    ","191,34",null,null,"CR"]
[{"$f":"CONCATENAR","v":"SINAPI-I 41639"},"SINAPI-I",41639,"ANEL DE CONCRETO ARMADO, COM FUROS/DRENO PARA SUMIDOURO, D = 1,50 M, H = 0,50 M                                                                                                                                                                                                                                                                                                                                                                                                                           ","UN    ","462,89",null,null,"CR"]
[{"$f":"CONCATENAR","v":"SINAPI-I 11789"},"SINAPI-I",11789,"ANEL DE DISTRIBUICAO EM ACO GALVANIZADO PARA FIO FE-160                                                                                                                                                                                                                                                                                                                                                                                                                                                   ","UN    ","0,87",null,null,"AS"]
[{"$f":"CONCATENAR","v":"SINAPI-I 20975"},"SINAPI-I",20975,"ANEL DE EXPANSAO EM COBRE, ENGATE RAPIDO 1 1/2\", PARA EMPATACAO MANGUEIRA DE COMBATE A INCENDIO PREDIAL                                                                                                                                                                                                                                                                                                                                                                                                   ","UN    ","12,22",null,null,"CR"]
[{"$f":"CONCATENAR","v":"SINAPI-I 20976"},"SINAPI-I",20976,"ANEL DE EXPANSAO EM COBRE, ENGATE RAPIDO 2 1/2\", PARA EMPATACAO MANGUEIRA DE COMBATE A INCENDIO PREDIAL                                                                                                                                                                                                                                                                                                                                                                                                   ","UN    ","18,46",null,null,"CR"]
[{"$f":"CONCATENAR","v":"SINAPI-I 40340"},"SINAPI-I",40340,"ANEL DE VEDACAO/JUNTA ELASTICA, H = *16* MM, PARA TUBO DE CONCRETO, DN 300 MM                                                                                                                                                                                                                                                                                                                                                                                                                             ","UN    ","22,58",null,null,"CR"]
[{"$f":"CONCATENAR","v":"SINAPI-I 40341"},"SINAPI-I",40341,"ANEL DE VEDACAO/JUNTA ELASTICA, H = *16* MM, PARA TUBO DE CONCRETO, DN 400 MM                                                                                                                                                                                                                                                                                                                                                                                                                             ","UN    ","26,95",null,null,"CR"]
[{"$f":"CONCATENAR","v":"SINAPI-I 40342"},"SINAPI-I",40342,"ANEL DE VEDACAO/JUNTA ELASTICA, H = *16* MM, PARA TUBO DE CONCRETO, DN 500 MM                                                                                                                                                                                                                                                                                                                                                                                                                             ","UN    ","32,14",null,null,"CR"]
[{"$f":"CONCATENAR","v":"SINAPI-I 40343"},"SINAPI-I",40343,"ANEL DE VEDACAO/JUNTA ELASTICA, H = *16* MM, PARA TUBO DE CONCRETO, DN 600 MM                                                                                                                                                                                                                                                                                                                                                                                                                             ","UN    ","38,12",null,null,"CR"]
[{"$f":"CONCATENAR","v":"SINAPI-I 40344"},"SINAPI-I",40344,"ANEL DE VEDACAO/JUNTA ELASTICA, H = *18* MM, PARA TUBO DE CONCRETO, DN 700 MM                                                                                                                                                                                                                                                                                                                                                                                                                             ","UN    ","51,97",null,null,"CR"]
[{"$f":"CONCATENAR","v":"SINAPI-I 40345"},"SINAPI-I",40345,"ANEL DE VEDACAO/JUNTA ELASTICA, H = *19* MM, PARA TUBO DE CONCRETO, DN 800 MM                                                                                                                                                                                                                                                                                                                                                                                                                             ","UN    ","64,04",null,null,"CR"]
[{"$f":"CONCATENAR","v":"SINAPI-I 40346"},"SINAPI-I",40346,"ANEL DE VEDACAO/JUNTA ELASTICA, H = *19* MM, PARA TUBO DE CONCRETO, DN 900 MM                                                                                                                                                                                                                                                                                                                                                                                                                             ","UN    ","74,29",null,null,"CR"]
[{"$f":"CONCATENAR","v":"SINAPI-I 40347"},"SINAPI-I",40347,"ANEL DE VEDACAO/JUNTA ELASTICA, H = *21* MM, PARA TUBO DE CONCRETO, DN 1000 MM                                                                                                                                                                                                                                                                                                                                                                                                                            ","UN    ","93,34",null,null,"CR"]
[{"$f":"CONCATENAR","v":"SINAPI-I 6138"},"SINAPI-I",6138,"ANEL DE VEDACAO, PVC FLEXIVEL, 100 MM, PARA SAIDA DE BACIA / VASO SANITARIO                                                                                                                                                                                                                                                                                                                                                                                                                               ","UN    ","10,48",null,null,"CR"]
[{"$f":"CONCATENAR","v":"SINAPI-I 43424"},"SINAPI-I",43424,"ANEL EM CONCRETO ARMADO, LISO, PARA FOSSAS SEPTICAS E SUMIDOUROS, COM FUNDO, DIAMETRO INTERNO DE 1,20 M E ALTURA DE 0,50 M                                                                                                                                                                                                                                                                                                                                                                                ","UN    ","594,84",null,null,"CR"]
[{"$f":"CONCATENAR","v":"SINAPI-I 43426"},"SINAPI-I",43426,"ANEL EM CONCRETO ARMADO, LISO, PARA FOSSAS SEPTICAS E SUMIDOUROS, COM FUNDO, DIAMETRO INTERNO DE 3,00 M E ALTURA DE 0,50 M                                                                                                                                                                                                                                                                                                                                                                                ","UN    ","2.051,63",null,null,"CR"]
[{"$f":"CONCATENAR","v":"SINAPI-I 12565"},"SINAPI-I",12565,"ANEL EM CONCRETO ARMADO, LISO, PARA FOSSAS SEPTICAS E SUMIDOUROS, SEM FUNDO, DIAMETRO INTERNO DE 2,00 M E ALTURA DE 0,50 M                                                                                                                                                                                                                                                                                                                                                                                ","UN    ","719,48",null,null,"CR"]
[{"$f":"CONCATENAR","v":"SINAPI-I 12567"},"SINAPI-I",12567,"ANEL EM CONCRETO ARMADO, LISO, PARA FOSSAS SEPTICAS E SUMIDOUROS, SEM FUNDO, DIAMETRO INTERNO DE 2,50 M E ALTURA DE 0,50 M                                                                                                                                                                                                                                                                                                                                                                                ","UN    ","966,38",null,null,"CR"]
[{"$f":"CONCATENAR","v":"SINAPI-I 12568"},"SINAPI-I",12568,"ANEL EM CONCRETO ARMADO, LISO, PARA FOSSAS SEPTICAS E SUMIDOUROS, SEM FUNDO, DIAMETRO INTERNO DE 3,00 M E ALTURA DE 0,50 M                                                                                                                                                                                                                                                                                                                                                                                ","UN    ","1.352,94",null,null,"CR"]
[{"$f":"CONCATENAR","v":"SINAPI-I 43441"},"SINAPI-I",43441,"ANEL EM CONCRETO ARMADO, LISO, PARA POCOS DE INSPECAO, COM FUNDO, DIAMETRO INTERNO DE 0,60 M E ALTURA DE 0,50 M                                                                                                                                                                                                                                                                                                                                                                                           ","UN    ","173,94",null,null,"CR"]
[{"$f":"CONCATENAR","v":"SINAPI-I 43423"},"SINAPI-I",43423,"ANEL EM CONCRETO ARMADO, LISO, PARA POCOS DE INSPECAO, SEM FUNDO, DIAMETRO INTERNO DE 0,60 M E ALTURA DE 0,20 M                                                                                                                                                                                                                                                                                                                                                                                           ","UN    ","81,17",null,null,"CR"]
[{"$f":"CONCATENAR","v":"SINAPI-I 12532"},"SINAPI-I",12532,"ANEL EM CONCRETO ARMADO, LISO, PARA POCOS DE INSPECAO, SEM FUNDO, DIAMETRO INTERNO DE 0,60 M E ALTURA DE 0,50 M                                                                                                                                                                                                                                                                                                                                                                                           ","UN    ","125,19",null,null,"CR"]
[{"$f":"CONCATENAR","v":"SINAPI-I 43444"},"SINAPI-I",43444,"ANEL EM CONCRETO ARMADO, LISO, PARA POCOS DE VISITA, POCOS DE INSPECAO, FOSSAS SEPTICAS E SUMIDOUROS, COM FUNDO, DIAMETRO INTERNO DE 1,20 M E ALTURA DE 0,75 M                                                                                                                                                                                                                                                                                                                                            ","UN    ","420,37",null,null,"CR"]
[{"$f":"CONCATENAR","v":"SINAPI-I 12551"},"SINAPI-I",12551,"ANEL EM CONCRETO ARMADO, LISO, PARA POCOS DE VISITA, POCOS DE INSPECAO, FOSSAS SEPTICAS E SUMIDOUROS, SEM FUNDO, DIAMETRO INTERNO DE 1,20 M E ALTURA DE 0,50 M                                                                                                                                                                                                                                                                                                                                            ","UN    ","299,92",null,null,"CR"]
[{"$f":"CONCATENAR","v":"SINAPI-I 43442"},"SINAPI-I",43442,"ANEL EM CONCRETO ARMADO, LISO, PARA POCOS DE VISITAS, POCOS DE INSPECAO, FOSSAS SEPTICAS E SUMIDOUROS, COM FUNDO, DIAMETRO INTERNO DE 0,80 M E ALTURA DE 0,50 M                                                                                                                                                                                                                                                                                                                                           ","UN    ","231,93",null,null,"CR"]
[{"$f":"CONCATENAR","v":"SINAPI-I 43443"},"SINAPI-I",43443,"ANEL EM CONCRETO ARMADO, LISO, PARA POCOS DE VISITAS, POCOS DE INSPECAO, FOSSAS SEPTICAS E SUMIDOUROS, COM FUNDO, DIAMETRO INTERNO DE 1,00 M E ALTURA DE 0,50 M                                                                                                                                                                                                                                                                                                                                           ","UN    ","304,41",null,null,"CR"]
[{"$f":"CONCATENAR","v":"SINAPI-I 12544"},"SINAPI-I",12544,"ANEL EM CONCRETO ARMADO, LISO, PARA POCOS DE VISITAS, POCOS DE INSPECAO, FOSSAS SEPTICAS E SUMIDOUROS, SEM FUNDO, DIAMETRO INTERNO DE 0,80 M E ALTURA DE 0,50 M                                                                                                                                                                                                                                                                                                                                           ","UN    ","164,28",null,null,"CR"]
[{"$f":"CONCATENAR","v":"SINAPI-I 12547"},"SINAPI-I",12547,"ANEL EM CONCRETO ARMADO, LISO, PARA POCOS DE VISITAS, POCOS DE INSPECAO, FOSSAS SEPTICAS E SUMIDOUROS, SEM FUNDO, DIAMETRO INTERNO DE 1,00 M E ALTURA DE 0,50 M                                                                                                                                                                                                                                                                                                                                           ","UN    ","220,95",null,null,"CR"]
[{"$f":"CONCATENAR","v":"SINAPI-I 43445"},"SINAPI-I",43445,"ANEL EM CONCRETO ARMADO, LISO, PARA, POCOS DE VISITA, POCOS DE INSPECAO, FOSSAS SEPTICAS E SUMIDOUROS, COM FUNDO, DIAMETRO INTERNO DE 1,50 M E ALTURA DE 1,00 M                                                                                                                                                                                                                                                                                                                                           ","UN    ","579,83",null,null,"CR"]
[{"$f":"CONCATENAR","v":"SINAPI-I 12563"},"SINAPI-I",12563,"ANEL EM CONCRETO ARMADO, LISO, PARA, POCOS DE VISITA, POCOS DE INSPECAO, FOSSAS SEPTICAS E SUMIDOUROS, SEM FUNDO, DIAMETRO INTERNO DE 1,50 M E ALTURA DE 0,50 M                                                                                                                                                                                                                                                                                                                                           ","UN    ","414,85",null,null,"CR"]
[{"$f":"CONCATENAR","v":"SINAPI-I 43425"},"SINAPI-I",43425,"ANEL EM CONCRETO ARMADO, PERFURADO, PARA FOSSAS SEPTICAS E SUMIDOUROS, SEM FUNDO, DIAMETRO INTERNO DE 1,20 M E ALTURA DE 0,50 M                                                                                                                                                                                                                                                                                                                                                                           ","UN    ","260,92",null,null,"CR"]
[{"$f":"CONCATENAR","v":"SINAPI-I 43446"},"SINAPI-I",43446,"ANEL EM CONCRETO ARMADO, PERFURADO, PARA FOSSAS SEPTICAS E SUMIDOUROS, SEM FUNDO, DIAMETRO INTERNO DE 2,00 M E ALTURA DE 0,50 M                                                                                                                                                                                                                                                                                                                                                                           ","UN    ","550,84",null,null,"CR"]
[{"$f":"CONCATENAR","v":"SINAPI-I 43447"},"SINAPI-I",43447,"ANEL EM CONCRETO ARMADO, PERFURADO, PARA FOSSAS SEPTICAS E SUMIDOUROS, SEM FUNDO, DIAMETRO INTERNO DE 2,50 M E ALTURA DE 0,50 M                                                                                                                                                                                                                                                                                                                                                                           ","UN    ","676,47",null,null,"CR"]
[{"$f":"CONCATENAR","v":"SINAPI-I 43448"},"SINAPI-I",43448,"ANEL EM CONCRETO ARMADO, PERFURADO, PARA FOSSAS SEPTICAS E SUMIDOUROS, SEM FUNDO, DIAMETRO INTERNO DE 3,00 M E ALTURA DE 0,50 M                                                                                                                                                                                                                                                                                                                                                                           ","UN    ","947,05",null,null,"CR"]
[{"$f":"CONCATENAR","v":"SINAPI-I 13761"},"SINAPI-I",13761,"APARELHO CORTE OXI-ACETILENO PARA SOLDA E CORTE CONTENDO MACARICO SOLDA, BICO DE CORTE, CILINDROS, REGULADORES, MANGUEIRAS E CARRINHO                                                                                                                                                                                                                                                                                                                                                                     ","UN    ","2.507,50",null,null,"CR"]
[{"$f":"CONCATENAR","v":"SINAPI-I 4814"},"SINAPI-I",4814,"APARELHO SINALIZADOR LUMINOSO COM LED, PARA SAIDA GARAGEM, COM 2 LENTES EM POLICARBONATO, BIVOLT (INCLUI SUPORTE DE FIXACAO)                                                                                                                                                                                                                                                                                                                                                                              ","UN    ","54,72",null,null,"CR"]
[{"$f":"CONCATENAR","v":"SINAPI-I 44473"},"SINAPI-I",44473,"APOIO DO PORTA DENTE PARA FRESADORA DE  ASFALTO                                                                                                                                                                                                                                                                                                                                                                                                                                                           ","UN    ","2.538,11",null,null,"AS"]
[{"$f":"CONCATENAR","v":"SINAPI-I 6122"},"SINAPI-I",6122,"APONTADOR OU APROPRIADOR DE MAO DE OBRA (HORISTA)                                                                                                                                                                                                                                                                                                                                                                                                                                                         ","H     ","20,30",null,null,"CR"]
[{"$f":"CONCATENAR","v":"SINAPI-I 40810"},"SINAPI-I",40810,"APONTADOR OU APROPRIADOR DE MAO DE OBRA (MENSALISTA)                                                                                                                                                                                                                                                                                                                                                                                                                                                      ","MES   ","3.561,91",null,null,"CR"]
[{"$f":"CONCATENAR","v":"SINAPI-I 21100"},"SINAPI-I",21100,"AQUECEDOR DE AGUA A GAS GLP/GN COM CAPACIDADE DE ARMAZENAMENTO DE 50 A 80 L                                                                                                                                                                                                                                                                                                                                                                                                                               ","UN    ","3.845,10",null,null,"AS"]
[{"$f":"CONCATENAR","v":"SINAPI-I 11811"},"SINAPI-I",11811,"AQUECEDOR DE AGUA ELETRICO HORIZONTAL, RESERVATORIO DE 200 L CILINDRICO EM COBRE, REFORCADO COM ACO CARBONO, MONOFASICO, TENSAO NOMINAL 220 V                                                                                                                                                                                                                                                                                                                                                             ","UN    ","5.550,48",null,null,"AS"]
[{"$f":"CONCATENAR","v":"SINAPI-I 11816"},"SINAPI-I",11816,"AQUECEDOR DE AGUA ELETRICO RESERVATORIO DE 100 L CILINDRICO EM COBRE, REFORCADO COM ACO CARBONO, MONOFASICO, TENSAO NOMINAL 220 V                                                                                                                                                                                                                                                                                                                                                                         ","UN    ","4.100,00",null,null,"AS"]
[{"$f":"CONCATENAR","v":"SINAPI-I 11814"},"SINAPI-I",11814,"AQUECEDOR DE AGUA ELETRICO RESERVATORIO DE 500 L CILINDRICO EM COBRE, REFORCADO COM ACO CARBONO, MONOFASICO, TENSAO NOMINAL 220 V                                                                                                                                                                                                                                                                                                                                                                         ","UN    ","8.924,67",null,null,"AS"]
[{"$f":"CONCATENAR","v":"SINAPI-I 14186"},"SINAPI-I",14186,"AQUECEDOR DE AGUA ELETRICO RESERVATORIO DE 500 L CILINDRICO EM COBRE, REFORCADO COM ACO CARBONO, TRIFASICO, TENSAO NOMINAL 220/380/400 V, POTENCIA 24 KW                                                                                                                                                                                                                                                                                                                                                  ","UN    ","11.206,13",null,null,"AS"]
[{"$f":"CONCATENAR","v":"SINAPI-I 14185"},"SINAPI-I",14185,"AQUECEDOR DE AGUA ELETRICO RESERVATORIO DE 700 L CILINDRICO EM COBRE, REFORCADO COM ACO CARBONO, MONOFASICO, TENSAO NOMINAL 220 V                                                                                                                                                                                                                                                                                                                                                                         ","UN    ","14.516,30",null,null,"AS"]
[{"$f":"CONCATENAR","v":"SINAPI-I 44498"},"SINAPI-I",44498,"AQUECEDOR DE OLEO BPF (FLUIDO) TERMICO, CAPACIDADE DE 300.000  KCAL/H                                                                                                                                                                                                                                                                                                                                                                                                                                     ","UN    ","318.204,48",null,null,"AS"]
[{"$f":"CONCATENAR","v":"SINAPI-I 34469"},"SINAPI-I",34469,"AQUECEDOR SOLAR COM RESERVATORIO TERMICO DE 1000 L E *5* PLACAS COLETORAS DE *2,0* M2 (NAO INCLUI ACESSORIOS) (SEM INSTALACAO)                                                                                                                                                                                                                                                                                                                                                                            ","UN    ","20.481,13",null,null,"CR"]
[{"$f":"CONCATENAR","v":"SINAPI-I 34476"},"SINAPI-I",34476,"AQUECEDOR SOLAR COM RESERVATORIO TERMICO DE 400 L E *2* PLACAS COLETORAS DE *2,0* M2 (NAO INCLUI ACESSORIOS) (SEM INSTALACAO)                                                                                                                                                                                                                                                                                                                                                                             ","UN    ","10.681,77",null,null,"CR"]
[{"$f":"CONCATENAR","v":"SINAPI-I 34477"},"SINAPI-I",34477,"AQUECEDOR SOLAR COM RESERVATORIO TERMICO DE 600 L E *3* PLACAS COLETORAS DE *2,0* M2 (NAO INCLUI ACESSORIOS) (SEM INSTALACAO)                                                                                                                                                                                                                                                                                                                                                                             ","UN    ","14.176,77",null,null,"CR"]
[{"$f":"CONCATENAR","v":"SINAPI-I 34482"},"SINAPI-I",34482,"AQUECEDOR SOLAR COM RESERVATORIO TERMICO DE 800 L E *4* PLACAS COLETORAS DE *2,0* M2 (NAO INCLUI ACESSORIOS) (SEM INSTALACAO)                                                                                                                                                                                                                                                                                                                                                                             ","UN    ","13.240,32",null,null,"CR"]
[{"$f":"CONCATENAR","v":"SINAPI-I 34472"},"SINAPI-I",34472,"AQUECEDOR SOLAR DE INSTALACAO EXTERNA, KIT COMPACTO, CONJUNTO COM RESERVATORIO TERMICO DE 200 L, PLACA COLETORA DE *2,0* M2 E INCLUSO ACESSORIOS (RESIDENCIAS ATE 120,00 M2 E DE 4 A 5 BANHOS POR DIA) (SEM INSTALACAO)                                                                                                                                                                                                                                                                                   ","UN    ","6.301,40",null,null,"C "]
[{"$f":"CONCATENAR","v":"SINAPI-I 42425"},"SINAPI-I",42425,"AR CONDICIONADO SPLIT INVERTER, HI-WALL (PAREDE), 12000 BTU/H, CICLO FRIO, 60HZ, CLASSIFICACAO A (SELO PROCEL), GAS HFC, CONTROLE S/FIO                                                                                                                                                                                                                                                                                                                                                                   ","UN    ","2.577,73",null,null,"CR"]
[{"$f":"CONCATENAR","v":"SINAPI-I 42422"},"SINAPI-I",42422,"AR CONDICIONADO SPLIT INVERTER, HI-WALL (PAREDE), 18000 BTU/H, CICLO FRIO, 60HZ, CLASSIFICACAO A (SELO PROCEL), GAS HFC, CONTROLE S/FIO                                                                                                                                                                                                                                                                                                                                                                   ","UN    ","3.826,72",null,null,"C "]
[{"$f":"CONCATENAR","v":"SINAPI-I 43184"},"SINAPI-I",43184,"AR CONDICIONADO SPLIT INVERTER, HI-WALL (PAREDE), 24000 BTU/H, CICLO FRIO, 60HZ, CLASSIFICACAO A (SELO PROCEL), GAS HFC, CONTROLE S/FIO                                                                                                                                                                                                                                                                                                                                                                   ","UN    ","5.288,89",null,null,"CR"]
[{"$f":"CONCATENAR","v":"SINAPI-I 42424"},"SINAPI-I",42424,"AR CONDICIONADO SPLIT INVERTER, HI-WALL (PAREDE), 9000 BTU/H, CICLO FRIO, 60HZ, CLASSIFICACAO A (SELO PROCEL), GAS HFC, CONTROLE S/FIO                                                                                                                                                                                                                                                                                                                                                                    ","UN    ","2.302,13",null,null,"CR"]
[{"$f":"CONCATENAR","v":"SINAPI-I 42421"},"SINAPI-I",42421,"AR CONDICIONADO SPLIT INVERTER, PISO TETO, APRESENTANDO ENTRE 54000 E 58000 BTU/H, CICLO FRIO, 60HZ, CLASSIFICACAO ENERGETICA A OU B (SELO PROCEL), GAS HFC, CONTROLE S/FIO                                                                                                                                                                                                                                                                                                                               ","UN    ","20.960,67",null,null,"CR"]
[{"$f":"CONCATENAR","v":"SINAPI-I 42416"},"SINAPI-I",42416,"AR CONDICIONADO SPLIT INVERTER, PISO TETO, 18000 BTU/H, CICLO FRIO, 60HZ, CLASSIFICACAO ENERGETICA A OU B (SELO PROCEL), GAS HFC, CONTROLE S/FIO                                                                                                                                                                                                                                                                                                                                                          ","UN    ","9.924,23",null,null,"CR"]
[{"$f":"CONCATENAR","v":"SINAPI-I 42417"},"SINAPI-I",42417,"AR CONDICIONADO SPLIT INVERTER, PISO TETO, 24000 BTU/H, CICLO FRIO, 60HZ, CLASSIFICACAO ENERGETICA A OU B (SELO PROCEL), GAS HFC, CONTROLE S/FIO                                                                                                                                                                                                                                                                                                                                                          ","UN    ","11.125,88",null,null,"CR"]
[{"$f":"CONCATENAR","v":"SINAPI-I 42419"},"SINAPI-I",42419,"AR CONDICIONADO SPLIT INVERTER, PISO TETO, 36000 BTU/H, CICLO FRIO, 60HZ, CLASSIFICACAO ENERGETICA A OU B (SELO PROCEL), GAS HFC, CONTROLE S/FIO                                                                                                                                                                                                                                                                                                                                                          ","UN    ","12.569,88",null,null,"CR"]
[{"$f":"CONCATENAR","v":"SINAPI-I 42420"},"SINAPI-I",42420,"AR CONDICIONADO SPLIT INVERTER, PISO TETO, 48000 BTU/H, CICLO FRIO, 60HZ, CLASSIFICACAO ENERGETICA A OU B (SELO PROCEL), GAS HFC, CONTROLE S/FIO                                                                                                                                                                                                                                                                                                                                                          ","UN    ","17.276,37",null,null,"CR"]
[{"$f":"CONCATENAR","v":"SINAPI-I 43195"},"SINAPI-I",43195,"AR CONDICIONADO SPLIT ON/OFF, CASSETE (TETO), FRIO 4 VIAS 18000 BTUS/H, CLASSIFICACAO ENERGETICA C - SELO PROCEL, GAS HFC, CONTROLE S/ FIO                                                                                                                                                                                                                                                                                                                                                                ","UN    ","6.083,25",null,null,"CR"]
[{"$f":"CONCATENAR","v":"SINAPI-I 43196"},"SINAPI-I",43196,"AR CONDICIONADO SPLIT ON/OFF, CASSETE (TETO), FRIO 4 VIAS 24000 BTUS/H, CLASSIFICACAO ENERGETICA C - SELO PROCEL, GAS HFC, CONTROLE S/ FIO                                                                                                                                                                                                                                                                                                                                                                ","UN    ","7.539,32",null,null,"CR"]
[{"$f":"CONCATENAR","v":"SINAPI-I 43198"},"SINAPI-I",43198,"AR CONDICIONADO SPLIT ON/OFF, CASSETE (TETO), FRIO 4 VIAS 36000 BTUS/H, CLASSIFICACAO ENERGETICA C - SELO PROCEL, GAS HFC, CONTROLE S/ FIO                                                                                                                                                                                                                                                                                                                                                                ","UN    ","11.203,25",null,null,"CR"]
[{"$f":"CONCATENAR","v":"SINAPI-I 43199"},"SINAPI-I",43199,"AR CONDICIONADO SPLIT ON/OFF, CASSETE (TETO), FRIO 4 VIAS 48000 BTUS/H, CLASSIFICACAO ENERGETICA C - SELO PROCEL, GAS HFC, CONTROLE S/ FIO                                                                                                                                                                                                                                                                                                                                                                ","UN    ","11.613,77",null,null,"CR"]
[{"$f":"CONCATENAR","v":"SINAPI-I 43200"},"SINAPI-I",43200,"AR CONDICIONADO SPLIT ON/OFF, CASSETE (TETO), FRIO 4 VIAS 60000 BTUS/H, CLASSIFICACAO ENERGETICA C - SELO PROCEL, GAS HFC, CONTROLE S/ FIO                                                                                                                                                                                                                                                                                                                                                                ","UN    ","13.327,65",null,null,"CR"]
[{"$f":"CONCATENAR","v":"SINAPI-I 39556"},"SINAPI-I",39556,"AR CONDICIONADO SPLIT ON/OFF, CASSETE (TETO), 18000 BTUS/H, CICLO QUENTE/FRIO, 60 HZ, CLASSIFICACAO ENERGETICA C - SELO PROCEL, GAS HFC, CONTROLE S/ FIO                                                                                                                                                                                                                                                                                                                                                  ","UN    ","7.279,17",null,null,"CR"]
[{"$f":"CONCATENAR","v":"SINAPI-I 39557"},"SINAPI-I",39557,"AR CONDICIONADO SPLIT ON/OFF, CASSETE (TETO), 24000 BTUS/H, CICLO QUENTE/FRIO, 60 HZ, CLASSIFICACAO ENERGETICA C - SELO PROCEL, GAS HFC, CONTROLE S/ FIO                                                                                                                                                                                                                                                                                                                                                  ","UN    ","7.838,08",null,null,"CR"]
[{"$f":"CONCATENAR","v":"SINAPI-I 39559"},"SINAPI-I",39559,"AR CONDICIONADO SPLIT ON/OFF, CASSETE (TETO), 36000 BTUS/H, CICLO QUENTE/FRIO, 60 HZ, CLASSIFICACAO ENERGETICA A - SELO PROCEL, GAS HFC, CONTROLE S/ FIO                                                                                                                                                                                                                                                                                                                                                  ","UN    ","11.583,17",null,null,"CR"]
[{"$f":"CONCATENAR","v":"SINAPI-I 39560"},"SINAPI-I",39560,"AR CONDICIONADO SPLIT ON/OFF, CASSETE (TETO), 48000 BTUS/H, CICLO QUENTE/FRIO, 60 HZ, CLASSIFICACAO ENERGETICA A - SELO PROCEL, GAS HFC, CONTROLE S/ FIO                                                                                                                                                                                                                                                                                                                                                  ","UN    ","13.400,60",null,null,"CR"]
[{"$f":"CONCATENAR","v":"SINAPI-I 39561"},"SINAPI-I",39561,"AR CONDICIONADO SPLIT ON/OFF, CASSETE (TETO), 60000 BTUS/H, CICLO QUENTE/FRIO, 60 HZ, CLASSIFICACAO ENERGETICA A - SELO PROCEL, GAS HFC, CONTROLE S/ FIO                                                                                                                                                                                                                                                                                                                                                  ","UN    ","14.018,74",null,null,"CR"]
[{"$f":"CONCATENAR","v":"SINAPI-I 43190"},"SINAPI-I",43190,"AR CONDICIONADO SPLIT ON/OFF, HI-WALL (PAREDE), 12000 BTUS/H, CICLO FRIO, 60 HZ, CLASSIFICACAO ENERGETICA A - SELO PROCEL, GAS HFC, CONTROLE S/ FIO                                                                                                                                                                                                                                                                                                                                                       ","UN    ","2.068,79",null,null,"CR"]
[{"$f":"CONCATENAR","v":"SINAPI-I 39555"},"SINAPI-I",39555,"AR CONDICIONADO SPLIT ON/OFF, HI-WALL (PAREDE), 12000 BTUS/H, CICLO QUENTE/FRIO, 60 HZ, CLASSIFICACAO ENERGETICA A - SELO PROCEL, GAS HFC, CONTROLE S/ FIO                                                                                                                                                                                                                                                                                                                                                ","UN    ","2.237,90",null,null,"CR"]
[{"$f":"CONCATENAR","v":"SINAPI-I 43191"},"SINAPI-I",43191,"AR CONDICIONADO SPLIT ON/OFF, HI-WALL (PAREDE), 18000 BTUS/H, CICLO FRIO, 60 HZ, CLASSIFICACAO ENERGETICA A - SELO PROCEL, GAS HFC, CONTROLE S/ FIO                                                                                                                                                                                                                                                                                                                                                       ","UN    ","2.976,72",null,null,"CR"]
[{"$f":"CONCATENAR","v":"SINAPI-I 39548"},"SINAPI-I",39548,"AR CONDICIONADO SPLIT ON/OFF, HI-WALL (PAREDE), 18000 BTUS/H, CICLO QUENTE/FRIO, 60 HZ, CLASSIFICACAO ENERGETICA A - SELO PROCEL, GAS HFC, CONTROLE S/ FIO                                                                                                                                                                                                                                                                                                                                                ","UN    ","3.319,50",null,null,"CR"]
[{"$f":"CONCATENAR","v":"SINAPI-I 43192"},"SINAPI-I",43192,"AR CONDICIONADO SPLIT ON/OFF, HI-WALL (PAREDE), 24000 BTUS/H, CICLO FRIO, 60 HZ, CLASSIFICACAO ENERGETICA A - SELO PROCEL, GAS HFC, CONTROLE S/ FIO                                                                                                                                                                                                                                                                                                                                                       ","UN    ","3.899,23",null,null,"CR"]
[{"$f":"CONCATENAR","v":"SINAPI-I 39554"},"SINAPI-I",39554,"AR CONDICIONADO SPLIT ON/OFF, HI-WALL (PAREDE), 24000 BTUS/H, CICLO QUENTE/FRIO, 60 HZ, CLASSIFICACAO ENERGETICA A - SELO PROCEL, GAS HFC, CONTROLE S/ FIO                                                                                                                                                                                                                                                                                                                                                ","UN    ","4.389,54",null,null,"CR"]
[{"$f":"CONCATENAR","v":"SINAPI-I 43194"},"SINAPI-I",43194,"AR CONDICIONADO SPLIT ON/OFF, HI-WALL (PAREDE), 9000 BTUS/H, CICLO FRIO, 60 HZ, CLASSIFICACAO ENERGETICA A - SELO PROCEL, GAS HFC, CONTROLE S/ FIO                                                                                                                                                                                                                                                                                                                                                        ","UN    ","1.772,27",null,null,"CR"]
[{"$f":"CONCATENAR","v":"SINAPI-I 39551"},"SINAPI-I",39551,"AR CONDICIONADO SPLIT ON/OFF, HI-WALL (PAREDE), 9000 BTUS/H, CICLO QUENTE/FRIO, 60 HZ, CLASSIFICACAO ENERGETICA A - SELO PROCEL, GAS HFC, CONTROLE S/ FIO                                                                                                                                                                                                                                                                                                                                                 ","UN    ","1.951,46",null,null,"CR"]
[{"$f":"CONCATENAR","v":"SINAPI-I 43185"},"SINAPI-I",43185,"AR CONDICIONADO SPLIT ON/OFF, PISO TETO, 18.000 BTU/H, CICLO FRIO, 60HZ, CLASSIFICACAO ENERGETICA C - SELO PROCEL, GAS HFC, CONTROLE S/FIO                                                                                                                                                                                                                                                                                                                                                                ","UN    ","5.545,71",null,null,"CR"]
[{"$f":"CONCATENAR","v":"SINAPI-I 43186"},"SINAPI-I",43186,"AR CONDICIONADO SPLIT ON/OFF, PISO TETO, 24.000 BTU/H, CICLO FRIO, 60HZ, CLASSIFICACAO ENERGETICA C - SELO PROCEL, GAS HFC, CONTROLE S/FIO                                                                                                                                                                                                                                                                                                                                                                ","UN    ","5.849,60",null,null,"CR"]
[{"$f":"CONCATENAR","v":"SINAPI-I 43187"},"SINAPI-I",43187,"AR CONDICIONADO SPLIT ON/OFF, PISO TETO, 36.000 BTU/H, CICLO FRIO, 60HZ, CLASSIFICACAO ENERGETICA C - SELO PROCEL, GAS HFC, CONTROLE S/FIO                                                                                                                                                                                                                                                                                                                                                                ","UN    ","7.762,48",null,null,"CR"]
[{"$f":"CONCATENAR","v":"SINAPI-I 43188"},"SINAPI-I",43188,"AR CONDICIONADO SPLIT ON/OFF, PISO TETO, 48.000 BTU/H, CICLO FRIO, 60HZ, CLASSIFICACAO ENERGETICA C - SELO PROCEL, GAS HFC, CONTROLE S/FIO                                                                                                                                                                                                                                                                                                                                                                ","UN    ","9.405,28",null,null,"CR"]
[{"$f":"CONCATENAR","v":"SINAPI-I 43189"},"SINAPI-I",43189,"AR CONDICIONADO SPLIT ON/OFF, PISO TETO, 60.000 BTU/H, CICLO FRIO, 60HZ, CLASSIFICACAO ENERGETICA C - SELO PROCEL, GAS HFC, CONTROLE S/FIO                                                                                                                                                                                                                                                                                                                                                                ","UN    ","10.579,37",null,null,"CR"]
[{"$f":"CONCATENAR","v":"SINAPI-I 39580"},"SINAPI-I",39580,"AR-CONDICIONADO FRIO SPLITAO INVERTER 30 TR                                                                                                                                                                                                                                                                                                                                                                                                                                                               ","UN    ","83.369,76",null,null,"CR"]
[{"$f":"CONCATENAR","v":"SINAPI-I 39577"},"SINAPI-I",39577,"AR-CONDICIONADO FRIO SPLITAO MODULAR 10 TR                                                                                                                                                                                                                                                                                                                                                                                                                                                                ","UN    ","26.094,56",null,null,"CR"]
[{"$f":"CONCATENAR","v":"SINAPI-I 39578"},"SINAPI-I",39578,"AR-CONDICIONADO FRIO SPLITAO MODULAR 15 TR                                                                                                                                                                                                                                                                                                                                                                                                                                                                ","UN    ","33.675,54",null,null,"CR"]
[{"$f":"CONCATENAR","v":"SINAPI-I 39579"},"SINAPI-I",39579,"AR-CONDICIONADO FRIO SPLITAO MODULAR 20 TR                                                                                                                                                                                                                                                                                                                                                                                                                                                                ","UN    ","48.995,28",null,null,"CR"]
[{"$f":"CONCATENAR","v":"SINAPI-I 39826"},"SINAPI-I",39826,"AR-CONDICIONADO SPLIT INVERTER, PISO TETO, 24000 BTU/H, QUENTE/FRIO, 60HZ, CLASSIFICACAO ENERGETICA A - SELO PROCEL, GAS HFC, CONTROLE S/FIO                                                                                                                                                                                                                                                                                                                                                              ","UN    ","6.017,51",null,null,"CR"]
[{"$f":"CONCATENAR","v":"SINAPI-I 10700"},"SINAPI-I",10700,"ARADO REVERSIVEL COM 3 DISCOS DE 26\" X 6MM REBOCAVEL                                                                                                                                                                                                                                                                                                                                                                                                                                                      ","UN    ","24.999,79",null,null,"CR"]
[{"$f":"CONCATENAR","v":"SINAPI-I 346"},"SINAPI-I",346,"ARAME DE ACO OVALADO 15 X 17 (45,7 KG, 700 KGF), ROLO 1000 M                                                                                                                                                                                                                                                                                                                                                                                                                                              ","KG    ","23,03",null,null,"CR"]
[{"$f":"CONCATENAR","v":"SINAPI-I 3312"},"SINAPI-I",3312,"ARAME DE AMARRACAO PARA GABIAO GALVANIZADO, DIAMETRO 2,2 MM                                                                                                                                                                                                                                                                                                                                                                                                                                               ","KG    ","20,39",null,null,"CR"]
[{"$f":"CONCATENAR","v":"SINAPI-I 339"},"SINAPI-I",339,"ARAME FARPADO GALVANIZADO, 14 BWG (2,11 MM), CLASSE 250                                                                                                                                                                                                                                                                                                                                                                                                                                                   ","M     ","1,18",null,null,"CR"]
[{"$f":"CONCATENAR","v":"SINAPI-I 340"},"SINAPI-I",340,"ARAME FARPADO GALVANIZADO, 16 BWG (1,65 MM), CLASSE 250                                                                                                                                                                                                                                                                                                                                                                                                                                                   ","M     ","1,07",null,null,"CR"]
[{"$f":"CONCATENAR","v":"SINAPI-I 43130"},"SINAPI-I",43130,"ARAME GALVANIZADO 12 BWG, D = 2,76 MM (0,048 KG/M) OU 14 BWG, D = 2,11 MM (0,026 KG/M)                                                                                                                                                                                                                                                                                                                                                                                                                    ","KG    ","19,44",null,null,"C "]
[{"$f":"CONCATENAR","v":"SINAPI-I 344"},"SINAPI-I",344,"ARAME GALVANIZADO 16 BWG, D = 1,65MM (0,0166 KG/M)                                                                                                                                                                                                                                                                                                                                                                                                                                                        ","KG    ","25,55",null,null,"CR"]
[{"$f":"CONCATENAR","v":"SINAPI-I 345"},"SINAPI-I",345,"ARAME GALVANIZADO 18 BWG, D = 1,24MM (0,009 KG/M)                                                                                                                                                                                                                                                                                                                                                                                                                                                         ","KG    ","27,73",null,null,"CR"]
[{"$f":"CONCATENAR","v":"SINAPI-I 43131"},"SINAPI-I",43131,"ARAME GALVANIZADO 6 BWG, D = 5,16 MM (0,157 KG/M), OU 8 BWG, D = 4,19 MM (0,101 KG/M), OU 10 BWG, D = 3,40 MM (0,0713 KG/M)                                                                                                                                                                                                                                                                                                                                                                               ","KG    ","22,58",null,null,"CR"]
[{"$f":"CONCATENAR","v":"SINAPI-I 3313"},"SINAPI-I",3313,"ARAME PROTEGIDO COM POLIMERO PARA GABIAO, DIAMETRO 2,2 MM                                                                                                                                                                                                                                                                                                                                                                                                                                                 ","KG    ","26,24",null,null,"CR"]
[{"$f":"CONCATENAR","v":"SINAPI-I 43132"},"SINAPI-I",43132,"ARAME RECOZIDO 16 BWG, D = 1,65 MM (0,016 KG/M) OU 18 BWG, D = 1,25 MM (0,01 KG/M)                                                                                                                                                                                                                                                                                                                                                                                                                        ","KG    ","19,44",null,null,"CR"]
[{"$f":"CONCATENAR","v":"SINAPI-I 366"},"SINAPI-I",366,"AREIA FINA - POSTO JAZIDA/FORNECEDOR (RETIRADO NA JAZIDA, SEM TRANSPORTE)                                                                                                                                                                                                                                                                                                                                                                                                                                 ","M3    ","97,50",null,null,"C "]
[{"$f":"CONCATENAR","v":"SINAPI-I 367"},"SINAPI-I",367,"AREIA GROSSA - POSTO JAZIDA/FORNECEDOR (RETIRADO NA JAZIDA, SEM TRANSPORTE)                                                                                                                                                                                                                                                                                                                                                                                                                               ","M3    ","98,77",null,null,"CR"]
[{"$f":"CONCATENAR","v":"SINAPI-I 370"},"SINAPI-I",370,"AREIA MEDIA - POSTO JAZIDA/FORNECEDOR (RETIRADO NA JAZIDA, SEM TRANSPORTE)                                                                                                                                                                                                                                                                                                                                                                                                                                ","M3    ","97,50",null,null,"CR"]
[{"$f":"CONCATENAR","v":"SINAPI-I 368"},"SINAPI-I",368,"AREIA PARA ATERRO - POSTO JAZIDA/FORNECEDOR (RETIRADO NA JAZIDA, SEM TRANSPORTE)                                                                                                                                                                                                                                                                                                                                                                                                                          ","M3    ","48,75",null,null,"CR"]
[{"$f":"CONCATENAR","v":"SINAPI-I 11075"},"SINAPI-I",11075,"AREIA PARA LEITO FILTRANTE (0,42 A 1,68 MM) - POSTO JAZIDA/FORNECEDOR (RETIRADO NA JAZIDA, SEM TRANSPORTE)                                                                                                                                                                                                                                                                                                                                                                                                ","M3    ","1.118,99",null,null,"CR"]
[{"$f":"CONCATENAR","v":"SINAPI-I 1381"},"SINAPI-I",1381,"ARGAMASSA COLANTE AC I PARA CERAMICAS                                                                                                                                                                                                                                                                                                                                                                                                                                                                     ","KG    ","0,81",null,null,"C "]
[{"$f":"CONCATENAR","v":"SINAPI-I 34353"},"SINAPI-I",34353,"ARGAMASSA COLANTE AC II                                                                                                                                                                                                                                                                                                                                                                                                                                                                                   ","KG    ","1,50",null,null,"CR"]
[{"$f":"CONCATENAR","v":"SINAPI-I 37595"},"SINAPI-I",37595,"ARGAMASSA COLANTE TIPO AC III                                                                                                                                                                                                                                                                                                                                                                                                                                                                             ","KG    ","2,49",null,null,"CR"]
[{"$f":"CONCATENAR","v":"SINAPI-I 37596"},"SINAPI-I",37596,"ARGAMASSA COLANTE TIPO AC III E                                                                                                                                                                                                                                                                                                                                                                                                                                                                           ","KG    ","2,85",null,null,"CR"]
[{"$f":"CONCATENAR","v":"SINAPI-I 371"},"SINAPI-I",371,"ARGAMASSA INDUSTRIALIZADA MULTIUSO, PARA REVESTIMENTO INTERNO E EXTERNO E ASSENTAMENTO DE BLOCOS DIVERSOS                                                                                                                                                                                                                                                                                                                                                                                                 ","KG    ","0,88",null,null,"CR"]
[{"$f":"CONCATENAR","v":"SINAPI-I 37553"},"SINAPI-I",37553,"ARGAMASSA INDUSTRIALIZADA PARA CHAPISCO COLANTE                                                                                                                                                                                                                                                                                                                                                                                                                                                           ","KG    ","1,65",null,null,"CR"]
[{"$f":"CONCATENAR","v":"SINAPI-I 37552"},"SINAPI-I",37552,"ARGAMASSA INDUSTRIALIZADA PARA CHAPISCO ROLADO                                                                                                                                                                                                                                                                                                                                                                                                                                                            ","KG    ","2,66",null,null,"CR"]
[{"$f":"CONCATENAR","v":"SINAPI-I 36880"},"SINAPI-I",36880,"ARGAMASSA PARA REVESTIMENTO DECORATIVO MONOCAMADA                                                                                                                                                                                                                                                                                                                                                                                                                                                         ","KG    ","2,70",null,null,"CR"]
[{"$f":"CONCATENAR","v":"SINAPI-I 34355"},"SINAPI-I",34355,"ARGAMASSA PISO SOBRE PISO                                                                                                                                                                                                                                                                                                                                                                                                                                                                                 ","KG    ","2,32",null,null,"CR"]
[{"$f":"CONCATENAR","v":"SINAPI-I 130"},"SINAPI-I",130,"ARGAMASSA POLIMERICA DE REPARO ESTRUTURAL, BICOMPONENTE                                                                                                                                                                                                                                                                                                                                                                                                                                                   ","KG    ","4,34",null,null,"CR"]
[{"$f":"CONCATENAR","v":"SINAPI-I 135"},"SINAPI-I",135,"ARGAMASSA POLIMERICA IMPERMEABILIZANTE SEMIFLEXIVEL, BICOMPONENTE, A BASE DE CIMENTO E ADITIVOS                                                                                                                                                                                                                                                                                                                                                                                                           ","KG    ","3,49",null,null,"CR"]
[{"$f":"CONCATENAR","v":"SINAPI-I 36886"},"SINAPI-I",36886,"ARGAMASSA PRONTA PARA CONTRAPISO                                                                                                                                                                                                                                                                                                                                                                                                                                                                          ","KG    ","0,84",null,null,"CR"]
[{"$f":"CONCATENAR","v":"SINAPI-I 38546"},"SINAPI-I",38546,"ARGAMASSA USINADA AUTOADENSAVEL E AUTONIVELANTE PARA CONTRAPISO, COM BOMBEAMENTO (DISPONIBILIZACAO DE BOMBA), SEM O LANCAMENTO                                                                                                                                                                                                                                                                                                                                                                            ","M3    ","554,30",null,null,"CR"]
[{"$f":"CONCATENAR","v":"SINAPI-I 34549"},"SINAPI-I",34549,"ARGILA EXPANDIDA, GRANULOMETRIA 2215                                                                                                                                                                                                                                                                                                                                                                                                                                                                      ","M3    ","747,19",null,null,"AS"]
[{"$f":"CONCATENAR","v":"SINAPI-I 6081"},"SINAPI-I",6081,"ARGILA OU BARRO PARA ATERRO/REATERRO (COM TRANSPORTE ATE 10 KM)                                                                                                                                                                                                                                                                                                                                                                                                                                           ","M3    ","52,30",null,null,"AS"]
[{"$f":"CONCATENAR","v":"SINAPI-I 6077"},"SINAPI-I",6077,"ARGILA OU BARRO PARA ATERRO/REATERRO (RETIRADO NA JAZIDA, SEM TRANSPORTE)                                                                                                                                                                                                                                                                                                                                                                                                                                 ","M3    ","37,35",null,null,"AS"]
[{"$f":"CONCATENAR","v":"SINAPI-I 6079"},"SINAPI-I",6079,"ARGILA, ARGILA VERMELHA OU ARGILA ARENOSA (RETIRADA NA JAZIDA, SEM TRANSPORTE)                                                                                                                                                                                                                                                                                                                                                                                                                            ","M3    ","37,35",null,null,"AS"]
[{"$f":"CONCATENAR","v":"SINAPI-I 1091"},"SINAPI-I",1091,"ARMACAO VERTICAL COM HASTE E CONTRA-PINO, EM CHAPA DE ACO GALVANIZADO 3/16\", COM 1 ESTRIBO E 1 ISOLADOR                                                                                                                                                                                                                                                                                                                                                                                                   ","UN    ","26,08",null,null,"AS"]
[{"$f":"CONCATENAR","v":"SINAPI-I 1094"},"SINAPI-I",1094,"ARMACAO VERTICAL COM HASTE E CONTRA-PINO, EM CHAPA DE ACO GALVANIZADO 3/16\", COM 1 ESTRIBO, SEM ISOLADOR                                                                                                                                                                                                                                                                                                                                                                                                  ","UN    ","18,24",null,null,"AS"]
[{"$f":"CONCATENAR","v":"SINAPI-I 1095"},"SINAPI-I",1095,"ARMACAO VERTICAL COM HASTE E CONTRA-PINO, EM CHAPA DE ACO GALVANIZADO 3/16\", COM 2 ESTRIBOS, E 2 ISOLADORES                                                                                                                                                                                                                                                                                                                                                                                               ","UN    ","38,77",null,null,"AS"]
[{"$f":"CONCATENAR","v":"SINAPI-I 1092"},"SINAPI-I",1092,"ARMACAO VERTICAL COM HASTE E CONTRA-PINO, EM CHAPA DE ACO GALVANIZADO 3/16\", COM 2 ESTRIBOS, SEM ISOLADOR                                                                                                                                                                                                                                                                                                                                                                                                 ","UN    ","30,00",null,null,"AS"]
[{"$f":"CONCATENAR","v":"SINAPI-I 1093"},"SINAPI-I",1093,"ARMACAO VERTICAL COM HASTE E CONTRA-PINO, EM CHAPA DE ACO GALVANIZADO 3/16\", COM 3 ESTRIBOS E 3 ISOLADORES                                                                                                                                                                                                                                                                                                                                                                                                ","UN    ","70,06",null,null,"AS"]
[{"$f":"CONCATENAR","v":"SINAPI-I 1090"},"SINAPI-I",1090,"ARMACAO VERTICAL COM HASTE E CONTRA-PINO, EM CHAPA DE ACO GALVANIZADO 3/16\", COM 3 ESTRIBOS, SEM ISOLADOR                                                                                                                                                                                                                                                                                                                                                                                                 ","UN    ","50,16",null,null,"AS"]
[{"$f":"CONCATENAR","v":"SINAPI-I 1096"},"SINAPI-I",1096,"ARMACAO VERTICAL COM HASTE E CONTRA-PINO, EM CHAPA DE ACO GALVANIZADO 3/16\", COM 4 ESTRIBOS E 4 ISOLADORES                                                                                                                                                                                                                                                                                                                                                                                                ","UN    ","90,27",null,null,"AS"]
[{"$f":"CONCATENAR","v":"SINAPI-I 1097"},"SINAPI-I",1097,"ARMACAO VERTICAL COM HASTE E CONTRA-PINO, EM CHAPA DE ACO GALVANIZADO 3/16\", COM 4 ESTRIBOS, SEM ISOLADOR                                                                                                                                                                                                                                                                                                                                                                                                 ","UN    ","76,63",null,null,"AS"]
[{"$f":"CONCATENAR","v":"SINAPI-I 378"},"SINAPI-I",378,"ARMADOR (HORISTA)                                                                                                                                                                                                                                                                                                                                                                                                                                                                                         ","H     ","18,56",null,null,"CR"]
[{"$f":"CONCATENAR","v":"SINAPI-I 40911"},"SINAPI-I",40911,"ARMADOR (MENSALISTA)                                                                                                                                                                                                                                                                                                                                                                                                                                                                                      ","MES   ","3.255,53",null,null,"CR"]
[{"$f":"CONCATENAR","v":"SINAPI-I 33939"},"SINAPI-I",33939,"ARQUITETO JUNIOR (HORISTA)                                                                                                                                                                                                                                                                                                                                                                                                                                                                                ","H     ","98,11",null,null,"CR"]
[{"$f":"CONCATENAR","v":"SINAPI-I 40815"},"SINAPI-I",40815,"ARQUITETO JUNIOR (MENSALISTA)                                                                                                                                                                                                                                                                                                                                                                                                                                                                             ","MES   ","17.207,04",null,null,"CR"]
[{"$f":"CONCATENAR","v":"SINAPI-I 33952"},"SINAPI-I",33952,"ARQUITETO PLENO (HORISTA)                                                                                                                                                                                                                                                                                                                                                                                                                                                                                 ","H     ","103,93",null,null,"CR"]
[{"$f":"CONCATENAR","v":"SINAPI-I 40816"},"SINAPI-I",40816,"ARQUITETO PLENO (MENSALISTA)                                                                                                                                                                                                                                                                                                                                                                                                                                                                              ","MES   ","18.229,20",null,null,"CR"]
[{"$f":"CONCATENAR","v":"SINAPI-I 33953"},"SINAPI-I",33953,"ARQUITETO SENIOR (HORISTA)                                                                                                                                                                                                                                                                                                                                                                                                                                                                                ","H     ","108,92",null,null,"CR"]
[{"$f":"CONCATENAR","v":"SINAPI-I 40817"},"SINAPI-I",40817,"ARQUITETO SENIOR (MENSALISTA)                                                                                                                                                                                                                                                                                                                                                                                                                                                                             ","MES   ","19.104,79",null,null,"CR"]
[{"$f":"CONCATENAR","v":"SINAPI-I 13348"},"SINAPI-I",13348,"ARRUELA EM ACO GALVANIZADO, DIAMETRO EXTERNO = 35MM, ESPESSURA = 3MM, DIAMETRO DO FURO= 18MM                                                                                                                                                                                                                                                                                                                                                                                                              ","UN    ","1,63",null,null,"AS"]
[{"$f":"CONCATENAR","v":"SINAPI-I 39212"},"SINAPI-I",39212,"ARRUELA EM ALUMINIO, COM ROSCA, DE 1 1/2\", PARA ELETRODUTO                                                                                                                                                                                                                                                                                                                                                                                                                                                ","UN    ","2,33",null,null,"CR"]
[{"$f":"CONCATENAR","v":"SINAPI-I 39211"},"SINAPI-I",39211,"ARRUELA EM ALUMINIO, COM ROSCA, DE 1 1/4\", PARA ELETRODUTO                                                                                                                                                                                                                                                                                                                                                                                                                                                ","UN    ","2,09",null,null,"CR"]
[{"$f":"CONCATENAR","v":"SINAPI-I 39208"},"SINAPI-I",39208,"ARRUELA EM ALUMINIO, COM ROSCA, DE 1/2\", PARA ELETRODUTO                                                                                                                                                                                                                                                                                                                                                                                                                                                  ","UN    ","0,64",null,null,"CR"]
[{"$f":"CONCATENAR","v":"SINAPI-I 39210"},"SINAPI-I",39210,"ARRUELA EM ALUMINIO, COM ROSCA, DE 1\", PARA ELETRODUTO                                                                                                                                                                                                                                                                                                                                                                                                                                                    ","UN    ","1,17",null,null,"CR"]
[{"$f":"CONCATENAR","v":"SINAPI-I 39214"},"SINAPI-I",39214,"ARRUELA EM ALUMINIO, COM ROSCA, DE 2 1/2\", PARA ELETRODUTO                                                                                                                                                                                                                                                                                                                                                                                                                                                ","UN    ","4,32",null,null,"CR"]
[{"$f":"CONCATENAR","v":"SINAPI-I 39213"},"SINAPI-I",39213,"ARRUELA EM ALUMINIO, COM ROSCA, DE 2\", PARA ELETRODUTO                                                                                                                                                                                                                                                                                                                                                                                                                                                    ","UN    ","3,05",null,null,"CR"]
[{"$f":"CONCATENAR","v":"SINAPI-I 39209"},"SINAPI-I",39209,"ARRUELA EM ALUMINIO, COM ROSCA, DE 3/4\", PARA ELETRODUTO                                                                                                                                                                                                                                                                                                                                                                                                                                                  ","UN    ","0,76",null,null,"CR"]
[{"$f":"CONCATENAR","v":"SINAPI-I 39207"},"SINAPI-I",39207,"ARRUELA EM ALUMINIO, COM ROSCA, DE 3/8\", PARA ELETRODUTO                                                                                                                                                                                                                                                                                                                                                                                                                                                  ","UN    ","1,17",null,null,"CR"]
[{"$f":"CONCATENAR","v":"SINAPI-I 39215"},"SINAPI-I",39215,"ARRUELA EM ALUMINIO, COM ROSCA, DE 3\", PARA ELETRODUTO                                                                                                                                                                                                                                                                                                                                                                                                                                                    ","UN    ","7,87",null,null,"CR"]
[{"$f":"CONCATENAR","v":"SINAPI-I 39216"},"SINAPI-I",39216,"ARRUELA EM ALUMINIO, COM ROSCA, DE 4\", PARA ELETRODUTO                                                                                                                                                                                                                                                                                                                                                                                                                                                    ","UN    ","10,98",null,null,"CR"]
[{"$f":"CONCATENAR","v":"SINAPI-I 11267"},"SINAPI-I",11267,"ARRUELA LISA, REDONDA, DE LATAO POLIDO, DIAMETRO NOMINAL 5/8\", DIAMETRO EXTERNO = 34 MM, DIAMETRO DO FURO = 17 MM, ESPESSURA = *2,5* MM                                                                                                                                                                                                                                                                                                                                                                   ","UN    ","1,43",null,null,"AS"]
[{"$f":"CONCATENAR","v":"SINAPI-I 379"},"SINAPI-I",379,"ARRUELA QUADRADA EM ACO GALVANIZADO, DIMENSAO = 38 MM, ESPESSURA = 3MM, DIAMETRO DO FURO= 18 MM                                                                                                                                                                                                                                                                                                                                                                                                           ","UN    ","1,43",null,null,"AS"]
[{"$f":"CONCATENAR","v":"SINAPI-I 510"},"SINAPI-I",510,"ASFALTO MODIFICADO TIPO I - NBR 9910 (ASFALTO OXIDADO PARA IMPERMEABILIZACAO, COEFICIENTE DE PENETRACAO 25-40)                                                                                                                                                                                                                                                                                                                                                                                            ","KG    ","16,22",null,null,"CR"]
[{"$f":"CONCATENAR","v":"SINAPI-I 516"},"SINAPI-I",516,"ASFALTO MODIFICADO TIPO II - NBR 9910 (ASFALTO OXIDADO PARA IMPERMEABILIZACAO, COEFICIENTE DE PENETRACAO 20-35)                                                                                                                                                                                                                                                                                                                                                                                           ","KG    ","19,22",null,null,"CR"]
[{"$f":"CONCATENAR","v":"SINAPI-I 509"},"SINAPI-I",509,"ASFALTO MODIFICADO TIPO III - NBR 9910 (ASFALTO OXIDADO PARA IMPERMEABILIZACAO, COEFICIENTE DE PENETRACAO 15-25)                                                                                                                                                                                                                                                                                                                                                                                          ","KG    ","21,57",null,null,"CR"]
[{"$f":"CONCATENAR","v":"SINAPI-I 40331"},"SINAPI-I",40331,"ASSENTADOR DE MANILHAS (HORISTA)                                                                                                                                                                                                                                                                                                                                                                                                                                                                          ","H     ","13,98",null,null,"CR"]
[{"$f":"CONCATENAR","v":"SINAPI-I 40930"},"SINAPI-I",40930,"ASSENTADOR DE MANILHAS (MENSALISTA)                                                                                                                                                                                                                                                                                                                                                                                                                                                                       ","MES   ","2.454,84",null,null,"CR"]
[{"$f":"CONCATENAR","v":"SINAPI-I 377"},"SINAPI-I",377,"ASSENTO SANITARIO DE PLASTICO, TIPO CONVENCIONAL                                                                                                                                                                                                                                                                                                                                                                                                                                                          ","UN    ","35,95",null,null,"C "]
[{"$f":"CONCATENAR","v":"SINAPI-I 11761"},"SINAPI-I",11761,"ASSENTO VASO SANITARIO INFANTIL EM PLASTICO BRANCO                                                                                                                                                                                                                                                                                                                                                                                                                                                        ","UN    ","76,50",null,null,"CR"]
[{"$f":"CONCATENAR","v":"SINAPI-I 7588"},"SINAPI-I",7588,"AUTOMATICO DE BOIA SUPERIOR / INFERIOR, *15* A / 250 V                                                                                                                                                                                                                                                                                                                                                                                                                                                    ","UN    ","41,70",null,null,"C "]
[{"$f":"CONCATENAR","v":"SINAPI-I 34551"},"SINAPI-I",34551,"AUXILIAR DE AZULEJISTA (HORISTA)                                                                                                                                                                                                                                                                                                                                                                                                                                                                          ","H     ","14,58",null,null,"CR"]
[{"$f":"CONCATENAR","v":"SINAPI-I 41078"},"SINAPI-I",41078,"AUXILIAR DE AZULEJISTA (MENSALISTA)                                                                                                                                                                                                                                                                                                                                                                                                                                                                       ","MES   ","2.561,01",null,null,"CR"]
[{"$f":"CONCATENAR","v":"SINAPI-I 246"},"SINAPI-I",246,"AUXILIAR DE ENCANADOR OU BOMBEIRO HIDRAULICO (HORISTA)                                                                                                                                                                                                                                                                                                                                                                                                                                                    ","H     ","15,68",null,null,"CR"]
[{"$f":"CONCATENAR","v":"SINAPI-I 40927"},"SINAPI-I",40927,"AUXILIAR DE ENCANADOR OU BOMBEIRO HIDRAULICO (MENSALISTA)                                                                                                                                                                                                                                                                                                                                                                                                                                                 ","MES   ","2.752,30",null,null,"CR"]
[{"$f":"CONCATENAR","v":"SINAPI-I 2350"},"SINAPI-I",2350,"AUXILIAR DE ESCRITORIO (HORISTA)                                                                                                                                                                                                                                                                                                                                                                                                                                                                          ","H     ","17,44",null,null,"CR"]
[{"$f":"CONCATENAR","v":"SINAPI-I 40812"},"SINAPI-I",40812,"AUXILIAR DE ESCRITORIO (MENSALISTA)                                                                                                                                                                                                                                                                                                                                                                                                                                                                       ","MES   ","3.062,21",null,null,"CR"]
[{"$f":"CONCATENAR","v":"SINAPI-I 245"},"SINAPI-I",245,"AUXILIAR DE LABORATORISTA DE SOLOS E DE CONCRETO (HORISTA)                                                                                                                                                                                                                                                                                                                                                                                                                                                ","H     ","23,49",null,null,"CR"]
[{"$f":"CONCATENAR","v":"SINAPI-I 41090"},"SINAPI-I",41090,"AUXILIAR DE LABORATORISTA DE SOLOS E DE CONCRETO (MENSALISTA)                                                                                                                                                                                                                                                                                                                                                                                                                                             ","MES   ","4.122,02",null,null,"CR"]
[{"$f":"CONCATENAR","v":"SINAPI-I 251"},"SINAPI-I",251,"AUXILIAR DE MECANICO (HORISTA)                                                                                                                                                                                                                                                                                                                                                                                                                                                                            ","H     ","15,68",null,null,"CR"]
[{"$f":"CONCATENAR","v":"SINAPI-I 40975"},"SINAPI-I",40975,"AUXILIAR DE MECANICO (MENSALISTA)                                                                                                                                                                                                                                                                                                                                                                                                                                                                         ","MES   ","2.752,30",null,null,"CR"]
[{"$f":"CONCATENAR","v":"SINAPI-I 6127"},"SINAPI-I",6127,"AUXILIAR DE PEDREIRO (HORISTA)                                                                                                                                                                                                                                                                                                                                                                                                                                                                            ","H     ","15,68",null,null,"CR"]
[{"$f":"CONCATENAR","v":"SINAPI-I 41072"},"SINAPI-I",41072,"AUXILIAR DE PEDREIRO (MENSALISTA)                                                                                                                                                                                                                                                                                                                                                                                                                                                                         ","MES   ","2.752,30",null,null,"CR"]
[{"$f":"CONCATENAR","v":"SINAPI-I 6121"},"SINAPI-I",6121,"AUXILIAR DE SERVICOS GERAIS (HORISTA)                                                                                                                                                                                                                                                                                                                                                                                                                                                                     ","H     ","14,58",null,null,"CR"]
[{"$f":"CONCATENAR","v":"SINAPI-I 41071"},"SINAPI-I",41071,"AUXILIAR DE SERVICOS GERAIS (MENSALISTA)                                                                                                                                                                                                                                                                                                                                                                                                                                                                  ","MES   ","2.558,15",null,null,"CR"]
[{"$f":"CONCATENAR","v":"SINAPI-I 244"},"SINAPI-I",244,"AUXILIAR DE TOPOGRAFO (HORISTA)                                                                                                                                                                                                                                                                                                                                                                                                                                                                           ","H     ","13,43",null,null,"CR"]
[{"$f":"CONCATENAR","v":"SINAPI-I 41093"},"SINAPI-I",41093,"AUXILIAR DE TOPOGRAFO (MENSALISTA)                                                                                                                                                                                                                                                                                                                                                                                                                                                                        ","MES   ","2.355,99",null,null,"CR"]
[{"$f":"CONCATENAR","v":"SINAPI-I 532"},"SINAPI-I",532,"AUXILIAR TECNICO / ASSISTENTE DE ENGENHARIA (HORISTA)                                                                                                                                                                                                                                                                                                                                                                                                                                                     ","H     ","26,90",null,null,"CR"]
[{"$f":"CONCATENAR","v":"SINAPI-I 40931"},"SINAPI-I",40931,"AUXILIAR TECNICO / ASSISTENTE DE ENGENHARIA (MENSALISTA)                                                                                                                                                                                                                                                                                                                                                                                                                                                  ","MES   ","4.718,16",null,null,"CR"]
[{"$f":"CONCATENAR","v":"SINAPI-I 36150"},"SINAPI-I",36150,"AVENTAL DE SEGURANCA DE RASPA DE COURO 1,00 X 0,60 M                                                                                                                                                                                                                                                                                                                                                                                                                                                      ","UN    ","50,99",null,null,"CR"]
[{"$f":"CONCATENAR","v":"SINAPI-I 4760"},"SINAPI-I",4760,"AZULEJISTA OU LADRILHEIRO (HORISTA)                                                                                                                                                                                                                                                                                                                                                                                                                                                                       ","H     ","18,56",null,null,"CR"]
[{"$f":"CONCATENAR","v":"SINAPI-I 41069"},"SINAPI-I",41069,"AZULEJISTA OU LADRILHEIRO (MENSALISTA)                                                                                                                                                                                                                                                                                                                                                                                                                                                                    ","MES   ","3.255,53",null,null,"CR"]
[{"$f":"CONCATENAR","v":"SINAPI-I 10422"},"SINAPI-I",10422,"BACIA SANITARIA (VASO) COM CAIXA ACOPLADA, SIFAO APARENTE, DE LOUCA BRANCA (SEM ASSENTO)                                                                                                                                                                                                                                                                                                                                                                                                                  ","UN    ","387,67",null,null,"CR"]
[{"$f":"CONCATENAR","v":"SINAPI-I 44019"},"SINAPI-I",44019,"BACIA SANITARIA (VASO) COM CAIXA ACOPLADA, SIFAO OCULTO / CARENADO, DE LOUCA BRANCA (SEM ASSENTO) - PADRAO ALTO                                                                                                                                                                                                                                                                                                                                                                                           ","UN    ","536,63",null,null,"CR"]
[{"$f":"CONCATENAR","v":"SINAPI-I 36520"},"SINAPI-I",36520,"BACIA SANITARIA (VASO) CONVENCIONAL PARA PCD, SEM FURO FRONTAL, DE LOUCA BRANCA (SEM ASSENTO)                                                                                                                                                                                                                                                                                                                                                                                                             ","UN    ","652,48",null,null,"CR"]
[{"$f":"CONCATENAR","v":"SINAPI-I 42319"},"SINAPI-I",42319,"BACIA SANITARIA (VASO) CONVENCIONAL PARA USO ESPECIFICO (HOSPITAIS, CLINICAS), COM FURO FRONTAL, DE LOUCA BRANCA, SEM ASSENTO                                                                                                                                                                                                                                                                                                                                                                             ","UN    ","584,66",null,null,"CR"]
[{"$f":"CONCATENAR","v":"SINAPI-I 10420"},"SINAPI-I",10420,"BACIA SANITARIA (VASO) CONVENCIONAL, DE LOUCA BRANCA, SIFAO APARENTE, SAIDA VERTICAL (SEM ASSENTO)                                                                                                                                                                                                                                                                                                                                                                                                        ","UN    ","207,40",null,null,"C "]
[{"$f":"CONCATENAR","v":"SINAPI-I 10421"},"SINAPI-I",10421,"BACIA SANITARIA (VASO) CONVENCIONAL, DE LOUCA COLORIDA, SIFAO APARENTE, SAIDA VERTICAL (SEM ASSENTO)                                                                                                                                                                                                                                                                                                                                                                                                      ","UN    ","227,91",null,null,"CR"]
[{"$f":"CONCATENAR","v":"SINAPI-I 11786"},"SINAPI-I",11786,"BACIA SANITARIA (VASO) INFANTIL, SIFONADO, DE LOUCA BRANCA, (SEM ASSENTO)                                                                                                                                                                                                                                                                                                                                                                                                                                 ","UN    ","459,55",null,null,"CR"]
[{"$f":"CONCATENAR","v":"SINAPI-I 4815"},"SINAPI-I",4815,"BALDE VERMELHO PARA SINALIZACAO DE VIAS                                                                                                                                                                                                                                                                                                                                                                                                                                                                   ","UN    ","7,21",null,null,"CR"]
[{"$f":"CONCATENAR","v":"SINAPI-I 541"},"SINAPI-I",541,"BANCADA DE MARMORE SINTETICO COM UMA CUBA, 120 X *60* CM                                                                                                                                                                                                                                                                                                                                                                                                                                                  ","UN    ","261,83",null,null,"C "]
[{"$f":"CONCATENAR","v":"SINAPI-I 542"},"SINAPI-I",542,"BANCADA DE MARMORE SINTETICO COM UMA CUBA, 150 X *60* CM                                                                                                                                                                                                                                                                                                                                                                                                                                                  ","UN    ","328,20",null,null,"CR"]
[{"$f":"CONCATENAR","v":"SINAPI-I 540"},"SINAPI-I",540,"BANCADA DE MARMORE SINTETICO COM UMA CUBA, 200 X *60* CM                                                                                                                                                                                                                                                                                                                                                                                                                                                  ","UN    ","739,61",null,null,"CR"]
[{"$f":"CONCATENAR","v":"SINAPI-I 38364"},"SINAPI-I",38364,"BANCADA/ BANCA EM GRANITO, POLIDO, TIPO ANDORINHA/ QUARTZ/ CASTELO/ CORUMBA OU OUTROS EQUIVALENTES DA REGIAO, COM CUBA INOX, FORMATO *120 X 60* CM, E= *2* CM                                                                                                                                                                                                                                                                                                                                             ","UN    ","922,43",null,null,"CR"]
[{"$f":"CONCATENAR","v":"SINAPI-I 11692"},"SINAPI-I",11692,"BANCADA/ BANCA/ BALCAO/ TAMPO EM MARMORE BRANCO COMUM, POLIDO, LISO, ACABAMENTO RETO, E= *3* CM (SEM FUROS)                                                                                                                                                                                                                                                                                                                                                                                               ","M2    ","509,40",null,null,"CR"]
[{"$f":"CONCATENAR","v":"SINAPI-I 1746"},"SINAPI-I",1746,"BANCADA/BANCA/PIA DE ACO INOXIDAVEL (AISI 430) COM 1 CUBA CENTRAL, COM VALVULA, ESCORREDOR DUPLO, DE *0,55 X 1,20* M                                                                                                                                                                                                                                                                                                                                                                                      ","UN    ","319,90",null,null,"C "]
[{"$f":"CONCATENAR","v":"SINAPI-I 1748"},"SINAPI-I",1748,"BANCADA/BANCA/PIA DE ACO INOXIDAVEL (AISI 430) COM 1 CUBA CENTRAL, COM VALVULA, ESCORREDOR DUPLO, DE *0,55 X 1,40* M                                                                                                                                                                                                                                                                                                                                                                                      ","UN    ","425,39",null,null,"CR"]
[{"$f":"CONCATENAR","v":"SINAPI-I 1749"},"SINAPI-I",1749,"BANCADA/BANCA/PIA DE ACO INOXIDAVEL (AISI 430) COM 1 CUBA CENTRAL, COM VALVULA, ESCORREDOR DUPLO, DE *0,55 X 1,80* M                                                                                                                                                                                                                                                                                                                                                                                      ","UN    ","616,31",null,null,"CR"]
[{"$f":"CONCATENAR","v":"SINAPI-I 37412"},"SINAPI-I",37412,"BANCADA/BANCA/PIA DE ACO INOXIDAVEL (AISI 430) COM 1 CUBA CENTRAL, COM VALVULA, LISA (SEM ESCORREDOR), DE *0,55 X 1,20* M                                                                                                                                                                                                                                                                                                                                                                                 ","UN    ","312,70",null,null,"CR"]
[{"$f":"CONCATENAR","v":"SINAPI-I 1745"},"SINAPI-I",1745,"BANCADA/BANCA/PIA DE ACO INOXIDAVEL (AISI 430) COM 1 CUBA CENTRAL, SEM VALVULA, ESCORREDOR DUPLO, DE *0,55 X 1,60* M                                                                                                                                                                                                                                                                                                                                                                                      ","UN    ","371,84",null,null,"CR"]
[{"$f":"CONCATENAR","v":"SINAPI-I 1750"},"SINAPI-I",1750,"BANCADA/BANCA/PIA DE ACO INOXIDAVEL (AISI 430) COM 2 CUBAS, COM VALVULAS, ESCORREDOR DUPLO, DE *0,55 X 2,00* M                                                                                                                                                                                                                                                                                                                                                                                            ","UN    ","868,94",null,null,"CR"]
[{"$f":"CONCATENAR","v":"SINAPI-I 11687"},"SINAPI-I",11687,"BANCADA/TAMPO ACO INOX (AISI 304), LARGURA 60 CM, COM RODABANCA (NAO INCLUI PES DE APOIO)                                                                                                                                                                                                                                                                                                                                                                                                                 ","M     ","1.384,49",null,null,"CR"]
[{"$f":"CONCATENAR","v":"SINAPI-I 11689"},"SINAPI-I",11689,"BANCADA/TAMPO ACO INOX (AISI 304), LARGURA 70 CM, COM RODABANCA (NAO INCLUI PES DE APOIO)                                                                                                                                                                                                                                                                                                                                                                                                                 ","M     ","1.734,69",null,null,"CR"]
[{"$f":"CONCATENAR","v":"SINAPI-I 11693"},"SINAPI-I",11693,"BANCADA/TAMPO LISO (SEM CUBA) EM MARMORE SINTETICO                                                                                                                                                                                                                                                                                                                                                                                                                                                        ","M2    ","290,31",null,null,"CR"]
[{"$f":"CONCATENAR","v":"SINAPI-I 36215"},"SINAPI-I",36215,"BANCO ARTICULADO PARA BANHO, EM ACO INOX POLIDO, 70* CM X 45* CM                                                                                                                                                                                                                                                                                                                                                                                                                                          ","UN    ","1.296,75",null,null,"CR"]
[{"$f":"CONCATENAR","v":"SINAPI-I 42439"},"SINAPI-I",42439,"BANCO COM ENCOSTO, 1,60M* DE COMPRIMENTO, EM TUBO DE ACO CARBONO E PINTURA NO PROCESSO ELETROSTATICO - PARA ACADEMIA AO AR LIVRE / ACADEMIA DA TERCEIRA IDADE - ATI                                                                                                                                                                                                                                                                                                                                       ","UN    ","1.207,84",null,null,"AS"]
[{"$f":"CONCATENAR","v":"SINAPI-I 38381"},"SINAPI-I",38381,"BANDEJA DE PINTURA PARA ROLO 23 CM                                                                                                                                                                                                                                                                                                                                                                                                                                                                        ","UN    ","11,94",null,null,"CR"]
[{"$f":"CONCATENAR","v":"SINAPI-I 39621"},"SINAPI-I",39621,"BARRA ANTIPANICO DUPLA, CEGA EM LADO OPOSTO, COR CINZA                                                                                                                                                                                                                                                                                                                                                                                                                                                    ","PAR   ","1.442,01",null,null,"CR"]
[{"$f":"CONCATENAR","v":"SINAPI-I 39624"},"SINAPI-I",39624,"BARRA ANTIPANICO DUPLA, PARA PORTA DE VIDRO, COR CINZA                                                                                                                                                                                                                                                                                                                                                                                                                                                    ","PAR   ","1.590,70",null,null,"CR"]
[{"$f":"CONCATENAR","v":"SINAPI-I 39615"},"SINAPI-I",39615,"BARRA ANTIPANICO SIMPLES, CEGA EM LADO OPOSTO, COR CINZA                                                                                                                                                                                                                                                                                                                                                                                                                                                  ","UN    ","642,79",null,null,"CR"]
[{"$f":"CONCATENAR","v":"SINAPI-I 39620"},"SINAPI-I",39620,"BARRA ANTIPANICO SIMPLES, COM FECHADURA LADO OPOSTO, COR CINZA                                                                                                                                                                                                                                                                                                                                                                                                                                            ","UN    ","981,71",null,null,"CR"]
[{"$f":"CONCATENAR","v":"SINAPI-I 39623"},"SINAPI-I",39623,"BARRA ANTIPANICO SIMPLES, PARA PORTA DE VIDRO, COR CINZA                                                                                                                                                                                                                                                                                                                                                                                                                                                  ","UN    ","1.051,50",null,null,"CR"]
[{"$f":"CONCATENAR","v":"SINAPI-I 546"},"SINAPI-I",546,"BARRA DE ACO CHATA, RETANGULAR (QUALQUER BITOLA)                                                                                                                                                                                                                                                                                                                                                                                                                                                          ","KG    ","7,87",null,null,"C "]
[{"$f":"CONCATENAR","v":"SINAPI-I 566"},"SINAPI-I",566,"BARRA DE ACO CHATO, RETANGULAR, 19,05 MM X 3,17 MM (L X E), 0,47 KG/M                                                                                                                                                                                                                                                                                                                                                                                                                                     ","M     ","3,73",null,null,"CR"]
[{"$f":"CONCATENAR","v":"SINAPI-I 565"},"SINAPI-I",565,"BARRA DE ACO CHATO, RETANGULAR, 25,4 MM X 4,76 MM (L X E), 0,94 KG/M                                                                                                                                                                                                                                                                                                                                                                                                                                      ","M     ","13,61",null,null,"CR"]
[{"$f":"CONCATENAR","v":"SINAPI-I 555"},"SINAPI-I",555,"BARRA DE ACO CHATO, RETANGULAR, 25,4 MM X 6,35 MM (L X E), 1,2265 KG/M                                                                                                                                                                                                                                                                                                                                                                                                                                    ","M     ","9,65",null,null,"CR"]
[{"$f":"CONCATENAR","v":"SINAPI-I 557"},"SINAPI-I",557,"BARRA DE ACO CHATO, RETANGULAR, 38,1 MM X 12,7 MM (L X E), 3,79 KG/M                                                                                                                                                                                                                                                                                                                                                                                                                                      ","M     ","30,28",null,null,"CR"]
[{"$f":"CONCATENAR","v":"SINAPI-I 552"},"SINAPI-I",552,"BARRA DE ACO CHATO, RETANGULAR, 38,1 MM X 6,35 MM (L X E), 1,89 KG/M                                                                                                                                                                                                                                                                                                                                                                                                                                      ","M     ","15,02",null,null,"CR"]
[{"$f":"CONCATENAR","v":"SINAPI-I 563"},"SINAPI-I",563,"BARRA DE ACO CHATO, RETANGULAR, 38,1 MM X 9,53 MM (L X E), 2,84 KG/M                                                                                                                                                                                                                                                                                                                                                                                                                                      ","M     ","22,57",null,null,"CR"]
[{"$f":"CONCATENAR","v":"SINAPI-I 549"},"SINAPI-I",549,"BARRA DE ACO CHATO, RETANGULAR, 50,8 MM X 12,7 MM (L X E), 5,06 KG/M                                                                                                                                                                                                                                                                                                                                                                                                                                      ","M     ","40,63",null,null,"CR"]
[{"$f":"CONCATENAR","v":"SINAPI-I 551"},"SINAPI-I",551,"BARRA DE ACO CHATO, RETANGULAR, 50,8 MM X 25,4 MM (L X E), 10,12 KG/M                                                                                                                                                                                                                                                                                                                                                                                                                                     ","M     ","80,45",null,null,"CR"]
[{"$f":"CONCATENAR","v":"SINAPI-I 559"},"SINAPI-I",559,"BARRA DE ACO CHATO, RETANGULAR, 50,8 MM X 6,35 MM (L X E), 2,53 KG/M                                                                                                                                                                                                                                                                                                                                                                                                                                      ","M     ","20,11",null,null,"CR"]
[{"$f":"CONCATENAR","v":"SINAPI-I 560"},"SINAPI-I",560,"BARRA DE ACO CHATO, RETANGULAR, 50,8 MM X 7,94 MM (L X E), 3,162 KG/M                                                                                                                                                                                                                                                                                                                                                                                                                                     ","M     ","25,16",null,null,"CR"]
[{"$f":"CONCATENAR","v":"SINAPI-I 547"},"SINAPI-I",547,"BARRA DE ACO CHATO, RETANGULAR, 50,8 MM X 9,53 MM (L X E), 3,79KG/M                                                                                                                                                                                                                                                                                                                                                                                                                                       ","M     ","30,13",null,null,"CR"]
[{"$f":"CONCATENAR","v":"SINAPI-I 36207"},"SINAPI-I",36207,"BARRA DE APOIO EM \"L\", EM ACO INOX POLIDO 70 X 70 CM, DIAMETRO MINIMO 3 CM                                                                                                                                                                                                                                                                                                                                                                                                                                ","UN    ","574,37",null,null,"CR"]
[{"$f":"CONCATENAR","v":"SINAPI-I 36209"},"SINAPI-I",36209,"BARRA DE APOIO EM \"L\", EM ACO INOX POLIDO 80 X 80 CM, DIAMETRO MINIMO 3 CM                                                                                                                                                                                                                                                                                                                                                                                                                                ","UN    ","659,18",null,null,"CR"]
[{"$f":"CONCATENAR","v":"SINAPI-I 36210"},"SINAPI-I",36210,"BARRA DE APOIO LATERAL ARTICULADA, COM TRAVA, EM ACO INOX POLIDO, 70 CM, DIAMETRO MINIMO 3 CM                                                                                                                                                                                                                                                                                                                                                                                                             ","UN    ","713,21",null,null,"CR"]
[{"$f":"CONCATENAR","v":"SINAPI-I 36204"},"SINAPI-I",36204,"BARRA DE APOIO RETA, EM ACO INOX POLIDO, COMPRIMENTO 60CM, DIAMETRO MINIMO 3 CM                                                                                                                                                                                                                                                                                                                                                                                                                           ","UN    ","252,88",null,null,"CR"]
[{"$f":"CONCATENAR","v":"SINAPI-I 36205"},"SINAPI-I",36205,"BARRA DE APOIO RETA, EM ACO INOX POLIDO, COMPRIMENTO 70CM, DIAMETRO MINIMO 3 CM                                                                                                                                                                                                                                                                                                                                                                                                                           ","UN    ","280,84",null,null,"CR"]
[{"$f":"CONCATENAR","v":"SINAPI-I 36081"},"SINAPI-I",36081,"BARRA DE APOIO RETA, EM ACO INOX POLIDO, COMPRIMENTO 80CM, DIAMETRO MINIMO 3 CM                                                                                                                                                                                                                                                                                                                                                                                                                           ","UN    ","299,45",null,null,"C "]
[{"$f":"CONCATENAR","v":"SINAPI-I 36206"},"SINAPI-I",36206,"BARRA DE APOIO RETA, EM ACO INOX POLIDO, COMPRIMENTO 90 CM, DIAMETRO MINIMO 3 CM                                                                                                                                                                                                                                                                                                                                                                                                                          ","UN    ","313,72",null,null,"CR"]
[{"$f":"CONCATENAR","v":"SINAPI-I 36218"},"SINAPI-I",36218,"BARRA DE APOIO RETA, EM ALUMINIO, COMPRIMENTO 60CM, DIAMETRO MINIMO 3 CM                                                                                                                                                                                                                                                                                                                                                                                                                                  ","UN    ","155,60",null,null,"AS"]
[{"$f":"CONCATENAR","v":"SINAPI-I 36220"},"SINAPI-I",36220,"BARRA DE APOIO RETA, EM ALUMINIO, COMPRIMENTO 70CM, DIAMETRO MINIMO 3 CM                                                                                                                                                                                                                                                                                                                                                                                                                                  ","UN    ","178,42",null,null,"AS"]
[{"$f":"CONCATENAR","v":"SINAPI-I 36080"},"SINAPI-I",36080,"BARRA DE APOIO RETA, EM ALUMINIO, COMPRIMENTO 80 CM, DIAMETRO MINIMO 3 CM                                                                                                                                                                                                                                                                                                                                                                                                                                 ","UN    ","192,99",null,null,"AS"]
[{"$f":"CONCATENAR","v":"SINAPI-I 36223"},"SINAPI-I",36223,"BARRA DE APOIO RETA, EM ALUMINIO, COMPRIMENTO 90 CM, DIAMETRO MINIMO 3 CM                                                                                                                                                                                                                                                                                                                                                                                                                                 ","UN    ","202,09",null,null,"AS"]
[{"$f":"CONCATENAR","v":"SINAPI-I 38127"},"SINAPI-I",38127,"BASE DE MISTURADOR MONOCOMANDO PARA CHUVEIRO, DE PAREDE (NAO INCLUI ACABAMENTOS)                                                                                                                                                                                                                                                                                                                                                                                                                          ","UN    ","708,06",null,null,"CR"]
[{"$f":"CONCATENAR","v":"SINAPI-I 38060"},"SINAPI-I",38060,"BASE PARA MASTRO DE PARA-RAIOS DIAMETRO NOMINAL 1 1/2\"                                                                                                                                                                                                                                                                                                                                                                                                                                                    ","UN    ","55,24",null,null,"AS"]
[{"$f":"CONCATENAR","v":"SINAPI-I 10956"},"SINAPI-I",10956,"BASE PARA MASTRO DE PARA-RAIOS DIAMETRO NOMINAL 2\"                                                                                                                                                                                                                                                                                                                                                                                                                                                        ","UN    ","60,58",null,null,"AS"]
[{"$f":"CONCATENAR","v":"SINAPI-I 39380"},"SINAPI-I",39380,"BASE PARA RELE COM SUPORTE METALICO                                                                                                                                                                                                                                                                                                                                                                                                                                                                       ","UN    ","21,16",null,null,"AS"]
[{"$f":"CONCATENAR","v":"SINAPI-I 44172"},"SINAPI-I",44172,"BASTIDOR PARA BLOCO M10                                                                                                                                                                                                                                                                                                                                                                                                                                                                                   ","UN    ","6,18",null,null,"AS"]
[{"$f":"CONCATENAR","v":"SINAPI-I 37597"},"SINAPI-I",37597,"BATE-ESTACAS POR GRAVIDADE, POTENCIA160 HP, PESO DO MARTELO ATE 3 TONELADAS                                                                                                                                                                                                                                                                                                                                                                                                                               ","UN    ","637.339,66",null,null,"CR"]
[{"$f":"CONCATENAR","v":"SINAPI-I 183"},"SINAPI-I",183,"BATENTE / PORTAL / ADUELA / MARCO EM MADEIRA MACICA COM REBAIXO, E = *3* CM, L = *14* CM, PARA PORTAS DE GIRO DE *60 CM A 120* CM X *210* CM, CEDRINHO / ANGELIM COMERCIAL / TAURI / CURUPIXA / PEROBA / CUMARU OU EQUIVALENTE DA REGIAO (NAO INCLUI ALIZARES)                                                                                                                                                                                                                                            ","JG    ","350,00",null,null,"C "]
[{"$f":"CONCATENAR","v":"SINAPI-I 184"},"SINAPI-I",184,"BATENTE / PORTAL / ADUELA / MARCO EM MADEIRA MACICA COM REBAIXO, E = *3* CM, L = *14* CM, PARA PORTAS DE GIRO DE *60 CM A 120* CM X *210* CM, PINUS / EUCALIPTO / VIROLA OU EQUIVALENTE DA REGIAO (NAO INCLUI ALIZARES)                                                                                                                                                                                                                                                                                   ","JG    ","216,77",null,null,"CR"]
[{"$f":"CONCATENAR","v":"SINAPI-I 181"},"SINAPI-I",181,"BATENTE / PORTAL / ADUELA / MARCO EM MADEIRA MACICA COM REBAIXO, E = *3* CM, L = *16* CM, PARA PORTAS DE GIRO DE *60 CM A 120* CM X *210* CM, CEDRINHO / ANGELIM COMERCIAL / TAURI / CURUPIXA / PEROBA / CUMARU OU EQUIVALENTE DA REGIAO (NAO INCLUI ALIZARES)                                                                                                                                                                                                                                            ","JG    ","467,41",null,null,"CR"]
[{"$f":"CONCATENAR","v":"SINAPI-I 20001"},"SINAPI-I",20001,"BATENTE / PORTAL / ADUELA / MARCO EM MADEIRA MACICA COM REBAIXO, E = *3* CM, L = *16* CM, PARA PORTAS DE GIRO DE *60 CM A 120* CM X *210* CM, PINUS / EUCALIPTO / VIROLA OU EQUIVALENTE DA REGIAO (NAO INCLUI ALIZARES)                                                                                                                                                                                                                                                                                   ","JG    ","270,96",null,null,"CR"]
[{"$f":"CONCATENAR","v":"SINAPI-I 39837"},"SINAPI-I",39837,"BATENTE/PORTAL/ADUELA/MARCO, EM MDF/PVC WOOD/POLIESTIRENO OU MADEIRA LAMINADA, L = *9,0* CM COM GUARNICAO REGULAVEL 2 FACES = *35* MM, PRIMER                                                                                                                                                                                                                                                                                                                                                             ","JG    ","345,99",null,null,"CR"]
[{"$f":"CONCATENAR","v":"SINAPI-I 43366"},"SINAPI-I",43366,"BENTONITA, ARGILA CONSTITUIDA POR  MONTMORILONITA                                                                                                                                                                                                                                                                                                                                                                                                                                                         ","KG    ","1,58",null,null,"AS"]
[{"$f":"CONCATENAR","v":"SINAPI-I 10535"},"SINAPI-I",10535,"BETONEIRA CAPACIDADE NOMINAL 400 L, CAPACIDADE DE MISTURA 280 L, MOTOR ELETRICO TRIFASICO 220/380 V POTENCIA 2 CV, SEM CARREGADOR                                                                                                                                                                                                                                                                                                                                                                         ","UN    ","4.799,50",null,null,"C "]
[{"$f":"CONCATENAR","v":"SINAPI-I 10537"},"SINAPI-I",10537,"BETONEIRA CAPACIDADE NOMINAL 400 L, CAPACIDADE DE MISTURA 310 L, MOTOR A DIESEL POTENCIA 5 CV, SEM CARREGADOR                                                                                                                                                                                                                                                                                                                                                                                             ","UN    ","6.545,21",null,null,"CR"]
[{"$f":"CONCATENAR","v":"SINAPI-I 13891"},"SINAPI-I",13891,"BETONEIRA CAPACIDADE NOMINAL 400 L, CAPACIDADE DE MISTURA 310 L, MOTOR A GASOLINA POTENCIA 5,5 CV, SEM CARREGADOR                                                                                                                                                                                                                                                                                                                                                                                         ","UN    ","6.003,44",null,null,"CR"]
[{"$f":"CONCATENAR","v":"SINAPI-I 44492"},"SINAPI-I",44492,"BETONEIRA CAPACIDADE NOMINAL 600 L, CAPACIDADE DE MISTURA 440 L, MOTOR A GASOLINA POTENCIA 10 HP, COM  CARREGADOR                                                                                                                                                                                                                                                                                                                                                                                         ","UN    ","26.112,53",null,null,"CR"]
[{"$f":"CONCATENAR","v":"SINAPI-I 36396"},"SINAPI-I",36396,"BETONEIRA, CAPACIDADE NOMINAL 400 L, CAPACIDADE DE MISTURA 310L, MOTOR ELETRICO TRIFASICO 220/380V POTENCIA 2 CV, SEM CARREGADOR                                                                                                                                                                                                                                                                                                                                                                          ","UN    ","5.490,95",null,null,"CR"]
[{"$f":"CONCATENAR","v":"SINAPI-I 36397"},"SINAPI-I",36397,"BETONEIRA, CAPACIDADE NOMINAL 600 L, CAPACIDADE DE MISTURA 360L, MOTOR ELETRICO TRIFASICO 220/380V, POTENCIA 4CV, EXCLUSO CARREGADOR                                                                                                                                                                                                                                                                                                                                                                      ","UN    ","19.523,38",null,null,"CR"]
[{"$f":"CONCATENAR","v":"SINAPI-I 36398"},"SINAPI-I",36398,"BETONEIRA, CAPACIDADE NOMINAL 600 L, CAPACIDADE DE MISTURA 440 L, MOTOR A DIESEL POTENCIA 10 CV, COM CARREGADOR                                                                                                                                                                                                                                                                                                                                                                                           ","UN    ","23.729,05",null,null,"CR"]
[{"$f":"CONCATENAR","v":"SINAPI-I 647"},"SINAPI-I",647,"BLASTER, DINAMITADOR OU CABO DE FOGO (HORISTA)                                                                                                                                                                                                                                                                                                                                                                                                                                                            ","H     ","32,85",null,null,"CR"]
[{"$f":"CONCATENAR","v":"SINAPI-I 40920"},"SINAPI-I",40920,"BLASTER, DINAMITADOR OU CABO DE FOGO (MENSALISTA)                                                                                                                                                                                                                                                                                                                                                                                                                                                         ","MES   ","5.764,57",null,null,"CR"]
[{"$f":"CONCATENAR","v":"SINAPI-I 715"},"SINAPI-I",715,"BLOCO / TIJOLO DE VIDRO INCOLOR, CANELADO / ONDULADO, *19 X 19 X 8* CM (A X L X E)                                                                                                                                                                                                                                                                                                                                                                                                                        ","UN    ","18,45",null,null,"C "]
[{"$f":"CONCATENAR","v":"SINAPI-I 716"},"SINAPI-I",716,"BLOCO / TIJOLO DE VIDRO INCOLOR, XADREZ, *20 X 20 X 10* CM (A X L X E)                                                                                                                                                                                                                                                                                                                                                                                                                                    ","UN    ","20,86",null,null,"CR"]
[{"$f":"CONCATENAR","v":"SINAPI-I 38783"},"SINAPI-I",38783,"BLOCO CERAMICO / TIJOLO VAZADO PARA ALVENARIA DE VEDACAO, FUROS NA HORIZONTAL DE 11,5 X 19 X 19 CM (L X A X C)                                                                                                                                                                                                                                                                                                                                                                                            ","UN    ","1,03",null,null,"CR"]
[{"$f":"CONCATENAR","v":"SINAPI-I 37593"},"SINAPI-I",37593,"BLOCO CERAMICO / TIJOLO VAZADO PARA ALVENARIA DE VEDACAO, FUROS NA VERTICAL DE 14 X 19 X 39 CM (L X A X C)                                                                                                                                                                                                                                                                                                                                                                                                ","UN    ","2,53",null,null,"CR"]
[{"$f":"CONCATENAR","v":"SINAPI-I 37594"},"SINAPI-I",37594,"BLOCO CERAMICO / TIJOLO VAZADO PARA ALVENARIA DE VEDACAO, FUROS NA VERTICAL DE 19 X 19 X 39 CM (L X A X C)                                                                                                                                                                                                                                                                                                                                                                                                ","UN    ","3,14",null,null,"CR"]
[{"$f":"CONCATENAR","v":"SINAPI-I 37592"},"SINAPI-I",37592,"BLOCO CERAMICO / TIJOLO VAZADO PARA ALVENARIA DE VEDACAO, FUROS NA VERTICAL DE 9 X 19 X 39 CM (L X A X C)                                                                                                                                                                                                                                                                                                                                                                                                 ","UN    ","1,99",null,null,"CR"]
[{"$f":"CONCATENAR","v":"SINAPI-I 7270"},"SINAPI-I",7270,"BLOCO CERAMICO / TIJOLO VAZADO PARA ALVENARIA DE VEDACAO, 4 FUROS NA HORIZONTAL DE 9 X 9 X 19 CM (L X A X C)                                                                                                                                                                                                                                                                                                                                                                                              ","UN    ","0,89",null,null,"CR"]
[{"$f":"CONCATENAR","v":"SINAPI-I 7267"},"SINAPI-I",7267,"BLOCO CERAMICO / TIJOLO VAZADO PARA ALVENARIA DE VEDACAO, 6 FUROS NA HORIZONTAL DE 9 X 14 X 19 CM (L X A X C)                                                                                                                                                                                                                                                                                                                                                                                             ","UN    ","0,70",null,null,"CR"]
[{"$f":"CONCATENAR","v":"SINAPI-I 7271"},"SINAPI-I",7271,"BLOCO CERAMICO / TIJOLO VAZADO PARA ALVENARIA DE VEDACAO, 8 FUROS NA HORIZONTAL DE 9 X 19 X 19 CM (L X A X C)                                                                                                                                                                                                                                                                                                                                                                                             ","UN    ","0,77",null,null,"C "]
[{"$f":"CONCATENAR","v":"SINAPI-I 7268"},"SINAPI-I",7268,"BLOCO CERAMICO / TIJOLO VAZADO PARA ALVENARIA DE VEDACAO, 8 FUROS NA HORIZONTAL DE 9 X 19 X 29 CM (L X A X C)                                                                                                                                                                                                                                                                                                                                                                                             ","UN    ","1,07",null,null,"CR"]
[{"$f":"CONCATENAR","v":"SINAPI-I 41372"},"SINAPI-I",41372,"BLOCO CONCRETO CELULAR AUTOCLAVADO 12,5 X 30 X 60 CM (E X A X C)                                                                                                                                                                                                                                                                                                                                                                                                                                          ","M2    ","136,63",null,null,"CR"]
[{"$f":"CONCATENAR","v":"SINAPI-I 41371"},"SINAPI-I",41371,"BLOCO CONCRETO CELULAR AUTOCLAVADO 7,5 X 30 X 60 CM (E X A X C)                                                                                                                                                                                                                                                                                                                                                                                                                                           ","M2    ","80,76",null,null,"CR"]
[{"$f":"CONCATENAR","v":"SINAPI-I 34556"},"SINAPI-I",34556,"BLOCO DE CONCRETO ESTRUTURAL 14 X 19 X 29 CM, FBK 10 MPA (NBR 6136)                                                                                                                                                                                                                                                                                                                                                                                                                                       ","UN    ","5,22",null,null,"CR"]
[{"$f":"CONCATENAR","v":"SINAPI-I 37873"},"SINAPI-I",37873,"BLOCO DE CONCRETO ESTRUTURAL 14 X 19 X 29 CM, FBK 12 MPA (NBR 6136)                                                                                                                                                                                                                                                                                                                                                                                                                                       ","UN    ","5,31",null,null,"CR"]
[{"$f":"CONCATENAR","v":"SINAPI-I 34564"},"SINAPI-I",34564,"BLOCO DE CONCRETO ESTRUTURAL 14 X 19 X 29 CM, FBK 14 MPA (NBR 6136)                                                                                                                                                                                                                                                                                                                                                                                                                                       ","UN    ","5,57",null,null,"CR"]
[{"$f":"CONCATENAR","v":"SINAPI-I 34565"},"SINAPI-I",34565,"BLOCO DE CONCRETO ESTRUTURAL 14 X 19 X 29 CM, FBK 16 MPA (NBR 6136)                                                                                                                                                                                                                                                                                                                                                                                                                                       ","UN    ","5,89",null,null,"CR"]
[{"$f":"CONCATENAR","v":"SINAPI-I 38590"},"SINAPI-I",38590,"BLOCO DE CONCRETO ESTRUTURAL 14 X 19 X 29 CM, FBK 4,5 MPA (NBR 6136)                                                                                                                                                                                                                                                                                                                                                                                                                                      ","UN    ","4,35",null,null,"CR"]
[{"$f":"CONCATENAR","v":"SINAPI-I 34566"},"SINAPI-I",34566,"BLOCO DE CONCRETO ESTRUTURAL 14 X 19 X 29 CM, FBK 6 MPA (NBR 6136)                                                                                                                                                                                                                                                                                                                                                                                                                                        ","UN    ","4,57",null,null,"CR"]
[{"$f":"CONCATENAR","v":"SINAPI-I 34567"},"SINAPI-I",34567,"BLOCO DE CONCRETO ESTRUTURAL 14 X 19 X 29 CM, FBK 8 MPA (NBR 6136)                                                                                                                                                                                                                                                                                                                                                                                                                                        ","UN    ","4,84",null,null,"CR"]
[{"$f":"CONCATENAR","v":"SINAPI-I 38591"},"SINAPI-I",38591,"BLOCO DE CONCRETO ESTRUTURAL 14 X 19 X 34 CM, FBK 4,5 MPA (NBR 6136)                                                                                                                                                                                                                                                                                                                                                                                                                                      ","UN    ","4,40",null,null,"CR"]
[{"$f":"CONCATENAR","v":"SINAPI-I 34568"},"SINAPI-I",34568,"BLOCO DE CONCRETO ESTRUTURAL 14 X 19 X 39 CM, FBK 10 MPA (NBR 6136)                                                                                                                                                                                                                                                                                                                                                                                                                                       ","UN    ","5,73",null,null,"CR"]
[{"$f":"CONCATENAR","v":"SINAPI-I 34569"},"SINAPI-I",34569,"BLOCO DE CONCRETO ESTRUTURAL 14 X 19 X 39 CM, FBK 12 MPA (NBR 6136)                                                                                                                                                                                                                                                                                                                                                                                                                                       ","UN    ","5,89",null,null,"CR"]
[{"$f":"CONCATENAR","v":"SINAPI-I 34570"},"SINAPI-I",34570,"BLOCO DE CONCRETO ESTRUTURAL 14 X 19 X 39 CM, FBK 14 MPA (NBR 6136)                                                                                                                                                                                                                                                                                                                                                                                                                                       ","UN    ","6,39",null,null,"CR"]
[{"$f":"CONCATENAR","v":"SINAPI-I 25070"},"SINAPI-I",25070,"BLOCO DE CONCRETO ESTRUTURAL 14 X 19 X 39 CM, FBK 4,5 MPA (NBR 6136)                                                                                                                                                                                                                                                                                                                                                                                                                                      ","UN    ","4,81",null,null,"CR"]
[{"$f":"CONCATENAR","v":"SINAPI-I 34571"},"SINAPI-I",34571,"BLOCO DE CONCRETO ESTRUTURAL 14 X 19 X 39 CM, FBK 6 MPA (NBR 6136)                                                                                                                                                                                                                                                                                                                                                                                                                                        ","UN    ","4,86",null,null,"CR"]
[{"$f":"CONCATENAR","v":"SINAPI-I 34573"},"SINAPI-I",34573,"BLOCO DE CONCRETO ESTRUTURAL 14 X 19 X 39 CM, FBK 8 MPA (NBR 6136)                                                                                                                                                                                                                                                                                                                                                                                                                                        ","UN    ","5,11",null,null,"CR"]
[{"$f":"CONCATENAR","v":"SINAPI-I 37107"},"SINAPI-I",37107,"BLOCO DE CONCRETO ESTRUTURAL 14 X 19 X 39, FCK 16 MPA (NBR 6136)                                                                                                                                                                                                                                                                                                                                                                                                                                          ","UN    ","6,75",null,null,"CR"]
[{"$f":"CONCATENAR","v":"SINAPI-I 34576"},"SINAPI-I",34576,"BLOCO DE CONCRETO ESTRUTURAL 19 X 19 X 39 CM, FBK 10 MPA (NBR 6136)                                                                                                                                                                                                                                                                                                                                                                                                                                       ","UN    ","7,45",null,null,"CR"]
[{"$f":"CONCATENAR","v":"SINAPI-I 34577"},"SINAPI-I",34577,"BLOCO DE CONCRETO ESTRUTURAL 19 X 19 X 39 CM, FBK 12 MPA (NBR 6136)                                                                                                                                                                                                                                                                                                                                                                                                                                       ","UN    ","7,77",null,null,"CR"]
[{"$f":"CONCATENAR","v":"SINAPI-I 34578"},"SINAPI-I",34578,"BLOCO DE CONCRETO ESTRUTURAL 19 X 19 X 39 CM, FBK 14 MPA (NBR 6136)                                                                                                                                                                                                                                                                                                                                                                                                                                       ","UN    ","8,42",null,null,"CR"]
[{"$f":"CONCATENAR","v":"SINAPI-I 34579"},"SINAPI-I",34579,"BLOCO DE CONCRETO ESTRUTURAL 19 X 19 X 39 CM, FBK 16 MPA (NBR 6136)                                                                                                                                                                                                                                                                                                                                                                                                                                       ","UN    ","8,98",null,null,"CR"]
[{"$f":"CONCATENAR","v":"SINAPI-I 25067"},"SINAPI-I",25067,"BLOCO DE CONCRETO ESTRUTURAL 19 X 19 X 39 CM, FBK 4,5 MPA (NBR 6136)                                                                                                                                                                                                                                                                                                                                                                                                                                      ","UN    ","6,01",null,null,"CR"]
[{"$f":"CONCATENAR","v":"SINAPI-I 34580"},"SINAPI-I",34580,"BLOCO DE CONCRETO ESTRUTURAL 19 X 19 X 39 CM, FBK 8 MPA (NBR 6136)                                                                                                                                                                                                                                                                                                                                                                                                                                        ","UN    ","6,71",null,null,"CR"]
[{"$f":"CONCATENAR","v":"SINAPI-I 25071"},"SINAPI-I",25071,"BLOCO DE CONCRETO ESTRUTURAL 9 X 19 X 39 CM, FBK 4,5 MPA (NBR 6136)                                                                                                                                                                                                                                                                                                                                                                                                                                       ","UN    ","3,34",null,null,"CR"]
[{"$f":"CONCATENAR","v":"SINAPI-I 44171"},"SINAPI-I",44171,"BLOCO DE ENGATE RAPIDO PARA BASTIDOR TIPO M10                                                                                                                                                                                                                                                                                                                                                                                                                                                             ","UN    ","17,65",null,null,"AS"]
[{"$f":"CONCATENAR","v":"SINAPI-I 38395"},"SINAPI-I",38395,"BLOCO DE ESPUMA MULTIUSO *23 X 13 X 8* CM                                                                                                                                                                                                                                                                                                                                                                                                                                                                 ","UN    ","9,97",null,null,"CR"]
[{"$f":"CONCATENAR","v":"SINAPI-I 34583"},"SINAPI-I",34583,"BLOCO DE GESSO COMPACTO / MACICO, BRANCO, E = 10 CM, DIMENSOES *67 X 50* CM                                                                                                                                                                                                                                                                                                                                                                                                                               ","M2    ","66,79",null,null,"CR"]
[{"$f":"CONCATENAR","v":"SINAPI-I 34584"},"SINAPI-I",34584,"BLOCO DE GESSO VAZADO, BRANCO, E = *7* CM, DIMENSOES *67 X 50* CM                                                                                                                                                                                                                                                                                                                                                                                                                                         ","M2    ","48,98",null,null,"CR"]
[{"$f":"CONCATENAR","v":"SINAPI-I 709"},"SINAPI-I",709,"BLOCO DE POLIETILENO ALTA DENSIDADE, *27* X *30* X *100* CM, ACOMPANHADOS PLACAS TERMINAIS E LONGARINAS, PARA FUNDO DE FILTRO                                                                                                                                                                                                                                                                                                                                                                             ","M2    ","672,36",null,null,"CR"]
[{"$f":"CONCATENAR","v":"SINAPI-I 34599"},"SINAPI-I",34599,"BLOCO DE VEDACAO CONCRETO APARENTE 9 X 19 X 39 CM (CLASSE C - NBR 6136)                                                                                                                                                                                                                                                                                                                                                                                                                                   ","UN    ","3,43",null,null,"CR"]
[{"$f":"CONCATENAR","v":"SINAPI-I 34592"},"SINAPI-I",34592,"BLOCO DE VEDACAO CONCRETO 14 X 19 X 29 CM (CLASSE C - NBR 6136)                                                                                                                                                                                                                                                                                                                                                                                                                                           ","UN    ","3,82",null,null,"CR"]
[{"$f":"CONCATENAR","v":"SINAPI-I 37103"},"SINAPI-I",37103,"BLOCO DE VEDACAO DE CONCRETO APARENTE 14 X 19 X 39 CM (CLASSE C - NBR 6136)                                                                                                                                                                                                                                                                                                                                                                                                                               ","UN    ","4,37",null,null,"CR"]
[{"$f":"CONCATENAR","v":"SINAPI-I 34555"},"SINAPI-I",34555,"BLOCO DE VEDACAO DE CONCRETO APARENTE 19 X 19 X 39 CM (CLASSE C - NBR 6136)                                                                                                                                                                                                                                                                                                                                                                                                                               ","UN    ","5,55",null,null,"CR"]
[{"$f":"CONCATENAR","v":"SINAPI-I 674"},"SINAPI-I",674,"BLOCO DE VEDACAO DE CONCRETO CELULAR AUTOCLAVADO 10 X 30 X 60 CM (E X A X C)                                                                                                                                                                                                                                                                                                                                                                                                                              ","M2    ","97,36",null,null,"CR"]
[{"$f":"CONCATENAR","v":"SINAPI-I 34600"},"SINAPI-I",34600,"BLOCO DE VEDACAO DE CONCRETO CELULAR AUTOCLAVADO 15 X 30 X 60 CM (E X A X C)                                                                                                                                                                                                                                                                                                                                                                                                                              ","M2    ","143,00",null,null,"C "]
[{"$f":"CONCATENAR","v":"SINAPI-I 652"},"SINAPI-I",652,"BLOCO DE VEDACAO DE CONCRETO CELULAR AUTOCLAVADO 20 X 30 X 60 CM (E X A X C)                                                                                                                                                                                                                                                                                                                                                                                                                              ","M2    ","219,06",null,null,"CR"]
[{"$f":"CONCATENAR","v":"SINAPI-I 651"},"SINAPI-I",651,"BLOCO DE VEDACAO DE CONCRETO 14 X 19 X 39 CM (CLASSE C - NBR 6136)                                                                                                                                                                                                                                                                                                                                                                                                                                        ","UN    ","4,21",null,null,"CR"]
[{"$f":"CONCATENAR","v":"SINAPI-I 654"},"SINAPI-I",654,"BLOCO DE VEDACAO DE CONCRETO 19 X 19 X 39 CM (CLASSE C - NBR 6136)                                                                                                                                                                                                                                                                                                                                                                                                                                        ","UN    ","5,22",null,null,"CR"]
[{"$f":"CONCATENAR","v":"SINAPI-I 650"},"SINAPI-I",650,"BLOCO DE VEDACAO DE CONCRETO, 9 X 19 X 39 CM (CLASSE C - NBR 6136)                                                                                                                                                                                                                                                                                                                                                                                                                                        ","UN    ","3,37",null,null,"C "]
[{"$f":"CONCATENAR","v":"SINAPI-I 718"},"SINAPI-I",718,"BLOCO DE VIDRO / ELEMENTO VAZADO, INCOLOR, VENEZIANA, *20 X 20 X 6* CM (A X L X E)                                                                                                                                                                                                                                                                                                                                                                                                                        ","UN    ","18,23",null,null,"CR"]
[{"$f":"CONCATENAR","v":"SINAPI-I 11981"},"SINAPI-I",11981,"BLOCO DE VIDRO / ELEMENTO VAZADO, INCOLOR, VENEZIANA, DE *20 X 10 X 8* CM (A X L X E)                                                                                                                                                                                                                                                                                                                                                                                                                     ","UN    ","17,71",null,null,"CR"]
[{"$f":"CONCATENAR","v":"SINAPI-I 34586"},"SINAPI-I",34586,"BLOCO ESTRUTURAL CERAMICO DE 14 X 19 X 29 CM (L X A X C) E 6,0 MPA                                                                                                                                                                                                                                                                                                                                                                                                                                        ","UN    ","2,16",null,null,"CR"]
[{"$f":"CONCATENAR","v":"SINAPI-I 38603"},"SINAPI-I",38603,"BLOCO ESTRUTURAL CERAMICO DE 14 X 19 X 34 CM (L X A X C) E 6,0 MPA                                                                                                                                                                                                                                                                                                                                                                                                                                        ","UN    ","2,61",null,null,"CR"]
[{"$f":"CONCATENAR","v":"SINAPI-I 34588"},"SINAPI-I",34588,"BLOCO ESTRUTURAL CERAMICO DE 14 X 19 X 39 CM (L X A X C) E 6,0 MPA                                                                                                                                                                                                                                                                                                                                                                                                                                        ","UN    ","2,82",null,null,"CR"]
[{"$f":"CONCATENAR","v":"SINAPI-I 34590"},"SINAPI-I",34590,"BLOCO ESTRUTURAL CERAMICO DE 19 X 19 X 29 CM (L X A X C) E 6,0 MPA                                                                                                                                                                                                                                                                                                                                                                                                                                        ","UN    ","2,57",null,null,"CR"]
[{"$f":"CONCATENAR","v":"SINAPI-I 34591"},"SINAPI-I",34591,"BLOCO ESTRUTURAL CERAMICO DE 19 X 19 X 39 CM (L X A X C) E 6,0 MPA                                                                                                                                                                                                                                                                                                                                                                                                                                        ","UN    ","3,49",null,null,"CR"]
[{"$f":"CONCATENAR","v":"SINAPI-I 40517"},"SINAPI-I",40517,"BLOQUETE/PISO DE CONCRETO - MODELO PISOGRAMA/CONCREGRAMA 2 FUROS, DIMENSOES APROX. DE *35 X 15* CM E ESPESSURA DE 7 CM (+/- 1 CM), COR NATURAL                                                                                                                                                                                                                                                                                                                                                            ","M2    ","51,27",null,null,"CR"]
[{"$f":"CONCATENAR","v":"SINAPI-I 40515"},"SINAPI-I",40515,"BLOQUETE/PISO DE CONCRETO - MODELO PISOGRAMA/CONCREGRAMA/PAVI-GRADE/GRAMEIRO, DIMENSOES APROXIMADAS DE *60 X 45* CM E ESPESSURA DE 8 CM (+/- 1 CM), COR NATURAL                                                                                                                                                                                                                                                                                                                                           ","M2    ","115,36",null,null,"CR"]
[{"$f":"CONCATENAR","v":"SINAPI-I 40524"},"SINAPI-I",40524,"BLOQUETE/PISO INTERTRAVADO DE CONCRETO - MODELO ONDA/16 FACES/RETANGULAR/TIJOLINHO/PAVER/HOLANDES/PARALELEPIPEDO, *20 X 10* CM, E = 10 CM, RESISTENCIA DE 35 MPA, COR NATURAL                                                                                                                                                                                                                                                                                                                             ","M2    ","72,10",null,null,"CR"]
[{"$f":"CONCATENAR","v":"SINAPI-I 40529"},"SINAPI-I",40529,"BLOQUETE/PISO INTERTRAVADO DE CONCRETO - MODELO ONDA/16 FACES/RETANGULAR/TIJOLINHO/PAVER/HOLANDES/PARALELEPIPEDO, *20 X 10* CM, E = 10 CM, RESISTENCIA DE 50 MPA, COR NATURAL                                                                                                                                                                                                                                                                                                                             ","M2    ","73,70",null,null,"CR"]
[{"$f":"CONCATENAR","v":"SINAPI-I 36156"},"SINAPI-I",36156,"BLOQUETE/PISO INTERTRAVADO DE CONCRETO - MODELO ONDA/16 FACES/RETANGULAR/TIJOLINHO/PAVER/HOLANDES/PARALELEPIPEDO, *20 X 10* CM, E = 6 CM, RESISTENCIA DE 35 MPA, COLORIDO                                                                                                                                                                                                                                                                                                                                 ","M2    ","56,07",null,null,"CR"]
[{"$f":"CONCATENAR","v":"SINAPI-I 36155"},"SINAPI-I",36155,"BLOQUETE/PISO INTERTRAVADO DE CONCRETO - MODELO ONDA/16 FACES/RETANGULAR/TIJOLINHO/PAVER/HOLANDES/PARALELEPIPEDO, *20 X 10* CM, E = 6 CM, RESISTENCIA DE 35 MPA, COR NATURAL                                                                                                                                                                                                                                                                                                                              ","M2    ","48,41",null,null,"CR"]
[{"$f":"CONCATENAR","v":"SINAPI-I 36154"},"SINAPI-I",36154,"BLOQUETE/PISO INTERTRAVADO DE CONCRETO - MODELO ONDA/16 FACES/RETANGULAR/TIJOLINHO/PAVER/HOLANDES/PARALELEPIPEDO, *20 X 10* CM, E = 8 CM, RESISTENCIA DE 35 MPA, COLORIDO                                                                                                                                                                                                                                                                                                                                 ","M2    ","67,29",null,null,"CR"]
[{"$f":"CONCATENAR","v":"SINAPI-I 36170"},"SINAPI-I",36170,"BLOQUETE/PISO INTERTRAVADO DE CONCRETO - MODELO ONDA/16 FACES/RETANGULAR/TIJOLINHO/PAVER/HOLANDES/PARALELEPIPEDO, *20 X 10* CM, E = 8 CM, RESISTENCIA DE 35 MPA, COR NATURAL                                                                                                                                                                                                                                                                                                                              ","M2    ","61,15",null,null,"C "]
[{"$f":"CONCATENAR","v":"SINAPI-I 695"},"SINAPI-I",695,"BLOQUETE/PISO INTERTRAVADO DE CONCRETO - MODELO RAQUETE, *22 X 13,5* CM, E = 6 CM, RESISTENCIA DE 35 MPA, COR NATURAL                                                                                                                                                                                                                                                                                                                                                                                     ","M2    ","49,42",null,null,"CR"]
[{"$f":"CONCATENAR","v":"SINAPI-I 679"},"SINAPI-I",679,"BLOQUETE/PISO INTERTRAVADO DE CONCRETO - MODELO SEXTAVADO / HEXAGONAL, *25 X 25* CM, E = 10 CM, RESISTENCIA DE 35 MPA, COR NATURAL                                                                                                                                                                                                                                                                                                                                                                        ","M2    ","73,70",null,null,"CR"]
[{"$f":"CONCATENAR","v":"SINAPI-I 711"},"SINAPI-I",711,"BLOQUETE/PISO INTERTRAVADO DE CONCRETO - MODELO SEXTAVADO / HEXAGONAL, *25 X 25* CM, E = 6 CM, RESISTENCIA DE 35 MPA, COR NATURAL                                                                                                                                                                                                                                                                                                                                                                         ","M2    ","48,75",null,null,"CR"]
[{"$f":"CONCATENAR","v":"SINAPI-I 712"},"SINAPI-I",712,"BLOQUETE/PISO INTERTRAVADO DE CONCRETO - MODELO SEXTAVADO / HEXAGONAL, *25 X 25* CM, E = 8 CM, RESISTENCIA DE 35 MPA, COR NATURAL                                                                                                                                                                                                                                                                                                                                                                         ","M2    ","61,41",null,null,"CR"]
[{"$f":"CONCATENAR","v":"SINAPI-I 12614"},"SINAPI-I",12614,"BOCAL PVC, PARA CALHA PLUVIAL, DIAMETRO DA SAIDA ENTRE *75 E 120* MM, PARA DRENAGEM PLUVIAL PREDIAL                                                                                                                                                                                                                                                                                                                                                                                                       ","UN    ","56,98",null,null,"CR"]
[{"$f":"CONCATENAR","v":"SINAPI-I 6140"},"SINAPI-I",6140,"BOLSA DE LIGACAO EM PVC FLEXIVEL PARA VASO SANITARIO 40 MM (1 1/2\")                                                                                                                                                                                                                                                                                                                                                                                                                                       ","UN    ","4,34",null,null,"CR"]
[{"$f":"CONCATENAR","v":"SINAPI-I 38399"},"SINAPI-I",38399,"BOLSA DE LONA PARA FERRAMENTAS *50 X 35 X 25* CM                                                                                                                                                                                                                                                                                                                                                                                                                                                          ","UN    ","296,57",null,null,"CR"]
[{"$f":"CONCATENAR","v":"SINAPI-I 729"},"SINAPI-I",729,"BOMBA CENTRIFUGA COM MOTOR ELETRICO MONOFASICO, POTENCIA 0,33 HP, BOCAIS 1\" X 3/4\", DIAMETRO DO ROTOR 99 MM, HM/Q = 4 MCA / 8,5 M3/H A 18 MCA / 0,90 M3/H                                                                                                                                                                                                                                                                                                                                                 ","UN    ","936,49",null,null,"C "]
[{"$f":"CONCATENAR","v":"SINAPI-I 39925"},"SINAPI-I",39925,"BOMBA CENTRIFUGA MONOESTAGIO COM MOTOR ELETRICO MONOFASICO, POTENCIA 15 HP, DIAMETRO DO ROTOR *173* MM, HM/Q = *30* MCA / *90* M3/H A *45* MCA / *55* M3/H                                                                                                                                                                                                                                                                                                                                                ","UN    ","13.532,19",null,null,"CR"]
[{"$f":"CONCATENAR","v":"SINAPI-I 731"},"SINAPI-I",731,"BOMBA CENTRIFUGA MOTOR ELETRICO MONOFASICO 0,49 HP BOCAIS 1\" X 3/4\", DIAMETRO DO ROTOR 110 MM, HM/Q: 6 M / 8,3 M3/H A 20 M / 1,2 M3/H                                                                                                                                                                                                                                                                                                                                                                     ","UN    ","911,43",null,null,"CR"]
[{"$f":"CONCATENAR","v":"SINAPI-I 10575"},"SINAPI-I",10575,"BOMBA CENTRIFUGA MOTOR ELETRICO MONOFASICO 0,50 CV DIAMETRO DE SUCCAO X ELEVACAO 3/4\" X 3/4\", MONOESTAGIO, DIAMETRO DOS ROTORES 114 MM, HM/Q: 2 M / 2,99 M3/H A 24 M / 0,71 M3/H                                                                                                                                                                                                                                                                                                                          ","UN    ","1.422,36",null,null,"CR"]
[{"$f":"CONCATENAR","v":"SINAPI-I 733"},"SINAPI-I",733,"BOMBA CENTRIFUGA MOTOR ELETRICO MONOFASICO 0,74HP DIAMETRO DE SUCCAO X ELEVACAO 1 1/4\" X 1\", DIAMETRO DO ROTOR 120 MM, HM/Q: 8 M / 7,70 M3/H A 24 M / 2,80 M3/H                                                                                                                                                                                                                                                                                                                                           ","UN    ","1.557,31",null,null,"CR"]
[{"$f":"CONCATENAR","v":"SINAPI-I 732"},"SINAPI-I",732,"BOMBA CENTRIFUGA MOTOR ELETRICO TRIFASICO 0,99HP DIAMETRO DE SUCCAO X ELEVACAO 1\" X 1\", DIAMETRO DO ROTOR 145 MM, HM/Q: 14 M / 8,4 M3/H A 40 M / 0,60 M3/H                                                                                                                                                                                                                                                                                                                                                ","UN    ","1.536,38",null,null,"CR"]
[{"$f":"CONCATENAR","v":"SINAPI-I 735"},"SINAPI-I",735,"BOMBA CENTRIFUGA MOTOR ELETRICO TRIFASICO 1,48HP DIAMETRO DE SUCCAO X ELEVACAO 1\" X 1\", 4 ESTAGIOS, DIAMETRO DOS ROTORES 3 X 107 MM + 1 X 100 MM, HM/Q: 10 M / 5,3 M3/H A 70 M / 1,8 M3/H                                                                                                                                                                                                                                                                                                                 ","UN    ","2.733,13",null,null,"CR"]
[{"$f":"CONCATENAR","v":"SINAPI-I 737"},"SINAPI-I",737,"BOMBA CENTRIFUGA MOTOR ELETRICO TRIFASICO 14,8 HP, DIAMETRO DE SUCCAO X ELEVACAO 2 1/2\" X 2\", DIAMETRO DO ROTOR 195 MM, HM/Q: 62 M / 55,5 M3/H A 80 M / 31,50 M3/H                                                                                                                                                                                                                                                                                                                                        ","UN    ","8.615,55",null,null,"CR"]
[{"$f":"CONCATENAR","v":"SINAPI-I 736"},"SINAPI-I",736,"BOMBA CENTRIFUGA MOTOR ELETRICO TRIFASICO 2,96HP, DIAMETRO DE SUCCAO X ELEVACAO 1 1/2\" X 1 1/4\", DIAMETRO DO ROTOR 148 MM, HM/Q: 34 M / 14,80 M3/H A 40 M / 8,60 M3/H                                                                                                                                                                                                                                                                                                                                     ","UN    ","2.298,07",null,null,"CR"]
[{"$f":"CONCATENAR","v":"SINAPI-I 738"},"SINAPI-I",738,"BOMBA CENTRIFUGA MOTOR ELETRICO TRIFASICO 5HP, DIAMETRO DE SUCCAO X ELEVACAO 2\" X 1 1/2\", DIAMETRO DO ROTOR 155 MM, HM/Q: 40 M / 20,40 M3/H A 46 M / 9,20 M3/H                                                                                                                                                                                                                                                                                                                                            ","UN    ","3.994,97",null,null,"CR"]
[{"$f":"CONCATENAR","v":"SINAPI-I 740"},"SINAPI-I",740,"BOMBA CENTRIFUGA MOTOR ELETRICO TRIFASICO 9,86 DIAMETRO DE SUCCAO X ELEVACAO 1\" X 1\", 4 ESTAGIOS, DIAMETRO DOS ROTORES 4 X 146 MM, HM/Q: 85 M / 14,9 M3/H A 140 M / 4,2 M3/H                                                                                                                                                                                                                                                                                                                              ","UN    ","8.104,97",null,null,"CR"]
[{"$f":"CONCATENAR","v":"SINAPI-I 734"},"SINAPI-I",734,"BOMBA CENTRIFUGA, MOTOR ELETRICO TRIFASICO 1,48HP DIAMETRO DE SUCCAO X ELEVACAO 1 1/2\" X 1\", DIAMETRO DO ROTOR 117 MM, HM/Q: 10 M / 21,9 M3/H A 24 M / 6,1 M3/H                                                                                                                                                                                                                                                                                                                                           ","UN    ","1.646,99",null,null,"CR"]
[{"$f":"CONCATENAR","v":"SINAPI-I 39008"},"SINAPI-I",39008,"BOMBA DE PROJECAO DE CONCRETO SECO, POTENCIA 10 CV, VAZAO 3 M3/H                                                                                                                                                                                                                                                                                                                                                                                                                                          ","UN    ","58.507,37",null,null,"CR"]
[{"$f":"CONCATENAR","v":"SINAPI-I 39009"},"SINAPI-I",39009,"BOMBA DE PROJECAO DE CONCRETO SECO, POTENCIA 10 CV, VAZAO 6 M3/H                                                                                                                                                                                                                                                                                                                                                                                                                                          ","UN    ","62.683,39",null,null,"CR"]
[{"$f":"CONCATENAR","v":"SINAPI-I 10587"},"SINAPI-I",10587,"BOMBA SUBMERSA PARA POCOS TUBULARES PROFUNDOS DIAMETRO DE 4 POLEGADAS, ELETRICA, MONOFASICA, POTENCIA 0,49 HP, 13 ESTAGIOS, BOCAL DE DESCARGA DIAMETRO DE UMA POLEGADA E MEIA, HM/Q = 18 M / 1,90 M3/H A 85 M / 0,60 M3/H                                                                                                                                                                                                                                                                                 ","UN    ","5.161,24",null,null,"CR"]
[{"$f":"CONCATENAR","v":"SINAPI-I 759"},"SINAPI-I",759,"BOMBA SUBMERSA PARA POCOS TUBULARES PROFUNDOS DIAMETRO DE 4 POLEGADAS, ELETRICA, TRIFASICA, POTENCIA 1,97 HP, 20 ESTAGIOS, BOCAL DE DESCARGA DIAMETRO DE UMA POLEGADA E MEIA, HM/Q = 18 M / 5,40 M3/H A 164 M / 0,80 M3/H                                                                                                                                                                                                                                                                                 ","UN    ","7.420,84",null,null,"CR"]
[{"$f":"CONCATENAR","v":"SINAPI-I 761"},"SINAPI-I",761,"BOMBA SUBMERSA PARA POCOS TUBULARES PROFUNDOS DIAMETRO DE 4 POLEGADAS, ELETRICA, TRIFASICA, POTENCIA 5,42 HP, 15 ESTAGIOS, BOCAL DE DESCARGA DIAMETRO DE 2 POLEGADAS, HM/Q = 18 M / 18,10 M3/H A 121 M / 2,90 M3/H                                                                                                                                                                                                                                                                                        ","UN    ","12.578,95",null,null,"CR"]
[{"$f":"CONCATENAR","v":"SINAPI-I 750"},"SINAPI-I",750,"BOMBA SUBMERSA PARA POCOS TUBULARES PROFUNDOS DIAMETRO DE 4 POLEGADAS, ELETRICA, TRIFASICA, POTENCIA 5,42 HP, 29 ESTAGIOS, BOCAL DE DESCARGA DE UMA POLEGADA E MEIA, HM/Q = 18 M / 8,10 M3/H A 201 M / 3,2 M3/H                                                                                                                                                                                                                                                                                           ","UN    ","11.942,71",null,null,"CR"]
[{"$f":"CONCATENAR","v":"SINAPI-I 755"},"SINAPI-I",755,"BOMBA SUBMERSA PARA POCOS TUBULARES PROFUNDOS DIAMETRO DE 6 POLEGADAS, ELETRICA, TRIFASICA, POTENCIA 27,12 HP, 7 ESTAGIOS, BOCAL DE DESCARGA DIAMETRO DE 4 POLEGADAS, HM/Q = 13,9 M / 90 M3/H A 44,0 M / 25,0 M3/H                                                                                                                                                                                                                                                                                        ","UN    ","49.007,10",null,null,"CR"]
[{"$f":"CONCATENAR","v":"SINAPI-I 749"},"SINAPI-I",749,"BOMBA SUBMERSA PARA POCOS TUBULARES PROFUNDOS DIAMETRO DE 6 POLEGADAS, ELETRICA, TRIFASICA, POTENCIA 3,45 HP, 5 ESTAGIOS, BOCAL DE DESCARGA DIAMETRO DE 2 POLEGADAS, HM/Q = 68,5 M / 6,12 M3/H A 39,5 M / 14,04 M3/H                                                                                                                                                                                                                                                                                      ","UN    ","18.023,90",null,null,"CR"]
[{"$f":"CONCATENAR","v":"SINAPI-I 756"},"SINAPI-I",756,"BOMBA SUBMERSA PARA POCOS TUBULARES PROFUNDOS DIAMETRO DE 6 POLEGADAS, ELETRICA, TRIFASICA, POTENCIA 32 HP, 9 ESTAGIOS, BOCAL DE DESCARGA DIAMETRO DE 4 POLEGADAS, HM/Q = 114,0 M / 13,9 M3/H A 57,0 M / 25,0 M3/H                                                                                                                                                                                                                                                                                        ","UN    ","53.448,81",null,null,"CR"]
[{"$f":"CONCATENAR","v":"SINAPI-I 10588"},"SINAPI-I",10588,"BOMBA SUBMERSIVEL, ELETRICA, TRIFASICA, POTENCIA 0,98 HP, DIAMETRO DO ROTOR 142 MM SEMIABERTO, BOCAL DE SAIDA DIAMETRO DE 2 POLEGADAS, HM/Q = 2 M / 32 M3/H A 8 M / 16 M3/H                                                                                                                                                                                                                                                                                                                               ","UN    ","5.358,02",null,null,"CR"]
[{"$f":"CONCATENAR","v":"SINAPI-I 10592"},"SINAPI-I",10592,"BOMBA SUBMERSIVEL, ELETRICA, TRIFASICA, POTENCIA 0,99 HP, DIAMETRO ROTOR 98 MM SEMIABERTO, BOCAL DE SAIDA DIAMETRO 2 POLEGADAS, HM/Q = 2 M / 28,90 M3/H A 14 M / 7 M3/H                                                                                                                                                                                                                                                                                                                                   ","UN    ","6.471,78",null,null,"C "]
[{"$f":"CONCATENAR","v":"SINAPI-I 10589"},"SINAPI-I",10589,"BOMBA SUBMERSIVEL, ELETRICA, TRIFASICA, POTENCIA 1,97 HP, DIAMETRO DO ROTOR 144 MM SEMIABERTO, BOCAL DE SAIDA DIAMETRO DE 2 POLEGADAS, HM/Q = 2 M / 26,8 M3/H A 28 M / 4,6 M3/H                                                                                                                                                                                                                                                                                                                           ","UN    ","8.694,43",null,null,"CR"]
[{"$f":"CONCATENAR","v":"SINAPI-I 760"},"SINAPI-I",760,"BOMBA SUBMERSIVEL, ELETRICA, TRIFASICA, POTENCIA 13 HP, DIAMETRO DO ROTOR 170 MM, BOCAL DE SAIDA DIAMETRO DE 3 POLEGADAS, HM/Q = 11 M / 68,40 M3/H A 72 M / 3,6 M3/H                                                                                                                                                                                                                                                                                                                                      ","UN    ","48.538,35",null,null,"CR"]
[{"$f":"CONCATENAR","v":"SINAPI-I 751"},"SINAPI-I",751,"BOMBA SUBMERSIVEL, ELETRICA, TRIFASICA, POTENCIA 2,96 HP, DIAMETRO DO ROTOR 144 MM SEMIABERTO, BOCAL DE SAIDA DIAMETRO DE DUAS POLEGADAS, HM/Q = 2 M / 38,8 M3/H A 28 M / 5 M3/H                                                                                                                                                                                                                                                                                                                          ","UN    ","7.644,79",null,null,"CR"]
[{"$f":"CONCATENAR","v":"SINAPI-I 754"},"SINAPI-I",754,"BOMBA SUBMERSIVEL, ELETRICA, TRIFASICA, POTENCIA 3,75 HP, DIAMETRO DO ROTOR 90 MM SEMIABERTO, BOCAL DE SAIDA DIAMETRO DE 2 POLEGADAS, HM/Q = 5 M / 61,2 M3/H A 25,5 M / 3,6 M3/H                                                                                                                                                                                                                                                                                                                          ","UN    ","12.134,58",null,null,"CR"]
[{"$f":"CONCATENAR","v":"SINAPI-I 757"},"SINAPI-I",757,"BOMBA SUBMERSIVEL, ELETRICA, TRIFASICA, POTENCIA 6 HP, DIAMETRO DO ROTOR 127 MM, BOCAL DE SAIDA DIAMETRO DE 3 POLEGADAS, HM/Q = 7 M / 66,90 M3/H A 26 M / 2,88 M3/H                                                                                                                                                                                                                                                                                                                                       ","UN    ","24.269,17",null,null,"CR"]
[{"$f":"CONCATENAR","v":"SINAPI-I 44489"},"SINAPI-I",44489,"BOMBA TRIPLEX COM MOTOR A DIESEL, NACIONAL, DIAMETRO DE SUCCAO DE 2 1/2\"                                                                                                                                                                                                                                                                                                                                                                                                                                  ","UN    ","232.810,99",null,null,"CR"]
[{"$f":"CONCATENAR","v":"SINAPI-I 39917"},"SINAPI-I",39917,"BOMBA TRIPLEX, PARA INJECAO DE CALDA DE CIMENTO, VAZAO MAXIMA DE *100* LITROS/MINUTO, PRESSAO MAXIMA DE *70* BAR, POTENCIA DE 15 CV                                                                                                                                                                                                                                                                                                                                                                       ","UN    ","89.871,54",null,null,"CR"]
[{"$f":"CONCATENAR","v":"SINAPI-I 38167"},"SINAPI-I",38167,"BORBOLETA PARA JANELA TIPO GUILHOTINA, EM ZAMAC CROMADO                                                                                                                                                                                                                                                                                                                                                                                                                                                   ","PAR   ","29,15",null,null,"CR"]
[{"$f":"CONCATENAR","v":"SINAPI-I 36145"},"SINAPI-I",36145,"BOTA DE PVC PRETA, CANO MEDIO, SEM FORRO                                                                                                                                                                                                                                                                                                                                                                                                                                                                  ","PAR   ","49,44",null,null,"CR"]
[{"$f":"CONCATENAR","v":"SINAPI-I 12893"},"SINAPI-I",12893,"BOTA DE SEGURANCA COM BIQUEIRA DE ACO E COLARINHO ACOLCHOADO                                                                                                                                                                                                                                                                                                                                                                                                                                              ","PAR   ","82,41",null,null,"CR"]
[{"$f":"CONCATENAR","v":"SINAPI-I 11685"},"SINAPI-I",11685,"BRACO / CANO PARA CHUVEIRO ELETRICO, EM ALUMINIO, 30 CM X 1/2\"                                                                                                                                                                                                                                                                                                                                                                                                                                            ","UN    ","43,24",null,null,"CR"]
[{"$f":"CONCATENAR","v":"SINAPI-I 11680"},"SINAPI-I",11680,"BRACO OU HASTE COM CANOPLA PLASTICA, 1/2 \", PARA CHUVEIRO SIMPLES                                                                                                                                                                                                                                                                                                                                                                                                                                         ","UN    ","16,04",null,null,"CR"]
[{"$f":"CONCATENAR","v":"SINAPI-I 11679"},"SINAPI-I",11679,"BRACO OU HASTE RETA COM CANOPLA PLASTICA, 1/2 \", PARA CHUVEIRO ELETRICO                                                                                                                                                                                                                                                                                                                                                                                                                                   ","UN    ","21,75",null,null,"CR"]
[{"$f":"CONCATENAR","v":"SINAPI-I 2512"},"SINAPI-I",2512,"BRACO P/ LUMINARIA PUBLICA 1 X 1,50M ROMAGNOLE OU EQUIV                                                                                                                                                                                                                                                                                                                                                                                                                                                   ","UN    ","40,67",null,null,"AS"]
[{"$f":"CONCATENAR","v":"SINAPI-I 4374"},"SINAPI-I",4374,"BUCHA DE NYLON SEM ABA S10                                                                                                                                                                                                                                                                                                                                                                                                                                                                                ","UN    ","0,77",null,null,"CR"]
[{"$f":"CONCATENAR","v":"SINAPI-I 7568"},"SINAPI-I",7568,"BUCHA DE NYLON SEM ABA S10, COM PARAFUSO DE 6,10 X 65 MM EM ACO ZINCADO COM ROSCA SOBERBA, CABECA CHATA E FENDA PHILLIPS                                                                                                                                                                                                                                                                                                                                                                                  ","UN    ","1,29",null,null,"CR"]
[{"$f":"CONCATENAR","v":"SINAPI-I 7584"},"SINAPI-I",7584,"BUCHA DE NYLON SEM ABA S12, COM PARAFUSO DE 5/16\" X 80 MM EM ACO ZINCADO COM ROSCA SOBERBA E CABECA SEXTAVADA                                                                                                                                                                                                                                                                                                                                                                                             ","UN    ","1,96",null,null,"CR"]
[{"$f":"CONCATENAR","v":"SINAPI-I 11945"},"SINAPI-I",11945,"BUCHA DE NYLON SEM ABA S4                                                                                                                                                                                                                                                                                                                                                                                                                                                                                 ","UN    ","0,12",null,null,"CR"]
[{"$f":"CONCATENAR","v":"SINAPI-I 11946"},"SINAPI-I",11946,"BUCHA DE NYLON SEM ABA S5                                                                                                                                                                                                                                                                                                                                                                                                                                                                                 ","UN    ","0,14",null,null,"CR"]
[{"$f":"CONCATENAR","v":"SINAPI-I 4375"},"SINAPI-I",4375,"BUCHA DE NYLON SEM ABA S6                                                                                                                                                                                                                                                                                                                                                                                                                                                                                 ","UN    ","0,21",null,null,"C "]
[{"$f":"CONCATENAR","v":"SINAPI-I 11950"},"SINAPI-I",11950,"BUCHA DE NYLON SEM ABA S6, COM PARAFUSO DE 4,20 X 40 MM EM ACO ZINCADO COM ROSCA SOBERBA, CABECA CHATA E FENDA PHILLIPS                                                                                                                                                                                                                                                                                                                                                                                   ","UN    ","0,43",null,null,"CR"]
[{"$f":"CONCATENAR","v":"SINAPI-I 4376"},"SINAPI-I",4376,"BUCHA DE NYLON SEM ABA S8                                                                                                                                                                                                                                                                                                                                                                                                                                                                                 ","UN    ","0,41",null,null,"CR"]
[{"$f":"CONCATENAR","v":"SINAPI-I 7583"},"SINAPI-I",7583,"BUCHA DE NYLON SEM ABA S8, COM PARAFUSO DE 4,80 X 50 MM EM ACO ZINCADO COM ROSCA SOBERBA, CABECA CHATA E FENDA PHILLIPS                                                                                                                                                                                                                                                                                                                                                                                   ","UN    ","0,88",null,null,"CR"]
[{"$f":"CONCATENAR","v":"SINAPI-I 4350"},"SINAPI-I",4350,"BUCHA DE NYLON, DIAMETRO DO FURO 8 MM, COMPRIMENTO 40 MM, COM PARAFUSO DE ROSCA SOBERBA, CABECA CHATA, FENDA SIMPLES, 4,8 X 50 MM                                                                                                                                                                                                                                                                                                                                                                         ","UN    ","0,67",null,null,"AS"]
[{"$f":"CONCATENAR","v":"SINAPI-I 44400"},"SINAPI-I",44400,"BUCHA DE REDUCAO CPVC, SOLDAVEL, 54 X 28 MM, PARA AGUA QUENTE                                                                                                                                                                                                                                                                                                                                                                                                                                             ","UN    ","31,28",null,null,"CR"]
[{"$f":"CONCATENAR","v":"SINAPI-I 39886"},"SINAPI-I",39886,"BUCHA DE REDUCAO DE COBRE (REF 600-2) SEM ANEL DE SOLDA, PONTA X BOLSA, 22 X 15 MM                                                                                                                                                                                                                                                                                                                                                                                                                        ","UN    ","5,88",null,null,"AS"]
[{"$f":"CONCATENAR","v":"SINAPI-I 39887"},"SINAPI-I",39887,"BUCHA DE REDUCAO DE COBRE (REF 600-2) SEM ANEL DE SOLDA, PONTA X BOLSA, 28 X 22 MM                                                                                                                                                                                                                                                                                                                                                                                                                        ","UN    ","8,82",null,null,"AS"]
[{"$f":"CONCATENAR","v":"SINAPI-I 39888"},"SINAPI-I",39888,"BUCHA DE REDUCAO DE COBRE (REF 600-2) SEM ANEL DE SOLDA, PONTA X BOLSA, 35 X 28 MM                                                                                                                                                                                                                                                                                                                                                                                                                        ","UN    ","20,17",null,null,"AS"]
[{"$f":"CONCATENAR","v":"SINAPI-I 39890"},"SINAPI-I",39890,"BUCHA DE REDUCAO DE COBRE (REF 600-2) SEM ANEL DE SOLDA, PONTA X BOLSA, 42 X 35 MM                                                                                                                                                                                                                                                                                                                                                                                                                        ","UN    ","34,44",null,null,"AS"]
[{"$f":"CONCATENAR","v":"SINAPI-I 39891"},"SINAPI-I",39891,"BUCHA DE REDUCAO DE COBRE (REF 600-2) SEM ANEL DE SOLDA, PONTA X BOLSA, 54 X 42 MM                                                                                                                                                                                                                                                                                                                                                                                                                        ","UN    ","48,55",null,null,"AS"]
[{"$f":"CONCATENAR","v":"SINAPI-I 39892"},"SINAPI-I",39892,"BUCHA DE REDUCAO DE COBRE (REF 600-2) SEM ANEL DE SOLDA, PONTA X BOLSA, 66 X 54 MM                                                                                                                                                                                                                                                                                                                                                                                                                        ","UN    ","151,35",null,null,"AS"]
[{"$f":"CONCATENAR","v":"SINAPI-I 790"},"SINAPI-I",790,"BUCHA DE REDUCAO DE FERRO GALVANIZADO, COM ROSCA BSP, DE 1 1/2\" X 1 1/4\"                                                                                                                                                                                                                                                                                                                                                                                                                                  ","UN    ","19,09",null,null,"CR"]
[{"$f":"CONCATENAR","v":"SINAPI-I 766"},"SINAPI-I",766,"BUCHA DE REDUCAO DE FERRO GALVANIZADO, COM ROSCA BSP, DE 1 1/2\" X 1/2\"                                                                                                                                                                                                                                                                                                                                                                                                                                    ","UN    ","19,09",null,null,"CR"]
[{"$f":"CONCATENAR","v":"SINAPI-I 791"},"SINAPI-I",791,"BUCHA DE REDUCAO DE FERRO GALVANIZADO, COM ROSCA BSP, DE 1 1/2\" X 1\"                                                                                                                                                                                                                                                                                                                                                                                                                                      ","UN    ","19,09",null,null,"CR"]
[{"$f":"CONCATENAR","v":"SINAPI-I 767"},"SINAPI-I",767,"BUCHA DE REDUCAO DE FERRO GALVANIZADO, COM ROSCA BSP, DE 1 1/2\" X 3/4\"                                                                                                                                                                                                                                                                                                                                                                                                                                    ","UN    ","19,09",null,null,"CR"]
[{"$f":"CONCATENAR","v":"SINAPI-I 768"},"SINAPI-I",768,"BUCHA DE REDUCAO DE FERRO GALVANIZADO, COM ROSCA BSP, DE 1 1/4\" X 1/2\"                                                                                                                                                                                                                                                                                                                                                                                                                                    ","UN    ","15,00",null,null,"CR"]
[{"$f":"CONCATENAR","v":"SINAPI-I 789"},"SINAPI-I",789,"BUCHA DE REDUCAO DE FERRO GALVANIZADO, COM ROSCA BSP, DE 1 1/4\" X 1\"                                                                                                                                                                                                                                                                                                                                                                                                                                      ","UN    ","14,68",null,null,"CR"]
[{"$f":"CONCATENAR","v":"SINAPI-I 769"},"SINAPI-I",769,"BUCHA DE REDUCAO DE FERRO GALVANIZADO, COM ROSCA BSP, DE 1 1/4\" X 3/4\"                                                                                                                                                                                                                                                                                                                                                                                                                                    ","UN    ","15,00",null,null,"CR"]
[{"$f":"CONCATENAR","v":"SINAPI-I 770"},"SINAPI-I",770,"BUCHA DE REDUCAO DE FERRO GALVANIZADO, COM ROSCA BSP, DE 1/2\" X 1/4\"                                                                                                                                                                                                                                                                                                                                                                                                                                      ","UN    ","5,29",null,null,"CR"]
[{"$f":"CONCATENAR","v":"SINAPI-I 12394"},"SINAPI-I",12394,"BUCHA DE REDUCAO DE FERRO GALVANIZADO, COM ROSCA BSP, DE 1/2\" X 3/8\"                                                                                                                                                                                                                                                                                                                                                                                                                                      ","UN    ","5,29",null,null,"CR"]
[{"$f":"CONCATENAR","v":"SINAPI-I 764"},"SINAPI-I",764,"BUCHA DE REDUCAO DE FERRO GALVANIZADO, COM ROSCA BSP, DE 1\" X 1/2\"                                                                                                                                                                                                                                                                                                                                                                                                                                        ","UN    ","9,23",null,null,"C "]
[{"$f":"CONCATENAR","v":"SINAPI-I 765"},"SINAPI-I",765,"BUCHA DE REDUCAO DE FERRO GALVANIZADO, COM ROSCA BSP, DE 1\" X 3/4\"                                                                                                                                                                                                                                                                                                                                                                                                                                        ","UN    ","9,23",null,null,"CR"]
[{"$f":"CONCATENAR","v":"SINAPI-I 787"},"SINAPI-I",787,"BUCHA DE REDUCAO DE FERRO GALVANIZADO, COM ROSCA BSP, DE 2 1/2\" X 1 1/2\"                                                                                                                                                                                                                                                                                                                                                                                                                                  ","UN    ","41,23",null,null,"CR"]
[{"$f":"CONCATENAR","v":"SINAPI-I 774"},"SINAPI-I",774,"BUCHA DE REDUCAO DE FERRO GALVANIZADO, COM ROSCA BSP, DE 2 1/2\" X 1 1/4\"                                                                                                                                                                                                                                                                                                                                                                                                                                  ","UN    ","41,23",null,null,"CR"]
[{"$f":"CONCATENAR","v":"SINAPI-I 773"},"SINAPI-I",773,"BUCHA DE REDUCAO DE FERRO GALVANIZADO, COM ROSCA BSP, DE 2 1/2\" X 1\"                                                                                                                                                                                                                                                                                                                                                                                                                                      ","UN    ","41,23",null,null,"CR"]
[{"$f":"CONCATENAR","v":"SINAPI-I 775"},"SINAPI-I",775,"BUCHA DE REDUCAO DE FERRO GALVANIZADO, COM ROSCA BSP, DE 2 1/2\" X 2\"                                                                                                                                                                                                                                                                                                                                                                                                                                      ","UN    ","41,23",null,null,"CR"]
[{"$f":"CONCATENAR","v":"SINAPI-I 788"},"SINAPI-I",788,"BUCHA DE REDUCAO DE FERRO GALVANIZADO, COM ROSCA BSP, DE 2\" X 1 1/2\"                                                                                                                                                                                                                                                                                                                                                                                                                                      ","UN    ","25,62",null,null,"CR"]
[{"$f":"CONCATENAR","v":"SINAPI-I 772"},"SINAPI-I",772,"BUCHA DE REDUCAO DE FERRO GALVANIZADO, COM ROSCA BSP, DE 2\" X 1 1/4\"                                                                                                                                                                                                                                                                                                                                                                                                                                      ","UN    ","25,62",null,null,"CR"]
[{"$f":"CONCATENAR","v":"SINAPI-I 771"},"SINAPI-I",771,"BUCHA DE REDUCAO DE FERRO GALVANIZADO, COM ROSCA BSP, DE 2\" X 1\"                                                                                                                                                                                                                                                                                                                                                                                                                                          ","UN    ","25,62",null,null,"CR"]
[{"$f":"CONCATENAR","v":"SINAPI-I 779"},"SINAPI-I",779,"BUCHA DE REDUCAO DE FERRO GALVANIZADO, COM ROSCA BSP, DE 3/4\" X 1/2\"                                                                                                                                                                                                                                                                                                                                                                                                                                      ","UN    ","6,37",null,null,"CR"]
[{"$f":"CONCATENAR","v":"SINAPI-I 776"},"SINAPI-I",776,"BUCHA DE REDUCAO DE FERRO GALVANIZADO, COM ROSCA BSP, DE 3\" X 1 1/2\"                                                                                                                                                                                                                                                                                                                                                                                                                                      ","UN    ","60,78",null,null,"CR"]
[{"$f":"CONCATENAR","v":"SINAPI-I 777"},"SINAPI-I",777,"BUCHA DE REDUCAO DE FERRO GALVANIZADO, COM ROSCA BSP, DE 3\" X 1 1/4\"                                                                                                                                                                                                                                                                                                                                                                                                                                      ","UN    ","59,08",null,null,"CR"]
[{"$f":"CONCATENAR","v":"SINAPI-I 780"},"SINAPI-I",780,"BUCHA DE REDUCAO DE FERRO GALVANIZADO, COM ROSCA BSP, DE 3\" X 2 1/2\"                                                                                                                                                                                                                                                                                                                                                                                                                                      ","UN    ","59,38",null,null,"CR"]
[{"$f":"CONCATENAR","v":"SINAPI-I 778"},"SINAPI-I",778,"BUCHA DE REDUCAO DE FERRO GALVANIZADO, COM ROSCA BSP, DE 3\" X 2\"                                                                                                                                                                                                                                                                                                                                                                                                                                          ","UN    ","60,78",null,null,"CR"]
[{"$f":"CONCATENAR","v":"SINAPI-I 781"},"SINAPI-I",781,"BUCHA DE REDUCAO DE FERRO GALVANIZADO, COM ROSCA BSP, DE 4\" X 2 1/2\"                                                                                                                                                                                                                                                                                                                                                                                                                                      ","UN    ","112,30",null,null,"CR"]
[{"$f":"CONCATENAR","v":"SINAPI-I 786"},"SINAPI-I",786,"BUCHA DE REDUCAO DE FERRO GALVANIZADO, COM ROSCA BSP, DE 4\" X 2\"                                                                                                                                                                                                                                                                                                                                                                                                                                          ","UN    ","112,30",null,null,"CR"]
[{"$f":"CONCATENAR","v":"SINAPI-I 782"},"SINAPI-I",782,"BUCHA DE REDUCAO DE FERRO GALVANIZADO, COM ROSCA BSP, DE 4\" X 3\"                                                                                                                                                                                                                                                                                                                                                                                                                                          ","UN    ","112,30",null,null,"CR"]
[{"$f":"CONCATENAR","v":"SINAPI-I 783"},"SINAPI-I",783,"BUCHA DE REDUCAO DE FERRO GALVANIZADO, COM ROSCA BSP, DE 5\" X 4\"                                                                                                                                                                                                                                                                                                                                                                                                                                          ","UN    ","307,35",null,null,"CR"]
[{"$f":"CONCATENAR","v":"SINAPI-I 785"},"SINAPI-I",785,"BUCHA DE REDUCAO DE FERRO GALVANIZADO, COM ROSCA BSP, DE 6\" X 4\"                                                                                                                                                                                                                                                                                                                                                                                                                                          ","UN    ","324,74",null,null,"CR"]
[{"$f":"CONCATENAR","v":"SINAPI-I 784"},"SINAPI-I",784,"BUCHA DE REDUCAO DE FERRO GALVANIZADO, COM ROSCA BSP, DE 6\" X 5\"                                                                                                                                                                                                                                                                                                                                                                                                                                          ","UN    ","348,37",null,null,"CR"]
[{"$f":"CONCATENAR","v":"SINAPI-I 828"},"SINAPI-I",828,"BUCHA DE REDUCAO DE PVC, SOLDAVEL, CURTA, COM 25 X 20 MM, PARA AGUA FRIA PREDIAL                                                                                                                                                                                                                                                                                                                                                                                                                          ","UN    ","0,62",null,null,"CR"]
[{"$f":"CONCATENAR","v":"SINAPI-I 829"},"SINAPI-I",829,"BUCHA DE REDUCAO DE PVC, SOLDAVEL, CURTA, COM 32 X 25 MM, PARA AGUA FRIA PREDIAL                                                                                                                                                                                                                                                                                                                                                                                                                          ","UN    ","1,00",null,null,"CR"]
[{"$f":"CONCATENAR","v":"SINAPI-I 812"},"SINAPI-I",812,"BUCHA DE REDUCAO DE PVC, SOLDAVEL, CURTA, COM 40 X 32 MM, PARA AGUA FRIA PREDIAL                                                                                                                                                                                                                                                                                                                                                                                                                          ","UN    ","2,20",null,null,"CR"]
[{"$f":"CONCATENAR","v":"SINAPI-I 819"},"SINAPI-I",819,"BUCHA DE REDUCAO DE PVC, SOLDAVEL, CURTA, COM 50 X 40 MM, PARA AGUA FRIA PREDIAL                                                                                                                                                                                                                                                                                                                                                                                                                          ","UN    ","3,82",null,null,"CR"]
[{"$f":"CONCATENAR","v":"SINAPI-I 818"},"SINAPI-I",818,"BUCHA DE REDUCAO DE PVC, SOLDAVEL, CURTA, COM 60 X 50 MM, PARA AGUA FRIA PREDIAL                                                                                                                                                                                                                                                                                                                                                                                                                          ","UN    ","7,14",null,null,"CR"]
[{"$f":"CONCATENAR","v":"SINAPI-I 832"},"SINAPI-I",832,"BUCHA DE REDUCAO DE PVC, SOLDAVEL, LONGA, COM 32 X 20 MM, PARA AGUA FRIA PREDIAL                                                                                                                                                                                                                                                                                                                                                                                                                          ","UN    ","2,95",null,null,"CR"]
[{"$f":"CONCATENAR","v":"SINAPI-I 834"},"SINAPI-I",834,"BUCHA DE REDUCAO DE PVC, SOLDAVEL, LONGA, COM 40 X 25 MM, PARA AGUA FRIA PREDIAL                                                                                                                                                                                                                                                                                                                                                                                                                          ","UN    ","3,82",null,null,"CR"]
[{"$f":"CONCATENAR","v":"SINAPI-I 813"},"SINAPI-I",813,"BUCHA DE REDUCAO DE PVC, SOLDAVEL, LONGA, COM 50 X 25 MM, PARA AGUA FRIA PREDIAL                                                                                                                                                                                                                                                                                                                                                                                                                          ","UN    ","4,44",null,null,"CR"]
[{"$f":"CONCATENAR","v":"SINAPI-I 820"},"SINAPI-I",820,"BUCHA DE REDUCAO DE PVC, SOLDAVEL, LONGA, COM 50 X 32 MM, PARA AGUA FRIA PREDIAL                                                                                                                                                                                                                                                                                                                                                                                                                          ","UN    ","5,98",null,null,"CR"]
[{"$f":"CONCATENAR","v":"SINAPI-I 816"},"SINAPI-I",816,"BUCHA DE REDUCAO DE PVC, SOLDAVEL, LONGA, COM 60 X 25 MM, PARA AGUA FRIA PREDIAL                                                                                                                                                                                                                                                                                                                                                                                                                          ","UN    ","10,66",null,null,"CR"]
[{"$f":"CONCATENAR","v":"SINAPI-I 814"},"SINAPI-I",814,"BUCHA DE REDUCAO DE PVC, SOLDAVEL, LONGA, COM 60 X 32 MM, PARA AGUA FRIA PREDIAL                                                                                                                                                                                                                                                                                                                                                                                                                          ","UN    ","13,24",null,null,"CR"]
[{"$f":"CONCATENAR","v":"SINAPI-I 822"},"SINAPI-I",822,"BUCHA DE REDUCAO DE PVC, SOLDAVEL, LONGA, COM 60 X 50 MM, PARA AGUA FRIA PREDIAL                                                                                                                                                                                                                                                                                                                                                                                                                          ","UN    ","17,28",null,null,"CR"]
[{"$f":"CONCATENAR","v":"SINAPI-I 821"},"SINAPI-I",821,"BUCHA DE REDUCAO DE PVC, SOLDAVEL, LONGA, COM 75 X 50 MM, PARA AGUA FRIA PREDIAL                                                                                                                                                                                                                                                                                                                                                                                                                          ","UN    ","19,77",null,null,"CR"]
[{"$f":"CONCATENAR","v":"SINAPI-I 20086"},"SINAPI-I",20086,"BUCHA DE REDUCAO DE PVC, SOLDAVEL, LONGA, 50 X 40 MM, PARA ESGOTO PREDIAL                                                                                                                                                                                                                                                                                                                                                                                                                                 ","UN    ","3,26",null,null,"CR"]
[{"$f":"CONCATENAR","v":"SINAPI-I 39191"},"SINAPI-I",39191,"BUCHA DE REDUCAO EM ALUMINIO, COM ROSCA, DE 1 1/2\" X 1 1/4\", PARA ELETRODUTO                                                                                                                                                                                                                                                                                                                                                                                                                              ","UN    ","24,53",null,null,"CR"]
[{"$f":"CONCATENAR","v":"SINAPI-I 39190"},"SINAPI-I",39190,"BUCHA DE REDUCAO EM ALUMINIO, COM ROSCA, DE 1 1/2\" X 1\", PARA ELETRODUTO                                                                                                                                                                                                                                                                                                                                                                                                                                  ","UN    ","25,63",null,null,"CR"]
[{"$f":"CONCATENAR","v":"SINAPI-I 39189"},"SINAPI-I",39189,"BUCHA DE REDUCAO EM ALUMINIO, COM ROSCA, DE 1 1/2\" X 3/4\", PARA ELETRODUTO                                                                                                                                                                                                                                                                                                                                                                                                                                ","UN    ","27,12",null,null,"CR"]
[{"$f":"CONCATENAR","v":"SINAPI-I 39186"},"SINAPI-I",39186,"BUCHA DE REDUCAO EM ALUMINIO, COM ROSCA, DE 1 1/4\" X 1/2\", PARA ELETRODUTO                                                                                                                                                                                                                                                                                                                                                                                                                                ","UN    ","24,26",null,null,"CR"]
[{"$f":"CONCATENAR","v":"SINAPI-I 39188"},"SINAPI-I",39188,"BUCHA DE REDUCAO EM ALUMINIO, COM ROSCA, DE 1 1/4\" X 1\", PARA ELETRODUTO                                                                                                                                                                                                                                                                                                                                                                                                                                  ","UN    ","19,97",null,null,"CR"]
[{"$f":"CONCATENAR","v":"SINAPI-I 39187"},"SINAPI-I",39187,"BUCHA DE REDUCAO EM ALUMINIO, COM ROSCA, DE 1 1/4\" X 3/4\", PARA ELETRODUTO                                                                                                                                                                                                                                                                                                                                                                                                                                ","UN    ","20,93",null,null,"CR"]
[{"$f":"CONCATENAR","v":"SINAPI-I 39184"},"SINAPI-I",39184,"BUCHA DE REDUCAO EM ALUMINIO, COM ROSCA, DE 1\" X 1/2\", PARA ELETRODUTO                                                                                                                                                                                                                                                                                                                                                                                                                                    ","UN    ","7,87",null,null,"CR"]
[{"$f":"CONCATENAR","v":"SINAPI-I 39185"},"SINAPI-I",39185,"BUCHA DE REDUCAO EM ALUMINIO, COM ROSCA, DE 1\" X 3/4\", PARA ELETRODUTO                                                                                                                                                                                                                                                                                                                                                                                                                                    ","UN    ","7,18",null,null,"CR"]
[{"$f":"CONCATENAR","v":"SINAPI-I 39198"},"SINAPI-I",39198,"BUCHA DE REDUCAO EM ALUMINIO, COM ROSCA, DE 2 1/2\" X 1 1/2\", PARA ELETRODUTO                                                                                                                                                                                                                                                                                                                                                                                                                              ","UN    ","80,48",null,null,"CR"]
[{"$f":"CONCATENAR","v":"SINAPI-I 39197"},"SINAPI-I",39197,"BUCHA DE REDUCAO EM ALUMINIO, COM ROSCA, DE 2 1/2\" X 1 1/4\", PARA ELETRODUTO                                                                                                                                                                                                                                                                                                                                                                                                                              ","UN    ","84,07",null,null,"CR"]
[{"$f":"CONCATENAR","v":"SINAPI-I 39196"},"SINAPI-I",39196,"BUCHA DE REDUCAO EM ALUMINIO, COM ROSCA, DE 2 1/2\" X 1\", PARA ELETRODUTO                                                                                                                                                                                                                                                                                                                                                                                                                                  ","UN    ","86,70",null,null,"CR"]
[{"$f":"CONCATENAR","v":"SINAPI-I 39199"},"SINAPI-I",39199,"BUCHA DE REDUCAO EM ALUMINIO, COM ROSCA, DE 2 1/2\" X 2\", PARA ELETRODUTO                                                                                                                                                                                                                                                                                                                                                                                                                                  ","UN    ","77,45",null,null,"CR"]
[{"$f":"CONCATENAR","v":"SINAPI-I 39195"},"SINAPI-I",39195,"BUCHA DE REDUCAO EM ALUMINIO, COM ROSCA, DE 2\" X 1 1/2\", PARA ELETRODUTO                                                                                                                                                                                                                                                                                                                                                                                                                                  ","UN    ","44,70",null,null,"CR"]
[{"$f":"CONCATENAR","v":"SINAPI-I 39194"},"SINAPI-I",39194,"BUCHA DE REDUCAO EM ALUMINIO, COM ROSCA, DE 2\" X 1 1/4\", PARA ELETRODUTO                                                                                                                                                                                                                                                                                                                                                                                                                                  ","UN    ","47,84",null,null,"CR"]
[{"$f":"CONCATENAR","v":"SINAPI-I 39193"},"SINAPI-I",39193,"BUCHA DE REDUCAO EM ALUMINIO, COM ROSCA, DE 2\" X 1\", PARA ELETRODUTO                                                                                                                                                                                                                                                                                                                                                                                                                                      ","UN    ","52,43",null,null,"CR"]
[{"$f":"CONCATENAR","v":"SINAPI-I 39192"},"SINAPI-I",39192,"BUCHA DE REDUCAO EM ALUMINIO, COM ROSCA, DE 2\" X 3/4\", PARA ELETRODUTO                                                                                                                                                                                                                                                                                                                                                                                                                                    ","UN    ","54,54",null,null,"CR"]
[{"$f":"CONCATENAR","v":"SINAPI-I 39920"},"SINAPI-I",39920,"BUCHA DE REDUCAO EM ALUMINIO, COM ROSCA, DE 3/4\" X 1/2\",  PARA ELETRODUTO                                                                                                                                                                                                                                                                                                                                                                                                                                 ","UN    ","6,60",null,null,"CR"]
[{"$f":"CONCATENAR","v":"SINAPI-I 39201"},"SINAPI-I",39201,"BUCHA DE REDUCAO EM ALUMINIO, COM ROSCA, DE 3\" X 1 1/2\", PARA ELETRODUTO                                                                                                                                                                                                                                                                                                                                                                                                                                  ","UN    ","96,22",null,null,"CR"]
[{"$f":"CONCATENAR","v":"SINAPI-I 39200"},"SINAPI-I",39200,"BUCHA DE REDUCAO EM ALUMINIO, COM ROSCA, DE 3\" X 1 1/4\", PARA ELETRODUTO                                                                                                                                                                                                                                                                                                                                                                                                                                  ","UN    ","96,99",null,null,"CR"]
[{"$f":"CONCATENAR","v":"SINAPI-I 39203"},"SINAPI-I",39203,"BUCHA DE REDUCAO EM ALUMINIO, COM ROSCA, DE 3\" X 2 1/2\", PARA ELETRODUTO                                                                                                                                                                                                                                                                                                                                                                                                                                  ","UN    ","78,31",null,null,"CR"]
[{"$f":"CONCATENAR","v":"SINAPI-I 39202"},"SINAPI-I",39202,"BUCHA DE REDUCAO EM ALUMINIO, COM ROSCA, DE 3\" X 2\", PARA ELETRODUTO                                                                                                                                                                                                                                                                                                                                                                                                                                      ","UN    ","92,00",null,null,"CR"]
[{"$f":"CONCATENAR","v":"SINAPI-I 39205"},"SINAPI-I",39205,"BUCHA DE REDUCAO EM ALUMINIO, COM ROSCA, DE 4\" X 2 1/2\", PARA ELETRODUTO                                                                                                                                                                                                                                                                                                                                                                                                                                  ","UN    ","153,48",null,null,"CR"]
[{"$f":"CONCATENAR","v":"SINAPI-I 39204"},"SINAPI-I",39204,"BUCHA DE REDUCAO EM ALUMINIO, COM ROSCA, DE 4\" X 2\", PARA ELETRODUTO                                                                                                                                                                                                                                                                                                                                                                                                                                      ","UN    ","157,19",null,null,"CR"]
[{"$f":"CONCATENAR","v":"SINAPI-I 39206"},"SINAPI-I",39206,"BUCHA DE REDUCAO EM ALUMINIO, COM ROSCA, DE 4\" X 3\", PARA ELETRODUTO                                                                                                                                                                                                                                                                                                                                                                                                                                      ","UN    ","149,13",null,null,"CR"]
[{"$f":"CONCATENAR","v":"SINAPI-I 798"},"SINAPI-I",798,"BUCHA DE REDUCAO PVC ROSCAVEL 3/4\" X 1/2\"                                                                                                                                                                                                                                                                                                                                                                                                                                                                 ","UN    ","1,23",null,null,"CR"]
[{"$f":"CONCATENAR","v":"SINAPI-I 797"},"SINAPI-I",797,"BUCHA DE REDUCAO PVC, ROSCAVEL 1 1/2\" X 1\"                                                                                                                                                                                                                                                                                                                                                                                                                                                                ","UN    ","8,95",null,null,"CR"]
[{"$f":"CONCATENAR","v":"SINAPI-I 796"},"SINAPI-I",796,"BUCHA DE REDUCAO PVC, ROSCAVEL, 1 1/2\" X 3/4\"                                                                                                                                                                                                                                                                                                                                                                                                                                                             ","UN    ","7,60",null,null,"CR"]
[{"$f":"CONCATENAR","v":"SINAPI-I 799"},"SINAPI-I",799,"BUCHA DE REDUCAO PVC, ROSCAVEL, 1\" X 1/2\"                                                                                                                                                                                                                                                                                                                                                                                                                                                                 ","UN    ","3,68",null,null,"CR"]
[{"$f":"CONCATENAR","v":"SINAPI-I 792"},"SINAPI-I",792,"BUCHA DE REDUCAO PVC, ROSCAVEL, 1\" X 3/4\"                                                                                                                                                                                                                                                                                                                                                                                                                                                                 ","UN    ","3,56",null,null,"CR"]
[{"$f":"CONCATENAR","v":"SINAPI-I 38001"},"SINAPI-I",38001,"BUCHA DE REDUCAO, CPVC, SOLDAVEL, 22 X 15 MM, PARA AGUA QUENTE                                                                                                                                                                                                                                                                                                                                                                                                                                            ","UN    ","1,16",null,null,"CR"]
[{"$f":"CONCATENAR","v":"SINAPI-I 38002"},"SINAPI-I",38002,"BUCHA DE REDUCAO, CPVC, SOLDAVEL, 28 X 22 MM, PARA AGUA QUENTE                                                                                                                                                                                                                                                                                                                                                                                                                                            ","UN    ","4,04",null,null,"CR"]
[{"$f":"CONCATENAR","v":"SINAPI-I 38003"},"SINAPI-I",38003,"BUCHA DE REDUCAO, CPVC, SOLDAVEL, 35 X 28 MM, PARA AGUA QUENTE                                                                                                                                                                                                                                                                                                                                                                                                                                            ","UN    ","27,58",null,null,"CR"]
[{"$f":"CONCATENAR","v":"SINAPI-I 38004"},"SINAPI-I",38004,"BUCHA DE REDUCAO, CPVC, SOLDAVEL, 42 X 22 MM, PARA AGUA QUENTE                                                                                                                                                                                                                                                                                                                                                                                                                                            ","UN    ","31,72",null,null,"CR"]
[{"$f":"CONCATENAR","v":"SINAPI-I 44263"},"SINAPI-I",44263,"BUCHA DE REDUCAO, CPVC, SOLDAVEL, 54 X 35 MM, PARA AGUA QUENTE                                                                                                                                                                                                                                                                                                                                                                                                                                            ","UN    ","56,94",null,null,"CR"]
[{"$f":"CONCATENAR","v":"SINAPI-I 36327"},"SINAPI-I",36327,"BUCHA DE REDUCAO, PPR, DN 25 X 20 MM, PARA AGUA QUENTE PREDIAL                                                                                                                                                                                                                                                                                                                                                                                                                                            ","UN    ","3,76",null,null,"CR"]
[{"$f":"CONCATENAR","v":"SINAPI-I 38992"},"SINAPI-I",38992,"BUCHA DE REDUCAO, PPR, DN 32 X 25 MM, PARA AGUA QUENTE E FRIA PREDIAL                                                                                                                                                                                                                                                                                                                                                                                                                                     ","UN    ","4,56",null,null,"CR"]
[{"$f":"CONCATENAR","v":"SINAPI-I 38993"},"SINAPI-I",38993,"BUCHA DE REDUCAO, PPR, DN 40 X 25 MM, PARA AGUA QUENTE E FRIA PREDIAL                                                                                                                                                                                                                                                                                                                                                                                                                                     ","UN    ","11,86",null,null,"CR"]
[{"$f":"CONCATENAR","v":"SINAPI-I 44175"},"SINAPI-I",44175,"BUCHA DE REDUCAO, PPR, DN 50 X 25 MM, PARA AGUA QUENTE E FRIA PREDIAL                                                                                                                                                                                                                                                                                                                                                                                                                                     ","UN    ","20,70",null,null,"CR"]
[{"$f":"CONCATENAR","v":"SINAPI-I 44177"},"SINAPI-I",44177,"BUCHA DE REDUCAO, PPR, DN 50 X 32 MM, PARA AGUA QUENTE E FRIA PREDIAL                                                                                                                                                                                                                                                                                                                                                                                                                                     ","UN    ","15,47",null,null,"CR"]
[{"$f":"CONCATENAR","v":"SINAPI-I 38418"},"SINAPI-I",38418,"BUCHA DE REDUCAO, PVC, LONGA, SERIE R, DN 50 X 40 MM, PARA ESGOTO PREDIAL                                                                                                                                                                                                                                                                                                                                                                                                                                 ","UN    ","5,60",null,null,"CR"]
[{"$f":"CONCATENAR","v":"SINAPI-I 39178"},"SINAPI-I",39178,"BUCHA EM ALUMINIO, COM ROSCA, DE 1 1/2\", PARA ELETRODUTO                                                                                                                                                                                                                                                                                                                                                                                                                                                  ","UN    ","2,65",null,null,"CR"]
[{"$f":"CONCATENAR","v":"SINAPI-I 39177"},"SINAPI-I",39177,"BUCHA EM ALUMINIO, COM ROSCA, DE 1 1/4\", PARA ELETRODUTO                                                                                                                                                                                                                                                                                                                                                                                                                                                  ","UN    ","2,40",null,null,"CR"]
[{"$f":"CONCATENAR","v":"SINAPI-I 39174"},"SINAPI-I",39174,"BUCHA EM ALUMINIO, COM ROSCA, DE 1/2\", PARA ELETRODUTO                                                                                                                                                                                                                                                                                                                                                                                                                                                    ","UN    ","1,20",null,null,"CR"]
[{"$f":"CONCATENAR","v":"SINAPI-I 39176"},"SINAPI-I",39176,"BUCHA EM ALUMINIO, COM ROSCA, DE 1\", PARA ELETRODUTO                                                                                                                                                                                                                                                                                                                                                                                                                                                      ","UN    ","1,57",null,null,"CR"]
[{"$f":"CONCATENAR","v":"SINAPI-I 39180"},"SINAPI-I",39180,"BUCHA EM ALUMINIO, COM ROSCA, DE 2 1/2\", PARA ELETRODUTO                                                                                                                                                                                                                                                                                                                                                                                                                                                  ","UN    ","7,20",null,null,"CR"]
[{"$f":"CONCATENAR","v":"SINAPI-I 39179"},"SINAPI-I",39179,"BUCHA EM ALUMINIO, COM ROSCA, DE 2\", PARA ELETRODUTO                                                                                                                                                                                                                                                                                                                                                                                                                                                      ","UN    ","6,38",null,null,"CR"]
[{"$f":"CONCATENAR","v":"SINAPI-I 39175"},"SINAPI-I",39175,"BUCHA EM ALUMINIO, COM ROSCA, DE 3/4\", PARA ELETRODUTO                                                                                                                                                                                                                                                                                                                                                                                                                                                    ","UN    ","1,46",null,null,"CR"]
[{"$f":"CONCATENAR","v":"SINAPI-I 39217"},"SINAPI-I",39217,"BUCHA EM ALUMINIO, COM ROSCA, DE 3/8\", PARA ELETRODUTO                                                                                                                                                                                                                                                                                                                                                                                                                                                    ","UN    ","1,13",null,null,"CR"]
[{"$f":"CONCATENAR","v":"SINAPI-I 39181"},"SINAPI-I",39181,"BUCHA EM ALUMINIO, COM ROSCA, DE 3\", PARA ELETRODUTO                                                                                                                                                                                                                                                                                                                                                                                                                                                      ","UN    ","9,66",null,null,"CR"]
[{"$f":"CONCATENAR","v":"SINAPI-I 39182"},"SINAPI-I",39182,"BUCHA EM ALUMINIO, COM ROSCA, DE 4\", PARA ELETRODUTO                                                                                                                                                                                                                                                                                                                                                                                                                                                      ","UN    ","13,58",null,null,"CR"]
[{"$f":"CONCATENAR","v":"SINAPI-I 12616"},"SINAPI-I",12616,"CABECEIRA DIREITA OU ESQUERDA, PVC, PARA CALHA PLUVIAL, DIAMETRO ENTRE *119 E 170* MM, PARA DRENAGEM PLUVIAL PREDIAL                                                                                                                                                                                                                                                                                                                                                                                      ","UN    ","17,28",null,null,"CR"]
[{"$f":"CONCATENAR","v":"SINAPI-I 1049"},"SINAPI-I",1049,"CABECOTE PARA ENTRADA DE LINHA DE ALIMENTACAO PARA ELETRODUTO, EM LIGA DE ALUMINIO COM ACABAMENTO ANTI CORROSIVO, COM FIXACAO POR ENCAIXE LISO DE 360 GRAUS, DE 1 1/2\"                                                                                                                                                                                                                                                                                                                                    ","UN    ","11,37",null,null,"CR"]
[{"$f":"CONCATENAR","v":"SINAPI-I 1099"},"SINAPI-I",1099,"CABECOTE PARA ENTRADA DE LINHA DE ALIMENTACAO PARA ELETRODUTO, EM LIGA DE ALUMINIO COM ACABAMENTO ANTI CORROSIVO, COM FIXACAO POR ENCAIXE LISO DE 360 GRAUS, DE 1 1/4\"                                                                                                                                                                                                                                                                                                                                    ","UN    ","8,70",null,null,"CR"]
[{"$f":"CONCATENAR","v":"SINAPI-I 39678"},"SINAPI-I",39678,"CABECOTE PARA ENTRADA DE LINHA DE ALIMENTACAO PARA ELETRODUTO, EM LIGA DE ALUMINIO COM ACABAMENTO ANTI CORROSIVO, COM FIXACAO POR ENCAIXE LISO DE 360 GRAUS, DE 1/2\"                                                                                                                                                                                                                                                                                                                                      ","UN    ","3,51",null,null,"CR"]
[{"$f":"CONCATENAR","v":"SINAPI-I 1050"},"SINAPI-I",1050,"CABECOTE PARA ENTRADA DE LINHA DE ALIMENTACAO PARA ELETRODUTO, EM LIGA DE ALUMINIO COM ACABAMENTO ANTI CORROSIVO, COM FIXACAO POR ENCAIXE LISO DE 360 GRAUS, DE 1\"                                                                                                                                                                                                                                                                                                                                        ","UN    ","5,95",null,null,"CR"]
[{"$f":"CONCATENAR","v":"SINAPI-I 1101"},"SINAPI-I",1101,"CABECOTE PARA ENTRADA DE LINHA DE ALIMENTACAO PARA ELETRODUTO, EM LIGA DE ALUMINIO COM ACABAMENTO ANTI CORROSIVO, COM FIXACAO POR ENCAIXE LISO DE 360 GRAUS, DE 2 1/2\"                                                                                                                                                                                                                                                                                                                                    ","UN    ","37,51",null,null,"CR"]
[{"$f":"CONCATENAR","v":"SINAPI-I 1100"},"SINAPI-I",1100,"CABECOTE PARA ENTRADA DE LINHA DE ALIMENTACAO PARA ELETRODUTO, EM LIGA DE ALUMINIO COM ACABAMENTO ANTI CORROSIVO, COM FIXACAO POR ENCAIXE LISO DE 360 GRAUS, DE 2\"                                                                                                                                                                                                                                                                                                                                        ","UN    ","19,35",null,null,"CR"]
[{"$f":"CONCATENAR","v":"SINAPI-I 39679"},"SINAPI-I",39679,"CABECOTE PARA ENTRADA DE LINHA DE ALIMENTACAO PARA ELETRODUTO, EM LIGA DE ALUMINIO COM ACABAMENTO ANTI CORROSIVO, COM FIXACAO POR ENCAIXE LISO DE 360 GRAUS, DE 3 1/2\"                                                                                                                                                                                                                                                                                                                                    ","UN    ","74,75",null,null,"CR"]
[{"$f":"CONCATENAR","v":"SINAPI-I 1098"},"SINAPI-I",1098,"CABECOTE PARA ENTRADA DE LINHA DE ALIMENTACAO PARA ELETRODUTO, EM LIGA DE ALUMINIO COM ACABAMENTO ANTI CORROSIVO, COM FIXACAO POR ENCAIXE LISO DE 360 GRAUS, DE 3/4\"                                                                                                                                                                                                                                                                                                                                      ","UN    ","4,64",null,null,"CR"]
[{"$f":"CONCATENAR","v":"SINAPI-I 1102"},"SINAPI-I",1102,"CABECOTE PARA ENTRADA DE LINHA DE ALIMENTACAO PARA ELETRODUTO, EM LIGA DE ALUMINIO COM ACABAMENTO ANTI CORROSIVO, COM FIXACAO POR ENCAIXE LISO DE 360 GRAUS, DE 3\"                                                                                                                                                                                                                                                                                                                                        ","UN    ","55,93",null,null,"CR"]
[{"$f":"CONCATENAR","v":"SINAPI-I 1051"},"SINAPI-I",1051,"CABECOTE PARA ENTRADA DE LINHA DE ALIMENTACAO PARA ELETRODUTO, EM LIGA DE ALUMINIO COM ACABAMENTO ANTI CORROSIVO, COM FIXACAO POR ENCAIXE LISO DE 360 GRAUS, DE 4\"                                                                                                                                                                                                                                                                                                                                        ","UN    ","81,29",null,null,"CR"]
[{"$f":"CONCATENAR","v":"SINAPI-I 37399"},"SINAPI-I",37399,"CABIDE/GANCHO DE BANHEIRO SIMPLES EM METAL CROMADO                                                                                                                                                                                                                                                                                                                                                                                                                                                        ","UN    ","53,53",null,null,"CR"]
[{"$f":"CONCATENAR","v":"SINAPI-I 43834"},"SINAPI-I",43834,"CABO COAXIAL RG11 95% DE MALHA                                                                                                                                                                                                                                                                                                                                                                                                                                                                            ","M     ","22,63",null,null,"CR"]
[{"$f":"CONCATENAR","v":"SINAPI-I 43835"},"SINAPI-I",43835,"CABO COAXIAL RG59 95% DE MALHA                                                                                                                                                                                                                                                                                                                                                                                                                                                                            ","M     ","2,03",null,null,"CR"]
[{"$f":"CONCATENAR","v":"SINAPI-I 43833"},"SINAPI-I",43833,"CABO COAXIAL RG6 95% DE MALHA                                                                                                                                                                                                                                                                                                                                                                                                                                                                             ","M     ","2,11",null,null,"CR"]
[{"$f":"CONCATENAR","v":"SINAPI-I 41955"},"SINAPI-I",41955,"CABO DE ACO GALVANIZADO, DIAMETRO 12,7 MM (1/2\"), COM ALMA DE ACO CABO INDEPENDENTE 6 X 25 F                                                                                                                                                                                                                                                                                                                                                                                                              ","KG    ","65,06",null,null,"CR"]
[{"$f":"CONCATENAR","v":"SINAPI-I 41953"},"SINAPI-I",41953,"CABO DE ACO GALVANIZADO, DIAMETRO 12,7 MM (1/2\"), COM ALMA DE FIBRA 6 X 25 F                                                                                                                                                                                                                                                                                                                                                                                                                              ","KG    ","62,09",null,null,"CR"]
[{"$f":"CONCATENAR","v":"SINAPI-I 41954"},"SINAPI-I",41954,"CABO DE ACO GALVANIZADO, DIAMETRO 9,53 MM (3/8\"), COM ALMA DE FIBRA 6 X 25 F                                                                                                                                                                                                                                                                                                                                                                                                                              ","KG    ","61,50",null,null,"CR"]
[{"$f":"CONCATENAR","v":"SINAPI-I 25004"},"SINAPI-I",25004,"CABO DE ALUMINIO NU COM ALMA DE ACO, BITOLA 1/0 AWG                                                                                                                                                                                                                                                                                                                                                                                                                                                       ","KG    ","46,74",null,null,"CR"]
[{"$f":"CONCATENAR","v":"SINAPI-I 25002"},"SINAPI-I",25002,"CABO DE ALUMINIO NU COM ALMA DE ACO, BITOLA 2 AWG                                                                                                                                                                                                                                                                                                                                                                                                                                                         ","KG    ","46,74",null,null,"CR"]
[{"$f":"CONCATENAR","v":"SINAPI-I 37409"},"SINAPI-I",37409,"CABO DE ALUMINIO NU COM ALMA DE ACO, BITOLA 2/0 AWG                                                                                                                                                                                                                                                                                                                                                                                                                                                       ","KG    ","46,74",null,null,"CR"]
[{"$f":"CONCATENAR","v":"SINAPI-I 841"},"SINAPI-I",841,"CABO DE ALUMINIO NU COM ALMA DE ACO, BITOLA 4 AWG                                                                                                                                                                                                                                                                                                                                                                                                                                                         ","KG    ","47,31",null,null,"CR"]
[{"$f":"CONCATENAR","v":"SINAPI-I 25005"},"SINAPI-I",25005,"CABO DE ALUMINIO NU SEM ALMA DE ACO, BITOLA 1/0 AWG                                                                                                                                                                                                                                                                                                                                                                                                                                                       ","KG    ","51,29",null,null,"CR"]
[{"$f":"CONCATENAR","v":"SINAPI-I 25003"},"SINAPI-I",25003,"CABO DE ALUMINIO NU SEM ALMA DE ACO, BITOLA 2 AWG                                                                                                                                                                                                                                                                                                                                                                                                                                                         ","KG    ","52,06",null,null,"CR"]
[{"$f":"CONCATENAR","v":"SINAPI-I 37410"},"SINAPI-I",37410,"CABO DE ALUMINIO NU SEM ALMA DE ACO, BITOLA 2/0 AWG                                                                                                                                                                                                                                                                                                                                                                                                                                                       ","KG    ","51,29",null,null,"CR"]
[{"$f":"CONCATENAR","v":"SINAPI-I 842"},"SINAPI-I",842,"CABO DE ALUMINIO NU SEM ALMA DE ACO, BITOLA 4 AWG                                                                                                                                                                                                                                                                                                                                                                                                                                                         ","KG    ","52,02",null,null,"CR"]
[{"$f":"CONCATENAR","v":"SINAPI-I 44391"},"SINAPI-I",44391,"CABO DE COBRE FLEXIVEL NAO HALOGENADO, SEM EMISSAO DE FUMACA, 750V, SECAO NOMINAL 120 MM                                                                                                                                                                                                                                                                                                                                                                                                                  ","M     ","110,85",null,null,"CR"]
[{"$f":"CONCATENAR","v":"SINAPI-I 44388"},"SINAPI-I",44388,"CABO DE COBRE FLEXIVEL NAO HALOGENADO, SEM EMISSAO DE FUMACA, 750V, SECAO NOMINAL 2,5 MM                                                                                                                                                                                                                                                                                                                                                                                                                  ","M     ","2,40",null,null,"CR"]
[{"$f":"CONCATENAR","v":"SINAPI-I 44392"},"SINAPI-I",44392,"CABO DE COBRE FLEXIVEL NAO HALOGENADO, SEM EMISSAO DE FUMACA, 750V, SECAO NOMINAL 240 MM                                                                                                                                                                                                                                                                                                                                                                                                                  ","M     ","220,71",null,null,"CR"]
[{"$f":"CONCATENAR","v":"SINAPI-I 44390"},"SINAPI-I",44390,"CABO DE COBRE FLEXIVEL NAO HALOGENADO, SEM EMISSAO DE FUMACA, 750V, SECAO NOMINAL 50 MM                                                                                                                                                                                                                                                                                                                                                                                                                   ","M     ","46,76",null,null,"CR"]
[{"$f":"CONCATENAR","v":"SINAPI-I 44389"},"SINAPI-I",44389,"CABO DE COBRE FLEXIVEL NAO HALOGENADO, SEM EMISSAO DE FUMACA, 750V, SECAO NOMINAL 6,0 MM                                                                                                                                                                                                                                                                                                                                                                                                                  ","M     ","5,52",null,null,"CR"]
[{"$f":"CONCATENAR","v":"SINAPI-I 862"},"SINAPI-I",862,"CABO DE COBRE NU 10 MM2 MEIO-DURO                                                                                                                                                                                                                                                                                                                                                                                                                                                                         ","M     ","10,11",null,null,"CR"]
[{"$f":"CONCATENAR","v":"SINAPI-I 866"},"SINAPI-I",866,"CABO DE COBRE NU 120 MM2 MEIO-DURO                                                                                                                                                                                                                                                                                                                                                                                                                                                                        ","M     ","128,52",null,null,"CR"]
[{"$f":"CONCATENAR","v":"SINAPI-I 892"},"SINAPI-I",892,"CABO DE COBRE NU 150 MM2 MEIO-DURO                                                                                                                                                                                                                                                                                                                                                                                                                                                                        ","M     ","155,57",null,null,"CR"]
[{"$f":"CONCATENAR","v":"SINAPI-I 857"},"SINAPI-I",857,"CABO DE COBRE NU 16 MM2 MEIO-DURO                                                                                                                                                                                                                                                                                                                                                                                                                                                                         ","M     ","16,92",null,null,"CR"]
[{"$f":"CONCATENAR","v":"SINAPI-I 37404"},"SINAPI-I",37404,"CABO DE COBRE NU 185 MM2 MEIO-DURO                                                                                                                                                                                                                                                                                                                                                                                                                                                                        ","M     ","179,99",null,null,"CR"]
[{"$f":"CONCATENAR","v":"SINAPI-I 868"},"SINAPI-I",868,"CABO DE COBRE NU 25 MM2 MEIO-DURO                                                                                                                                                                                                                                                                                                                                                                                                                                                                         ","M     ","24,11",null,null,"CR"]
[{"$f":"CONCATENAR","v":"SINAPI-I 863"},"SINAPI-I",863,"CABO DE COBRE NU 35 MM2 MEIO-DURO                                                                                                                                                                                                                                                                                                                                                                                                                                                                         ","M     ","35,51",null,null,"CR"]
[{"$f":"CONCATENAR","v":"SINAPI-I 867"},"SINAPI-I",867,"CABO DE COBRE NU 50 MM2 MEIO-DURO                                                                                                                                                                                                                                                                                                                                                                                                                                                                         ","M     ","50,59",null,null,"CR"]
[{"$f":"CONCATENAR","v":"SINAPI-I 864"},"SINAPI-I",864,"CABO DE COBRE NU 70 MM2 MEIO-DURO                                                                                                                                                                                                                                                                                                                                                                                                                                                                         ","M     ","66,83",null,null,"CR"]
[{"$f":"CONCATENAR","v":"SINAPI-I 865"},"SINAPI-I",865,"CABO DE COBRE NU 95 MM2 MEIO-DURO                                                                                                                                                                                                                                                                                                                                                                                                                                                                         ","M     ","96,12",null,null,"CR"]
[{"$f":"CONCATENAR","v":"SINAPI-I 993"},"SINAPI-I",993,"CABO DE COBRE, FLEXIVEL, CLASSE 4 OU 5, ISOLACAO EM PVC/A, ANTICHAMA BWF-B, COBERTURA PVC-ST1, ANTICHAMA BWF-B, 1 CONDUTOR, 0,6/1 KV, SECAO NOMINAL 1,5 MM2                                                                                                                                                                                                                                                                                                                                               ","M     ","1,83",null,null,"CR"]
[{"$f":"CONCATENAR","v":"SINAPI-I 1020"},"SINAPI-I",1020,"CABO DE COBRE, FLEXIVEL, CLASSE 4 OU 5, ISOLACAO EM PVC/A, ANTICHAMA BWF-B, COBERTURA PVC-ST1, ANTICHAMA BWF-B, 1 CONDUTOR, 0,6/1 KV, SECAO NOMINAL 10 MM2                                                                                                                                                                                                                                                                                                                                                ","M     ","9,32",null,null,"CR"]
[{"$f":"CONCATENAR","v":"SINAPI-I 1017"},"SINAPI-I",1017,"CABO DE COBRE, FLEXIVEL, CLASSE 4 OU 5, ISOLACAO EM PVC/A, ANTICHAMA BWF-B, COBERTURA PVC-ST1, ANTICHAMA BWF-B, 1 CONDUTOR, 0,6/1 KV, SECAO NOMINAL 120 MM2                                                                                                                                                                                                                                                                                                                                               ","M     ","114,29",null,null,"CR"]
[{"$f":"CONCATENAR","v":"SINAPI-I 999"},"SINAPI-I",999,"CABO DE COBRE, FLEXIVEL, CLASSE 4 OU 5, ISOLACAO EM PVC/A, ANTICHAMA BWF-B, COBERTURA PVC-ST1, ANTICHAMA BWF-B, 1 CONDUTOR, 0,6/1 KV, SECAO NOMINAL 150 MM2                                                                                                                                                                                                                                                                                                                                               ","M     ","138,46",null,null,"CR"]
[{"$f":"CONCATENAR","v":"SINAPI-I 995"},"SINAPI-I",995,"CABO DE COBRE, FLEXIVEL, CLASSE 4 OU 5, ISOLACAO EM PVC/A, ANTICHAMA BWF-B, COBERTURA PVC-ST1, ANTICHAMA BWF-B, 1 CONDUTOR, 0,6/1 KV, SECAO NOMINAL 16 MM2                                                                                                                                                                                                                                                                                                                                                ","M     ","14,85",null,null,"CR"]
[{"$f":"CONCATENAR","v":"SINAPI-I 1000"},"SINAPI-I",1000,"CABO DE COBRE, FLEXIVEL, CLASSE 4 OU 5, ISOLACAO EM PVC/A, ANTICHAMA BWF-B, COBERTURA PVC-ST1, ANTICHAMA BWF-B, 1 CONDUTOR, 0,6/1 KV, SECAO NOMINAL 185 MM2                                                                                                                                                                                                                                                                                                                                               ","M     ","170,07",null,null,"CR"]
[{"$f":"CONCATENAR","v":"SINAPI-I 1022"},"SINAPI-I",1022,"CABO DE COBRE, FLEXIVEL, CLASSE 4 OU 5, ISOLACAO EM PVC/A, ANTICHAMA BWF-B, COBERTURA PVC-ST1, ANTICHAMA BWF-B, 1 CONDUTOR, 0,6/1 KV, SECAO NOMINAL 2,5 MM2                                                                                                                                                                                                                                                                                                                                               ","M     ","2,55",null,null,"CR"]
[{"$f":"CONCATENAR","v":"SINAPI-I 1015"},"SINAPI-I",1015,"CABO DE COBRE, FLEXIVEL, CLASSE 4 OU 5, ISOLACAO EM PVC/A, ANTICHAMA BWF-B, COBERTURA PVC-ST1, ANTICHAMA BWF-B, 1 CONDUTOR, 0,6/1 KV, SECAO NOMINAL 240 MM2                                                                                                                                                                                                                                                                                                                                               ","M     ","226,00",null,null,"CR"]
[{"$f":"CONCATENAR","v":"SINAPI-I 996"},"SINAPI-I",996,"CABO DE COBRE, FLEXIVEL, CLASSE 4 OU 5, ISOLACAO EM PVC/A, ANTICHAMA BWF-B, COBERTURA PVC-ST1, ANTICHAMA BWF-B, 1 CONDUTOR, 0,6/1 KV, SECAO NOMINAL 25 MM2                                                                                                                                                                                                                                                                                                                                                ","M     ","23,03",null,null,"CR"]
[{"$f":"CONCATENAR","v":"SINAPI-I 1001"},"SINAPI-I",1001,"CABO DE COBRE, FLEXIVEL, CLASSE 4 OU 5, ISOLACAO EM PVC/A, ANTICHAMA BWF-B, COBERTURA PVC-ST1, ANTICHAMA BWF-B, 1 CONDUTOR, 0,6/1 KV, SECAO NOMINAL 300 MM2                                                                                                                                                                                                                                                                                                                                               ","M     ","293,23",null,null,"CR"]
[{"$f":"CONCATENAR","v":"SINAPI-I 1019"},"SINAPI-I",1019,"CABO DE COBRE, FLEXIVEL, CLASSE 4 OU 5, ISOLACAO EM PVC/A, ANTICHAMA BWF-B, COBERTURA PVC-ST1, ANTICHAMA BWF-B, 1 CONDUTOR, 0,6/1 KV, SECAO NOMINAL 35 MM2                                                                                                                                                                                                                                                                                                                                                ","M     ","32,54",null,null,"CR"]
[{"$f":"CONCATENAR","v":"SINAPI-I 1021"},"SINAPI-I",1021,"CABO DE COBRE, FLEXIVEL, CLASSE 4 OU 5, ISOLACAO EM PVC/A, ANTICHAMA BWF-B, COBERTURA PVC-ST1, ANTICHAMA BWF-B, 1 CONDUTOR, 0,6/1 KV, SECAO NOMINAL 4 MM2                                                                                                                                                                                                                                                                                                                                                 ","M     ","3,91",null,null,"CR"]
[{"$f":"CONCATENAR","v":"SINAPI-I 39249"},"SINAPI-I",39249,"CABO DE COBRE, FLEXIVEL, CLASSE 4 OU 5, ISOLACAO EM PVC/A, ANTICHAMA BWF-B, COBERTURA PVC-ST1, ANTICHAMA BWF-B, 1 CONDUTOR, 0,6/1 KV, SECAO NOMINAL 400 MM2                                                                                                                                                                                                                                                                                                                                               ","M     ","394,27",null,null,"CR"]
[{"$f":"CONCATENAR","v":"SINAPI-I 1018"},"SINAPI-I",1018,"CABO DE COBRE, FLEXIVEL, CLASSE 4 OU 5, ISOLACAO EM PVC/A, ANTICHAMA BWF-B, COBERTURA PVC-ST1, ANTICHAMA BWF-B, 1 CONDUTOR, 0,6/1 KV, SECAO NOMINAL 50 MM2                                                                                                                                                                                                                                                                                                                                                ","M     ","48,11",null,null,"CR"]
[{"$f":"CONCATENAR","v":"SINAPI-I 39250"},"SINAPI-I",39250,"CABO DE COBRE, FLEXIVEL, CLASSE 4 OU 5, ISOLACAO EM PVC/A, ANTICHAMA BWF-B, COBERTURA PVC-ST1, ANTICHAMA BWF-B, 1 CONDUTOR, 0,6/1 KV, SECAO NOMINAL 500 MM2                                                                                                                                                                                                                                                                                                                                               ","M     ","471,64",null,null,"CR"]
[{"$f":"CONCATENAR","v":"SINAPI-I 994"},"SINAPI-I",994,"CABO DE COBRE, FLEXIVEL, CLASSE 4 OU 5, ISOLACAO EM PVC/A, ANTICHAMA BWF-B, COBERTURA PVC-ST1, ANTICHAMA BWF-B, 1 CONDUTOR, 0,6/1 KV, SECAO NOMINAL 6 MM2                                                                                                                                                                                                                                                                                                                                                 ","M     ","5,69",null,null,"CR"]
[{"$f":"CONCATENAR","v":"SINAPI-I 977"},"SINAPI-I",977,"CABO DE COBRE, FLEXIVEL, CLASSE 4 OU 5, ISOLACAO EM PVC/A, ANTICHAMA BWF-B, COBERTURA PVC-ST1, ANTICHAMA BWF-B, 1 CONDUTOR, 0,6/1 KV, SECAO NOMINAL 70 MM2                                                                                                                                                                                                                                                                                                                                                ","M     ","67,31",null,null,"CR"]
[{"$f":"CONCATENAR","v":"SINAPI-I 998"},"SINAPI-I",998,"CABO DE COBRE, FLEXIVEL, CLASSE 4 OU 5, ISOLACAO EM PVC/A, ANTICHAMA BWF-B, COBERTURA PVC-ST1, ANTICHAMA BWF-B, 1 CONDUTOR, 0,6/1 KV, SECAO NOMINAL 95 MM2                                                                                                                                                                                                                                                                                                                                                ","M     ","87,39",null,null,"CR"]
[{"$f":"CONCATENAR","v":"SINAPI-I 39251"},"SINAPI-I",39251,"CABO DE COBRE, FLEXIVEL, CLASSE 4 OU 5, ISOLACAO EM PVC/A, ANTICHAMA BWF-B, 1 CONDUTOR, 450/750 V, SECAO NOMINAL 0,5 MM2                                                                                                                                                                                                                                                                                                                                                                                  ","M     ","0,63",null,null,"CR"]
[{"$f":"CONCATENAR","v":"SINAPI-I 1011"},"SINAPI-I",1011,"CABO DE COBRE, FLEXIVEL, CLASSE 4 OU 5, ISOLACAO EM PVC/A, ANTICHAMA BWF-B, 1 CONDUTOR, 450/750 V, SECAO NOMINAL 0,75 MM2                                                                                                                                                                                                                                                                                                                                                                                 ","M     ","0,86",null,null,"CR"]
[{"$f":"CONCATENAR","v":"SINAPI-I 39252"},"SINAPI-I",39252,"CABO DE COBRE, FLEXIVEL, CLASSE 4 OU 5, ISOLACAO EM PVC/A, ANTICHAMA BWF-B, 1 CONDUTOR, 450/750 V, SECAO NOMINAL 1,0 MM2                                                                                                                                                                                                                                                                                                                                                                                  ","M     ","1,13",null,null,"CR"]
[{"$f":"CONCATENAR","v":"SINAPI-I 1013"},"SINAPI-I",1013,"CABO DE COBRE, FLEXIVEL, CLASSE 4 OU 5, ISOLACAO EM PVC/A, ANTICHAMA BWF-B, 1 CONDUTOR, 450/750 V, SECAO NOMINAL 1,5 MM2                                                                                                                                                                                                                                                                                                                                                                                  ","M     ","1,35",null,null,"CR"]
[{"$f":"CONCATENAR","v":"SINAPI-I 980"},"SINAPI-I",980,"CABO DE COBRE, FLEXIVEL, CLASSE 4 OU 5, ISOLACAO EM PVC/A, ANTICHAMA BWF-B, 1 CONDUTOR, 450/750 V, SECAO NOMINAL 10 MM2                                                                                                                                                                                                                                                                                                                                                                                   ","M     ","9,78",null,null,"CR"]
[{"$f":"CONCATENAR","v":"SINAPI-I 39237"},"SINAPI-I",39237,"CABO DE COBRE, FLEXIVEL, CLASSE 4 OU 5, ISOLACAO EM PVC/A, ANTICHAMA BWF-B, 1 CONDUTOR, 450/750 V, SECAO NOMINAL 120 MM2                                                                                                                                                                                                                                                                                                                                                                                  ","M     ","104,04",null,null,"CR"]
[{"$f":"CONCATENAR","v":"SINAPI-I 39238"},"SINAPI-I",39238,"CABO DE COBRE, FLEXIVEL, CLASSE 4 OU 5, ISOLACAO EM PVC/A, ANTICHAMA BWF-B, 1 CONDUTOR, 450/750 V, SECAO NOMINAL 150 MM2                                                                                                                                                                                                                                                                                                                                                                                  ","M     ","131,22",null,null,"CR"]
[{"$f":"CONCATENAR","v":"SINAPI-I 979"},"SINAPI-I",979,"CABO DE COBRE, FLEXIVEL, CLASSE 4 OU 5, ISOLACAO EM PVC/A, ANTICHAMA BWF-B, 1 CONDUTOR, 450/750 V, SECAO NOMINAL 16 MM2                                                                                                                                                                                                                                                                                                                                                                                   ","M     ","13,97",null,null,"CR"]
[{"$f":"CONCATENAR","v":"SINAPI-I 39239"},"SINAPI-I",39239,"CABO DE COBRE, FLEXIVEL, CLASSE 4 OU 5, ISOLACAO EM PVC/A, ANTICHAMA BWF-B, 1 CONDUTOR, 450/750 V, SECAO NOMINAL 185 MM2                                                                                                                                                                                                                                                                                                                                                                                  ","M     ","158,53",null,null,"CR"]
[{"$f":"CONCATENAR","v":"SINAPI-I 1014"},"SINAPI-I",1014,"CABO DE COBRE, FLEXIVEL, CLASSE 4 OU 5, ISOLACAO EM PVC/A, ANTICHAMA BWF-B, 1 CONDUTOR, 450/750 V, SECAO NOMINAL 2,5 MM2                                                                                                                                                                                                                                                                                                                                                                                  ","M     ","2,15",null,null,"CR"]
[{"$f":"CONCATENAR","v":"SINAPI-I 39240"},"SINAPI-I",39240,"CABO DE COBRE, FLEXIVEL, CLASSE 4 OU 5, ISOLACAO EM PVC/A, ANTICHAMA BWF-B, 1 CONDUTOR, 450/750 V, SECAO NOMINAL 240 MM2                                                                                                                                                                                                                                                                                                                                                                                  ","M     ","208,51",null,null,"CR"]
[{"$f":"CONCATENAR","v":"SINAPI-I 39232"},"SINAPI-I",39232,"CABO DE COBRE, FLEXIVEL, CLASSE 4 OU 5, ISOLACAO EM PVC/A, ANTICHAMA BWF-B, 1 CONDUTOR, 450/750 V, SECAO NOMINAL 25 MM2                                                                                                                                                                                                                                                                                                                                                                                   ","M     ","21,88",null,null,"CR"]
[{"$f":"CONCATENAR","v":"SINAPI-I 39233"},"SINAPI-I",39233,"CABO DE COBRE, FLEXIVEL, CLASSE 4 OU 5, ISOLACAO EM PVC/A, ANTICHAMA BWF-B, 1 CONDUTOR, 450/750 V, SECAO NOMINAL 35 MM2                                                                                                                                                                                                                                                                                                                                                                                   ","M     ","31,89",null,null,"CR"]
[{"$f":"CONCATENAR","v":"SINAPI-I 981"},"SINAPI-I",981,"CABO DE COBRE, FLEXIVEL, CLASSE 4 OU 5, ISOLACAO EM PVC/A, ANTICHAMA BWF-B, 1 CONDUTOR, 450/750 V, SECAO NOMINAL 4 MM2                                                                                                                                                                                                                                                                                                                                                                                    ","M     ","3,56",null,null,"C "]
[{"$f":"CONCATENAR","v":"SINAPI-I 39234"},"SINAPI-I",39234,"CABO DE COBRE, FLEXIVEL, CLASSE 4 OU 5, ISOLACAO EM PVC/A, ANTICHAMA BWF-B, 1 CONDUTOR, 450/750 V, SECAO NOMINAL 50 MM2                                                                                                                                                                                                                                                                                                                                                                                   ","M     ","44,40",null,null,"CR"]
[{"$f":"CONCATENAR","v":"SINAPI-I 982"},"SINAPI-I",982,"CABO DE COBRE, FLEXIVEL, CLASSE 4 OU 5, ISOLACAO EM PVC/A, ANTICHAMA BWF-B, 1 CONDUTOR, 450/750 V, SECAO NOMINAL 6 MM2                                                                                                                                                                                                                                                                                                                                                                                    ","M     ","5,12",null,null,"CR"]
[{"$f":"CONCATENAR","v":"SINAPI-I 39235"},"SINAPI-I",39235,"CABO DE COBRE, FLEXIVEL, CLASSE 4 OU 5, ISOLACAO EM PVC/A, ANTICHAMA BWF-B, 1 CONDUTOR, 450/750 V, SECAO NOMINAL 70 MM2                                                                                                                                                                                                                                                                                                                                                                                   ","M     ","65,48",null,null,"CR"]
[{"$f":"CONCATENAR","v":"SINAPI-I 39236"},"SINAPI-I",39236,"CABO DE COBRE, FLEXIVEL, CLASSE 4 OU 5, ISOLACAO EM PVC/A, ANTICHAMA BWF-B, 1 CONDUTOR, 450/750 V, SECAO NOMINAL 95 MM2                                                                                                                                                                                                                                                                                                                                                                                   ","M     ","86,78",null,null,"CR"]
[{"$f":"CONCATENAR","v":"SINAPI-I 990"},"SINAPI-I",990,"CABO DE COBRE, RIGIDO, CLASSE 2, ISOLACAO EM PVC/A, ANTICHAMA BWF-B, 1 CONDUTOR, 450/750 V, SECAO NOMINAL 150 MM2                                                                                                                                                                                                                                                                                                                                                                                         ","M     ","153,98",null,null,"CR"]
[{"$f":"CONCATENAR","v":"SINAPI-I 39241"},"SINAPI-I",39241,"CABO DE COBRE, RIGIDO, CLASSE 2, ISOLACAO EM PVC/A, ANTICHAMA BWF-B, 1 CONDUTOR, 450/750 V, SECAO NOMINAL 16 MM2                                                                                                                                                                                                                                                                                                                                                                                          ","M     ","15,16",null,null,"CR"]
[{"$f":"CONCATENAR","v":"SINAPI-I 1005"},"SINAPI-I",1005,"CABO DE COBRE, RIGIDO, CLASSE 2, ISOLACAO EM PVC/A, ANTICHAMA BWF-B, 1 CONDUTOR, 450/750 V, SECAO NOMINAL 185 MM2                                                                                                                                                                                                                                                                                                                                                                                         ","M     ","191,72",null,null,"CR"]
[{"$f":"CONCATENAR","v":"SINAPI-I 991"},"SINAPI-I",991,"CABO DE COBRE, RIGIDO, CLASSE 2, ISOLACAO EM PVC/A, ANTICHAMA BWF-B, 1 CONDUTOR, 450/750 V, SECAO NOMINAL 240 MM2                                                                                                                                                                                                                                                                                                                                                                                         ","M     ","251,11",null,null,"CR"]
[{"$f":"CONCATENAR","v":"SINAPI-I 986"},"SINAPI-I",986,"CABO DE COBRE, RIGIDO, CLASSE 2, ISOLACAO EM PVC/A, ANTICHAMA BWF-B, 1 CONDUTOR, 450/750 V, SECAO NOMINAL 25 MM2                                                                                                                                                                                                                                                                                                                                                                                          ","M     ","23,95",null,null,"CR"]
[{"$f":"CONCATENAR","v":"SINAPI-I 987"},"SINAPI-I",987,"CABO DE COBRE, RIGIDO, CLASSE 2, ISOLACAO EM PVC/A, ANTICHAMA BWF-B, 1 CONDUTOR, 450/750 V, SECAO NOMINAL 35 MM2                                                                                                                                                                                                                                                                                                                                                                                          ","M     ","32,79",null,null,"CR"]
[{"$f":"CONCATENAR","v":"SINAPI-I 1007"},"SINAPI-I",1007,"CABO DE COBRE, RIGIDO, CLASSE 2, ISOLACAO EM PVC/A, ANTICHAMA BWF-B, 1 CONDUTOR, 450/750 V, SECAO NOMINAL 50 MM2                                                                                                                                                                                                                                                                                                                                                                                          ","M     ","45,38",null,null,"CR"]
[{"$f":"CONCATENAR","v":"SINAPI-I 1008"},"SINAPI-I",1008,"CABO DE COBRE, RIGIDO, CLASSE 2, ISOLACAO EM PVC/A, ANTICHAMA BWF-B, 1 CONDUTOR, 450/750 V, SECAO NOMINAL 6 MM2                                                                                                                                                                                                                                                                                                                                                                                           ","M     ","5,76",null,null,"CR"]
[{"$f":"CONCATENAR","v":"SINAPI-I 988"},"SINAPI-I",988,"CABO DE COBRE, RIGIDO, CLASSE 2, ISOLACAO EM PVC/A, ANTICHAMA BWF-B, 1 CONDUTOR, 450/750 V, SECAO NOMINAL 70 MM2                                                                                                                                                                                                                                                                                                                                                                                          ","M     ","62,58",null,null,"CR"]
[{"$f":"CONCATENAR","v":"SINAPI-I 989"},"SINAPI-I",989,"CABO DE COBRE, RIGIDO, CLASSE 2, ISOLACAO EM PVC/A, ANTICHAMA BWF-B, 1 CONDUTOR, 450/750 V, SECAO NOMINAL 95 MM2                                                                                                                                                                                                                                                                                                                                                                                          ","M     ","86,38",null,null,"CR"]
[{"$f":"CONCATENAR","v":"SINAPI-I 1006"},"SINAPI-I",1006,"CABO DE COBRE, RIGIDO, CLASSE 2, ISOLACAO EM PVC, ANTI-CHAMA BWF-B, 1 CONDUTOR, 450/750 V, DIAMETRO 120 MM2                                                                                                                                                                                                                                                                                                                                                                                               ","M     ","115,80",null,null,"CR"]
[{"$f":"CONCATENAR","v":"SINAPI-I 43972"},"SINAPI-I",43972,"CABO DE REDE, PAR TRANCADO U/UTP, 4 PARES, CATEGORIA 5E (CAT 5E), ISOLAMENTO PVC (CM)                                                                                                                                                                                                                                                                                                                                                                                                                     ","M     ","4,32",null,null,"CR"]
[{"$f":"CONCATENAR","v":"SINAPI-I 43971"},"SINAPI-I",43971,"CABO DE REDE, PAR TRANCADO U/UTP, 4 PARES, CATEGORIA 5E (CAT 5E), ISOLAMENTO PVC (CMX)                                                                                                                                                                                                                                                                                                                                                                                                                    ","M     ","3,30",null,null,"C "]
[{"$f":"CONCATENAR","v":"SINAPI-I 39598"},"SINAPI-I",39598,"CABO DE REDE, PAR TRANCADO U/UTP, 4 PARES, CATEGORIA 5E (CAT 5E), ISOLAMENTO PVC (LSZH)                                                                                                                                                                                                                                                                                                                                                                                                                   ","M     ","6,12",null,null,"CR"]
[{"$f":"CONCATENAR","v":"SINAPI-I 43973"},"SINAPI-I",43973,"CABO DE REDE, PAR TRANCADO U/UTP, 4 PARES, CATEGORIA 6 (CAT 6), ISOLAMENTO PVC (CM)                                                                                                                                                                                                                                                                                                                                                                                                                       ","M     ","4,52",null,null,"CR"]
[{"$f":"CONCATENAR","v":"SINAPI-I 39599"},"SINAPI-I",39599,"CABO DE REDE, PAR TRANCADO UTP, 4 PARES, CATEGORIA 6 (CAT 6), ISOLAMENTO PVC (LSZH)                                                                                                                                                                                                                                                                                                                                                                                                                       ","M     ","8,80",null,null,"CR"]
[{"$f":"CONCATENAR","v":"SINAPI-I 43832"},"SINAPI-I",43832,"CABO ELETRONICO CATEGORIA 6A U/UTP 23AWG X 4P                                                                                                                                                                                                                                                                                                                                                                                                                                                             ","M     ","23,19",null,null,"CR"]
[{"$f":"CONCATENAR","v":"SINAPI-I 34602"},"SINAPI-I",34602,"CABO FLEXIVEL PVC 750 V, 2 CONDUTORES DE 1,5 MM2                                                                                                                                                                                                                                                                                                                                                                                                                                                          ","M     ","3,96",null,null,"CR"]
[{"$f":"CONCATENAR","v":"SINAPI-I 34607"},"SINAPI-I",34607,"CABO FLEXIVEL PVC 750 V, 2 CONDUTORES DE 4,0 MM2                                                                                                                                                                                                                                                                                                                                                                                                                                                          ","M     ","9,71",null,null,"CR"]
[{"$f":"CONCATENAR","v":"SINAPI-I 34609"},"SINAPI-I",34609,"CABO FLEXIVEL PVC 750 V, 2 CONDUTORES DE 6,0 MM2                                                                                                                                                                                                                                                                                                                                                                                                                                                          ","M     ","14,12",null,null,"CR"]
[{"$f":"CONCATENAR","v":"SINAPI-I 34618"},"SINAPI-I",34618,"CABO FLEXIVEL PVC 750 V, 3 CONDUTORES DE 1,5 MM2                                                                                                                                                                                                                                                                                                                                                                                                                                                          ","M     ","5,40",null,null,"CR"]
[{"$f":"CONCATENAR","v":"SINAPI-I 34621"},"SINAPI-I",34621,"CABO FLEXIVEL PVC 750 V, 3 CONDUTORES DE 4,0 MM2                                                                                                                                                                                                                                                                                                                                                                                                                                                          ","M     ","13,39",null,null,"CR"]
[{"$f":"CONCATENAR","v":"SINAPI-I 34622"},"SINAPI-I",34622,"CABO FLEXIVEL PVC 750 V, 3 CONDUTORES DE 6,0 MM2                                                                                                                                                                                                                                                                                                                                                                                                                                                          ","M     ","19,89",null,null,"CR"]
[{"$f":"CONCATENAR","v":"SINAPI-I 34624"},"SINAPI-I",34624,"CABO FLEXIVEL PVC 750 V, 4 CONDUTORES DE 1,5 MM2                                                                                                                                                                                                                                                                                                                                                                                                                                                          ","M     ","7,21",null,null,"CR"]
[{"$f":"CONCATENAR","v":"SINAPI-I 34627"},"SINAPI-I",34627,"CABO FLEXIVEL PVC 750 V, 4 CONDUTORES DE 4,0 MM2                                                                                                                                                                                                                                                                                                                                                                                                                                                          ","M     ","17,39",null,null,"CR"]
[{"$f":"CONCATENAR","v":"SINAPI-I 34629"},"SINAPI-I",34629,"CABO FLEXIVEL PVC 750 V, 4 CONDUTORES DE 6,0 MM2                                                                                                                                                                                                                                                                                                                                                                                                                                                          ","M     ","26,57",null,null,"CR"]
[{"$f":"CONCATENAR","v":"SINAPI-I 39257"},"SINAPI-I",39257,"CABO MULTIPOLAR DE COBRE, FLEXIVEL, CLASSE 4 OU 5, ISOLACAO EM HEPR, COBERTURA EM PVC-ST2, ANTICHAMA BWF-B, 0,6/1 KV, 3 CONDUTORES DE 1,5 MM2                                                                                                                                                                                                                                                                                                                                                             ","M     ","5,41",null,null,"CR"]
[{"$f":"CONCATENAR","v":"SINAPI-I 39261"},"SINAPI-I",39261,"CABO MULTIPOLAR DE COBRE, FLEXIVEL, CLASSE 4 OU 5, ISOLACAO EM HEPR, COBERTURA EM PVC-ST2, ANTICHAMA BWF-B, 0,6/1 KV, 3 CONDUTORES DE 10 MM2                                                                                                                                                                                                                                                                                                                                                              ","M     ","30,96",null,null,"CR"]
[{"$f":"CONCATENAR","v":"SINAPI-I 39268"},"SINAPI-I",39268,"CABO MULTIPOLAR DE COBRE, FLEXIVEL, CLASSE 4 OU 5, ISOLACAO EM HEPR, COBERTURA EM PVC-ST2, ANTICHAMA BWF-B, 0,6/1 KV, 3 CONDUTORES DE 120 MM2                                                                                                                                                                                                                                                                                                                                                             ","M     ","483,88",null,null,"CR"]
[{"$f":"CONCATENAR","v":"SINAPI-I 39262"},"SINAPI-I",39262,"CABO MULTIPOLAR DE COBRE, FLEXIVEL, CLASSE 4 OU 5, ISOLACAO EM HEPR, COBERTURA EM PVC-ST2, ANTICHAMA BWF-B, 0,6/1 KV, 3 CONDUTORES DE 16 MM2                                                                                                                                                                                                                                                                                                                                                              ","M     ","49,30",null,null,"CR"]
[{"$f":"CONCATENAR","v":"SINAPI-I 39258"},"SINAPI-I",39258,"CABO MULTIPOLAR DE COBRE, FLEXIVEL, CLASSE 4 OU 5, ISOLACAO EM HEPR, COBERTURA EM PVC-ST2, ANTICHAMA BWF-B, 0,6/1 KV, 3 CONDUTORES DE 2,5 MM2                                                                                                                                                                                                                                                                                                                                                             ","M     ","8,15",null,null,"CR"]
[{"$f":"CONCATENAR","v":"SINAPI-I 39263"},"SINAPI-I",39263,"CABO MULTIPOLAR DE COBRE, FLEXIVEL, CLASSE 4 OU 5, ISOLACAO EM HEPR, COBERTURA EM PVC-ST2, ANTICHAMA BWF-B, 0,6/1 KV, 3 CONDUTORES DE 25 MM2                                                                                                                                                                                                                                                                                                                                                              ","M     ","85,24",null,null,"CR"]
[{"$f":"CONCATENAR","v":"SINAPI-I 39264"},"SINAPI-I",39264,"CABO MULTIPOLAR DE COBRE, FLEXIVEL, CLASSE 4 OU 5, ISOLACAO EM HEPR, COBERTURA EM PVC-ST2, ANTICHAMA BWF-B, 0,6/1 KV, 3 CONDUTORES DE 35 MM2                                                                                                                                                                                                                                                                                                                                                              ","M     ","118,08",null,null,"CR"]
[{"$f":"CONCATENAR","v":"SINAPI-I 39259"},"SINAPI-I",39259,"CABO MULTIPOLAR DE COBRE, FLEXIVEL, CLASSE 4 OU 5, ISOLACAO EM HEPR, COBERTURA EM PVC-ST2, ANTICHAMA BWF-B, 0,6/1 KV, 3 CONDUTORES DE 4 MM2                                                                                                                                                                                                                                                                                                                                                               ","M     ","12,55",null,null,"CR"]
[{"$f":"CONCATENAR","v":"SINAPI-I 39265"},"SINAPI-I",39265,"CABO MULTIPOLAR DE COBRE, FLEXIVEL, CLASSE 4 OU 5, ISOLACAO EM HEPR, COBERTURA EM PVC-ST2, ANTICHAMA BWF-B, 0,6/1 KV, 3 CONDUTORES DE 50 MM2                                                                                                                                                                                                                                                                                                                                                              ","M     ","160,32",null,null,"CR"]
[{"$f":"CONCATENAR","v":"SINAPI-I 39260"},"SINAPI-I",39260,"CABO MULTIPOLAR DE COBRE, FLEXIVEL, CLASSE 4 OU 5, ISOLACAO EM HEPR, COBERTURA EM PVC-ST2, ANTICHAMA BWF-B, 0,6/1 KV, 3 CONDUTORES DE 6 MM2                                                                                                                                                                                                                                                                                                                                                               ","M     ","19,21",null,null,"CR"]
[{"$f":"CONCATENAR","v":"SINAPI-I 39266"},"SINAPI-I",39266,"CABO MULTIPOLAR DE COBRE, FLEXIVEL, CLASSE 4 OU 5, ISOLACAO EM HEPR, COBERTURA EM PVC-ST2, ANTICHAMA BWF-B, 0,6/1 KV, 3 CONDUTORES DE 70 MM2                                                                                                                                                                                                                                                                                                                                                              ","M     ","241,92",null,null,"CR"]
[{"$f":"CONCATENAR","v":"SINAPI-I 39267"},"SINAPI-I",39267,"CABO MULTIPOLAR DE COBRE, FLEXIVEL, CLASSE 4 OU 5, ISOLACAO EM HEPR, COBERTURA EM PVC-ST2, ANTICHAMA BWF-B, 0,6/1 KV, 3 CONDUTORES DE 95 MM2                                                                                                                                                                                                                                                                                                                                                              ","M     ","302,46",null,null,"CR"]
[{"$f":"CONCATENAR","v":"SINAPI-I 11901"},"SINAPI-I",11901,"CABO TELEFONICO CCI 50, 1 PAR, USO INTERNO, SEM BLINDAGEM                                                                                                                                                                                                                                                                                                                                                                                                                                                 ","M     ","0,79",null,null,"CR"]
[{"$f":"CONCATENAR","v":"SINAPI-I 11902"},"SINAPI-I",11902,"CABO TELEFONICO CCI 50, 2 PARES, USO INTERNO, SEM BLINDAGEM                                                                                                                                                                                                                                                                                                                                                                                                                                               ","M     ","1,52",null,null,"CR"]
[{"$f":"CONCATENAR","v":"SINAPI-I 11903"},"SINAPI-I",11903,"CABO TELEFONICO CCI 50, 3 PARES, USO INTERNO, SEM BLINDAGEM                                                                                                                                                                                                                                                                                                                                                                                                                                               ","M     ","1,60",null,null,"CR"]
[{"$f":"CONCATENAR","v":"SINAPI-I 11904"},"SINAPI-I",11904,"CABO TELEFONICO CCI 50, 4 PARES, USO INTERNO, SEM BLINDAGEM                                                                                                                                                                                                                                                                                                                                                                                                                                               ","M     ","2,43",null,null,"CR"]
[{"$f":"CONCATENAR","v":"SINAPI-I 11905"},"SINAPI-I",11905,"CABO TELEFONICO CCI 50, 5 PARES, USO INTERNO, SEM BLINDAGEM                                                                                                                                                                                                                                                                                                                                                                                                                                               ","M     ","2,97",null,null,"CR"]
[{"$f":"CONCATENAR","v":"SINAPI-I 11906"},"SINAPI-I",11906,"CABO TELEFONICO CCI 50, 6 PARES, USO INTERNO, SEM BLINDAGEM                                                                                                                                                                                                                                                                                                                                                                                                                                               ","M     ","3,78",null,null,"CR"]
[{"$f":"CONCATENAR","v":"SINAPI-I 11919"},"SINAPI-I",11919,"CABO TELEFONICO CI 50, 10 PARES, USO INTERNO                                                                                                                                                                                                                                                                                                                                                                                                                                                              ","M     ","6,92",null,null,"CR"]
[{"$f":"CONCATENAR","v":"SINAPI-I 11920"},"SINAPI-I",11920,"CABO TELEFONICO CI 50, 20 PARES, USO INTERNO                                                                                                                                                                                                                                                                                                                                                                                                                                                              ","M     ","13,15",null,null,"CR"]
[{"$f":"CONCATENAR","v":"SINAPI-I 11924"},"SINAPI-I",11924,"CABO TELEFONICO CI 50, 200 PARES, USO INTERNO                                                                                                                                                                                                                                                                                                                                                                                                                                                             ","M     ","110,40",null,null,"CR"]
[{"$f":"CONCATENAR","v":"SINAPI-I 11921"},"SINAPI-I",11921,"CABO TELEFONICO CI 50, 30 PARES, USO INTERNO                                                                                                                                                                                                                                                                                                                                                                                                                                                              ","M     ","19,24",null,null,"CR"]
[{"$f":"CONCATENAR","v":"SINAPI-I 11922"},"SINAPI-I",11922,"CABO TELEFONICO CI 50, 50 PARES, USO INTERNO                                                                                                                                                                                                                                                                                                                                                                                                                                                              ","M     ","31,12",null,null,"CR"]
[{"$f":"CONCATENAR","v":"SINAPI-I 11923"},"SINAPI-I",11923,"CABO TELEFONICO CI 50, 75 PARES, USO INTERNO                                                                                                                                                                                                                                                                                                                                                                                                                                                              ","M     ","45,55",null,null,"CR"]
[{"$f":"CONCATENAR","v":"SINAPI-I 11916"},"SINAPI-I",11916,"CABO TELEFONICO CTP - APL - 50, 10 PARES, USO EXTERNO                                                                                                                                                                                                                                                                                                                                                                                                                                                     ","M     ","9,47",null,null,"CR"]
[{"$f":"CONCATENAR","v":"SINAPI-I 11914"},"SINAPI-I",11914,"CABO TELEFONICO CTP - APL - 50, 100 PARES, USO EXTERNO                                                                                                                                                                                                                                                                                                                                                                                                                                                    ","M     ","68,24",null,null,"CR"]
[{"$f":"CONCATENAR","v":"SINAPI-I 11917"},"SINAPI-I",11917,"CABO TELEFONICO CTP - APL - 50, 20 PARES, USO EXTERNO                                                                                                                                                                                                                                                                                                                                                                                                                                                     ","M     ","16,68",null,null,"CR"]
[{"$f":"CONCATENAR","v":"SINAPI-I 11918"},"SINAPI-I",11918,"CABO TELEFONICO CTP - APL - 50, 30 PARES, USO EXTERNO                                                                                                                                                                                                                                                                                                                                                                                                                                                     ","M     ","19,79",null,null,"CR"]
[{"$f":"CONCATENAR","v":"SINAPI-I 37734"},"SINAPI-I",37734,"CACAMBA METALICA BASCULANTE COM CAPACIDADE DE 10 M3 (INCLUI MONTAGEM, NAO INCLUI CAMINHAO)                                                                                                                                                                                                                                                                                                                                                                                                                ","UN    ","97.816,78",null,null,"CR"]
[{"$f":"CONCATENAR","v":"SINAPI-I 42251"},"SINAPI-I",42251,"CACAMBA METALICA BASCULANTE COM CAPACIDADE DE 12 M3 (INCLUI MONTAGEM, NAO INCLUI CAMINHAO)                                                                                                                                                                                                                                                                                                                                                                                                                ","UN    ","111.076,92",null,null,"CR"]
[{"$f":"CONCATENAR","v":"SINAPI-I 37733"},"SINAPI-I",37733,"CACAMBA METALICA BASCULANTE COM CAPACIDADE DE 6 M3 (INCLUI MONTAGEM, NAO INCLUI CAMINHAO)                                                                                                                                                                                                                                                                                                                                                                                                                 ","UN    ","73.342,65",null,null,"CR"]
[{"$f":"CONCATENAR","v":"SINAPI-I 37735"},"SINAPI-I",37735,"CACAMBA METALICA BASCULANTE COM CAPACIDADE DE 8 M3 (INCLUI MONTAGEM, NAO INCLUI CAMINHAO)                                                                                                                                                                                                                                                                                                                                                                                                                 ","UN    ","88.377,90",null,null,"CR"]
[{"$f":"CONCATENAR","v":"SINAPI-I 5090"},"SINAPI-I",5090,"CADEADO SIMPLES, CORPO EM LATAO MACICO, COM LARGURA DE 25 MM E ALTURA DE APROX 25 MM, HASTE CEMENTADA (NAO LONGA), EM ACO TEMPERADO COM DIAMETRO DE APROX 5,0 MM, INCLUINDO 2 CHAVES                                                                                                                                                                                                                                                                                                                      ","UN    ","21,40",null,null,"C "]
[{"$f":"CONCATENAR","v":"SINAPI-I 5085"},"SINAPI-I",5085,"CADEADO SIMPLES, CORPO EM LATAO MACICO, COM LARGURA DE 35 MM E ALTURA DE APROX 30 MM, HASTE CEMENTADA (NAO LONGA), EM ACO TEMPERADO COM DIAMETRO DE APROX 6,0 MM, INCLUINDO 2 CHAVES                                                                                                                                                                                                                                                                                                                      ","UN    ","31,86",null,null,"CR"]
[{"$f":"CONCATENAR","v":"SINAPI-I 43603"},"SINAPI-I",43603,"CADEADO SIMPLES, CORPO EM LATAO MACICO, COM LARGURA DE 50 MM E ALTURA DE APROX 40 MM, HASTE CEMENTADA EM ACO TEMPERADO COM DIAMETRO DE APROX 8,0 MM, INCLUINDO 2 CHAVES                                                                                                                                                                                                                                                                                                                                   ","UN    ","45,51",null,null,"CR"]
[{"$f":"CONCATENAR","v":"SINAPI-I 38374"},"SINAPI-I",38374,"CADEIRA SUSPENSA MANUAL / BALANCIM INDIVIDUAL (NBR 14751)                                                                                                                                                                                                                                                                                                                                                                                                                                                 ","UN    ","1.239,59",null,null,"CR"]
[{"$f":"CONCATENAR","v":"SINAPI-I 20212"},"SINAPI-I",20212,"CAIBRO APARELHADO *6 X 8* CM, EM MACARANDUBA/MASSARANDUBA, ANGELIM OU EQUIVALENTE DA REGIAO                                                                                                                                                                                                                                                                                                                                                                                                               ","M     ","13,58",null,null,"CR"]
[{"$f":"CONCATENAR","v":"SINAPI-I 20209"},"SINAPI-I",20209,"CAIBRO APARELHADO *7,5 X 7,5* CM, EM MACARANDUBA/MASSARANDUBA, ANGELIM OU EQUIVALENTE DA REGIAO                                                                                                                                                                                                                                                                                                                                                                                                           ","M     ","16,22",null,null,"CR"]
[{"$f":"CONCATENAR","v":"SINAPI-I 4430"},"SINAPI-I",4430,"CAIBRO NAO APARELHADO *5 X 6* CM, EM MACARANDUBA/MASSARANDUBA, ANGELIM OU EQUIVALENTE DA REGIAO - BRUTA                                                                                                                                                                                                                                                                                                                                                                                                   ","M     ","7,95",null,null,"C "]
[{"$f":"CONCATENAR","v":"SINAPI-I 4433"},"SINAPI-I",4433,"CAIBRO NAO APARELHADO *6 X 6* CM, EM MACARANDUBA/MASSARANDUBA, ANGELIM OU EQUIVALENTE DA REGIAO - BRUTA                                                                                                                                                                                                                                                                                                                                                                                                   ","M     ","15,54",null,null,"CR"]
[{"$f":"CONCATENAR","v":"SINAPI-I 4400"},"SINAPI-I",4400,"CAIBRO NAO APARELHADO, *6 X 8* CM, EM MACARANDUBA/MASSARANDUBA, ANGELIM OU EQUIVALENTE DA REGIAO - BRUTA                                                                                                                                                                                                                                                                                                                                                                                                  ","M     ","12,65",null,null,"CR"]
[{"$f":"CONCATENAR","v":"SINAPI-I 2729"},"SINAPI-I",2729,"CAIBRO ROLICO DE MADEIRA TRATADA, D = 4 A 7 CM, H = 3,00 M, EM EUCALIPTO OU EQUIVALENTE DA REGIAO                                                                                                                                                                                                                                                                                                                                                                                                         ","UN    ","43,17",null,null,"CR"]
[{"$f":"CONCATENAR","v":"SINAPI-I 4513"},"SINAPI-I",4513,"CAIBRO 5 X 5 CM EM PINUS, MISTA OU EQUIVALENTE DA REGIAO - BRUTA                                                                                                                                                                                                                                                                                                                                                                                                                                          ","M     ","4,92",null,null,"CR"]
[{"$f":"CONCATENAR","v":"SINAPI-I 37106"},"SINAPI-I",37106,"CAIXA D'AGUA / RESERVATORIO EM POLIESTER REFORCADO COM FIBRA DE VIDRO, 10000 LITROS, COM TAMPA                                                                                                                                                                                                                                                                                                                                                                                                            ","UN    ","5.205,84",null,null,"CR"]
[{"$f":"CONCATENAR","v":"SINAPI-I 11869"},"SINAPI-I",11869,"CAIXA D'AGUA / RESERVATORIO EM POLIESTER REFORCADO COM FIBRA DE VIDRO, 1500 LITROS, COM TAMPA                                                                                                                                                                                                                                                                                                                                                                                                             ","UN    ","1.041,16",null,null,"CR"]
[{"$f":"CONCATENAR","v":"SINAPI-I 43981"},"SINAPI-I",43981,"CAIXA D'AGUA / RESERVATORIO EM POLIESTER REFORCADO COM FIBRA DE VIDRO, 15000 LITROS, COM TAMPA                                                                                                                                                                                                                                                                                                                                                                                                            ","UN    ","7.845,16",null,null,"CR"]
[{"$f":"CONCATENAR","v":"SINAPI-I 37104"},"SINAPI-I",37104,"CAIXA D'AGUA / RESERVATORIO EM POLIESTER REFORCADO COM FIBRA DE VIDRO, 2000 LITROS, COM TAMPA                                                                                                                                                                                                                                                                                                                                                                                                             ","UN    ","1.306,68",null,null,"CR"]
[{"$f":"CONCATENAR","v":"SINAPI-I 43982"},"SINAPI-I",43982,"CAIXA D'AGUA / RESERVATORIO EM POLIESTER REFORCADO COM FIBRA DE VIDRO, 20000 LITROS, COM TAMPA                                                                                                                                                                                                                                                                                                                                                                                                            ","UN    ","12.393,37",null,null,"CR"]
[{"$f":"CONCATENAR","v":"SINAPI-I 43978"},"SINAPI-I",43978,"CAIXA D'AGUA / RESERVATORIO EM POLIESTER REFORCADO COM FIBRA DE VIDRO, 3000 LITROS, COM TAMPA                                                                                                                                                                                                                                                                                                                                                                                                             ","UN    ","1.936,48",null,null,"CR"]
[{"$f":"CONCATENAR","v":"SINAPI-I 11871"},"SINAPI-I",11871,"CAIXA D'AGUA / RESERVATORIO EM POLIESTER REFORCADO COM FIBRA DE VIDRO, 500 LITROS, COM TAMPA                                                                                                                                                                                                                                                                                                                                                                                                              ","UN    ","485,34",null,null,"CR"]
[{"$f":"CONCATENAR","v":"SINAPI-I 37105"},"SINAPI-I",37105,"CAIXA D'AGUA / RESERVATORIO EM POLIESTER REFORCADO COM FIBRA DE VIDRO, 5000 LITROS, COM TAMPA                                                                                                                                                                                                                                                                                                                                                                                                             ","UN    ","2.986,28",null,null,"CR"]
[{"$f":"CONCATENAR","v":"SINAPI-I 43980"},"SINAPI-I",43980,"CAIXA D'AGUA / RESERVATORIO EM POLIESTER REFORCADO COM FIBRA DE VIDRO, 7000 LITROS, COM TAMPA                                                                                                                                                                                                                                                                                                                                                                                                             ","UN    ","3.719,09",null,null,"CR"]
[{"$f":"CONCATENAR","v":"SINAPI-I 43979"},"SINAPI-I",43979,"CAIXA D'AGUA / RESERVATORIO EM POLIESTER REFORCADO COM FIBRA DE VIDRO, 750 LITROS, COM TAMPA                                                                                                                                                                                                                                                                                                                                                                                                              ","UN    ","698,78",null,null,"CR"]
[{"$f":"CONCATENAR","v":"SINAPI-I 11868"},"SINAPI-I",11868,"CAIXA D'AGUA / RESERVATORIO EM POLIESTER REFORCADO COM FIBRA DE VIDRO,1000 LITROS, COM TAMPA                                                                                                                                                                                                                                                                                                                                                                                                              ","UN    ","675,79",null,null,"CR"]
[{"$f":"CONCATENAR","v":"SINAPI-I 34636"},"SINAPI-I",34636,"CAIXA D'AGUA / RESERVATORIO EM POLIETILENO, 1000 LITROS, COM TAMPA                                                                                                                                                                                                                                                                                                                                                                                                                                        ","UN    ","479,90",null,null,"C "]
[{"$f":"CONCATENAR","v":"SINAPI-I 34639"},"SINAPI-I",34639,"CAIXA D'AGUA / RESERVATORIO EM POLIETILENO, 1500 LITROS, COM TAMPA                                                                                                                                                                                                                                                                                                                                                                                                                                        ","UN    ","1.107,69",null,null,"CR"]
[{"$f":"CONCATENAR","v":"SINAPI-I 34640"},"SINAPI-I",34640,"CAIXA D'AGUA / RESERVATORIO EM POLIETILENO, 2000 LITROS, COM TAMPA                                                                                                                                                                                                                                                                                                                                                                                                                                        ","UN    ","1.256,50",null,null,"CR"]
[{"$f":"CONCATENAR","v":"SINAPI-I 43977"},"SINAPI-I",43977,"CAIXA D'AGUA / RESERVATORIO EM POLIETILENO, 3000 LITROS, COM TAMPA                                                                                                                                                                                                                                                                                                                                                                                                                                        ","UN    ","2.166,14",null,null,"CR"]
[{"$f":"CONCATENAR","v":"SINAPI-I 34637"},"SINAPI-I",34637,"CAIXA D'AGUA / RESERVATORIO EM POLIETILENO, 500 LITROS, COM TAMPA                                                                                                                                                                                                                                                                                                                                                                                                                                         ","UN    ","290,22",null,null,"CR"]
[{"$f":"CONCATENAR","v":"SINAPI-I 34638"},"SINAPI-I",34638,"CAIXA D'AGUA / RESERVATORIO EM POLIETILENO, 750 LITROS, COM TAMPA                                                                                                                                                                                                                                                                                                                                                                                                                                         ","UN    ","448,91",null,null,"CR"]
[{"$f":"CONCATENAR","v":"SINAPI-I 34641"},"SINAPI-I",34641,"CAIXA DE ATERRAMENTO EM CONCRETO PRE-MOLDADO, DIAMETRO DE 0,30 M E ALTURA DE 0,35 M, SEM FUNDO E COM TAMPA                                                                                                                                                                                                                                                                                                                                                                                                ","UN    ","107,25",null,null,"CR"]
[{"$f":"CONCATENAR","v":"SINAPI-I 43434"},"SINAPI-I",43434,"CAIXA DE CONCRETO ARMADO PRE-MOLDADO, COM FUNDO E SEM TAMPA, DIMENSOES DE 0,30 X 0,30 X 0,30 M                                                                                                                                                                                                                                                                                                                                                                                                            ","UN    ","115,96",null,null,"CR"]
[{"$f":"CONCATENAR","v":"SINAPI-I 43435"},"SINAPI-I",43435,"CAIXA DE CONCRETO ARMADO PRE-MOLDADO, COM FUNDO E SEM TAMPA, DIMENSOES DE 0,40 X 0,40 X 0,40 M                                                                                                                                                                                                                                                                                                                                                                                                            ","UN    ","212,60",null,null,"CR"]
[{"$f":"CONCATENAR","v":"SINAPI-I 43436"},"SINAPI-I",43436,"CAIXA DE CONCRETO ARMADO PRE-MOLDADO, COM FUNDO E SEM TAMPA, DIMENSOES DE 0,60 X 0,60 X 0,50 M                                                                                                                                                                                                                                                                                                                                                                                                            ","UN    ","372,05",null,null,"CR"]
[{"$f":"CONCATENAR","v":"SINAPI-I 43437"},"SINAPI-I",43437,"CAIXA DE CONCRETO ARMADO PRE-MOLDADO, COM FUNDO E SEM TAMPA, DIMENSOES DE 0,80 X 0,80 X 0,50 M                                                                                                                                                                                                                                                                                                                                                                                                            ","UN    ","674,53",null,null,"CR"]
[{"$f":"CONCATENAR","v":"SINAPI-I 43438"},"SINAPI-I",43438,"CAIXA DE CONCRETO ARMADO PRE-MOLDADO, COM FUNDO E SEM TAMPA, DIMENSOES DE 1,00 X 1,00 X 0,50 M                                                                                                                                                                                                                                                                                                                                                                                                            ","UN    ","1.207,98",null,null,"CR"]
[{"$f":"CONCATENAR","v":"SINAPI-I 41627"},"SINAPI-I",41627,"CAIXA DE CONCRETO ARMADO PRE-MOLDADO, COM FUNDO E TAMPA, DIMENSOES DE 0,30 X 0,30 X 0,30 M                                                                                                                                                                                                                                                                                                                                                                                                                ","UN    ","178,78",null,null,"CR"]
[{"$f":"CONCATENAR","v":"SINAPI-I 41628"},"SINAPI-I",41628,"CAIXA DE CONCRETO ARMADO PRE-MOLDADO, COM FUNDO E TAMPA, DIMENSOES DE 0,40 X 0,40 X 0,40 M                                                                                                                                                                                                                                                                                                                                                                                                                ","UN    ","328,57",null,null,"CR"]
[{"$f":"CONCATENAR","v":"SINAPI-I 41629"},"SINAPI-I",41629,"CAIXA DE CONCRETO ARMADO PRE-MOLDADO, COM FUNDO E TAMPA, DIMENSOES DE 0,60 X 0,60 X 0,50 M                                                                                                                                                                                                                                                                                                                                                                                                                ","UN    ","417,47",null,null,"CR"]
[{"$f":"CONCATENAR","v":"SINAPI-I 43429"},"SINAPI-I",43429,"CAIXA DE CONCRETO ARMADO PRE-MOLDADO, SEM FUNDO, QUADRADA, DIMENSOES DE 0,30 X 0,30 X 0,30 M                                                                                                                                                                                                                                                                                                                                                                                                              ","UN    ","92,50",null,null,"CR"]
[{"$f":"CONCATENAR","v":"SINAPI-I 43430"},"SINAPI-I",43430,"CAIXA DE CONCRETO ARMADO PRE-MOLDADO, SEM FUNDO, QUADRADA, DIMENSOES DE 0,40 X 0,40 X 0,40 M                                                                                                                                                                                                                                                                                                                                                                                                              ","UN    ","153,65",null,null,"CR"]
[{"$f":"CONCATENAR","v":"SINAPI-I 43431"},"SINAPI-I",43431,"CAIXA DE CONCRETO ARMADO PRE-MOLDADO, SEM FUNDO, QUADRADA, DIMENSOES DE 0,60 X 0,60 X 0,50 M                                                                                                                                                                                                                                                                                                                                                                                                              ","UN    ","297,64",null,null,"CR"]
[{"$f":"CONCATENAR","v":"SINAPI-I 43432"},"SINAPI-I",43432,"CAIXA DE CONCRETO ARMADO PRE-MOLDADO, SEM FUNDO, QUADRADA, DIMENSOES DE 0,80 X 0,80 X 0,50 M                                                                                                                                                                                                                                                                                                                                                                                                              ","UN    ","618,48",null,null,"CR"]
[{"$f":"CONCATENAR","v":"SINAPI-I 43433"},"SINAPI-I",43433,"CAIXA DE CONCRETO ARMADO PRE-MOLDADO, SEM FUNDO, QUADRADA, DIMENSOES DE 1,00 X 1,00 X 0,50 M                                                                                                                                                                                                                                                                                                                                                                                                              ","UN    ","975,08",null,null,"CR"]
[{"$f":"CONCATENAR","v":"SINAPI-I 43094"},"SINAPI-I",43094,"CAIXA DE DERIVACAO PARA MEDIDOR DE ENERGIA, COM BARRAMENTO MONOFASICO, EM POLICARBONATO / TERMOPLASTICO - MODULO (PADRAO CONCESSIONARIA LOCAL)                                                                                                                                                                                                                                                                                                                                                            ","UN    ","248,37",null,null,"CR"]
[{"$f":"CONCATENAR","v":"SINAPI-I 43093"},"SINAPI-I",43093,"CAIXA DE DERIVACAO PARA MEDIDOR DE ENERGIA, COM BARRAMENTO POLIFASICO, EM POLICARBONATO / TERMOPLASTICO - MODULO (PADRAO CONCESSIONARIA LOCAL)                                                                                                                                                                                                                                                                                                                                                            ","UN    ","263,94",null,null,"CR"]
[{"$f":"CONCATENAR","v":"SINAPI-I 11694"},"SINAPI-I",11694,"CAIXA DE DESCARGA PLASTICA PARA BACIA / VASO SANITARIO DE EMBUTIR, COM ESPELHO ACIONADOR EM PLASTICO, CAPACIDADE 6 A 10 LITROS, (COMPLETA - ACESSORIOS INCLUSOS)                                                                                                                                                                                                                                                                                                                                          ","UN    ","1.103,05",null,null,"CR"]
[{"$f":"CONCATENAR","v":"SINAPI-I 1030"},"SINAPI-I",1030,"CAIXA DE DESCARGA PLASTICA PARA BACIA / VASO SANITARIO, EXTERNA, CAPACIDADE 9 LITROS, PUXADOR FIO DE NYLON, NAO INCLUSO CANO, BOLSA, ENGATE                                                                                                                                                                                                                                                                                                                                                               ","UN    ","49,90",null,null,"C "]
[{"$f":"CONCATENAR","v":"SINAPI-I 11881"},"SINAPI-I",11881,"CAIXA DE GORDURA CILINDRICA EM CONCRETO SIMPLES, PRE-MOLDADA, COM DIAMETRO DE 40 CM E ALTURA DE 45 CM, COM TAMPA                                                                                                                                                                                                                                                                                                                                                                                          ","UN    ","164,28",null,null,"CR"]
[{"$f":"CONCATENAR","v":"SINAPI-I 35277"},"SINAPI-I",35277,"CAIXA DE GORDURA EM PVC, DIAMETRO MINIMO 300 MM, DIAMETRO DE SAIDA 100 MM, CAPACIDADE APROXIMADA 18 LITROS, COM TAMPA E CESTO                                                                                                                                                                                                                                                                                                                                                                             ","UN    ","344,02",null,null,"CR"]
[{"$f":"CONCATENAR","v":"SINAPI-I 10521"},"SINAPI-I",10521,"CAIXA DE INCENDIO/ABRIGO PARA MANGUEIRA, DE EMBUTIR/INTERNA, COM 75 X 45 X 17 CM, EM CHAPA DE ACO, PORTA COM VENTILACAO, VISOR COM A INSCRICAO \"INCENDIO\", SUPORTE/CESTA INTERNA PARA A MANGUEIRA, PINTURA ELETROSTATICA VERMELHA                                                                                                                                                                                                                                                                         ","UN    ","323,58",null,null,"CR"]
[{"$f":"CONCATENAR","v":"SINAPI-I 10885"},"SINAPI-I",10885,"CAIXA DE INCENDIO/ABRIGO PARA MANGUEIRA, DE EMBUTIR/INTERNA, COM 90 X 60 X 17 CM, EM CHAPA DE ACO, PORTA COM VENTILACAO, VISOR COM A INSCRICAO \"INCENDIO\", SUPORTE/CESTA INTERNA PARA A MANGUEIRA, PINTURA ELETROSTATICA VERMELHA                                                                                                                                                                                                                                                                         ","UN    ","409,29",null,null,"CR"]
[{"$f":"CONCATENAR","v":"SINAPI-I 20962"},"SINAPI-I",20962,"CAIXA DE INCENDIO/ABRIGO PARA MANGUEIRA, DE SOBREPOR/EXTERNA, COM 75 X 45 X 17 CM, EM CHAPA DE ACO, PORTA COM VENTILACAO, VISOR COM A INSCRICAO \"INCENDIO\", SUPORTE/CESTA INTERNA PARA A MANGUEIRA, PINTURA ELETROSTATICA VERMELHA                                                                                                                                                                                                                                                                        ","UN    ","338,99",null,null,"C "]
[{"$f":"CONCATENAR","v":"SINAPI-I 20963"},"SINAPI-I",20963,"CAIXA DE INCENDIO/ABRIGO PARA MANGUEIRA, DE SOBREPOR/EXTERNA, COM 90 X 60 X 17 CM, EM CHAPA DE ACO, PORTA COM VENTILACAO, VISOR COM A INSCRICAO \"INCENDIO\", SUPORTE/CESTA INTERNA PARA A MANGUEIRA, PINTURA ELETROSTATICA VERMELHA                                                                                                                                                                                                                                                                        ","UN    ","414,10",null,null,"CR"]
[{"$f":"CONCATENAR","v":"SINAPI-I 34643"},"SINAPI-I",34643,"CAIXA DE INSPECAO PARA ATERRAMENTO E PARA RAIOS, EM POLIPROPILENO, DIAMETRO = 300 MM X ALTURA = 400 MM                                                                                                                                                                                                                                                                                                                                                                                                    ","UN    ","39,62",null,null,"CR"]
[{"$f":"CONCATENAR","v":"SINAPI-I 41480"},"SINAPI-I",41480,"CAIXA DE INSPECAO PARA ATERRAMENTO OU OUTRO USO, EM PVC, DN = 250 X 250 MM                                                                                                                                                                                                                                                                                                                                                                                                                                ","UN    ","45,94",null,null,"CR"]
[{"$f":"CONCATENAR","v":"SINAPI-I 41474"},"SINAPI-I",41474,"CAIXA DE INSPECAO PARA ATERRAMENTO OU OUTRO USO, EM PVC, DN = 300 X *300* MM                                                                                                                                                                                                                                                                                                                                                                                                                              ","UN    ","73,38",null,null,"CR"]
[{"$f":"CONCATENAR","v":"SINAPI-I 41475"},"SINAPI-I",41475,"CAIXA DE INSPECAO PARA ATERRAMENTO OU OUTRO USO, EM PVC, DN = 300 X 250 MM                                                                                                                                                                                                                                                                                                                                                                                                                                ","UN    ","62,61",null,null,"CR"]
[{"$f":"CONCATENAR","v":"SINAPI-I 41476"},"SINAPI-I",41476,"CAIXA DE INSPECAO PARA ATERRAMENTO OU OUTRO USO, EM PVC, DN = 300 X 600 MM                                                                                                                                                                                                                                                                                                                                                                                                                                ","UN    ","137,10",null,null,"CR"]
[{"$f":"CONCATENAR","v":"SINAPI-I 2555"},"SINAPI-I",2555,"CAIXA DE LUZ \"3 X 3\" EM ACO ESMALTADA                                                                                                                                                                                                                                                                                                                                                                                                                                                                     ","UN    ","1,60",null,null,"CR"]
[{"$f":"CONCATENAR","v":"SINAPI-I 2556"},"SINAPI-I",2556,"CAIXA DE LUZ \"4 X 2\" EM ACO ESMALTADA                                                                                                                                                                                                                                                                                                                                                                                                                                                                     ","UN    ","1,66",null,null,"CR"]
[{"$f":"CONCATENAR","v":"SINAPI-I 2557"},"SINAPI-I",2557,"CAIXA DE LUZ \"4 X 4\" EM ACO ESMALTADA                                                                                                                                                                                                                                                                                                                                                                                                                                                                     ","UN    ","3,50",null,null,"CR"]
[{"$f":"CONCATENAR","v":"SINAPI-I 10569"},"SINAPI-I",10569,"CAIXA DE PASSAGEM / DERIVACAO / LUZ, OCTOGONAL 4 X4, EM ACO ESMALTADA, COM FUNDO MOVEL SIMPLES (FMS)                                                                                                                                                                                                                                                                                                                                                                                                      ","UN    ","3,50",null,null,"CR"]
[{"$f":"CONCATENAR","v":"SINAPI-I 39810"},"SINAPI-I",39810,"CAIXA DE PASSAGEM ELETRICA DE PAREDE, DE EMBUTIR, EM PVC, COM TAMPA APARAFUSADA, DIMENSOES 120 X 120 X *75* MM                                                                                                                                                                                                                                                                                                                                                                                            ","UN    ","33,52",null,null,"CR"]
[{"$f":"CONCATENAR","v":"SINAPI-I 39811"},"SINAPI-I",39811,"CAIXA DE PASSAGEM ELETRICA DE PAREDE, DE EMBUTIR, EM PVC, COM TAMPA APARAFUSADA, DIMENSOES 150 X 150 X *75* MM                                                                                                                                                                                                                                                                                                                                                                                            ","UN    ","41,00",null,null,"CR"]
[{"$f":"CONCATENAR","v":"SINAPI-I 39812"},"SINAPI-I",39812,"CAIXA DE PASSAGEM ELETRICA DE PAREDE, DE EMBUTIR, EM PVC, COM TAMPA APARAFUSADA, DIMENSOES 200 X 200 X *90* MM                                                                                                                                                                                                                                                                                                                                                                                            ","UN    ","67,41",null,null,"CR"]
[{"$f":"CONCATENAR","v":"SINAPI-I 43096"},"SINAPI-I",43096,"CAIXA DE PASSAGEM ELETRICA DE PAREDE, DE EMBUTIR, EM TERMOPLASTICO / PVC, COM TAMPA APARAFUSADA, DIMENSOES 400 X 400 X *120* MM                                                                                                                                                                                                                                                                                                                                                                           ","UN    ","223,45",null,null,"CR"]
[{"$f":"CONCATENAR","v":"SINAPI-I 43102"},"SINAPI-I",43102,"CAIXA DE PASSAGEM ELETRICA DE PAREDE, DE SOBREPOR, EM PVC, COM TAMPA APARAFUSADA, DIMENSOES 300 X 300 X *100* MM                                                                                                                                                                                                                                                                                                                                                                                          ","UN    ","135,87",null,null,"CR"]
[{"$f":"CONCATENAR","v":"SINAPI-I 43103"},"SINAPI-I",43103,"CAIXA DE PASSAGEM ELETRICA DE PAREDE, DE SOBREPOR, EM PVC, COM TAMPA APARAFUSADA, DIMENSOES, 400 X 400 X *120* MM                                                                                                                                                                                                                                                                                                                                                                                         ","UN    ","200,07",null,null,"CR"]
[{"$f":"CONCATENAR","v":"SINAPI-I 43098"},"SINAPI-I",43098,"CAIXA DE PASSAGEM ELETRICA DE PAREDE, DE SOBREPOR, EM TERMOPLASTICO / PVC, COM TAMPA APARAFUSADA, DIMENSOES 200 X 200 X *100* MM                                                                                                                                                                                                                                                                                                                                                                          ","UN    ","75,69",null,null,"CR"]
[{"$f":"CONCATENAR","v":"SINAPI-I 43097"},"SINAPI-I",43097,"CAIXA DE PASSAGEM ELETRICA DE PAREDE, DE SOBREPOR, EM TERMOPLASTICO / PVC, COM TAMPA APARAFUSADA, DIMENSOES, 150 X 150 X *100* MM                                                                                                                                                                                                                                                                                                                                                                         ","UN    ","44,84",null,null,"CR"]
[{"$f":"CONCATENAR","v":"SINAPI-I 43104"},"SINAPI-I",43104,"CAIXA DE PASSAGEM ELETRICA, PARA PISO, EM PVC, DIMENSOES DE 3/4\" A 4\"                                                                                                                                                                                                                                                                                                                                                                                                                                     ","UN    ","530,45",null,null,"CR"]
[{"$f":"CONCATENAR","v":"SINAPI-I 39771"},"SINAPI-I",39771,"CAIXA DE PASSAGEM METALICA DE SOBREPOR COM TAMPA PARAFUSADA, DIMENSOES 20 X 20 X 10 CM                                                                                                                                                                                                                                                                                                                                                                                                                    ","UN    ","33,69",null,null,"CR"]
[{"$f":"CONCATENAR","v":"SINAPI-I 39772"},"SINAPI-I",39772,"CAIXA DE PASSAGEM METALICA DE SOBREPOR COM TAMPA PARAFUSADA, DIMENSOES 30 X 30 X 10 CM                                                                                                                                                                                                                                                                                                                                                                                                                    ","UN    ","66,22",null,null,"CR"]
[{"$f":"CONCATENAR","v":"SINAPI-I 39773"},"SINAPI-I",39773,"CAIXA DE PASSAGEM METALICA DE SOBREPOR COM TAMPA PARAFUSADA, DIMENSOES 40 X 40 X 15 CM                                                                                                                                                                                                                                                                                                                                                                                                                    ","UN    ","106,43",null,null,"CR"]
[{"$f":"CONCATENAR","v":"SINAPI-I 39774"},"SINAPI-I",39774,"CAIXA DE PASSAGEM METALICA DE SOBREPOR COM TAMPA PARAFUSADA, DIMENSOES 50 X 50 X 15 CM                                                                                                                                                                                                                                                                                                                                                                                                                    ","UN    ","159,19",null,null,"CR"]
[{"$f":"CONCATENAR","v":"SINAPI-I 39775"},"SINAPI-I",39775,"CAIXA DE PASSAGEM METALICA DE SOBREPOR COM TAMPA PARAFUSADA, DIMENSOES 60 X 60 X 20 CM                                                                                                                                                                                                                                                                                                                                                                                                                    ","UN    ","212,46",null,null,"CR"]
[{"$f":"CONCATENAR","v":"SINAPI-I 39776"},"SINAPI-I",39776,"CAIXA DE PASSAGEM METALICA DE SOBREPOR COM TAMPA PARAFUSADA, DIMENSOES 70 X 70 X 20 CM                                                                                                                                                                                                                                                                                                                                                                                                                    ","UN    ","256,77",null,null,"CR"]
[{"$f":"CONCATENAR","v":"SINAPI-I 39777"},"SINAPI-I",39777,"CAIXA DE PASSAGEM METALICA DE SOBREPOR COM TAMPA PARAFUSADA, DIMENSOES 80 X 80 X 20 CM                                                                                                                                                                                                                                                                                                                                                                                                                    ","UN    ","325,44",null,null,"CR"]
[{"$f":"CONCATENAR","v":"SINAPI-I 20254"},"SINAPI-I",20254,"CAIXA DE PASSAGEM METALICA, DE SOBREPOR, COM TAMPA APARAFUSADA, DIMENSOES 15 X 15 X *10* CM                                                                                                                                                                                                                                                                                                                                                                                                               ","UN    ","23,62",null,null,"CR"]
[{"$f":"CONCATENAR","v":"SINAPI-I 20253"},"SINAPI-I",20253,"CAIXA DE PASSAGEM METALICA, DE SOBREPOR, COM TAMPA APARAFUSADA, DIMENSOES 35 X 35 X *12* CM                                                                                                                                                                                                                                                                                                                                                                                                               ","UN    ","77,57",null,null,"CR"]
[{"$f":"CONCATENAR","v":"SINAPI-I 14055"},"SINAPI-I",14055,"CAIXA DE PASSAGEM/ LUZ / TELEFONIA, DE EMBUTIR, EM CHAPA DE ACO GALVANIZADO, DIMENSOES 120 X 120 X *12* CM (PADRAO CONCESSIONARIA LOCAL)                                                                                                                                                                                                                                                                                                                                                                  ","UN    ","708,82",null,null,"CR"]
[{"$f":"CONCATENAR","v":"SINAPI-I 11247"},"SINAPI-I",11247,"CAIXA DE PASSAGEM/ LUZ / TELEFONIA, DE EMBUTIR, EM CHAPA DE ACO GALVANIZADO, DIMENSOES 150 X 150 X 15 CM (PADRAO CONCESSIONARIA LOCAL)                                                                                                                                                                                                                                                                                                                                                                    ","UN    ","1.491,51",null,null,"CR"]
[{"$f":"CONCATENAR","v":"SINAPI-I 11250"},"SINAPI-I",11250,"CAIXA DE PASSAGEM/ LUZ / TELEFONIA, DE EMBUTIR, EM CHAPA DE ACO GALVANIZADO, DIMENSOES 20 X 20 X *12* CM (PADRAO CONCESSIONARIA LOCAL)                                                                                                                                                                                                                                                                                                                                                                    ","UN    ","64,21",null,null,"CR"]
[{"$f":"CONCATENAR","v":"SINAPI-I 11249"},"SINAPI-I",11249,"CAIXA DE PASSAGEM/ LUZ / TELEFONIA, DE EMBUTIR, EM CHAPA DE ACO GALVANIZADO, DIMENSOES 200 X 200 X 20 CM (PADRAO CONCESSIONARIA LOCAL)                                                                                                                                                                                                                                                                                                                                                                    ","UN    ","2.913,44",null,null,"CR"]
[{"$f":"CONCATENAR","v":"SINAPI-I 11251"},"SINAPI-I",11251,"CAIXA DE PASSAGEM/ LUZ / TELEFONIA, DE EMBUTIR, EM CHAPA DE ACO GALVANIZADO, DIMENSOES 40 X 40 X *12* CM (PADRAO CONCESSIONARIA LOCAL)                                                                                                                                                                                                                                                                                                                                                                    ","UN    ","142,23",null,null,"CR"]
[{"$f":"CONCATENAR","v":"SINAPI-I 11253"},"SINAPI-I",11253,"CAIXA DE PASSAGEM/ LUZ / TELEFONIA, DE EMBUTIR, EM CHAPA DE ACO GALVANIZADO, DIMENSOES 60 X 60 X *12* CM (PADRAO CONCESSIONARIA LOCAL)                                                                                                                                                                                                                                                                                                                                                                    ","UN    ","235,69",null,null,"CR"]
[{"$f":"CONCATENAR","v":"SINAPI-I 11255"},"SINAPI-I",11255,"CAIXA DE PASSAGEM/ LUZ / TELEFONIA, DE EMBUTIR, EM CHAPA DE ACO GALVANIZADO, DIMENSOES 80 X 80 X *12* CM (PADRAO CONCESSIONARIA LOCAL)                                                                                                                                                                                                                                                                                                                                                                    ","UN    ","352,36",null,null,"CR"]
[{"$f":"CONCATENAR","v":"SINAPI-I 11256"},"SINAPI-I",11256,"CAIXA DE PASSAGEM/ LUZ / TELEFONIA, DE SOBREPOR, EM CHAPA DE ACO GALVANIZADO, DIMENSOES 80 X 80 X *12* CM (PADRAO CONCESSIONARIA LOCAL)                                                                                                                                                                                                                                                                                                                                                                   ","UN    ","441,36",null,null,"CR"]
[{"$f":"CONCATENAR","v":"SINAPI-I 1872"},"SINAPI-I",1872,"CAIXA DE PASSAGEM, EM PVC, DE 4\" X 2\", PARA ELETRODUTO FLEXIVEL CORRUGADO                                                                                                                                                                                                                                                                                                                                                                                                                                 ","UN    ","2,87",null,null,"CR"]
[{"$f":"CONCATENAR","v":"SINAPI-I 1873"},"SINAPI-I",1873,"CAIXA DE PASSAGEM, EM PVC, DE 4\" X 4\", PARA ELETRODUTO FLEXIVEL CORRUGADO                                                                                                                                                                                                                                                                                                                                                                                                                                 ","UN    ","5,72",null,null,"CR"]
[{"$f":"CONCATENAR","v":"SINAPI-I 39693"},"SINAPI-I",39693,"CAIXA DE PROTECAO EXTERNA PARA MEDIDOR HOROSAZONAL, DE BAIXA TENSAO, COM MODULO, EM CHAPA DE ACO (PADRAO DA CONCESSIONARIA LOCAL)                                                                                                                                                                                                                                                                                                                                                                         ","UN    ","2.771,97",null,null,"CR"]
[{"$f":"CONCATENAR","v":"SINAPI-I 39692"},"SINAPI-I",39692,"CAIXA DE PROTECAO PARA TRANSFORMADOR CORRENTE, EM CHAPA DE ACO 18 USG (PADRAO DA CONCESSIONARIA LOCAL)                                                                                                                                                                                                                                                                                                                                                                                                    ","UN    ","886,97",null,null,"CR"]
[{"$f":"CONCATENAR","v":"SINAPI-I 1062"},"SINAPI-I",1062,"CAIXA INTERNA/EXTERNA DE MEDICAO PARA 1 MEDIDOR TRIFASICO, COM VISOR, EM CHAPA DE ACO 18 USG (PADRAO DA CONCESSIONARIA LOCAL)                                                                                                                                                                                                                                                                                                                                                                             ","UN    ","281,09",null,null,"CR"]
[{"$f":"CONCATENAR","v":"SINAPI-I 39686"},"SINAPI-I",39686,"CAIXA INTERNA/EXTERNA DE MEDICAO PARA 4 MEDIDORES MONOFASICOS, COM VISOR, EM CHAPA DE ACO 18 USG (PADRAO DA CONCESSIONARIA LOCAL)                                                                                                                                                                                                                                                                                                                                                                         ","UN    ","455,15",null,null,"CR"]
[{"$f":"CONCATENAR","v":"SINAPI-I 43095"},"SINAPI-I",43095,"CAIXA MODULAR PARA MEDIDOR DE ENERGIA AGRUPADA, EM POLICARBONATO / TERMOPLASTICO, COM SUPORTE PARA DISJUNTOR (PADRAO DA CONCESSIONARIA LOCAL)                                                                                                                                                                                                                                                                                                                                                             ","UN    ","147,25",null,null,"CR"]
[{"$f":"CONCATENAR","v":"SINAPI-I 1871"},"SINAPI-I",1871,"CAIXA OCTOGONAL DE FUNDO MOVEL, EM PVC, DE 3\" X 3\", PARA ELETRODUTO FLEXIVEL CORRUGADO                                                                                                                                                                                                                                                                                                                                                                                                                    ","UN    ","5,14",null,null,"CR"]
[{"$f":"CONCATENAR","v":"SINAPI-I 12001"},"SINAPI-I",12001,"CAIXA OCTOGONAL DE FUNDO MOVEL, EM PVC, DE 4\" X 4\", PARA ELETRODUTO FLEXIVEL CORRUGADO                                                                                                                                                                                                                                                                                                                                                                                                                    ","UN    ","7,43",null,null,"CR"]
[{"$f":"CONCATENAR","v":"SINAPI-I 11882"},"SINAPI-I",11882,"CAIXA PARA HIDROMETRO CONCRETO PRE MOLDADO, *0,24 M X 0,45 M X 0,30* M (L X C X A)                                                                                                                                                                                                                                                                                                                                                                                                                        ","UN    ","117,89",null,null,"CR"]
[{"$f":"CONCATENAR","v":"SINAPI-I 1068"},"SINAPI-I",1068,"CAIXA PARA MEDICAO COLETIVA TIPO L, PADRAO BIFASICO OU TRIFASICO, PARA ATE 4 MEDIDORES, SEM BARRAMENTO E COM PORTAS INFERIOR E SUPERIOR                                                                                                                                                                                                                                                                                                                                                                   ","UN    ","1.854,11",null,null,"CR"]
[{"$f":"CONCATENAR","v":"SINAPI-I 39690"},"SINAPI-I",39690,"CAIXA PARA MEDICAO COLETIVA TIPO M, PADRAO BIFASICO OU TRIFASICO, PARA ATE 8 MEDIDORES, SEM BARRAMENTO E COM PORTAS INFERIOR E SUPERIOR                                                                                                                                                                                                                                                                                                                                                                   ","UN    ","3.110,58",null,null,"CR"]
[{"$f":"CONCATENAR","v":"SINAPI-I 39691"},"SINAPI-I",39691,"CAIXA PARA MEDICAO COLETIVA TIPO N, PADRAO BIFASICO OU TRIFASICO, PARA ATE 12 MEDIDORES, SEM BARRAMENTO E COM PORTAS INFERIOR E SUPERIOR                                                                                                                                                                                                                                                                                                                                                                  ","UN    ","3.912,24",null,null,"CR"]
[{"$f":"CONCATENAR","v":"SINAPI-I 39808"},"SINAPI-I",39808,"CAIXA PARA MEDIDOR MONOFASICO, EM POLICARBONATO / TERMOPLASTICO, PARA ALOJAR 1 DISJUNTOR (PADRAO DA CONCESSIONARIA LOCAL)                                                                                                                                                                                                                                                                                                                                                                                 ","UN    ","76,87",null,null,"CR"]
[{"$f":"CONCATENAR","v":"SINAPI-I 39809"},"SINAPI-I",39809,"CAIXA PARA MEDIDOR POLIFASICO, EM POLICARBONATO / TERMOPLASTICO, PARA ALOJAR 1 DISJUNTOR (PADRAO DA CONCESSIONARIA LOCAL)                                                                                                                                                                                                                                                                                                                                                                                 ","UN    ","182,33",null,null,"CR"]
[{"$f":"CONCATENAR","v":"SINAPI-I 43439"},"SINAPI-I",43439,"CAIXA PRE-MOLDADA PARA BOCA DE LOBO, EM CONCRETO ARMADO, COM FCK DE 25 MPA, COM DIMENSOES 1,10 X 0,65 X 1,00 M (COMPRIMENTO X LARGURA X ALTURA)                                                                                                                                                                                                                                                                                                                                                           ","UN    ","541,17",null,null,"CR"]
[{"$f":"CONCATENAR","v":"SINAPI-I 5103"},"SINAPI-I",5103,"CAIXA SIFONADA PVC, 100 X 100 X 50 MM, COM GRELHA REDONDA, BRANCA                                                                                                                                                                                                                                                                                                                                                                                                                                         ","UN    ","21,78",null,null,"CR"]
[{"$f":"CONCATENAR","v":"SINAPI-I 11880"},"SINAPI-I",11880,"CAIXA SIFONADA PVC, 250 X 230 X 75 MM, COM TAMPA CEGA QUADRADA, BRANCA                                                                                                                                                                                                                                                                                                                                                                                                                                    ","UN    ","91,60",null,null,"CR"]
[{"$f":"CONCATENAR","v":"SINAPI-I 11714"},"SINAPI-I",11714,"CAIXA SIFONADA, PVC, 150 X *185* X 75 MM, COM GRELHA QUADRADA, BRANCA                                                                                                                                                                                                                                                                                                                                                                                                                                     ","UN    ","62,40",null,null,"CR"]
[{"$f":"CONCATENAR","v":"SINAPI-I 11712"},"SINAPI-I",11712,"CAIXA SIFONADA, PVC, 150 X 150 X 50 MM, COM GRELHA QUADRADA, BRANCA (NBR 5688)                                                                                                                                                                                                                                                                                                                                                                                                                            ","UN    ","40,75",null,null,"C "]
[{"$f":"CONCATENAR","v":"SINAPI-I 11717"},"SINAPI-I",11717,"CAIXA SIFONADA, PVC, 150 X 150 X 50 MM, COM GRELHA REDONDA, BRANCA                                                                                                                                                                                                                                                                                                                                                                                                                                        ","UN    ","49,12",null,null,"CR"]
[{"$f":"CONCATENAR","v":"SINAPI-I 1106"},"SINAPI-I",1106,"CAL HIDRATADA CH-I PARA ARGAMASSAS                                                                                                                                                                                                                                                                                                                                                                                                                                                                        ","KG    ","0,95",null,null,"C "]
[{"$f":"CONCATENAR","v":"SINAPI-I 11161"},"SINAPI-I",11161,"CAL HIDRATADA PARA PINTURA                                                                                                                                                                                                                                                                                                                                                                                                                                                                                ","KG    ","1,58",null,null,"CR"]
[{"$f":"CONCATENAR","v":"SINAPI-I 1107"},"SINAPI-I",1107,"CAL VIRGEM COMUM PARA ARGAMASSAS (NBR 6453)                                                                                                                                                                                                                                                                                                                                                                                                                                                               ","KG    ","0,81",null,null,"CR"]
[{"$f":"CONCATENAR","v":"SINAPI-I 44479"},"SINAPI-I",44479,"CALCARIO DOLOMITICO A (POSTO PEDREIRA/FORNECEDOR,  SEM FRETE)                                                                                                                                                                                                                                                                                                                                                                                                                                             ","KG    ","0,13",null,null,"CR"]
[{"$f":"CONCATENAR","v":"SINAPI-I 4759"},"SINAPI-I",4759,"CALCETEIRO / RASTELEIRO (HORISTA)                                                                                                                                                                                                                                                                                                                                                                                                                                                                         ","H     ","15,85",null,null,"CR"]
[{"$f":"CONCATENAR","v":"SINAPI-I 41068"},"SINAPI-I",41068,"CALCETEIRO / RASTELEIRO (MENSALISTA)                                                                                                                                                                                                                                                                                                                                                                                                                                                                      ","MES   ","2.780,93",null,null,"CR"]
[{"$f":"CONCATENAR","v":"SINAPI-I 12618"},"SINAPI-I",12618,"CALHA / PERFIL PLUVIAL DE PVC, DIAMETRO ENTRE *119 E 170* MM, COMPRIMENTO DE 3 M, PARA DRENAGEM PLUVIAL PREDIAL                                                                                                                                                                                                                                                                                                                                                                                           ","UN    ","176,34",null,null,"CR"]
[{"$f":"CONCATENAR","v":"SINAPI-I 1108"},"SINAPI-I",1108,"CALHA MOLDURA AMERICANA DE CHAPA DE ACO GALVANIZADA NUM 26, CORTE 33 CM                                                                                                                                                                                                                                                                                                                                                                                                                                   ","M     ","30,23",null,null,"CR"]
[{"$f":"CONCATENAR","v":"SINAPI-I 1117"},"SINAPI-I",1117,"CALHA PARA AGUA FURTADA DE CHAPA DE ACO GALVANIZADA NUM 26, CORTE 40 CM                                                                                                                                                                                                                                                                                                                                                                                                                                   ","M     ","30,47",null,null,"CR"]
[{"$f":"CONCATENAR","v":"SINAPI-I 1118"},"SINAPI-I",1118,"CALHA PARA AGUA FURTADA DE CHAPA DE ACO GALVANIZADA NUM 26, CORTE 50 CM                                                                                                                                                                                                                                                                                                                                                                                                                                   ","M     ","36,02",null,null,"CR"]
[{"$f":"CONCATENAR","v":"SINAPI-I 1110"},"SINAPI-I",1110,"CALHA PLATIBANDA DE CHAPA DE ACO GALVANIZADA NUM 26, CORTE 45 CM                                                                                                                                                                                                                                                                                                                                                                                                                                          ","M     ","36,02",null,null,"CR"]
[{"$f":"CONCATENAR","v":"SINAPI-I 40784"},"SINAPI-I",40784,"CALHA QUADRADA DE CHAPA DE ACO GALVANIZADA NUM 24, CORTE 100 CM                                                                                                                                                                                                                                                                                                                                                                                                                                           ","M     ","99,34",null,null,"CR"]
[{"$f":"CONCATENAR","v":"SINAPI-I 40782"},"SINAPI-I",40782,"CALHA QUADRADA DE CHAPA DE ACO GALVANIZADA NUM 24, CORTE 33 CM                                                                                                                                                                                                                                                                                                                                                                                                                                            ","M     ","38,98",null,null,"CR"]
[{"$f":"CONCATENAR","v":"SINAPI-I 40783"},"SINAPI-I",40783,"CALHA QUADRADA DE CHAPA DE ACO GALVANIZADA NUM 24, CORTE 50 CM                                                                                                                                                                                                                                                                                                                                                                                                                                            ","M     ","50,78",null,null,"CR"]
[{"$f":"CONCATENAR","v":"SINAPI-I 1109"},"SINAPI-I",1109,"CALHA QUADRADA DE CHAPA DE ACO GALVANIZADA NUM 26, CORTE 33 CM                                                                                                                                                                                                                                                                                                                                                                                                                                            ","M     ","30,23",null,null,"CR"]
[{"$f":"CONCATENAR","v":"SINAPI-I 1119"},"SINAPI-I",1119,"CALHA QUADRADA DE CHAPA DE ACO GALVANIZADA NUM 28, CORTE 25 CM                                                                                                                                                                                                                                                                                                                                                                                                                                            ","M     ","19,49",null,null,"CR"]
[{"$f":"CONCATENAR","v":"SINAPI-I 13115"},"SINAPI-I",13115,"CALHA/CANALETA DE CONCRETO SIMPLES, TIPO MEIA CANA, DIAMETRO DE 20 CM, PARA AGUA PLUVIAL                                                                                                                                                                                                                                                                                                                                                                                                                  ","M     ","23,51",null,null,"CR"]
[{"$f":"CONCATENAR","v":"SINAPI-I 10541"},"SINAPI-I",10541,"CALHA/CANALETA DE CONCRETO SIMPLES, TIPO MEIA CANA, DIAMETRO DE 30 CM, PARA AGUA PLUVIAL                                                                                                                                                                                                                                                                                                                                                                                                                  ","M     ","28,73",null,null,"CR"]
[{"$f":"CONCATENAR","v":"SINAPI-I 10542"},"SINAPI-I",10542,"CALHA/CANALETA DE CONCRETO SIMPLES, TIPO MEIA CANA, DIAMETRO DE 40 CM, PARA AGUA PLUVIAL                                                                                                                                                                                                                                                                                                                                                                                                                  ","M     ","37,57",null,null,"CR"]
[{"$f":"CONCATENAR","v":"SINAPI-I 10543"},"SINAPI-I",10543,"CALHA/CANALETA DE CONCRETO SIMPLES, TIPO MEIA CANA, DIAMETRO DE 50 CM, PARA AGUA PLUVIAL                                                                                                                                                                                                                                                                                                                                                                                                                  ","M     ","60,96",null,null,"CR"]
[{"$f":"CONCATENAR","v":"SINAPI-I 10544"},"SINAPI-I",10544,"CALHA/CANALETA DE CONCRETO SIMPLES, TIPO MEIA CANA, DIAMETRO DE 60 CM, PARA AGUA PLUVIAL                                                                                                                                                                                                                                                                                                                                                                                                                  ","M     ","78,84",null,null,"CR"]
[{"$f":"CONCATENAR","v":"SINAPI-I 10545"},"SINAPI-I",10545,"CALHA/CANALETA DE CONCRETO SIMPLES, TIPO MEIA CANA, DIAMETRO DE 80 CM, PARA AGUA PLUVIAL                                                                                                                                                                                                                                                                                                                                                                                                                  ","M     ","147,35",null,null,"CR"]
[{"$f":"CONCATENAR","v":"SINAPI-I 38365"},"SINAPI-I",38365,"CAMADA SEPARADORA DE FILME DE POLIETILENO 20 A 25 MICRA                                                                                                                                                                                                                                                                                                                                                                                                                                                   ","M2    ","2,52",null,null,"CR"]
[{"$f":"CONCATENAR","v":"SINAPI-I 44056"},"SINAPI-I",44056,"CAMINHAO TOCO, PESO BRUTO TOTAL 10700 KG, CARGA UTIL MAXIMA 7400 KG, DISTANCIA ENTRE EIXOS 4,00 M, POTENCIA 175 CV (INCLUI CABINE E CHASSI, NAO INCLUI CARROCERIA)                                                                                                                                                                                                                                                                                                                                        ","UN    ","498.075,65",null,null,"CR"]
[{"$f":"CONCATENAR","v":"SINAPI-I 44057"},"SINAPI-I",44057,"CAMINHAO TOCO, PESO BRUTO TOTAL 13200 KG, CARGA UTIL MAXIMA 9200 KG, DISTANCIA ENTRE EIXOS 3,31 M, POTENCIA 175 CV (INCLUI CABINE E CHASSI, NAO INCLUI CARROCERIA)                                                                                                                                                                                                                                                                                                                                        ","UN    ","531.600,00",null,null,"C "]
[{"$f":"CONCATENAR","v":"SINAPI-I 37754"},"SINAPI-I",37754,"CAMINHAO TOCO, PESO BRUTO TOTAL 14300 KG, CARGA UTIL MAXIMA 9480 KG, DISTANCIA ENTRE EIXOS 4,80 M, POTENCIA 185 CV (INCLUI CABINE E CHASSI, NAO INCLUI CARROCERIA)                                                                                                                                                                                                                                                                                                                                        ","UN    ","549.607,36",null,null,"CR"]
[{"$f":"CONCATENAR","v":"SINAPI-I 37757"},"SINAPI-I",37757,"CAMINHAO TOCO, PESO BRUTO TOTAL 16000 KG, CARGA UTIL MAXIMA 10600 KG, DISTANCIA ENTRE EIXOS 4,80 M, POTENCIA 277 CV (INCLUI CABINE E CHASSI, NAO INCLUI CARROCERIA)                                                                                                                                                                                                                                                                                                                                       ","UN    ","613.016,24",null,null,"CR"]
[{"$f":"CONCATENAR","v":"SINAPI-I 44058"},"SINAPI-I",44058,"CAMINHAO TOCO, PESO BRUTO TOTAL 16000 KG, CARGA UTIL MAXIMA 10830 KG, DISTANCIA ENTRE EIXOS 3,56 M, POTENCIA 226 CV (INCLUI CABINE E CHASSI, NAO INCLUI CARROCERIA)                                                                                                                                                                                                                                                                                                                                       ","UN    ","579.491,89",null,null,"CR"]
[{"$f":"CONCATENAR","v":"SINAPI-I 37752"},"SINAPI-I",37752,"CAMINHAO TOCO, PESO BRUTO TOTAL 16000 KG, CARGA UTIL MAXIMA 11030 KG, DISTANCIA ENTRE EIXOS 5,41 M, POTENCIA 185 CV (INCLUI CABINE E CHASSI, NAO INCLUI CARROCERIA)                                                                                                                                                                                                                                                                                                                                       ","UN    ","603.437,81",null,null,"CR"]
[{"$f":"CONCATENAR","v":"SINAPI-I 44059"},"SINAPI-I",44059,"CAMINHAO TOCO, PESO BRUTO TOTAL 8500 KG, CARGA UTIL MAXIMA 5600 KG, DISTANCIA ENTRE EIXOS 3,40 M, POTENCIA 167 CV (INCLUI CABINE E CHASSI, NAO INCLUI CARROCERIA)                                                                                                                                                                                                                                                                                                                                         ","UN    ","477.003,24",null,null,"CR"]
[{"$f":"CONCATENAR","v":"SINAPI-I 37750"},"SINAPI-I",37750,"CAMINHAO TOCO, PESO BRUTO TOTAL 9600 KG, CARGA UTIL MAXIMA 6190 KG, DISTANCIA ENTRE EIXOS 3,70 M, POTENCIA 156 CV (INCLUI CABINE E CHASSI, NAO INCLUI CARROCERIA)                                                                                                                                                                                                                                                                                                                                         ","UN    ","477.961,08",null,null,"CR"]
[{"$f":"CONCATENAR","v":"SINAPI-I 37758"},"SINAPI-I",37758,"CAMINHAO TRUCADO, PESO BRUTO TOTAL 23000 KG, CARGA UTIL MAXIMA 15285 KG, DISTANCIA ENTRE EIXOS 4,80 M, POTENCIA 326 CV (INCLUI CABINE E CHASSI, NAO INCLUI CARROCERIA)                                                                                                                                                                                                                                                                                                                                    ","UN    ","760.523,22",null,null,"CR"]
[{"$f":"CONCATENAR","v":"SINAPI-I 44060"},"SINAPI-I",44060,"CAMINHAO TRUCADO, PESO BRUTO TOTAL 23000 KG, CARGA UTIL MAXIMA 15460 KG, DISTANCIA ENTRE EIXOS 4,80 M, POTENCIA 286 CV (INCLUI CABINE E CHASSI, NAO INCLUI CARROCERIA)                                                                                                                                                                                                                                                                                                                                    ","UN    ","735.619,46",null,null,"CR"]
[{"$f":"CONCATENAR","v":"SINAPI-I 37749"},"SINAPI-I",37749,"CAMINHAO TRUCADO, PESO BRUTO TOTAL 23000 KG, CARGA UTIL MAXIMA 16360 KG, CABINE ESTENDIDA, DISTANCIA ENTRE EIXOS 3,56 M, POTENCIA 277 CV (INCLUI CABINE E CHASSI, NAO INCLUI CARROCERIA)                                                                                                                                                                                                                                                                                                                  ","UN    ","785.427,03",null,null,"CR"]
[{"$f":"CONCATENAR","v":"SINAPI-I 44061"},"SINAPI-I",44061,"CAMINHAO TRUCADO, PESO BRUTO TOTAL 23000 KG, CARGA UTIL MAXIMA 16540 KG, DISTANCIA ENTRE EIXOS 4,80 M, POTENCIA 256 CV (INCLUI CABINE E CHASSI, NAO INCLUI CARROCERIA)                                                                                                                                                                                                                                                                                                                                    ","UN    ","721.251,91",null,null,"CR"]
[{"$f":"CONCATENAR","v":"SINAPI-I 1159"},"SINAPI-I",1159,"CAMINHONETE COM MOTOR A DIESEL, POTENCIA *160* CV, CABINE DUPLA, 4X4                                                                                                                                                                                                                                                                                                                                                                                                                                      ","UN    ","267.996,67",null,null,"C "]
[{"$f":"CONCATENAR","v":"SINAPI-I 12114"},"SINAPI-I",12114,"CAMPAINHA ALTA POTENCIA 110V / 220V, DIAMETRO 150 MM                                                                                                                                                                                                                                                                                                                                                                                                                                                      ","UN    ","162,21",null,null,"CR"]
[{"$f":"CONCATENAR","v":"SINAPI-I 38106"},"SINAPI-I",38106,"CAMPAINHA CIGARRA 127 V / 220 V (APENAS MODULO)                                                                                                                                                                                                                                                                                                                                                                                                                                                           ","UN    ","22,04",null,null,"CR"]
[{"$f":"CONCATENAR","v":"SINAPI-I 38085"},"SINAPI-I",38085,"CAMPAINHA CIGARRA 127 V / 220 V, CONJUNTO MONTADO PARA EMBUTIR 4\" X 2\" (PLACA + SUPORTE + MODULO)                                                                                                                                                                                                                                                                                                                                                                                                         ","UN    ","26,04",null,null,"CR"]
[{"$f":"CONCATENAR","v":"SINAPI-I 38599"},"SINAPI-I",38599,"CANALETA DE CONCRETO ESTRUTURAL 14 X 19 X 29 CM, FBK 14 MPA (NBR 6136)                                                                                                                                                                                                                                                                                                                                                                                                                                    ","UN    ","6,48",null,null,"CR"]
[{"$f":"CONCATENAR","v":"SINAPI-I 38596"},"SINAPI-I",38596,"CANALETA DE CONCRETO ESTRUTURAL 14 X 19 X 29 CM, FBK 4,5 MPA (NBR 6136)                                                                                                                                                                                                                                                                                                                                                                                                                                   ","UN    ","5,38",null,null,"CR"]
[{"$f":"CONCATENAR","v":"SINAPI-I 38600"},"SINAPI-I",38600,"CANALETA DE CONCRETO ESTRUTURAL 14 X 19 X 39 CM, FBK 14 MPA (NBR 6136)                                                                                                                                                                                                                                                                                                                                                                                                                                    ","UN    ","6,87",null,null,"CR"]
[{"$f":"CONCATENAR","v":"SINAPI-I 38597"},"SINAPI-I",38597,"CANALETA DE CONCRETO ESTRUTURAL 14 X 19 X 39 CM, FBK 4,5 MPA (NBR 6136)                                                                                                                                                                                                                                                                                                                                                                                                                                   ","UN    ","5,42",null,null,"CR"]
[{"$f":"CONCATENAR","v":"SINAPI-I 659"},"SINAPI-I",659,"CANALETA DE CONCRETO 14 X 19 X 19 CM (CLASSE C - NBR 6136)                                                                                                                                                                                                                                                                                                                                                                                                                                                ","UN    ","3,11",null,null,"CR"]
[{"$f":"CONCATENAR","v":"SINAPI-I 660"},"SINAPI-I",660,"CANALETA DE CONCRETO 19 X 19 X 19 CM (CLASSE C - NBR 6136)                                                                                                                                                                                                                                                                                                                                                                                                                                                ","UN    ","3,73",null,null,"CR"]
[{"$f":"CONCATENAR","v":"SINAPI-I 658"},"SINAPI-I",658,"CANALETA DE CONCRETO 9 X 19 X 19 CM (CLASSE C - NBR 6136)                                                                                                                                                                                                                                                                                                                                                                                                                                                 ","UN    ","2,10",null,null,"CR"]
[{"$f":"CONCATENAR","v":"SINAPI-I 38548"},"SINAPI-I",38548,"CANALETA ESTRUTURAL CERAMICA DE 14 X 19 X 19 CM (L X A X C) E 6,0 MPA                                                                                                                                                                                                                                                                                                                                                                                                                                     ","UN    ","1,87",null,null,"CR"]
[{"$f":"CONCATENAR","v":"SINAPI-I 34649"},"SINAPI-I",34649,"CANALETA ESTRUTURAL CERAMICA DE 14 X 19 X 29 CM (L X A X C) E 6,0 MPA                                                                                                                                                                                                                                                                                                                                                                                                                                     ","UN    ","2,54",null,null,"CR"]
[{"$f":"CONCATENAR","v":"SINAPI-I 34655"},"SINAPI-I",34655,"CANALETA ESTRUTURAL CERAMICA DE 14 X 19 X 39 CM (L X A X C) E 6,0 MPA                                                                                                                                                                                                                                                                                                                                                                                                                                     ","UN    ","3,37",null,null,"CR"]
[{"$f":"CONCATENAR","v":"SINAPI-I 40607"},"SINAPI-I",40607,"CANOPLA ACABAMENTO CROMADO PARA INSTALACAO DE SPRINKLER, SOB FORRO, 15 MM                                                                                                                                                                                                                                                                                                                                                                                                                                 ","UN    ","4,68",null,null,"AS"]
[{"$f":"CONCATENAR","v":"SINAPI-I 567"},"SINAPI-I",567,"CANTONEIRA (ABAS IGUAIS) EM ACO CARBONO, 25,4 MM X 3,17 MM (L X E), 1,27KG/M                                                                                                                                                                                                                                                                                                                                                                                                                              ","M     ","9,98",null,null,"CR"]
[{"$f":"CONCATENAR","v":"SINAPI-I 574"},"SINAPI-I",574,"CANTONEIRA (ABAS IGUAIS) EM ACO CARBONO, 38,1 MM X 3,17 MM (L X E), 3,48 KG/M                                                                                                                                                                                                                                                                                                                                                                                                                             ","M     ","26,24",null,null,"CR"]
[{"$f":"CONCATENAR","v":"SINAPI-I 568"},"SINAPI-I",568,"CANTONEIRA (ABAS IGUAIS) EM ACO CARBONO, 50,8 MM X 9,53 MM (L X E), 6,99 KG/M                                                                                                                                                                                                                                                                                                                                                                                                                             ","M     ","55,29",null,null,"CR"]
[{"$f":"CONCATENAR","v":"SINAPI-I 4777"},"SINAPI-I",4777,"CANTONEIRA ACO ABAS IGUAIS (QUALQUER BITOLA), ESPESSURA ENTRE 1/8\" E 1/4\"                                                                                                                                                                                                                                                                                                                                                                                                                                 ","KG    ","11,51",null,null,"CR"]
[{"$f":"CONCATENAR","v":"SINAPI-I 592"},"SINAPI-I",592,"CANTONEIRA EM ALUMINIO, ABAS IGUAIS, LARGURA DE 25,40 MM (1\"), ESPESSURA DE 3,17 MM (1/8\") E PESO LINEAR DE APROXIMADAMENTE 0,408 KG/M                                                                                                                                                                                                                                                                                                                                                                    ","KG    ","39,19",null,null,"C "]
[{"$f":"CONCATENAR","v":"SINAPI-I 586"},"SINAPI-I",586,"CANTONEIRA EM ALUMINIO, ABAS IGUAIS, LARGURA DE 25,40 MM (1\"), ESPESSURA DE 4,76 MM (3/16\") E PESO LINEAR DE APROXIMADAMENTE 0,593 KG/M                                                                                                                                                                                                                                                                                                                                                                   ","M     ","23,04",null,null,"CR"]
[{"$f":"CONCATENAR","v":"SINAPI-I 588"},"SINAPI-I",588,"CANTONEIRA EM ALUMINIO, ABAS IGUAIS, LARGURA DE 31,75 MM (1 1/4\"), ESPESSURA DE 4,76 MM (3/16\") E PESO LINEAR DE APROXIMADAMENTE 0,755 KG/M                                                                                                                                                                                                                                                                                                                                                               ","M     ","36,44",null,null,"CR"]
[{"$f":"CONCATENAR","v":"SINAPI-I 591"},"SINAPI-I",591,"CANTONEIRA EM ALUMINIO, ABAS IGUAIS, LARGURA DE 38,10 MM (1 1/2\"), ESPESSURA DE 4,76 MM (3/16\") E PESO LINEAR DE APROXIMADAMENTE 0,915 KG/M                                                                                                                                                                                                                                                                                                                                                               ","KG    ","36,57",null,null,"CR"]
[{"$f":"CONCATENAR","v":"SINAPI-I 584"},"SINAPI-I",584,"CANTONEIRA EM ALUMINIO, ABAS IGUAIS, LARGURA DE 50,80 MM (2\"), ESPESSURA DE 3,17 MM (1/8\") E PESO LINEAR DE APROXIMADAMENTE 0,842 KG/M                                                                                                                                                                                                                                                                                                                                                                    ","M     ","38,92",null,null,"CR"]
[{"$f":"CONCATENAR","v":"SINAPI-I 589"},"SINAPI-I",589,"CANTONEIRA EM ALUMINIO, ABAS IGUAIS, LARGURA DE 50,80 MM (2\"), ESPESSURA DE 6,35 MM (1/4\") E PESO LINEAR DE APROXIMADAMENTE 1,630 KG/M                                                                                                                                                                                                                                                                                                                                                                    ","M     ","61,60",null,null,"CR"]
[{"$f":"CONCATENAR","v":"SINAPI-I 1165"},"SINAPI-I",1165,"CAP OU TAMPAO DE FERRO GALVANIZADO, COM ROSCA BSP, DE 1 1/2\"                                                                                                                                                                                                                                                                                                                                                                                                                                              ","UN    ","17,70",null,null,"CR"]
[{"$f":"CONCATENAR","v":"SINAPI-I 1164"},"SINAPI-I",1164,"CAP OU TAMPAO DE FERRO GALVANIZADO, COM ROSCA BSP, DE 1 1/4\"                                                                                                                                                                                                                                                                                                                                                                                                                                              ","UN    ","14,33",null,null,"CR"]
[{"$f":"CONCATENAR","v":"SINAPI-I 1162"},"SINAPI-I",1162,"CAP OU TAMPAO DE FERRO GALVANIZADO, COM ROSCA BSP, DE 1/2\"                                                                                                                                                                                                                                                                                                                                                                                                                                                ","UN    ","4,98",null,null,"CR"]
[{"$f":"CONCATENAR","v":"SINAPI-I 12395"},"SINAPI-I",12395,"CAP OU TAMPAO DE FERRO GALVANIZADO, COM ROSCA BSP, DE 1/4\"                                                                                                                                                                                                                                                                                                                                                                                                                                                ","UN    ","4,84",null,null,"CR"]
[{"$f":"CONCATENAR","v":"SINAPI-I 1170"},"SINAPI-I",1170,"CAP OU TAMPAO DE FERRO GALVANIZADO, COM ROSCA BSP, DE 1\"                                                                                                                                                                                                                                                                                                                                                                                                                                                  ","UN    ","9,39",null,null,"CR"]
[{"$f":"CONCATENAR","v":"SINAPI-I 1169"},"SINAPI-I",1169,"CAP OU TAMPAO DE FERRO GALVANIZADO, COM ROSCA BSP, DE 2 1/2\"                                                                                                                                                                                                                                                                                                                                                                                                                                              ","UN    ","46,11",null,null,"CR"]
[{"$f":"CONCATENAR","v":"SINAPI-I 1166"},"SINAPI-I",1166,"CAP OU TAMPAO DE FERRO GALVANIZADO, COM ROSCA BSP, DE 2\"                                                                                                                                                                                                                                                                                                                                                                                                                                                  ","UN    ","25,56",null,null,"CR"]
[{"$f":"CONCATENAR","v":"SINAPI-I 1163"},"SINAPI-I",1163,"CAP OU TAMPAO DE FERRO GALVANIZADO, COM ROSCA BSP, DE 3/4\"                                                                                                                                                                                                                                                                                                                                                                                                                                                ","UN    ","6,44",null,null,"CR"]
[{"$f":"CONCATENAR","v":"SINAPI-I 12396"},"SINAPI-I",12396,"CAP OU TAMPAO DE FERRO GALVANIZADO, COM ROSCA BSP, DE 3/8\"                                                                                                                                                                                                                                                                                                                                                                                                                                                ","UN    ","4,84",null,null,"CR"]
[{"$f":"CONCATENAR","v":"SINAPI-I 1168"},"SINAPI-I",1168,"CAP OU TAMPAO DE FERRO GALVANIZADO, COM ROSCA BSP, DE 3\"                                                                                                                                                                                                                                                                                                                                                                                                                                                  ","UN    ","65,73",null,null,"CR"]
[{"$f":"CONCATENAR","v":"SINAPI-I 1167"},"SINAPI-I",1167,"CAP OU TAMPAO DE FERRO GALVANIZADO, COM ROSCA BSP, DE 4\"                                                                                                                                                                                                                                                                                                                                                                                                                                                  ","UN    ","109,95",null,null,"CR"]
[{"$f":"CONCATENAR","v":"SINAPI-I 36331"},"SINAPI-I",36331,"CAP PPR DN 20 MM, PARA AGUA QUENTE PREDIAL                                                                                                                                                                                                                                                                                                                                                                                                                                                                ","UN    ","2,22",null,null,"CR"]
[{"$f":"CONCATENAR","v":"SINAPI-I 36346"},"SINAPI-I",36346,"CAP PPR DN 25 MM, PARA AGUA QUENTE PREDIAL                                                                                                                                                                                                                                                                                                                                                                                                                                                                ","UN    ","3,32",null,null,"CR"]
[{"$f":"CONCATENAR","v":"SINAPI-I 1197"},"SINAPI-I",1197,"CAP PVC, ROSCAVEL, 1/2\", PARA AGUA FRIA PREDIAL                                                                                                                                                                                                                                                                                                                                                                                                                                                           ","UN    ","1,84",null,null,"CR"]
[{"$f":"CONCATENAR","v":"SINAPI-I 1202"},"SINAPI-I",1202,"CAP PVC, ROSCAVEL, 1\", PARA AGUA FRIA PREDIAL                                                                                                                                                                                                                                                                                                                                                                                                                                                             ","UN    ","5,21",null,null,"CR"]
[{"$f":"CONCATENAR","v":"SINAPI-I 1198"},"SINAPI-I",1198,"CAP PVC, ROSCAVEL, 3/4\", PARA AGUA FRIA PREDIAL                                                                                                                                                                                                                                                                                                                                                                                                                                                           ","UN    ","2,40",null,null,"CR"]
[{"$f":"CONCATENAR","v":"SINAPI-I 20088"},"SINAPI-I",20088,"CAP PVC, SERIE R, DN 100 MM, PARA ESGOTO PREDIAL                                                                                                                                                                                                                                                                                                                                                                                                                                                          ","UN    ","13,57",null,null,"CR"]
[{"$f":"CONCATENAR","v":"SINAPI-I 20089"},"SINAPI-I",20089,"CAP PVC, SERIE R, DN 150 MM, PARA ESGOTO PREDIAL                                                                                                                                                                                                                                                                                                                                                                                                                                                          ","UN    ","66,51",null,null,"CR"]
[{"$f":"CONCATENAR","v":"SINAPI-I 20087"},"SINAPI-I",20087,"CAP PVC, SERIE R, DN 75 MM, PARA ESGOTO PREDIAL                                                                                                                                                                                                                                                                                                                                                                                                                                                           ","UN    ","11,22",null,null,"CR"]
[{"$f":"CONCATENAR","v":"SINAPI-I 1200"},"SINAPI-I",1200,"CAP PVC, SOLDAVEL, DN 100 MM, SERIE NORMAL, PARA ESGOTO PREDIAL                                                                                                                                                                                                                                                                                                                                                                                                                                           ","UN    ","10,20",null,null,"CR"]
[{"$f":"CONCATENAR","v":"SINAPI-I 12909"},"SINAPI-I",12909,"CAP PVC, SOLDAVEL, DN 50 MM, SERIE NORMAL, PARA ESGOTO PREDIAL                                                                                                                                                                                                                                                                                                                                                                                                                                            ","UN    ","4,73",null,null,"CR"]
[{"$f":"CONCATENAR","v":"SINAPI-I 12910"},"SINAPI-I",12910,"CAP PVC, SOLDAVEL, DN 75 MM, SERIE NORMAL, PARA ESGOTO PREDIAL                                                                                                                                                                                                                                                                                                                                                                                                                                            ","UN    ","8,50",null,null,"CR"]
[{"$f":"CONCATENAR","v":"SINAPI-I 1191"},"SINAPI-I",1191,"CAP PVC, SOLDAVEL, 20 MM, PARA AGUA FRIA PREDIAL                                                                                                                                                                                                                                                                                                                                                                                                                                                          ","UN    ","1,31",null,null,"CR"]
[{"$f":"CONCATENAR","v":"SINAPI-I 1185"},"SINAPI-I",1185,"CAP PVC, SOLDAVEL, 25 MM, PARA AGUA FRIA PREDIAL                                                                                                                                                                                                                                                                                                                                                                                                                                                          ","UN    ","1,31",null,null,"CR"]
[{"$f":"CONCATENAR","v":"SINAPI-I 1189"},"SINAPI-I",1189,"CAP PVC, SOLDAVEL, 32 MM, PARA AGUA FRIA PREDIAL                                                                                                                                                                                                                                                                                                                                                                                                                                                          ","UN    ","2,14",null,null,"CR"]
[{"$f":"CONCATENAR","v":"SINAPI-I 1193"},"SINAPI-I",1193,"CAP PVC, SOLDAVEL, 40 MM, PARA AGUA FRIA PREDIAL                                                                                                                                                                                                                                                                                                                                                                                                                                                          ","UN    ","4,11",null,null,"CR"]
[{"$f":"CONCATENAR","v":"SINAPI-I 1194"},"SINAPI-I",1194,"CAP PVC, SOLDAVEL, 50 MM, PARA AGUA FRIA PREDIAL                                                                                                                                                                                                                                                                                                                                                                                                                                                          ","UN    ","7,43",null,null,"CR"]
[{"$f":"CONCATENAR","v":"SINAPI-I 1195"},"SINAPI-I",1195,"CAP PVC, SOLDAVEL, 60 MM, PARA AGUA FRIA PREDIAL                                                                                                                                                                                                                                                                                                                                                                                                                                                          ","UN    ","12,51",null,null,"CR"]
[{"$f":"CONCATENAR","v":"SINAPI-I 1204"},"SINAPI-I",1204,"CAP PVC, SOLDAVEL, 75 MM, PARA AGUA FRIA PREDIAL                                                                                                                                                                                                                                                                                                                                                                                                                                                          ","UN    ","21,88",null,null,"CR"]
[{"$f":"CONCATENAR","v":"SINAPI-I 1207"},"SINAPI-I",1207,"CAP, PVC PBA, JE, DN 100 / DE 110 MM, PARA REDE DE AGUA (NBR 10351)                                                                                                                                                                                                                                                                                                                                                                                                                                       ","UN    ","24,76",null,null,"AS"]
[{"$f":"CONCATENAR","v":"SINAPI-I 1206"},"SINAPI-I",1206,"CAP, PVC PBA, JE, DN 50 / DE 60 MM, PARA REDE DE AGUA (NBR 10351)                                                                                                                                                                                                                                                                                                                                                                                                                                         ","UN    ","6,21",null,null,"AS"]
[{"$f":"CONCATENAR","v":"SINAPI-I 1183"},"SINAPI-I",1183,"CAP, PVC PBA, JE, DN 75 / DE 85 MM, PARA REDE DE AGUA (NBR 10351)                                                                                                                                                                                                                                                                                                                                                                                                                                         ","UN    ","16,17",null,null,"AS"]
[{"$f":"CONCATENAR","v":"SINAPI-I 42685"},"SINAPI-I",42685,"CAP, PVC, JE, OCRE, DN 150 MM (CONEXAO PARA TUBO COLETOR DE ESGOTO)                                                                                                                                                                                                                                                                                                                                                                                                                                       ","UN    ","68,93",null,null,"CR"]
[{"$f":"CONCATENAR","v":"SINAPI-I 42686"},"SINAPI-I",42686,"CAP, PVC, JE, OCRE, DN 200 MM (CONEXAO PARA TUBO COLETOR DE ESGOTO)                                                                                                                                                                                                                                                                                                                                                                                                                                       ","UN    ","75,92",null,null,"CR"]
[{"$f":"CONCATENAR","v":"SINAPI-I 12894"},"SINAPI-I",12894,"CAPA PARA CHUVA EM PVC COM FORRO DE POLIESTER, COM CAPUZ (AMARELA OU AZUL)                                                                                                                                                                                                                                                                                                                                                                                                                                ","UN    ","22,32",null,null,"CR"]
[{"$f":"CONCATENAR","v":"SINAPI-I 12895"},"SINAPI-I",12895,"CAPACETE DE SEGURANCA ABA FRONTAL COM SUSPENSAO DE POLIETILENO, SEM JUGULAR (CLASSE B)                                                                                                                                                                                                                                                                                                                                                                                                                    ","UN    ","17,17",null,null,"C "]
[{"$f":"CONCATENAR","v":"SINAPI-I 1631"},"SINAPI-I",1631,"CAPACITOR TRIFASICO, POTENCIA 2,5 KVAR, TENSAO 220 V, FORNECIDO COM CAPA PROTETORA, RESISTOR INTERNO A UNIDADE CAPACITIVA                                                                                                                                                                                                                                                                                                                                                                                 ","UN    ","243,20",null,null,"CR"]
[{"$f":"CONCATENAR","v":"SINAPI-I 1633"},"SINAPI-I",1633,"CAPACITOR TRIFASICO, POTENCIA 5 KVAR, TENSAO 220 V, FORNECIDO COM CAPA PROTETORA, RESISTOR INTERNO A UNIDADE CAPACITIVA                                                                                                                                                                                                                                                                                                                                                                                   ","UN    ","413,21",null,null,"CR"]
[{"$f":"CONCATENAR","v":"SINAPI-I 10818"},"SINAPI-I",10818,"CAPIM BRAQUIARIA DECUMBENS/ BRAQUIARINHA, VC *70*% MINIMO                                                                                                                                                                                                                                                                                                                                                                                                                                                 ","KG    ","80,33",null,null,"CR"]
[{"$f":"CONCATENAR","v":"SINAPI-I 41410"},"SINAPI-I",41410,"CAPTOR FRANKLIN (4 PONTAS), EM LATAO CROMADO, H = 300 MM, DUAS DESCIDAS                                                                                                                                                                                                                                                                                                                                                                                                                                   ","UN    ","78,07",null,null,"AS"]
[{"$f":"CONCATENAR","v":"SINAPI-I 41411"},"SINAPI-I",41411,"CAPTOR FRANKLIN (4 PONTAS), EM LATAO CROMADO, H = 300 MM, UMA DESCIDA                                                                                                                                                                                                                                                                                                                                                                                                                                     ","UN    ","70,78",null,null,"AS"]
[{"$f":"CONCATENAR","v":"SINAPI-I 41412"},"SINAPI-I",41412,"CAPTOR FRANKLIN (4 PONTAS), EM LATAO CROMADO, H = 350 MM, DUAS DESCIDAS                                                                                                                                                                                                                                                                                                                                                                                                                                   ","UN    ","136,90",null,null,"AS"]
[{"$f":"CONCATENAR","v":"SINAPI-I 41413"},"SINAPI-I",41413,"CAPTOR FRANKLIN (4 PONTAS), EM LATAO CROMADO, H=350 MM, UMA DESCIDA                                                                                                                                                                                                                                                                                                                                                                                                                                       ","UN    ","123,19",null,null,"AS"]
[{"$f":"CONCATENAR","v":"SINAPI-I 39359"},"SINAPI-I",39359,"CARENAGEM /TAMPA, EM PLASTICO, COR BRANCA, UTILIZADO EM KIT CHASSI METALICO PARA INSTAL. HIDRAULICA DE CUBA SIMPLES SEM MAQUINA DE LAVAR ROUPA, *355* X *670* MM (L X H) (COM FUROS E DEMAIS ENCAIXES)                                                                                                                                                                                                                                                                                                    ","UN    ","71,95",null,null,"CR"]
[{"$f":"CONCATENAR","v":"SINAPI-I 39360"},"SINAPI-I",39360,"CARENAGEM /TAMPA, EM PLASTICO, COR BRANCA, UTILIZADO EM KIT CHASSI METALICO PARA INSTAL. HIDRAULICA DE TANQUE COM MAQUINA DE LAVAR ROUPA, *360* X *470* MM (L X H) (COM FUROS E DEMAIS ENCAIXES)                                                                                                                                                                                                                                                                                                          ","UN    ","71,95",null,null,"CR"]
[{"$f":"CONCATENAR","v":"SINAPI-I 10710"},"SINAPI-I",10710,"CARPETE DE NYLON EM MANTA PARA TRAFEGO COMERCIAL PESADO, E = 6 A 7 MM (INSTALADO)                                                                                                                                                                                                                                                                                                                                                                                                                         ","M2    ","165,02",null,null,"AS"]
[{"$f":"CONCATENAR","v":"SINAPI-I 10709"},"SINAPI-I",10709,"CARPETE DE NYLON EM MANTA PARA TRAFEGO COMERCIAL PESADO, E = 9 A 10 MM (INSTALADO)                                                                                                                                                                                                                                                                                                                                                                                                                        ","M2    ","202,73",null,null,"AS"]
[{"$f":"CONCATENAR","v":"SINAPI-I 39636"},"SINAPI-I",39636,"CARPETE DE NYLON EM PLACAS 50 X 50 CM PARA TRAFEGO COMERCIAL PESADO, E = 6,5 MM (INSTALADO)                                                                                                                                                                                                                                                                                                                                                                                                               ","M2    ","207,02",null,null,"AS"]
[{"$f":"CONCATENAR","v":"SINAPI-I 10708"},"SINAPI-I",10708,"CARPETE DE POLIESTER EM MANTA PARA TRAFEGO COMERCIAL PESADO, E = 4 A 5 MM (INSTALADO)                                                                                                                                                                                                                                                                                                                                                                                                                     ","M2    ","63,88",null,null,"AS"]
[{"$f":"CONCATENAR","v":"SINAPI-I 39635"},"SINAPI-I",39635,"CARPETE DE POLIPROPILENO EM MANTA PARA TRAFEGO COMERCIAL MEDIO, E = 5 A 6 MM (INSTALADO)                                                                                                                                                                                                                                                                                                                                                                                                                  ","M2    ","108,76",null,null,"AS"]
[{"$f":"CONCATENAR","v":"SINAPI-I 6117"},"SINAPI-I",6117,"CARPINTEIRO AUXILIAR (HORISTA)                                                                                                                                                                                                                                                                                                                                                                                                                                                                            ","H     ","15,68",null,null,"CR"]
[{"$f":"CONCATENAR","v":"SINAPI-I 40913"},"SINAPI-I",40913,"CARPINTEIRO AUXILIAR (MENSALISTA)                                                                                                                                                                                                                                                                                                                                                                                                                                                                         ","MES   ","2.752,30",null,null,"CR"]
[{"$f":"CONCATENAR","v":"SINAPI-I 1214"},"SINAPI-I",1214,"CARPINTEIRO DE ESQUADRIAS (HORISTA)                                                                                                                                                                                                                                                                                                                                                                                                                                                                       ","H     ","17,46",null,null,"CR"]
[{"$f":"CONCATENAR","v":"SINAPI-I 40915"},"SINAPI-I",40915,"CARPINTEIRO DE ESQUADRIAS (MENSALISTA)                                                                                                                                                                                                                                                                                                                                                                                                                                                                    ","MES   ","3.065,57",null,null,"CR"]
[{"$f":"CONCATENAR","v":"SINAPI-I 40914"},"SINAPI-I",40914,"CARPINTEIRO DE FORMAS OU OFICIAL (MENSALISTA)                                                                                                                                                                                                                                                                                                                                                                                                                                                             ","MES   ","3.255,53",null,null,"CR"]
[{"$f":"CONCATENAR","v":"SINAPI-I 1213"},"SINAPI-I",1213,"CARPINTEIRO DE FORMAS PARA CONCRETO (HORISTA)                                                                                                                                                                                                                                                                                                                                                                                                                                                             ","H     ","18,56",null,null,"C "]
[{"$f":"CONCATENAR","v":"SINAPI-I 5091"},"SINAPI-I",5091,"CARRANCA PARA JANELA VENEZIANA DE ABRIR, EM LATAO CROMADO, SIMPLES, PARA APARAFUSAR NA PAREDE                                                                                                                                                                                                                                                                                                                                                                                                             ","UN    ","20,89",null,null,"CR"]
[{"$f":"CONCATENAR","v":"SINAPI-I 14615"},"SINAPI-I",14615,"CARRINHO COM 2 PNEUS PARA TRANSPORTAR TUBO CONCRETO, ALTURA ATE 1,0 M E DIAMETRO ATE 1000MM, COM ESTRUTURA EM PERFIL OU TUBO METALICO                                                                                                                                                                                                                                                                                                                                                                     ","UN    ","2.833,26",null,null,"CR"]
[{"$f":"CONCATENAR","v":"SINAPI-I 2711"},"SINAPI-I",2711,"CARRINHO DE MAO DE ACO CAPACIDADE 50 A 60 L, PNEU COM CAMARA                                                                                                                                                                                                                                                                                                                                                                                                                                              ","UN    ","240,00",null,null,"C "]
[{"$f":"CONCATENAR","v":"SINAPI-I 37727"},"SINAPI-I",37727,"CARROCERIA FIXA ABERTA DE MADEIRA PARA TRANSPORTE GERAL DE CARGA SECA DIMENSOES APROXIMADAS 2,25 X 4,10 X 0,50 M (INCLUI MONTAGEM, NAO INCLUI CAMINHAO)                                                                                                                                                                                                                                                                                                                                                   ","UN    ","22.800,00",null,null,"C "]
[{"$f":"CONCATENAR","v":"SINAPI-I 37728"},"SINAPI-I",37728,"CARROCERIA FIXA ABERTA DE MADEIRA PARA TRANSPORTE GERAL DE CARGA SECA DIMENSOES APROXIMADAS 2,5 X 5,5 X 0,50 M (INCLUI MONTAGEM, NAO INCLUI CAMINHAO)                                                                                                                                                                                                                                                                                                                                                     ","UN    ","30.931,46",null,null,"CR"]
[{"$f":"CONCATENAR","v":"SINAPI-I 37729"},"SINAPI-I",37729,"CARROCERIA FIXA ABERTA DE MADEIRA PARA TRANSPORTE GERAL DE CARGA SECA DIMENSOES APROXIMADAS 2,5 X 6,00 X 0,50 M (INCLUI MONTAGEM, NAO INCLUI CAMINHAO)                                                                                                                                                                                                                                                                                                                                                    ","UN    ","33.482,51",null,null,"CR"]
[{"$f":"CONCATENAR","v":"SINAPI-I 37730"},"SINAPI-I",37730,"CARROCERIA FIXA ABERTA DE MADEIRA PARA TRANSPORTE GERAL DE CARGA SECA DIMENSOES APROXIMADAS 2,5 X 6,5 X 0,50 M (INCLUI MONTAGEM, NAO INCLUI CAMINHAO)                                                                                                                                                                                                                                                                                                                                                     ","UN    ","36.033,56",null,null,"CR"]
[{"$f":"CONCATENAR","v":"SINAPI-I 37731"},"SINAPI-I",37731,"CARROCERIA FIXA ABERTA DE MADEIRA PARA TRANSPORTE GERAL DE CARGA SECA DIMENSOES APROXIMADAS 2,5 X 7,00 X 0,50 M (INCLUI MONTAGEM, NAO INCLUI CAMINHAO)                                                                                                                                                                                                                                                                                                                                                    ","UN    ","38.584,61",null,null,"CR"]
[{"$f":"CONCATENAR","v":"SINAPI-I 37732"},"SINAPI-I",37732,"CARROCERIA FIXA ABERTA DE MADEIRA PARA TRANSPORTE GERAL DE CARGA SECA DIMENSOES APROXIMADAS 2,5 X 7,5 X 0,50 M (INCLUI MONTAGEM, NAO INCLUI CAMINHAO)                                                                                                                                                                                                                                                                                                                                                     ","UN    ","44.005,59",null,null,"CR"]
[{"$f":"CONCATENAR","v":"SINAPI-I 36496"},"SINAPI-I",36496,"CAVALETE PARA TALHA COM ESTRUTURA EM TUBO METALICO ALTURA MINIMA 3,2 M EQUIPADO COM RODAS DE BORRACHA PARA MOVIMENTACAO DE TUBOS DE CONCRETO NA CENTRAL DE PREMOLDADOS COM CAPACIDADE DE CARGA DE 3 TONELADAS                                                                                                                                                                                                                                                                                             ","UN    ","7.193,60",null,null,"CR"]
[{"$f":"CONCATENAR","v":"SINAPI-I 10630"},"SINAPI-I",10630,"CAVALO MECANICO TRACAO 4X2, PESO BRUTO TOTAL COMBINADO 49000 KG, CAPACIDADE MAXIMA DE TRACAO *66000* KG, POTENCIA *360* CV (INCLUI CABINE E CHASSI, NAO INCLUI SEMIRREBOQUE)                                                                                                                                                                                                                                                                                                                              ","UN    ","973.747,90",null,null,"CR"]
[{"$f":"CONCATENAR","v":"SINAPI-I 37762"},"SINAPI-I",37762,"CAVALO MECANICO TRACAO 4X2, PESO BRUTO TOTAL 16000 KG, CAPACIDADE MAXIMA DE TRACAO *36000* KG, DISTANCIA ENTRE EIXOS *3,56* M, POTENCIA *286* CV (INCLUI CABINE E CHASSI, NAO INCLUI SEMIRREBOQUE)                                                                                                                                                                                                                                                                                                        ","UN    ","835.124,24",null,null,"CR"]
[{"$f":"CONCATENAR","v":"SINAPI-I 37763"},"SINAPI-I",37763,"CAVALO MECANICO TRACAO 4X2, PESO BRUTO TOTAL 16000 KG, CAPACIDADE MAXIMA DE TRACAO *45000* KG, DISTANCIA ENTRE EIXOS *3,56* M, POTENCIA *330* CV (INCLUI CABINE E CHASSI, NAO INCLUI SEMIRREBOQUE)                                                                                                                                                                                                                                                                                                        ","UN    ","845.267,31",null,null,"CR"]
[{"$f":"CONCATENAR","v":"SINAPI-I 41992"},"SINAPI-I",41992,"CAVALO MECANICO TRACAO 4X2, PESO BRUTO TOTAL 16000 KG, CAPACIDADE MAXIMA DE TRACAO *80000* KG, POTENCIA *380* CV (INCLUI CABINE E CHASSI, NAO INCLUI SEMIRREBOQUE)                                                                                                                                                                                                                                                                                                                                        ","UN    ","960.900,00",null,null,"C "]
[{"$f":"CONCATENAR","v":"SINAPI-I 13215"},"SINAPI-I",13215,"CAVALO MECANICO TRACAO 6X2, PESO BRUTO TOTAL COMBINADO 56000 KG, CAPACIDADE MAXIMA DE TRACAO *66000* KG, POTENCIA *360* CV (INCLUI CABINE E CHASSI, NAO INCLUI SEMIRREBOQUE)                                                                                                                                                                                                                                                                                                                              ","UN    ","1.178.302,66",null,null,"CR"]
[{"$f":"CONCATENAR","v":"SINAPI-I 4235"},"SINAPI-I",4235,"CAVOUQUEIRO OU OPERADOR DE PERFURATRIZ / ROMPEDOR (HORISTA)                                                                                                                                                                                                                                                                                                                                                                                                                                               ","H     ","16,41",null,null,"CR"]
[{"$f":"CONCATENAR","v":"SINAPI-I 40976"},"SINAPI-I",40976,"CAVOUQUEIRO OU OPERADOR DE PERFURATRIZ / ROMPEDOR (MENSALISTA)                                                                                                                                                                                                                                                                                                                                                                                                                                            ","MES   ","2.882,46",null,null,"CR"]
[{"$f":"CONCATENAR","v":"SINAPI-I 43091"},"SINAPI-I",43091,"CENTRO DE MEDICAO AGRUPADA, EM POLICARBONATO / PVC, COM 12 MEDIDORES E PROTECAO GERAL (INCLUI BARRAMENTO, DISJUNTORES E ACESSORIOS DE FIXACAO) (PADRAO CONCESSIONARIA LOCAL)                                                                                                                                                                                                                                                                                                                              ","UN    ","6.150,21",null,null,"CR"]
[{"$f":"CONCATENAR","v":"SINAPI-I 43092"},"SINAPI-I",43092,"CENTRO DE MEDICAO AGRUPADA, EM POLICARBONATO / PVC, COM 16 MEDIDORES E PROTECAO GERAL (INCLUI BARRAMENTO, DISJUNTORES E ACESSORIOS DE FIXACAO) (PADRAO CONCESSIONARIA LOCAL)                                                                                                                                                                                                                                                                                                                              ","UN    ","8.200,29",null,null,"CR"]
[{"$f":"CONCATENAR","v":"SINAPI-I 43089"},"SINAPI-I",43089,"CENTRO DE MEDICAO AGRUPADA, EM POLICARBONATO / PVC, COM 4 MEDIDORES E PROTECAO GERAL (INCLUI BARRAMENTO, DISJUNTORES E ACESSORIOS DE FIXACAO) (PADRAO CONCESSIONARIA LOCAL)                                                                                                                                                                                                                                                                                                                               ","UN    ","1.429,13",null,null,"CR"]
[{"$f":"CONCATENAR","v":"SINAPI-I 43090"},"SINAPI-I",43090,"CENTRO DE MEDICAO AGRUPADA, EM POLICARBONATO / PVC, COM 8 MEDIDORES E PROTECAO GERAL (INCLUI BARRAMENTO, DISJUNTORES E ACESSORIOS DE FIXACAO) (PADRAO CONCESSIONARIA LOCAL)                                                                                                                                                                                                                                                                                                                               ","UN    ","3.153,95",null,null,"CR"]
[{"$f":"CONCATENAR","v":"SINAPI-I 41967"},"SINAPI-I",41967,"CERA LIQUIDA INCOLOR MULTIPISO                                                                                                                                                                                                                                                                                                                                                                                                                                                                            ","L     ","25,38",null,null,"CR"]
[{"$f":"CONCATENAR","v":"SINAPI-I 12760"},"SINAPI-I",12760,"CHAPA ACO INOX AISI 304 NUMERO 4 (E = 6 MM), ACABAMENTO NUMERO 1 (LAMINADO A QUENTE, FOSCO)                                                                                                                                                                                                                                                                                                                                                                                                               ","M2    ","1.860,21",null,null,"CR"]
[{"$f":"CONCATENAR","v":"SINAPI-I 12759"},"SINAPI-I",12759,"CHAPA ACO INOX AISI 304 NUMERO 9 (E = 4 MM), ACABAMENTO NUMERO 1 (LAMINADO A QUENTE, FOSCO)                                                                                                                                                                                                                                                                                                                                                                                                               ","M2    ","1.240,12",null,null,"CR"]
[{"$f":"CONCATENAR","v":"SINAPI-I 43105"},"SINAPI-I",43105,"CHAPA DE ACO CARBONO GALVANIZADA, PERFURADA (GRADE FUROS) E = 1,5 MM, DIAMETRO DO FURO = 9,52 MM (FUROS ALTERNADOS HORIZ.)                                                                                                                                                                                                                                                                                                                                                                                ","KG    ","39,32",null,null,"CR"]
[{"$f":"CONCATENAR","v":"SINAPI-I 40424"},"SINAPI-I",40424,"CHAPA DE ACO CARBONO LAMINADO A QUENTE, QUALIDADE ESTRUTURAL, BITOLA 3/16\", E =4,75 MM (37,29 KG/M2)                                                                                                                                                                                                                                                                                                                                                                                                      ","KG    ","9,99",null,null,"CR"]
[{"$f":"CONCATENAR","v":"SINAPI-I 1325"},"SINAPI-I",1325,"CHAPA DE ACO FINA A FRIO BITOLA MSG 20, E = 0,90 MM (7,20 KG/M2)                                                                                                                                                                                                                                                                                                                                                                                                                                          ","KG    ","10,94",null,null,"CR"]
[{"$f":"CONCATENAR","v":"SINAPI-I 1327"},"SINAPI-I",1327,"CHAPA DE ACO FINA A FRIO BITOLA MSG 24, E = 0,60 MM (4,80 KG/M2)                                                                                                                                                                                                                                                                                                                                                                                                                                          ","KG    ","11,65",null,null,"CR"]
[{"$f":"CONCATENAR","v":"SINAPI-I 1328"},"SINAPI-I",1328,"CHAPA DE ACO FINA A FRIO BITOLA MSG 26, E = 0,45 MM (3,60 KG/M2)                                                                                                                                                                                                                                                                                                                                                                                                                                          ","KG    ","10,97",null,null,"CR"]
[{"$f":"CONCATENAR","v":"SINAPI-I 1321"},"SINAPI-I",1321,"CHAPA DE ACO FINA A QUENTE BITOLA MSG 13, E = 2,25 MM (18,00 KG/M2)                                                                                                                                                                                                                                                                                                                                                                                                                                       ","KG    ","10,15",null,null,"CR"]
[{"$f":"CONCATENAR","v":"SINAPI-I 1318"},"SINAPI-I",1318,"CHAPA DE ACO FINA A QUENTE BITOLA MSG 14, E = 2,00 MM (16,0 KG/M2)                                                                                                                                                                                                                                                                                                                                                                                                                                        ","KG    ","10,16",null,null,"CR"]
[{"$f":"CONCATENAR","v":"SINAPI-I 1322"},"SINAPI-I",1322,"CHAPA DE ACO FINA A QUENTE BITOLA MSG 16, E = 1,50 MM (12,00 KG/M2)                                                                                                                                                                                                                                                                                                                                                                                                                                       ","KG    ","10,74",null,null,"CR"]
[{"$f":"CONCATENAR","v":"SINAPI-I 1323"},"SINAPI-I",1323,"CHAPA DE ACO FINA A QUENTE BITOLA MSG 18, E = 1,20 MM (9,60 KG/M2)                                                                                                                                                                                                                                                                                                                                                                                                                                        ","KG    ","10,74",null,null,"CR"]
[{"$f":"CONCATENAR","v":"SINAPI-I 1319"},"SINAPI-I",1319,"CHAPA DE ACO FINA A QUENTE BITOLA MSG 3/16 \", E = 4,75 MM (38,00 KG/M2)                                                                                                                                                                                                                                                                                                                                                                                                                                   ","KG    ","9,05",null,null,"CR"]
[{"$f":"CONCATENAR","v":"SINAPI-I 11026"},"SINAPI-I",11026,"CHAPA DE ACO GALVANIZADA BITOLA GSG 14, E = 1,95 MM (15,60 KG/M2)                                                                                                                                                                                                                                                                                                                                                                                                                                         ","KG    ","12,44",null,null,"CR"]
[{"$f":"CONCATENAR","v":"SINAPI-I 11027"},"SINAPI-I",11027,"CHAPA DE ACO GALVANIZADA BITOLA GSG 16, E = 1,55 MM (12,40 KG/M2)                                                                                                                                                                                                                                                                                                                                                                                                                                         ","KG    ","12,95",null,null,"CR"]
[{"$f":"CONCATENAR","v":"SINAPI-I 11046"},"SINAPI-I",11046,"CHAPA DE ACO GALVANIZADA BITOLA GSG 18, E = 1,25 MM (10,00 KG/M2)                                                                                                                                                                                                                                                                                                                                                                                                                                         ","KG    ","12,41",null,null,"CR"]
[{"$f":"CONCATENAR","v":"SINAPI-I 11047"},"SINAPI-I",11047,"CHAPA DE ACO GALVANIZADA BITOLA GSG 19, E = 1,11 MM (8,88 KG/M2)                                                                                                                                                                                                                                                                                                                                                                                                                                          ","KG    ","13,53",null,null,"CR"]
[{"$f":"CONCATENAR","v":"SINAPI-I 43668"},"SINAPI-I",43668,"CHAPA DE ACO GALVANIZADA BITOLA GSG 20, E = 0,95 MM (7,60 KG/M2)                                                                                                                                                                                                                                                                                                                                                                                                                                          ","KG    ","11,94",null,null,"CR"]
[{"$f":"CONCATENAR","v":"SINAPI-I 11049"},"SINAPI-I",11049,"CHAPA DE ACO GALVANIZADA BITOLA GSG 22, E = 0,80 MM (6,40 KG/M2)                                                                                                                                                                                                                                                                                                                                                                                                                                          ","KG    ","12,93",null,null,"C "]
[{"$f":"CONCATENAR","v":"SINAPI-I 43106"},"SINAPI-I",43106,"CHAPA DE ACO GALVANIZADA BITOLA GSG 24, E = 0,64 (5,12 KG/M2)                                                                                                                                                                                                                                                                                                                                                                                                                                             ","KG    ","13,01",null,null,"CR"]
[{"$f":"CONCATENAR","v":"SINAPI-I 11051"},"SINAPI-I",11051,"CHAPA DE ACO GALVANIZADA BITOLA GSG 26, E = 0,50 MM (4,00 KG/M2)                                                                                                                                                                                                                                                                                                                                                                                                                                          ","KG    ","13,57",null,null,"CR"]
[{"$f":"CONCATENAR","v":"SINAPI-I 11061"},"SINAPI-I",11061,"CHAPA DE ACO GALVANIZADA BITOLA GSG 30, E = 0,35 MM (2,80 KG/M2)                                                                                                                                                                                                                                                                                                                                                                                                                                          ","KG    ","16,29",null,null,"CR"]
[{"$f":"CONCATENAR","v":"SINAPI-I 1333"},"SINAPI-I",1333,"CHAPA DE ACO GROSSA, ASTM A36, E = 1/2\" (12,70 MM) 99,59 KG/M2                                                                                                                                                                                                                                                                                                                                                                                                                                            ","KG    ","9,86",null,null,"CR"]
[{"$f":"CONCATENAR","v":"SINAPI-I 1330"},"SINAPI-I",1330,"CHAPA DE ACO GROSSA, ASTM A36, E = 1/4\" (6,35 MM) 49,79 KG/M2                                                                                                                                                                                                                                                                                                                                                                                                                                             ","KG    ","9,77",null,null,"CR"]
[{"$f":"CONCATENAR","v":"SINAPI-I 43667"},"SINAPI-I",43667,"CHAPA DE ACO GROSSA, ASTM A36, E = 1\" (25,40 MM) 199,18 KG/M2                                                                                                                                                                                                                                                                                                                                                                                                                                             ","KG    ","11,84",null,null,"CR"]
[{"$f":"CONCATENAR","v":"SINAPI-I 10957"},"SINAPI-I",10957,"CHAPA DE ACO GROSSA, ASTM A36, E = 3/4\" (19,05 MM) 149,39 KG/M2                                                                                                                                                                                                                                                                                                                                                                                                                                           ","KG    ","11,26",null,null,"CR"]
[{"$f":"CONCATENAR","v":"SINAPI-I 1332"},"SINAPI-I",1332,"CHAPA DE ACO GROSSA, ASTM A36, E = 3/8\" (9,53 MM) 74,69 KG/M2                                                                                                                                                                                                                                                                                                                                                                                                                                             ","KG    ","10,02",null,null,"CR"]
[{"$f":"CONCATENAR","v":"SINAPI-I 1334"},"SINAPI-I",1334,"CHAPA DE ACO GROSSA, ASTM A36, E = 5/8\" (15,88 MM) 124,49 KG/M2                                                                                                                                                                                                                                                                                                                                                                                                                                           ","KG    ","11,11",null,null,"CR"]
[{"$f":"CONCATENAR","v":"SINAPI-I 1335"},"SINAPI-I",1335,"CHAPA DE ACO GROSSA, ASTM A36, E = 7/8\" (22,23 MM) 174,28 KG/M2                                                                                                                                                                                                                                                                                                                                                                                                                                           ","KG    ","11,47",null,null,"CR"]
[{"$f":"CONCATENAR","v":"SINAPI-I 40425"},"SINAPI-I",40425,"CHAPA DE ACO GROSSA, SAE 1020, BITOLA 1/4\", E = 6,35 MM (49,85 KG/M2)                                                                                                                                                                                                                                                                                                                                                                                                                                     ","KG    ","9,82",null,null,"CR"]
[{"$f":"CONCATENAR","v":"SINAPI-I 1337"},"SINAPI-I",1337,"CHAPA DE ACO XADREZ PARA PISOS, E = 1/4\" (6,30 MM) 54,53 KG/M2                                                                                                                                                                                                                                                                                                                                                                                                                                            ","KG    ","11,26",null,null,"CR"]
[{"$f":"CONCATENAR","v":"SINAPI-I 1338"},"SINAPI-I",1338,"CHAPA DE LAMINADO MELAMINICO, LISO BRILHANTE, DE 1,25 X 3,08 METROS, ESPESSURA = 0,8 MILIMETROS                                                                                                                                                                                                                                                                                                                                                                                                           ","M2    ","71,92",null,null,"AS"]
[{"$f":"CONCATENAR","v":"SINAPI-I 1340"},"SINAPI-I",1340,"CHAPA DE LAMINADO MELAMINICO, LISO FOSCO, DE 1,25 X 3,08 METROS, ESPESSURA = 0,8 MILIMETROS                                                                                                                                                                                                                                                                                                                                                                                                               ","M2    ","83,15",null,null,"AS"]
[{"$f":"CONCATENAR","v":"SINAPI-I 1341"},"SINAPI-I",1341,"CHAPA DE LAMINADO MELAMINICO, TEXTURIZADO, DE 1,25 X 3,08 METROS, ESPESSURA = 0,8 MILIMETROS                                                                                                                                                                                                                                                                                                                                                                                                              ","M2    ","80,08",null,null,"AS"]
[{"$f":"CONCATENAR","v":"SINAPI-I 34659"},"SINAPI-I",34659,"CHAPA DE MDF BRANCO LISO 1 FACE, E = 12 MM, DE *2,75 X 1,85* M                                                                                                                                                                                                                                                                                                                                                                                                                                            ","M2    ","36,72",null,null,"CR"]
[{"$f":"CONCATENAR","v":"SINAPI-I 34514"},"SINAPI-I",34514,"CHAPA DE MDF BRANCO LISO 1 FACE, E = 15 MM, DE *2,75 X 1,85* M                                                                                                                                                                                                                                                                                                                                                                                                                                            ","M2    ","40,68",null,null,"C "]
[{"$f":"CONCATENAR","v":"SINAPI-I 34660"},"SINAPI-I",34660,"CHAPA DE MDF BRANCO LISO 1 FACE, E = 18 MM, DE *2,75 X 1,85* M                                                                                                                                                                                                                                                                                                                                                                                                                                            ","M2    ","51,62",null,null,"CR"]
[{"$f":"CONCATENAR","v":"SINAPI-I 34661"},"SINAPI-I",34661,"CHAPA DE MDF BRANCO LISO 1 FACE, E = 25 MM, DE *2,75 X 1,85* M                                                                                                                                                                                                                                                                                                                                                                                                                                            ","M2    ","74,15",null,null,"CR"]
[{"$f":"CONCATENAR","v":"SINAPI-I 34667"},"SINAPI-I",34667,"CHAPA DE MDF BRANCO LISO 1 FACE, E = 6 MM, DE *2,75 X 1,85* M                                                                                                                                                                                                                                                                                                                                                                                                                                             ","M2    ","26,85",null,null,"CR"]
[{"$f":"CONCATENAR","v":"SINAPI-I 34668"},"SINAPI-I",34668,"CHAPA DE MDF BRANCO LISO 1 FACE, E = 9 MM, DE *2,75 X 1,85* M                                                                                                                                                                                                                                                                                                                                                                                                                                             ","M2    ","35,09",null,null,"CR"]
[{"$f":"CONCATENAR","v":"SINAPI-I 34741"},"SINAPI-I",34741,"CHAPA DE MDF BRANCO LISO 2 FACES, E = 12 MM, DE *2,75 X 1,85* M                                                                                                                                                                                                                                                                                                                                                                                                                                           ","M2    ","38,61",null,null,"CR"]
[{"$f":"CONCATENAR","v":"SINAPI-I 34664"},"SINAPI-I",34664,"CHAPA DE MDF BRANCO LISO 2 FACES, E = 15 MM, DE *2,75 X 1,85* M                                                                                                                                                                                                                                                                                                                                                                                                                                           ","M2    ","42,13",null,null,"CR"]
[{"$f":"CONCATENAR","v":"SINAPI-I 34665"},"SINAPI-I",34665,"CHAPA DE MDF BRANCO LISO 2 FACES, E = 18 MM, DE *2,75 X 1,85* M                                                                                                                                                                                                                                                                                                                                                                                                                                           ","M2    ","52,30",null,null,"CR"]
[{"$f":"CONCATENAR","v":"SINAPI-I 34666"},"SINAPI-I",34666,"CHAPA DE MDF BRANCO LISO 2 FACES, E = 25 MM, DE *2,75 X 1,85* M                                                                                                                                                                                                                                                                                                                                                                                                                                           ","M2    ","79,00",null,null,"CR"]
[{"$f":"CONCATENAR","v":"SINAPI-I 34669"},"SINAPI-I",34669,"CHAPA DE MDF BRANCO LISO 2 FACES, E = 6 MM, DE *2,75 X 1,85* M                                                                                                                                                                                                                                                                                                                                                                                                                                            ","M2    ","28,96",null,null,"CR"]
[{"$f":"CONCATENAR","v":"SINAPI-I 34670"},"SINAPI-I",34670,"CHAPA DE MDF BRANCO LISO 2 FACES, E = 9 MM, DE *2,75 X 1,85* M                                                                                                                                                                                                                                                                                                                                                                                                                                            ","M2    ","35,43",null,null,"CR"]
[{"$f":"CONCATENAR","v":"SINAPI-I 34671"},"SINAPI-I",34671,"CHAPA DE MDF CRU, E = 12 MM, DE *2,75 X 1,85* M                                                                                                                                                                                                                                                                                                                                                                                                                                                           ","M2    ","29,57",null,null,"CR"]
[{"$f":"CONCATENAR","v":"SINAPI-I 34672"},"SINAPI-I",34672,"CHAPA DE MDF CRU, E = 15 MM, DE *2,75 X 1,85* M                                                                                                                                                                                                                                                                                                                                                                                                                                                           ","M2    ","31,18",null,null,"CR"]
[{"$f":"CONCATENAR","v":"SINAPI-I 34673"},"SINAPI-I",34673,"CHAPA DE MDF CRU, E = 18 MM, DE *2,75 X 1,85* M                                                                                                                                                                                                                                                                                                                                                                                                                                                           ","M2    ","38,05",null,null,"CR"]
[{"$f":"CONCATENAR","v":"SINAPI-I 34674"},"SINAPI-I",34674,"CHAPA DE MDF CRU, E = 20 MM, DE *2,75 X 1,85* M                                                                                                                                                                                                                                                                                                                                                                                                                                                           ","M2    ","50,59",null,null,"CR"]
[{"$f":"CONCATENAR","v":"SINAPI-I 34675"},"SINAPI-I",34675,"CHAPA DE MDF CRU, E = 25 MM, DE *2,75 X 1,85* M                                                                                                                                                                                                                                                                                                                                                                                                                                                           ","M2    ","61,67",null,null,"CR"]
[{"$f":"CONCATENAR","v":"SINAPI-I 34676"},"SINAPI-I",34676,"CHAPA DE MDF CRU, E = 6 MM, DE *2,75 X 1,85* M                                                                                                                                                                                                                                                                                                                                                                                                                                                            ","M2    ","17,75",null,null,"CR"]
[{"$f":"CONCATENAR","v":"SINAPI-I 34677"},"SINAPI-I",34677,"CHAPA DE MDF CRU, E = 9 MM, DE *2,75 X 1,85* M                                                                                                                                                                                                                                                                                                                                                                                                                                                            ","M2    ","23,87",null,null,"CR"]
[{"$f":"CONCATENAR","v":"SINAPI-I 43126"},"SINAPI-I",43126,"CHAPA EM ACO GALVANIZADO PARA STEEL DECK, COM NERVURAS TRAPEZOIDAIS, LARGURA UTIL DE 915 MM E ESPESSURA DE 0,80 MM                                                                                                                                                                                                                                                                                                                                                                                        ","M2    ","86,52",null,null,"CR"]
[{"$f":"CONCATENAR","v":"SINAPI-I 43124"},"SINAPI-I",43124,"CHAPA EM ACO GALVANIZADO PARA STEEL DECK, COM NERVURAS TRAPEZOIDAIS, LARGURA UTIL DE 915 MM E ESPESSURA DE 0,95 MM                                                                                                                                                                                                                                                                                                                                                                                        ","M2    ","101,03",null,null,"CR"]
[{"$f":"CONCATENAR","v":"SINAPI-I 43125"},"SINAPI-I",43125,"CHAPA EM ACO GALVANIZADO PARA STEEL DECK, COM NERVURAS TRAPEZOIDAIS, LARGURA UTIL DE 915 MM E ESPESSURA DE 1,25 MM                                                                                                                                                                                                                                                                                                                                                                                        ","M2    ","131,02",null,null,"CR"]
[{"$f":"CONCATENAR","v":"SINAPI-I 40623"},"SINAPI-I",40623,"CHAPA PARA EMENDA DE VIGA, EM ACO GROSSO, QUALIDADE ESTRUTURAL, BITOLA 3/16 \", E= 4,75 MM, 4 FUROS, LARGURA 45 MM, COMPRIMENTO 500 MM                                                                                                                                                                                                                                                                                                                                                                     ","PAR   ","109,67",null,null,"CR"]
[{"$f":"CONCATENAR","v":"SINAPI-I 43701"},"SINAPI-I",43701,"CHAPA/BOBINA LISA EM ALUMINIO, LIGA 1.200 - H14, QUALQUER ESPESSURA, QUALQUER LARGURA                                                                                                                                                                                                                                                                                                                                                                                                                     ","KG    ","39,62",null,null,"AS"]
[{"$f":"CONCATENAR","v":"SINAPI-I 1345"},"SINAPI-I",1345,"CHAPA/PAINEL DE MADEIRA COMPENSADA PLASTIFICADA (MADEIRITE PLASTIFICADO) PARA FORMA DE CONCRETO, DE 2200 X 1100 MM, E = *17* MM                                                                                                                                                                                                                                                                                                                                                                           ","M2    ","114,91",null,null,"CR"]
[{"$f":"CONCATENAR","v":"SINAPI-I 1346"},"SINAPI-I",1346,"CHAPA/PAINEL DE MADEIRA COMPENSADA PLASTIFICADA (MADEIRITE PLASTIFICADO) PARA FORMA DE CONCRETO, DE 2200 X 1100 MM, E = 10 MM                                                                                                                                                                                                                                                                                                                                                                             ","M2    ","66,84",null,null,"CR"]
[{"$f":"CONCATENAR","v":"SINAPI-I 1347"},"SINAPI-I",1347,"CHAPA/PAINEL DE MADEIRA COMPENSADA PLASTIFICADA (MADEIRITE PLASTIFICADO) PARA FORMA DE CONCRETO, DE 2200 X 1100 MM, E = 12 MM                                                                                                                                                                                                                                                                                                                                                                             ","M2    ","82,82",null,null,"CR"]
[{"$f":"CONCATENAR","v":"SINAPI-I 43678"},"SINAPI-I",43678,"CHAPA/PAINEL DE MADEIRA COMPENSADA PLASTIFICADA (MADEIRITE PLASTIFICADO) PARA FORMA DE CONCRETO, DE 2200 X 1100 MM, E = 14 MM                                                                                                                                                                                                                                                                                                                                                                             ","M2    ","96,07",null,null,"CR"]
[{"$f":"CONCATENAR","v":"SINAPI-I 43680"},"SINAPI-I",43680,"CHAPA/PAINEL DE MADEIRA COMPENSADA PLASTIFICADA (MADEIRITE PLASTIFICADO) PARA FORMA DE CONCRETO, DE 2200 X 1100 MM, E = 20 MM                                                                                                                                                                                                                                                                                                                                                                             ","M2    ","138,39",null,null,"CR"]
[{"$f":"CONCATENAR","v":"SINAPI-I 43679"},"SINAPI-I",43679,"CHAPA/PAINEL DE MADEIRA COMPENSADA PLASTIFICADA (MADEIRITE PLASTIFICADO) PARA FORMA DE CONCRETO, DE 2200 X 1100 MM, E = 6 MM                                                                                                                                                                                                                                                                                                                                                                              ","M2    ","48,57",null,null,"CR"]
[{"$f":"CONCATENAR","v":"SINAPI-I 1355"},"SINAPI-I",1355,"CHAPA/PAINEL DE MADEIRA COMPENSADA RESINADA (MADEIRITE RESINADO ROSA) PARA FORMA DE CONCRETO, DE 2200 X 1100 MM, E = 14 MM                                                                                                                                                                                                                                                                                                                                                                                ","M2    ","55,27",null,null,"CR"]
[{"$f":"CONCATENAR","v":"SINAPI-I 1358"},"SINAPI-I",1358,"CHAPA/PAINEL DE MADEIRA COMPENSADA RESINADA (MADEIRITE RESINADO ROSA) PARA FORMA DE CONCRETO, DE 2200 X 1100 MM, E = 17 MM                                                                                                                                                                                                                                                                                                                                                                                ","M2    ","67,85",null,null,"CR"]
[{"$f":"CONCATENAR","v":"SINAPI-I 43677"},"SINAPI-I",43677,"CHAPA/PAINEL DE MADEIRA COMPENSADA RESINADA (MADEIRITE RESINADO ROSA) PARA FORMA DE CONCRETO, DE 2200 X 1100 MM, E = 20 MM                                                                                                                                                                                                                                                                                                                                                                                ","M2    ","84,18",null,null,"CR"]
[{"$f":"CONCATENAR","v":"SINAPI-I 43682"},"SINAPI-I",43682,"CHAPA/PAINEL DE MADEIRA COMPENSADA RESINADA (MADEIRITE RESINADO ROSA) PARA FORMA DE CONCRETO, DE 2200 X 1100 MM, E = 6 MM                                                                                                                                                                                                                                                                                                                                                                                 ","M2    ","25,81",null,null,"CR"]
[{"$f":"CONCATENAR","v":"SINAPI-I 43681"},"SINAPI-I",43681,"CHAPA/PAINEL DE MADEIRA COMPENSADA RESINADA (MADEIRITE RESINADO ROSA) PARA FORMA DE CONCRETO, DE 2200 X 1100 MM, E = 8 A 12 MM                                                                                                                                                                                                                                                                                                                                                                            ","M2    ","42,75",null,null,"C "]
[{"$f":"CONCATENAR","v":"SINAPI-I 20971"},"SINAPI-I",20971,"CHAVE DUPLA PARA CONEXOES TIPO STORZ, ENGATE RAPIDO 1 1/2\" X 2 1/2\", EM LATAO, PARA INSTALACAO PREDIAL COMBATE A INCENDIO                                                                                                                                                                                                                                                                                                                                                                                 ","UN    ","16,93",null,null,"CR"]
[{"$f":"CONCATENAR","v":"SINAPI-I 39746"},"SINAPI-I",39746,"CHUMBADOR DE ACO GALVANIZADO, 1\" X 600 MM, PARA POSTES DE ACO COM BASE, INCLUSO PORCA E ARRUELA                                                                                                                                                                                                                                                                                                                                                                                                           ","UN    ","86,50",null,null,"AS"]
[{"$f":"CONCATENAR","v":"SINAPI-I 13279"},"SINAPI-I",13279,"CHUMBADOR DE ACO TIPO PARABOLT, * 5/8\" X 200* MM, COM PORCA E ARRUELA                                                                                                                                                                                                                                                                                                                                                                                                                                     ","KG    ","21,90",null,null,"AS"]
[{"$f":"CONCATENAR","v":"SINAPI-I 11977"},"SINAPI-I",11977,"CHUMBADOR DE ACO ZINCADO, DIAMETRO 1/2\", COMPRIMENTO 75 MM                                                                                                                                                                                                                                                                                                                                                                                                                                                ","UN    ","11,35",null,null,"AS"]
[{"$f":"CONCATENAR","v":"SINAPI-I 11976"},"SINAPI-I",11976,"CHUMBADOR DE ACO ZINCADO, DIAMETRO 1/4\" COM PARAFUSO 1/4\" X 40 MM                                                                                                                                                                                                                                                                                                                                                                                                                                         ","UN    ","1,27",null,null,"AS"]
[{"$f":"CONCATENAR","v":"SINAPI-I 11975"},"SINAPI-I",11975,"CHUMBADOR DE ACO ZINCADO, DIAMETRO 5/8\", COMPRIMENTO 6\", COM PORCA                                                                                                                                                                                                                                                                                                                                                                                                                                        ","UN    ","24,87",null,null,"AS"]
[{"$f":"CONCATENAR","v":"SINAPI-I 1368"},"SINAPI-I",1368,"CHUVEIRO COMUM EM PLASTICO BRANCO, COM CANO, 3 TEMPERATURAS, 5500 W (110/220 V)                                                                                                                                                                                                                                                                                                                                                                                                                           ","UN    ","82,91",null,null,"C "]
[{"$f":"CONCATENAR","v":"SINAPI-I 1367"},"SINAPI-I",1367,"CHUVEIRO COMUM EM PLASTICO CROMADO, COM CANO, 4 TEMPERATURAS (110/220 V)                                                                                                                                                                                                                                                                                                                                                                                                                                  ","UN    ","268,19",null,null,"CR"]
[{"$f":"CONCATENAR","v":"SINAPI-I 1380"},"SINAPI-I",1380,"CIMENTO BRANCO NAO ESTRUTURAL (CPB - NAO ESTRUTURAL)                                                                                                                                                                                                                                                                                                                                                                                                                                                      ","KG    ","5,82",null,null,"CR"]
[{"$f":"CONCATENAR","v":"SINAPI-I 1375"},"SINAPI-I",1375,"CIMENTO IMPERMEABILIZANTE DE PEGA ULTRARRAPIDA PARA TAMPONAMENTOS                                                                                                                                                                                                                                                                                                                                                                                                                                         ","KG    ","17,92",null,null,"CR"]
[{"$f":"CONCATENAR","v":"SINAPI-I 1379"},"SINAPI-I",1379,"CIMENTO PORTLAND COMPOSTO CP II-32                                                                                                                                                                                                                                                                                                                                                                                                                                                                        ","KG    ","0,87",null,null,"C "]
[{"$f":"CONCATENAR","v":"SINAPI-I 13284"},"SINAPI-I",13284,"CIMENTO PORTLAND DE ALTO FORNO (AF) CP III-40                                                                                                                                                                                                                                                                                                                                                                                                                                                             ","KG    ","0,78",null,null,"CR"]
[{"$f":"CONCATENAR","v":"SINAPI-I 44528"},"SINAPI-I",44528,"CIMENTO PORTLAND ESTRUTURAL BRANCO CPB - 32 OU CPB - 40                                                                                                                                                                                                                                                                                                                                                                                                                                                   ","KG    ","4,63",null,null,"CR"]
[{"$f":"CONCATENAR","v":"SINAPI-I 34753"},"SINAPI-I",34753,"CIMENTO PORTLAND POZOLANICO CP IV-32                                                                                                                                                                                                                                                                                                                                                                                                                                                                      ","KG    ","0,84",null,null,"CR"]
[{"$f":"CONCATENAR","v":"SINAPI-I 420"},"SINAPI-I",420,"CINTA CIRCULAR EM ACO GALVANIZADO DE 150 MM DE DIAMETRO PARA FIXACAO DE CAIXA MEDICAO, INCLUI PARAFUSOS E PORCAS                                                                                                                                                                                                                                                                                                                                                                                          ","UN    ","27,20",null,null,"AS"]
[{"$f":"CONCATENAR","v":"SINAPI-I 12327"},"SINAPI-I",12327,"CINTA CIRCULAR EM ACO GALVANIZADO DE 210 MM DE DIAMETRO PARA INSTALACAO DE TRANSFORMADOR EM POSTE DE CONCRETO                                                                                                                                                                                                                                                                                                                                                                                             ","UN    ","32,40",null,null,"AS"]
[{"$f":"CONCATENAR","v":"SINAPI-I 36148"},"SINAPI-I",36148,"CINTURAO DE SEGURANCA TIPO PARAQUEDISTA, FIVELA EM ACO, AJUSTE NO SUSPENSORIO, CINTURA E PERNAS                                                                                                                                                                                                                                                                                                                                                                                                           ","UN    ","82,41",null,null,"CR"]
[{"$f":"CONCATENAR","v":"SINAPI-I 12329"},"SINAPI-I",12329,"COBRE ELETROLITICO EM BARRA OU CHAPA                                                                                                                                                                                                                                                                                                                                                                                                                                                                      ","KG    ","122,30",null,null,"CR"]
[{"$f":"CONCATENAR","v":"SINAPI-I 1339"},"SINAPI-I",1339,"COLA A BASE DE RESINA SINTETICA PARA CHAPA DE LAMINADO MELAMINICO E OUTROS                                                                                                                                                                                                                                                                                                                                                                                                                                ","KG    ","72,11",null,null,"AS"]
[{"$f":"CONCATENAR","v":"SINAPI-I 44396"},"SINAPI-I",44396,"COLA BRANCA BASE PVA                                                                                                                                                                                                                                                                                                                                                                                                                                                                                      ","KG    ","30,29",null,null,"CR"]
[{"$f":"CONCATENAR","v":"SINAPI-I 44327"},"SINAPI-I",44327,"COLA PARA TUBOS E MANTAS ELASTOMERICAS, A BASE DE SOLVENTE                                                                                                                                                                                                                                                                                                                                                                                                                                                ","L     ","103,03",null,null,"CR"]
[{"$f":"CONCATENAR","v":"SINAPI-I 37418"},"SINAPI-I",37418,"COLAR DE TOMADA EM POLIPROPILENO, PP, COM PARAFUSOS, PARA PEAD, 63 X 1/2\" - LIGACAO PREDIAL DE AGUA                                                                                                                                                                                                                                                                                                                                                                                                       ","UN    ","23,32",null,null,"CR"]
[{"$f":"CONCATENAR","v":"SINAPI-I 37419"},"SINAPI-I",37419,"COLAR DE TOMADA EM POLIPROPILENO, PP, COM PARAFUSOS, PARA PEAD, 63 X 3/4\" - LIGACAO PREDIAL DE AGUA                                                                                                                                                                                                                                                                                                                                                                                                       ","UN    ","23,95",null,null,"CR"]
[{"$f":"CONCATENAR","v":"SINAPI-I 1427"},"SINAPI-I",1427,"COLAR TOMADA PVC, COM TRAVAS, SAIDA COM ROSCA, DE 110 MM X 1/2\" OU 110 MM X 3/4\", PARA LIGACAO PREDIAL DE AGUA                                                                                                                                                                                                                                                                                                                                                                                            ","UN    ","14,56",null,null,"AS"]
[{"$f":"CONCATENAR","v":"SINAPI-I 1402"},"SINAPI-I",1402,"COLAR TOMADA PVC, COM TRAVAS, SAIDA COM ROSCA, DE 32 MM X 1/2\" OU 32 MM X 3/4\", PARA LIGACAO PREDIAL DE AGUA                                                                                                                                                                                                                                                                                                                                                                                              ","UN    ","5,04",null,null,"AS"]
[{"$f":"CONCATENAR","v":"SINAPI-I 1420"},"SINAPI-I",1420,"COLAR TOMADA PVC, COM TRAVAS, SAIDA COM ROSCA, DE 40 MM X 1/2\" OU 40 MM X 3/4\", PARA LIGACAO PREDIAL DE AGUA                                                                                                                                                                                                                                                                                                                                                                                              ","UN    ","6,48",null,null,"AS"]
[{"$f":"CONCATENAR","v":"SINAPI-I 1419"},"SINAPI-I",1419,"COLAR TOMADA PVC, COM TRAVAS, SAIDA COM ROSCA, DE 50 MM X 1/2\" OU 50 MM X 3/4\", PARA LIGACAO PREDIAL DE AGUA                                                                                                                                                                                                                                                                                                                                                                                              ","UN    ","7,83",null,null,"AS"]
[{"$f":"CONCATENAR","v":"SINAPI-I 1414"},"SINAPI-I",1414,"COLAR TOMADA PVC, COM TRAVAS, SAIDA COM ROSCA, DE 60 MM X 1/2\" OU 60 MM X 3/4\", PARA LIGACAO PREDIAL DE AGUA                                                                                                                                                                                                                                                                                                                                                                                              ","UN    ","7,66",null,null,"AS"]
[{"$f":"CONCATENAR","v":"SINAPI-I 1413"},"SINAPI-I",1413,"COLAR TOMADA PVC, COM TRAVAS, SAIDA COM ROSCA, DE 75 MM X 1/2\" OU 75 MM X 3/4\", PARA LIGACAO PREDIAL DE AGUA                                                                                                                                                                                                                                                                                                                                                                                              ","UN    ","11,31",null,null,"AS"]
[{"$f":"CONCATENAR","v":"SINAPI-I 1412"},"SINAPI-I",1412,"COLAR TOMADA PVC, COM TRAVAS, SAIDA COM ROSCA, DE 85 MM X 1/2\" OU 85 MM X 3/4\", PARA LIGACAO PREDIAL DE AGUA                                                                                                                                                                                                                                                                                                                                                                                              ","UN    ","9,58",null,null,"AS"]
[{"$f":"CONCATENAR","v":"SINAPI-I 1406"},"SINAPI-I",1406,"COLAR TOMADA PVC, COM TRAVAS, SAIDA ROSCAVEL COM BUCHA DE LATAO, DE 60 MM X 1/2\" OU 60 MM X 3/4\", PARA LIGACAO PREDIAL DE AGUA                                                                                                                                                                                                                                                                                                                                                                            ","UN    ","11,56",null,null,"AS"]
[{"$f":"CONCATENAR","v":"SINAPI-I 11281"},"SINAPI-I",11281,"COMPACTADOR DE SOLO A PERCUSSAO (SOQUETE), A GASOLINA 4 TEMPOS, PESO 55 A 65 KG, FORCA DE IMPACTO 1.000 A 1.500 KGF, FREQ. 600 A 700 GOLPES P/ MINUTO, VELOCIDADE TRABALHO DE 10 A 15 M/MIN, POT. DE 2,00 A 3,00 HP                                                                                                                                                                                                                                                                                       ","UN    ","13.259,00",null,null,"C "]
[{"$f":"CONCATENAR","v":"SINAPI-I 1442"},"SINAPI-I",1442,"COMPACTADOR DE SOLO TIPO PLACA VIBRATORIA REVERSIVEL, A GASOLINA 4 TEMPOS, PESO 125 A 150 KG, FORCA CENTRIF. 2500 A 2800 KGF, LARG. TRABALHO 400 A 450 MM, FREQ. VIBRACAO 4300 A 4500 RPM, VELOC. TRABALHO 15 A 20 M/MIN, POT. 5,5 A 6,0 HP                                                                                                                                                                                                                                                               ","UN    ","11.130,83",null,null,"CR"]
[{"$f":"CONCATENAR","v":"SINAPI-I 13457"},"SINAPI-I",13457,"COMPACTADOR DE SOLO TIPO PLACA VIBRATORIA REVERSIVEL, A GASOLINA 4 TEMPOS, PESO 150 A 175 KG, FORCA CENTRIF. 2800 A 3100 KGF, LARG. TRABALHO DE 450 A 520 MM, FREQ. VIBRACAO 4000 A 4300 RPM, VELOC. TRABALHO DE 15 A 20 M/MIN, POT. DE 6,0 A 7,0 HP                                                                                                                                                                                                                                                      ","UN    ","9.607,96",null,null,"CR"]
[{"$f":"CONCATENAR","v":"SINAPI-I 40699"},"SINAPI-I",40699,"COMPACTADOR DE SOLO, TIPO PLACA VIBRATORIA NAO REVERSIVEL, A GASOLINA 4 TEMPOS, PESO 80 A 120 KG, FORCA CENTRIF. DE 1300 A 2000 KGF, LARG. TRABALHO DE 400 A 500 MM, FREQ. VIBRACAO DE 4800 A 6000 RPM, VELOCIDADE TRABALHO DE 20 A 30 M/MIN, POT. DE 5,0 A 6,0 HP                                                                                                                                                                                                                                        ","UN    ","7.427,32",null,null,"CR"]
[{"$f":"CONCATENAR","v":"SINAPI-I 40701"},"SINAPI-I",40701,"COMPACTADOR DE SOLO, TIPO PLACA VIBRATORIA REVERSIVEL, A DIESEL, PESO 700 A 820 KG, FORCA CENTRIF. DE 6.200 A 10.000 KGF, LARG. TRABALHO DE 650 A 720 MM, FREQ. VIBRACAO DE 3.000 A 3.500 RPM, VELOCIDADE TRABALHO DE 25 A 30 M/MIN, POT. DE 13,0 A 15,0 HP                                                                                                                                                                                                                                               ","UN    ","131.325,29",null,null,"CR"]
[{"$f":"CONCATENAR","v":"SINAPI-I 40700"},"SINAPI-I",40700,"COMPACTADOR DE SOLO, TIPO PLACA VIBRATORIA REVERSIVEL, A GASOLINA 4 TEMPOS, PESO 160 A 265 KG, FORCA CENTRIF. DE 2750 A 4000 KGF, LARG. TRABALHO DE 430 A 550 MM, FREQ. VIBRACAO DE 4000 A 5500 RPM, VELOCIDADE TRABALHO DE 20 A 25 M/MIN, POT. DE 7,5 A 9,0 HP                                                                                                                                                                                                                                           ","UN    ","17.289,84",null,null,"CR"]
[{"$f":"CONCATENAR","v":"SINAPI-I 13458"},"SINAPI-I",13458,"COMPACTADOR DE SOLOS DE PERCURSAO (SOQUETE) COM MOTOR A GASOLINA 4 TEMPOS DE 4 HP (4 CV)                                                                                                                                                                                                                                                                                                                                                                                                                  ","UN    ","16.429,62",null,null,"CR"]
[{"$f":"CONCATENAR","v":"SINAPI-I 11134"},"SINAPI-I",11134,"COMPENSADO NAVAL - CHAPA/PAINEL EM MADEIRA COMPENSADA PRENSADA, DE 2200 X 1600 MM, E = 10 MM                                                                                                                                                                                                                                                                                                                                                                                                              ","M2    ","95,22",null,null,"CR"]
[{"$f":"CONCATENAR","v":"SINAPI-I 11135"},"SINAPI-I",11135,"COMPENSADO NAVAL - CHAPA/PAINEL EM MADEIRA COMPENSADA PRENSADA, DE 2200 X 1600 MM, E = 12 MM                                                                                                                                                                                                                                                                                                                                                                                                              ","M2    ","102,80",null,null,"CR"]
[{"$f":"CONCATENAR","v":"SINAPI-I 11136"},"SINAPI-I",11136,"COMPENSADO NAVAL - CHAPA/PAINEL EM MADEIRA COMPENSADA PRENSADA, DE 2200 X 1600 MM, E = 15 MM                                                                                                                                                                                                                                                                                                                                                                                                              ","M2    ","117,71",null,null,"CR"]
[{"$f":"CONCATENAR","v":"SINAPI-I 34743"},"SINAPI-I",34743,"COMPENSADO NAVAL - CHAPA/PAINEL EM MADEIRA COMPENSADA PRENSADA, DE 2200 X 1600 MM, E = 18 MM                                                                                                                                                                                                                                                                                                                                                                                                              ","M2    ","142,03",null,null,"CR"]
[{"$f":"CONCATENAR","v":"SINAPI-I 11137"},"SINAPI-I",11137,"COMPENSADO NAVAL - CHAPA/PAINEL EM MADEIRA COMPENSADA PRENSADA, DE 2200 X 1600 MM, E = 20 MM                                                                                                                                                                                                                                                                                                                                                                                                              ","M2    ","161,31",null,null,"CR"]
[{"$f":"CONCATENAR","v":"SINAPI-I 34745"},"SINAPI-I",34745,"COMPENSADO NAVAL - CHAPA/PAINEL EM MADEIRA COMPENSADA PRENSADA, DE 2200 X 1600 MM, E = 25 MM                                                                                                                                                                                                                                                                                                                                                                                                              ","M2    ","191,83",null,null,"CR"]
[{"$f":"CONCATENAR","v":"SINAPI-I 34746"},"SINAPI-I",34746,"COMPENSADO NAVAL - CHAPA/PAINEL EM MADEIRA COMPENSADA PRENSADA, DE 2200 X 1600 MM, E = 4 MM                                                                                                                                                                                                                                                                                                                                                                                                               ","M2    ","52,31",null,null,"CR"]
[{"$f":"CONCATENAR","v":"SINAPI-I 1360"},"SINAPI-I",1360,"COMPENSADO NAVAL - CHAPA/PAINEL EM MADEIRA COMPENSADA PRENSADA, DE 2200 X 1600 MM, E = 6 MM                                                                                                                                                                                                                                                                                                                                                                                                               ","M2    ","61,03",null,null,"CR"]
[{"$f":"CONCATENAR","v":"SINAPI-I 36524"},"SINAPI-I",36524,"COMPRESSOR DE AR ESTACIONARIO, VAZAO 620 PCM, PRESSAO EFETIVA DE TRABALHO 109 PSI, MOTOR ELETRICO, POTENCIA 127 CV                                                                                                                                                                                                                                                                                                                                                                                        ","UN    ","196.453,87",null,null,"AS"]
[{"$f":"CONCATENAR","v":"SINAPI-I 36526"},"SINAPI-I",36526,"COMPRESSOR DE AR REBOCAVEL VAZAO 400 PCM, PRESSAO EFETIVA DE TRABALHO 102 PSI, MOTOR DIESEL, POTENCIA 110 CV                                                                                                                                                                                                                                                                                                                                                                                              ","UN    ","158.310,53",null,null,"AS"]
[{"$f":"CONCATENAR","v":"SINAPI-I 36523"},"SINAPI-I",36523,"COMPRESSOR DE AR REBOCAVEL VAZAO 748 PCM, PRESSAO EFETIVA DE TRABALHO 102 PSI, MOTOR DIESEL, POTENCIA 210 CV                                                                                                                                                                                                                                                                                                                                                                                              ","UN    ","338.921,49",null,null,"AS"]
[{"$f":"CONCATENAR","v":"SINAPI-I 36527"},"SINAPI-I",36527,"COMPRESSOR DE AR REBOCAVEL VAZAO 860 PCM, PRESSAO EFETIVA DE TRABALHO 102 PSI, MOTOR DIESEL, POTENCIA 250 CV                                                                                                                                                                                                                                                                                                                                                                                              ","UN    ","368.138,54",null,null,"AS"]
[{"$f":"CONCATENAR","v":"SINAPI-I 38642"},"SINAPI-I",38642,"COMPRESSOR DE AR REBOCAVEL, VAZAO 152 PCM, PRESSAO EFETIVA DE TRABALHO 102 PSI, MOTOR DIESEL, POTENCIA 31,5 KW                                                                                                                                                                                                                                                                                                                                                                                            ","UN    ","85.712,10",null,null,"AS"]
[{"$f":"CONCATENAR","v":"SINAPI-I 36522"},"SINAPI-I",36522,"COMPRESSOR DE AR REBOCAVEL, VAZAO 189 PCM, PRESSAO EFETIVA DE TRABALHO 102 PSI, MOTOR DIESEL, POTENCIA 63 CV                                                                                                                                                                                                                                                                                                                                                                                              ","UN    ","99.682,15",null,null,"AS"]
[{"$f":"CONCATENAR","v":"SINAPI-I 36525"},"SINAPI-I",36525,"COMPRESSOR DE AR REBOCAVEL, VAZAO 250 PCM, PRESSAO EFETIVA DE TRABALHO 102 PSI, MOTOR DIESEL, POTENCIA 81 CV                                                                                                                                                                                                                                                                                                                                                                                              ","UN    ","133.497,67",null,null,"AS"]
[{"$f":"CONCATENAR","v":"SINAPI-I 13803"},"SINAPI-I",13803,"COMPRESSOR DE AR REBOCAVEL, VAZAO 89 PCM, PRESSAO EFETIVA DE TRABALHO *102* PSI, MOTOR DIESEL, POTENCIA *20* CV                                                                                                                                                                                                                                                                                                                                                                                           ","UN    ","133.115,69",null,null,"AS"]
[{"$f":"CONCATENAR","v":"SINAPI-I 34348"},"SINAPI-I",34348,"CONCERTINA CLIPADA (DUPLA) EM ACO GALVANIZADO DE ALTA RESISTENCIA, COM ESPIRAL DE 300 MM, D = 2,76 MM                                                                                                                                                                                                                                                                                                                                                                                                     ","M     ","20,36",null,null,"CR"]
[{"$f":"CONCATENAR","v":"SINAPI-I 34347"},"SINAPI-I",34347,"CONCERTINA SIMPLES EM ACO GALVANIZADO DE ALTA RESISTENCIA, COM ESPIRAL DE 300 MM, D = 2,76 MM                                                                                                                                                                                                                                                                                                                                                                                                             ","M     ","14,55",null,null,"CR"]
[{"$f":"CONCATENAR","v":"SINAPI-I 11146"},"SINAPI-I",11146,"CONCRETO AUTOADENSAVEL (CAA) CLASSE DE RESISTENCIA C15, ESPALHAMENTO SF2, COM BOMBEAMENTO (DISPONIBILIZACAO DE BOMBA), SEM O LANCAMENTO (NBR 15823)                                                                                                                                                                                                                                                                                                                                                       ","M3    ","571,62",null,null,"CR"]
[{"$f":"CONCATENAR","v":"SINAPI-I 11147"},"SINAPI-I",11147,"CONCRETO AUTOADENSAVEL (CAA) CLASSE DE RESISTENCIA C20, ESPALHAMENTO SF2, COM BOMBEAMENTO (DISPONIBILIZACAO DE BOMBA), SEM O LANCAMENTO (NBR 15823)                                                                                                                                                                                                                                                                                                                                                       ","M3    ","594,00",null,null,"CR"]
[{"$f":"CONCATENAR","v":"SINAPI-I 34872"},"SINAPI-I",34872,"CONCRETO AUTOADENSAVEL (CAA) CLASSE DE RESISTENCIA C25, ESPALHAMENTO SF2, COM BOMBEAMENTO (DISPONIBILIZACAO DE BOMBA), SEM O LANCAMENTO (NBR 15823)                                                                                                                                                                                                                                                                                                                                                       ","M3    ","600,66",null,null,"CR"]
[{"$f":"CONCATENAR","v":"SINAPI-I 34491"},"SINAPI-I",34491,"CONCRETO AUTOADENSAVEL (CAA) CLASSE DE RESISTENCIA C30, ESPALHAMENTO SF2, COM BOMBEAMENTO (DISPONIBILIZACAO DE BOMBA), SEM O LANCAMENTO (NBR 15823)                                                                                                                                                                                                                                                                                                                                                       ","M3    ","618,07",null,null,"CR"]
[{"$f":"CONCATENAR","v":"SINAPI-I 34770"},"SINAPI-I",34770,"CONCRETO BETUMINOSO USINADO A QUENTE (CBUQ) PARA PAVIMENTACAO ASFALTICA, PADRAO DNIT, FAIXA C, COM CAP 30/45 - AQUISICAO POSTO USINA                                                                                                                                                                                                                                                                                                                                                                      ","T     ","785,93",null,null,"CR"]
[{"$f":"CONCATENAR","v":"SINAPI-I 1518"},"SINAPI-I",1518,"CONCRETO BETUMINOSO USINADO A QUENTE (CBUQ) PARA PAVIMENTACAO ASFALTICA, PADRAO DNIT, FAIXA C, COM CAP 50/70 - AQUISICAO POSTO USINA                                                                                                                                                                                                                                                                                                                                                                      ","T     ","801,25",null,null,"C "]
[{"$f":"CONCATENAR","v":"SINAPI-I 41965"},"SINAPI-I",41965,"CONCRETO BETUMINOSO USINADO A QUENTE (CBUQ) PARA PAVIMENTACAO ASFALTICA, PADRAO DNIT, PARA BINDER, COM CAP 50/70 - AQUISICAO POSTO USINA                                                                                                                                                                                                                                                                                                                                                                  ","T     ","702,56",null,null,"CR"]
[{"$f":"CONCATENAR","v":"SINAPI-I 1524"},"SINAPI-I",1524,"CONCRETO USINADO BOMBEAVEL, CLASSE DE RESISTENCIA C20, BRITA 0 E 1, SLUMP = 100 +/- 20 MM, COM BOMBEAMENTO (DISPONIBILIZACAO DE BOMBA), SEM O LANCAMENTO (NBR 8953)                                                                                                                                                                                                                                                                                                                                       ","M3    ","548,43",null,null,"CR"]
[{"$f":"CONCATENAR","v":"SINAPI-I 34492"},"SINAPI-I",34492,"CONCRETO USINADO BOMBEAVEL, CLASSE DE RESISTENCIA C20, COM BRITA 0 E 1, SLUMP = 100 +/- 20 MM, EXCLUI SERVICO DE BOMBEAMENTO (NBR 8953)                                                                                                                                                                                                                                                                                                                                                                   ","M3    ","508,00",null,null,"C "]
[{"$f":"CONCATENAR","v":"SINAPI-I 38404"},"SINAPI-I",38404,"CONCRETO USINADO BOMBEAVEL, CLASSE DE RESISTENCIA C20, COM BRITA 0 E 1, SLUMP = 130 +/- 20 MM, EXCLUI SERVICO DE BOMBEAMENTO (NBR 8953)                                                                                                                                                                                                                                                                                                                                                                   ","M3    ","526,19",null,null,"CR"]
[{"$f":"CONCATENAR","v":"SINAPI-I 39849"},"SINAPI-I",39849,"CONCRETO USINADO BOMBEAVEL, CLASSE DE RESISTENCIA C20, COM BRITA 0 E 1, SLUMP = 190 +/- 20 MM, COM BOMBEAMENTO (DISPONIBILIZACAO DE BOMBA), SEM O LANCAMENTO (NBR 8953)                                                                                                                                                                                                                                                                                                                                   ","M3    ","603,01",null,null,"CR"]
[{"$f":"CONCATENAR","v":"SINAPI-I 38464"},"SINAPI-I",38464,"CONCRETO USINADO BOMBEAVEL, CLASSE DE RESISTENCIA C20, COM BRITA 0, SLUMP = 220 +/- 20 MM, COM BOMBEAMENTO (DISPONIBILIZACAO DE BOMBA), SEM O LANCAMENTO (NBR 8953)                                                                                                                                                                                                                                                                                                                                       ","M3    ","611,76",null,null,"CR"]
[{"$f":"CONCATENAR","v":"SINAPI-I 1527"},"SINAPI-I",1527,"CONCRETO USINADO BOMBEAVEL, CLASSE DE RESISTENCIA C25, BRITA 0 E 1, SLUMP = 100 +/- 20 MM, COM BOMBEAMENTO (DISPONIBILIZACAO DE BOMBA), SEM O LANCAMENTO (NBR 8953)                                                                                                                                                                                                                                                                                                                                       ","M3    ","565,84",null,null,"CR"]
[{"$f":"CONCATENAR","v":"SINAPI-I 34493"},"SINAPI-I",34493,"CONCRETO USINADO BOMBEAVEL, CLASSE DE RESISTENCIA C25, COM BRITA 0 E 1, SLUMP = 100 +/- 20 MM, EXCLUI SERVICO DE BOMBEAMENTO (NBR 8953)                                                                                                                                                                                                                                                                                                                                                                   ","M3    ","522,31",null,null,"CR"]
[{"$f":"CONCATENAR","v":"SINAPI-I 38405"},"SINAPI-I",38405,"CONCRETO USINADO BOMBEAVEL, CLASSE DE RESISTENCIA C25, COM BRITA 0 E 1, SLUMP = 130 +/- 20 MM, EXCLUI SERVICO DE BOMBEAMENTO (NBR 8953)                                                                                                                                                                                                                                                                                                                                                                   ","M3    ","542,41",null,null,"CR"]
[{"$f":"CONCATENAR","v":"SINAPI-I 38408"},"SINAPI-I",38408,"CONCRETO USINADO BOMBEAVEL, CLASSE DE RESISTENCIA C25, COM BRITA 0 E 1, SLUMP = 190 +/- 20 MM, EXCLUI SERVICO DE BOMBEAMENTO (NBR 8953)                                                                                                                                                                                                                                                                                                                                                                   ","M3    ","600,40",null,null,"CR"]
[{"$f":"CONCATENAR","v":"SINAPI-I 1525"},"SINAPI-I",1525,"CONCRETO USINADO BOMBEAVEL, CLASSE DE RESISTENCIA C30, BRITA 0 E 1, SLUMP = 100 +/- 20 MM, COM BOMBEAMENTO (DISPONIBILIZACAO DE BOMBA), SEM O LANCAMENTO (NBR 8953)                                                                                                                                                                                                                                                                                                                                       ","M3    ","583,25",null,null,"CR"]
[{"$f":"CONCATENAR","v":"SINAPI-I 34494"},"SINAPI-I",34494,"CONCRETO USINADO BOMBEAVEL, CLASSE DE RESISTENCIA C30, COM BRITA 0 E 1, SLUMP = 100 +/- 20 MM, EXCLUI SERVICO DE BOMBEAMENTO (NBR 8953)                                                                                                                                                                                                                                                                                                                                                                   ","M3    ","539,73",null,null,"CR"]
[{"$f":"CONCATENAR","v":"SINAPI-I 38406"},"SINAPI-I",38406,"CONCRETO USINADO BOMBEAVEL, CLASSE DE RESISTENCIA C30, COM BRITA 0 E 1, SLUMP = 130 +/- 20 MM, EXCLUI SERVICO DE BOMBEAMENTO (NBR 8953)                                                                                                                                                                                                                                                                                                                                                                   ","M3    ","572,75",null,null,"CR"]
[{"$f":"CONCATENAR","v":"SINAPI-I 38409"},"SINAPI-I",38409,"CONCRETO USINADO BOMBEAVEL, CLASSE DE RESISTENCIA C30, COM BRITA 0 E 1, SLUMP = 190 +/- 20 MM, EXCLUI SERVICO DE BOMBEAMENTO (NBR 8953)                                                                                                                                                                                                                                                                                                                                                                   ","M3    ","604,49",null,null,"CR"]
[{"$f":"CONCATENAR","v":"SINAPI-I 43360"},"SINAPI-I",43360,"CONCRETO USINADO BOMBEAVEL, CLASSE DE RESISTENCIA C30, COM BRITA 0 E 1, SLUMP = 220 +/- 30 MM, EXCLUI SERVICO DE BOMBEAMENTO (NBR 8953)                                                                                                                                                                                                                                                                                                                                                                   ","M3    ","630,31",null,null,"CR"]
[{"$f":"CONCATENAR","v":"SINAPI-I 11145"},"SINAPI-I",11145,"CONCRETO USINADO BOMBEAVEL, CLASSE DE RESISTENCIA C35, BRITA 0 E 1, SLUMP = 100 +/- 20 MM, COM BOMBEAMENTO (DISPONIBILIZACAO DE BOMBA), SEM O LANCAMENTO (NBR 8953)                                                                                                                                                                                                                                                                                                                                       ","M3    ","600,66",null,null,"CR"]
[{"$f":"CONCATENAR","v":"SINAPI-I 34495"},"SINAPI-I",34495,"CONCRETO USINADO BOMBEAVEL, CLASSE DE RESISTENCIA C35, COM BRITA 0 E 1, SLUMP = 100 +/- 20 MM, EXCLUI SERVICO DE BOMBEAMENTO (NBR 8953)                                                                                                                                                                                                                                                                                                                                                                   ","M3    ","557,13",null,null,"CR"]
[{"$f":"CONCATENAR","v":"SINAPI-I 34479"},"SINAPI-I",34479,"CONCRETO USINADO BOMBEAVEL, CLASSE DE RESISTENCIA C40, BRITA 0 E 1, SLUMP = 100 +/- 20 MM, COM BOMBEAMENTO (DISPONIBILIZACAO DE BOMBA), SEM O LANCAMENTO (NBR 8953)                                                                                                                                                                                                                                                                                                                                       ","M3    ","618,07",null,null,"CR"]
[{"$f":"CONCATENAR","v":"SINAPI-I 34496"},"SINAPI-I",34496,"CONCRETO USINADO BOMBEAVEL, CLASSE DE RESISTENCIA C40, COM BRITA 0 E 1, SLUMP = 100 +/- 20 MM, EXCLUI SERVICO DE BOMBEAMENTO (NBR 8953)                                                                                                                                                                                                                                                                                                                                                                   ","M3    ","581,19",null,null,"CR"]
[{"$f":"CONCATENAR","v":"SINAPI-I 34481"},"SINAPI-I",34481,"CONCRETO USINADO BOMBEAVEL, CLASSE DE RESISTENCIA C45, BRITA 0 E 1, SLUMP = 100 +/- 20 MM, COM BOMBEAMENTO (DISPONIBILIZACAO DE BOMBA), SEM O LANCAMENTO (NBR 8953)                                                                                                                                                                                                                                                                                                                                       ","M3    ","645,81",null,null,"CR"]
[{"$f":"CONCATENAR","v":"SINAPI-I 34483"},"SINAPI-I",34483,"CONCRETO USINADO BOMBEAVEL, CLASSE DE RESISTENCIA C50, BRITA 0 E 1, SLUMP = 100 +/- 20 MM, COM BOMBEAMENTO (DISPONIBILIZACAO DE BOMBA), SEM O LANCAMENTO (NBR 8953)                                                                                                                                                                                                                                                                                                                                       ","M3    ","690,00",null,null,"CR"]
[{"$f":"CONCATENAR","v":"SINAPI-I 34485"},"SINAPI-I",34485,"CONCRETO USINADO BOMBEAVEL, CLASSE DE RESISTENCIA C60, COM BRITA 0 E 1, SLUMP = 100 +/- 20 MM, COM BOMBEAMENTO (DISPONIBILIZACAO DE BOMBA), SEM O LANCAMENTO (NBR 8953)                                                                                                                                                                                                                                                                                                                                   ","M3    ","737,88",null,null,"CR"]
[{"$f":"CONCATENAR","v":"SINAPI-I 14041"},"SINAPI-I",14041,"CONCRETO USINADO CONVENCIONAL (NAO BOMBEAVEL) CLASSE DE RESISTENCIA C10, COM BRITA 1 E 2, SLUMP = 80 MM +/- 10 MM (NBR 8953)                                                                                                                                                                                                                                                                                                                                                                              ","M3    ","479,66",null,null,"CR"]
[{"$f":"CONCATENAR","v":"SINAPI-I 1523"},"SINAPI-I",1523,"CONCRETO USINADO CONVENCIONAL (NAO BOMBEAVEL) CLASSE DE RESISTENCIA C15, COM BRITA 1 E 2, SLUMP = 80 MM +/- 10 MM (NBR 8953)                                                                                                                                                                                                                                                                                                                                                                              ","M3    ","487,49",null,null,"CR"]
[{"$f":"CONCATENAR","v":"SINAPI-I 14052"},"SINAPI-I",14052,"CONDULETE DE ALUMINIO TIPO B, PARA ELETRODUTO ROSCAVEL DE 1/2\", COM TAMPA CEGA                                                                                                                                                                                                                                                                                                                                                                                                                            ","UN    ","15,71",null,null,"CR"]
[{"$f":"CONCATENAR","v":"SINAPI-I 14054"},"SINAPI-I",14054,"CONDULETE DE ALUMINIO TIPO B, PARA ELETRODUTO ROSCAVEL DE 1\", COM TAMPA CEGA                                                                                                                                                                                                                                                                                                                                                                                                                              ","UN    ","20,42",null,null,"CR"]
[{"$f":"CONCATENAR","v":"SINAPI-I 14053"},"SINAPI-I",14053,"CONDULETE DE ALUMINIO TIPO B, PARA ELETRODUTO ROSCAVEL DE 3/4\", COM TAMPA CEGA                                                                                                                                                                                                                                                                                                                                                                                                                            ","UN    ","15,95",null,null,"CR"]
[{"$f":"CONCATENAR","v":"SINAPI-I 2558"},"SINAPI-I",2558,"CONDULETE DE ALUMINIO TIPO C, PARA ELETRODUTO ROSCAVEL DE 1/2\", COM TAMPA CEGA                                                                                                                                                                                                                                                                                                                                                                                                                            ","UN    ","12,01",null,null,"CR"]
[{"$f":"CONCATENAR","v":"SINAPI-I 2560"},"SINAPI-I",2560,"CONDULETE DE ALUMINIO TIPO C, PARA ELETRODUTO ROSCAVEL DE 1\", COM TAMPA CEGA                                                                                                                                                                                                                                                                                                                                                                                                                              ","UN    ","21,13",null,null,"CR"]
[{"$f":"CONCATENAR","v":"SINAPI-I 2559"},"SINAPI-I",2559,"CONDULETE DE ALUMINIO TIPO C, PARA ELETRODUTO ROSCAVEL DE 3/4\", COM TAMPA CEGA                                                                                                                                                                                                                                                                                                                                                                                                                            ","UN    ","16,90",null,null,"C "]
[{"$f":"CONCATENAR","v":"SINAPI-I 2592"},"SINAPI-I",2592,"CONDULETE DE ALUMINIO TIPO C, PARA ELETRODUTO ROSCAVEL DE 4\", COM TAMPA CEGA                                                                                                                                                                                                                                                                                                                                                                                                                              ","UN    ","280,16",null,null,"CR"]
[{"$f":"CONCATENAR","v":"SINAPI-I 2589"},"SINAPI-I",2589,"CONDULETE DE ALUMINIO TIPO E, PARA ELETRODUTO ROSCAVEL DE 1 1/2\", COM TAMPA CEGA                                                                                                                                                                                                                                                                                                                                                                                                                          ","UN    ","37,47",null,null,"CR"]
[{"$f":"CONCATENAR","v":"SINAPI-I 2566"},"SINAPI-I",2566,"CONDULETE DE ALUMINIO TIPO E, PARA ELETRODUTO ROSCAVEL DE 1 1/4\", COM TAMPA CEGA                                                                                                                                                                                                                                                                                                                                                                                                                          ","UN    ","28,19",null,null,"CR"]
[{"$f":"CONCATENAR","v":"SINAPI-I 2591"},"SINAPI-I",2591,"CONDULETE DE ALUMINIO TIPO E, PARA ELETRODUTO ROSCAVEL DE 1/2\", COM TAMPA CEGA                                                                                                                                                                                                                                                                                                                                                                                                                            ","UN    ","13,67",null,null,"CR"]
[{"$f":"CONCATENAR","v":"SINAPI-I 2590"},"SINAPI-I",2590,"CONDULETE DE ALUMINIO TIPO E, PARA ELETRODUTO ROSCAVEL DE 1\", COM TAMPA CEGA                                                                                                                                                                                                                                                                                                                                                                                                                              ","UN    ","23,00",null,null,"CR"]
[{"$f":"CONCATENAR","v":"SINAPI-I 2567"},"SINAPI-I",2567,"CONDULETE DE ALUMINIO TIPO E, PARA ELETRODUTO ROSCAVEL DE 2\", COM TAMPA CEGA                                                                                                                                                                                                                                                                                                                                                                                                                              ","UN    ","54,97",null,null,"CR"]
[{"$f":"CONCATENAR","v":"SINAPI-I 2565"},"SINAPI-I",2565,"CONDULETE DE ALUMINIO TIPO E, PARA ELETRODUTO ROSCAVEL DE 3/4\", COM TAMPA CEGA                                                                                                                                                                                                                                                                                                                                                                                                                            ","UN    ","13,69",null,null,"CR"]
[{"$f":"CONCATENAR","v":"SINAPI-I 2568"},"SINAPI-I",2568,"CONDULETE DE ALUMINIO TIPO E, PARA ELETRODUTO ROSCAVEL DE 3\", COM TAMPA CEGA                                                                                                                                                                                                                                                                                                                                                                                                                              ","UN    ","152,64",null,null,"CR"]
[{"$f":"CONCATENAR","v":"SINAPI-I 2594"},"SINAPI-I",2594,"CONDULETE DE ALUMINIO TIPO E, PARA ELETRODUTO ROSCAVEL DE 4\", COM TAMPA CEGA                                                                                                                                                                                                                                                                                                                                                                                                                              ","UN    ","254,29",null,null,"CR"]
[{"$f":"CONCATENAR","v":"SINAPI-I 2587"},"SINAPI-I",2587,"CONDULETE DE ALUMINIO TIPO LR, PARA ELETRODUTO ROSCAVEL DE 1 1/2\", COM TAMPA CEGA                                                                                                                                                                                                                                                                                                                                                                                                                         ","UN    ","43,34",null,null,"CR"]
[{"$f":"CONCATENAR","v":"SINAPI-I 2588"},"SINAPI-I",2588,"CONDULETE DE ALUMINIO TIPO LR, PARA ELETRODUTO ROSCAVEL DE 1 1/4\", COM TAMPA CEGA                                                                                                                                                                                                                                                                                                                                                                                                                         ","UN    ","34,42",null,null,"CR"]
[{"$f":"CONCATENAR","v":"SINAPI-I 2569"},"SINAPI-I",2569,"CONDULETE DE ALUMINIO TIPO LR, PARA ELETRODUTO ROSCAVEL DE 1/2\", COM TAMPA CEGA                                                                                                                                                                                                                                                                                                                                                                                                                           ","UN    ","13,26",null,null,"CR"]
[{"$f":"CONCATENAR","v":"SINAPI-I 2570"},"SINAPI-I",2570,"CONDULETE DE ALUMINIO TIPO LR, PARA ELETRODUTO ROSCAVEL DE 1\", COM TAMPA CEGA                                                                                                                                                                                                                                                                                                                                                                                                                             ","UN    ","22,24",null,null,"CR"]
[{"$f":"CONCATENAR","v":"SINAPI-I 2571"},"SINAPI-I",2571,"CONDULETE DE ALUMINIO TIPO LR, PARA ELETRODUTO ROSCAVEL DE 2\", COM TAMPA CEGA                                                                                                                                                                                                                                                                                                                                                                                                                             ","UN    ","66,00",null,null,"CR"]
[{"$f":"CONCATENAR","v":"SINAPI-I 2593"},"SINAPI-I",2593,"CONDULETE DE ALUMINIO TIPO LR, PARA ELETRODUTO ROSCAVEL DE 3/4\", COM TAMPA CEGA                                                                                                                                                                                                                                                                                                                                                                                                                           ","UN    ","14,14",null,null,"CR"]
[{"$f":"CONCATENAR","v":"SINAPI-I 2572"},"SINAPI-I",2572,"CONDULETE DE ALUMINIO TIPO LR, PARA ELETRODUTO ROSCAVEL DE 3\", COM TAMPA CEGA                                                                                                                                                                                                                                                                                                                                                                                                                             ","UN    ","195,20",null,null,"CR"]
[{"$f":"CONCATENAR","v":"SINAPI-I 2595"},"SINAPI-I",2595,"CONDULETE DE ALUMINIO TIPO LR, PARA ELETRODUTO ROSCAVEL DE 4\", COM TAMPA CEGA                                                                                                                                                                                                                                                                                                                                                                                                                             ","UN    ","304,55",null,null,"CR"]
[{"$f":"CONCATENAR","v":"SINAPI-I 2576"},"SINAPI-I",2576,"CONDULETE DE ALUMINIO TIPO T, PARA ELETRODUTO ROSCAVEL DE 1 1/2\", COM TAMPA CEGA                                                                                                                                                                                                                                                                                                                                                                                                                          ","UN    ","51,92",null,null,"CR"]
[{"$f":"CONCATENAR","v":"SINAPI-I 2575"},"SINAPI-I",2575,"CONDULETE DE ALUMINIO TIPO T, PARA ELETRODUTO ROSCAVEL DE 1 1/4\", COM TAMPA CEGA                                                                                                                                                                                                                                                                                                                                                                                                                          ","UN    ","39,03",null,null,"CR"]
[{"$f":"CONCATENAR","v":"SINAPI-I 2573"},"SINAPI-I",2573,"CONDULETE DE ALUMINIO TIPO T, PARA ELETRODUTO ROSCAVEL DE 1/2\", COM TAMPA CEGA                                                                                                                                                                                                                                                                                                                                                                                                                            ","UN    ","16,21",null,null,"CR"]
[{"$f":"CONCATENAR","v":"SINAPI-I 2586"},"SINAPI-I",2586,"CONDULETE DE ALUMINIO TIPO T, PARA ELETRODUTO ROSCAVEL DE 1\", COM TAMPA CEGA                                                                                                                                                                                                                                                                                                                                                                                                                              ","UN    ","26,27",null,null,"CR"]
[{"$f":"CONCATENAR","v":"SINAPI-I 2577"},"SINAPI-I",2577,"CONDULETE DE ALUMINIO TIPO T, PARA ELETRODUTO ROSCAVEL DE 2\", COM TAMPA CEGA                                                                                                                                                                                                                                                                                                                                                                                                                              ","UN    ","70,35",null,null,"CR"]
[{"$f":"CONCATENAR","v":"SINAPI-I 2574"},"SINAPI-I",2574,"CONDULETE DE ALUMINIO TIPO T, PARA ELETRODUTO ROSCAVEL DE 3/4\", COM TAMPA CEGA                                                                                                                                                                                                                                                                                                                                                                                                                            ","UN    ","16,31",null,null,"CR"]
[{"$f":"CONCATENAR","v":"SINAPI-I 2578"},"SINAPI-I",2578,"CONDULETE DE ALUMINIO TIPO T, PARA ELETRODUTO ROSCAVEL DE 3\", COM TAMPA CEGA                                                                                                                                                                                                                                                                                                                                                                                                                              ","UN    ","219,64",null,null,"CR"]
[{"$f":"CONCATENAR","v":"SINAPI-I 2585"},"SINAPI-I",2585,"CONDULETE DE ALUMINIO TIPO T, PARA ELETRODUTO ROSCAVEL DE 4\", COM TAMPA CEGA                                                                                                                                                                                                                                                                                                                                                                                                                              ","UN    ","301,39",null,null,"CR"]
[{"$f":"CONCATENAR","v":"SINAPI-I 12008"},"SINAPI-I",12008,"CONDULETE DE ALUMINIO TIPO TB, PARA ELETRODUTO ROSCAVEL DE 3\", COM TAMPA CEGA                                                                                                                                                                                                                                                                                                                                                                                                                             ","UN    ","161,71",null,null,"CR"]
[{"$f":"CONCATENAR","v":"SINAPI-I 2582"},"SINAPI-I",2582,"CONDULETE DE ALUMINIO TIPO X, PARA ELETRODUTO ROSCAVEL DE 1 1/2\", COM TAMPA CEGA                                                                                                                                                                                                                                                                                                                                                                                                                          ","UN    ","48,16",null,null,"CR"]
[{"$f":"CONCATENAR","v":"SINAPI-I 2597"},"SINAPI-I",2597,"CONDULETE DE ALUMINIO TIPO X, PARA ELETRODUTO ROSCAVEL DE 1 1/4\", COM TAMPA CEGA                                                                                                                                                                                                                                                                                                                                                                                                                          ","UN    ","41,27",null,null,"CR"]
[{"$f":"CONCATENAR","v":"SINAPI-I 2579"},"SINAPI-I",2579,"CONDULETE DE ALUMINIO TIPO X, PARA ELETRODUTO ROSCAVEL DE 1/2\", COM TAMPA CEGA                                                                                                                                                                                                                                                                                                                                                                                                                            ","UN    ","19,65",null,null,"CR"]
[{"$f":"CONCATENAR","v":"SINAPI-I 2581"},"SINAPI-I",2581,"CONDULETE DE ALUMINIO TIPO X, PARA ELETRODUTO ROSCAVEL DE 1\", COM TAMPA CEGA                                                                                                                                                                                                                                                                                                                                                                                                                              ","UN    ","25,14",null,null,"CR"]
[{"$f":"CONCATENAR","v":"SINAPI-I 2596"},"SINAPI-I",2596,"CONDULETE DE ALUMINIO TIPO X, PARA ELETRODUTO ROSCAVEL DE 2\", COM TAMPA CEGA                                                                                                                                                                                                                                                                                                                                                                                                                              ","UN    ","74,36",null,null,"CR"]
[{"$f":"CONCATENAR","v":"SINAPI-I 2580"},"SINAPI-I",2580,"CONDULETE DE ALUMINIO TIPO X, PARA ELETRODUTO ROSCAVEL DE 3/4\", COM TAMPA CEGA                                                                                                                                                                                                                                                                                                                                                                                                                            ","UN    ","21,54",null,null,"CR"]
[{"$f":"CONCATENAR","v":"SINAPI-I 2583"},"SINAPI-I",2583,"CONDULETE DE ALUMINIO TIPO X, PARA ELETRODUTO ROSCAVEL DE 3\", COM TAMPA CEGA                                                                                                                                                                                                                                                                                                                                                                                                                              ","UN    ","180,86",null,null,"CR"]
[{"$f":"CONCATENAR","v":"SINAPI-I 2584"},"SINAPI-I",2584,"CONDULETE DE ALUMINIO TIPO X, PARA ELETRODUTO ROSCAVEL DE 4\", COM TAMPA CEGA                                                                                                                                                                                                                                                                                                                                                                                                                              ","UN    ","301,09",null,null,"CR"]
[{"$f":"CONCATENAR","v":"SINAPI-I 12010"},"SINAPI-I",12010,"CONDULETE EM PVC, TIPO \"B\", SEM TAMPA, DE 1/2\" OU 3/4\"                                                                                                                                                                                                                                                                                                                                                                                                                                                    ","UN    ","12,09",null,null,"CR"]
[{"$f":"CONCATENAR","v":"SINAPI-I 39329"},"SINAPI-I",39329,"CONDULETE EM PVC, TIPO \"B\", SEM TAMPA, DE 1\"                                                                                                                                                                                                                                                                                                                                                                                                                                                              ","UN    ","12,64",null,null,"CR"]
[{"$f":"CONCATENAR","v":"SINAPI-I 39330"},"SINAPI-I",39330,"CONDULETE EM PVC, TIPO \"C\", SEM TAMPA, DE 1/2\"                                                                                                                                                                                                                                                                                                                                                                                                                                                            ","UN    ","13,30",null,null,"CR"]
[{"$f":"CONCATENAR","v":"SINAPI-I 39332"},"SINAPI-I",39332,"CONDULETE EM PVC, TIPO \"C\", SEM TAMPA, DE 1\"                                                                                                                                                                                                                                                                                                                                                                                                                                                              ","UN    ","14,86",null,null,"CR"]
[{"$f":"CONCATENAR","v":"SINAPI-I 39331"},"SINAPI-I",39331,"CONDULETE EM PVC, TIPO \"C\", SEM TAMPA, DE 3/4\"                                                                                                                                                                                                                                                                                                                                                                                                                                                            ","UN    ","11,83",null,null,"CR"]
[{"$f":"CONCATENAR","v":"SINAPI-I 39333"},"SINAPI-I",39333,"CONDULETE EM PVC, TIPO \"E\", SEM TAMPA, DE 1/2\"                                                                                                                                                                                                                                                                                                                                                                                                                                                            ","UN    ","11,53",null,null,"CR"]
[{"$f":"CONCATENAR","v":"SINAPI-I 39335"},"SINAPI-I",39335,"CONDULETE EM PVC, TIPO \"E\", SEM TAMPA, DE 1\"                                                                                                                                                                                                                                                                                                                                                                                                                                                              ","UN    ","13,35",null,null,"CR"]
[{"$f":"CONCATENAR","v":"SINAPI-I 39334"},"SINAPI-I",39334,"CONDULETE EM PVC, TIPO \"E\", SEM TAMPA, DE 3/4\"                                                                                                                                                                                                                                                                                                                                                                                                                                                            ","UN    ","10,61",null,null,"CR"]
[{"$f":"CONCATENAR","v":"SINAPI-I 12016"},"SINAPI-I",12016,"CONDULETE EM PVC, TIPO \"LB\", SEM TAMPA, DE 1/2\" OU 3/4\"                                                                                                                                                                                                                                                                                                                                                                                                                                                   ","UN    ","13,32",null,null,"CR"]
[{"$f":"CONCATENAR","v":"SINAPI-I 12015"},"SINAPI-I",12015,"CONDULETE EM PVC, TIPO \"LB\", SEM TAMPA, DE 1\"                                                                                                                                                                                                                                                                                                                                                                                                                                                             ","UN    ","15,50",null,null,"CR"]
[{"$f":"CONCATENAR","v":"SINAPI-I 12020"},"SINAPI-I",12020,"CONDULETE EM PVC, TIPO \"LL\", SEM TAMPA, DE 1/2\" OU 3/4\"                                                                                                                                                                                                                                                                                                                                                                                                                                                   ","UN    ","13,32",null,null,"CR"]
[{"$f":"CONCATENAR","v":"SINAPI-I 12019"},"SINAPI-I",12019,"CONDULETE EM PVC, TIPO \"LL\", SEM TAMPA, DE 1\"                                                                                                                                                                                                                                                                                                                                                                                                                                                             ","UN    ","15,50",null,null,"CR"]
[{"$f":"CONCATENAR","v":"SINAPI-I 39336"},"SINAPI-I",39336,"CONDULETE EM PVC, TIPO \"LR\", SEM TAMPA, DE 1/2\"                                                                                                                                                                                                                                                                                                                                                                                                                                                           ","UN    ","13,30",null,null,"CR"]
[{"$f":"CONCATENAR","v":"SINAPI-I 39338"},"SINAPI-I",39338,"CONDULETE EM PVC, TIPO \"LR\", SEM TAMPA, DE 1\"                                                                                                                                                                                                                                                                                                                                                                                                                                                             ","UN    ","14,86",null,null,"CR"]
[{"$f":"CONCATENAR","v":"SINAPI-I 39337"},"SINAPI-I",39337,"CONDULETE EM PVC, TIPO \"LR\", SEM TAMPA, DE 3/4\"                                                                                                                                                                                                                                                                                                                                                                                                                                                           ","UN    ","11,83",null,null,"CR"]
[{"$f":"CONCATENAR","v":"SINAPI-I 39341"},"SINAPI-I",39341,"CONDULETE EM PVC, TIPO \"T\", SEM TAMPA, DE 1\"                                                                                                                                                                                                                                                                                                                                                                                                                                                              ","UN    ","19,37",null,null,"CR"]
[{"$f":"CONCATENAR","v":"SINAPI-I 39340"},"SINAPI-I",39340,"CONDULETE EM PVC, TIPO \"T\", SEM TAMPA, DE 3/4\"                                                                                                                                                                                                                                                                                                                                                                                                                                                            ","UN    ","14,22",null,null,"CR"]
[{"$f":"CONCATENAR","v":"SINAPI-I 12025"},"SINAPI-I",12025,"CONDULETE EM PVC, TIPO \"TB\", SEM TAMPA, DE 1/2\" OU 3/4\"                                                                                                                                                                                                                                                                                                                                                                                                                                                   ","UN    ","14,69",null,null,"CR"]
[{"$f":"CONCATENAR","v":"SINAPI-I 39342"},"SINAPI-I",39342,"CONDULETE EM PVC, TIPO \"TB\", SEM TAMPA, DE 1\"                                                                                                                                                                                                                                                                                                                                                                                                                                                             ","UN    ","19,37",null,null,"CR"]
[{"$f":"CONCATENAR","v":"SINAPI-I 39343"},"SINAPI-I",39343,"CONDULETE EM PVC, TIPO \"X\", SEM TAMPA, DE 1/2\"                                                                                                                                                                                                                                                                                                                                                                                                                                                            ","UN    ","16,36",null,null,"CR"]
[{"$f":"CONCATENAR","v":"SINAPI-I 39345"},"SINAPI-I",39345,"CONDULETE EM PVC, TIPO \"X\", SEM TAMPA, DE 1\"                                                                                                                                                                                                                                                                                                                                                                                                                                                              ","UN    ","22,14",null,null,"CR"]
[{"$f":"CONCATENAR","v":"SINAPI-I 39344"},"SINAPI-I",39344,"CONDULETE EM PVC, TIPO \"X\", SEM TAMPA, DE 3/4\"                                                                                                                                                                                                                                                                                                                                                                                                                                                            ","UN    ","15,82",null,null,"CR"]
[{"$f":"CONCATENAR","v":"SINAPI-I 12623"},"SINAPI-I",12623,"CONDUTOR PLUVIAL, PVC, CIRCULAR, DIAMETRO ENTRE 80 E 100 MM, PARA DRENAGEM PLUVIAL PREDIAL                                                                                                                                                                                                                                                                                                                                                                                                                ","M     ","46,49",null,null,"CR"]
[{"$f":"CONCATENAR","v":"SINAPI-I 34498"},"SINAPI-I",34498,"CONE DE SINALIZACAO EM PVC FLEXIVEL, H = 70 / 76 CM (NBR 15071)                                                                                                                                                                                                                                                                                                                                                                                                                                           ","UN    ","132,80",null,null,"CR"]
[{"$f":"CONCATENAR","v":"SINAPI-I 13244"},"SINAPI-I",13244,"CONE DE SINALIZACAO EM PVC RIGIDO COM FAIXA REFLETIVA, H = 70 / 76 CM                                                                                                                                                                                                                                                                                                                                                                                                                                     ","UN    ","55,90",null,null,"C "]
[{"$f":"CONCATENAR","v":"SINAPI-I 38998"},"SINAPI-I",38998,"CONECTOR / ADAPTADOR F/F, COM INSERTO METALICO, PPR, DN 25 MM X 1/2\", PARA AGUA QUENTE E FRIA PREDIAL                                                                                                                                                                                                                                                                                                                                                                                                     ","UN    ","9,98",null,null,"CR"]
[{"$f":"CONCATENAR","v":"SINAPI-I 38999"},"SINAPI-I",38999,"CONECTOR / ADAPTADOR F/F, COM INSERTO METALICO, PPR, DN 32 MM X 3/4\", PARA AGUA QUENTE E FRIA PREDIAL                                                                                                                                                                                                                                                                                                                                                                                                     ","UN    ","25,23",null,null,"CR"]
[{"$f":"CONCATENAR","v":"SINAPI-I 38996"},"SINAPI-I",38996,"CONECTOR / ADAPTADOR F/M, COM INSERTO METALICO, PPR, DN 25 MM X 1/2\", PARA AGUA QUENTE E FRIA PREDIAL                                                                                                                                                                                                                                                                                                                                                                                                     ","UN    ","17,83",null,null,"CR"]
[{"$f":"CONCATENAR","v":"SINAPI-I 44173"},"SINAPI-I",44173,"CONECTOR / ADAPTADOR F/M, COM INSERTO METALICO, PPR, DN 25 MM X 3/4\", PARA AGUA QUENTE E FRIA PREDIAL                                                                                                                                                                                                                                                                                                                                                                                                     ","UN    ","17,34",null,null,"CR"]
[{"$f":"CONCATENAR","v":"SINAPI-I 44174"},"SINAPI-I",44174,"CONECTOR / ADAPTADOR F/M, COM INSERTO METALICO, PPR, DN 32 MM X 1\", PARA AGUA QUENTE E FRIA PREDIAL                                                                                                                                                                                                                                                                                                                                                                                                       ","UN    ","28,39",null,null,"CR"]
[{"$f":"CONCATENAR","v":"SINAPI-I 38997"},"SINAPI-I",38997,"CONECTOR / ADAPTADOR F/M, COM INSERTO METALICO, PPR, DN 32 MM X 3/4\", PARA AGUA QUENTE E FRIA PREDIAL                                                                                                                                                                                                                                                                                                                                                                                                     ","UN    ","25,51",null,null,"CR"]
[{"$f":"CONCATENAR","v":"SINAPI-I 39600"},"SINAPI-I",39600,"CONECTOR / TOMADA FEMEA RJ 45, CATEGORIA 5 E (CAT 5E) PARA CABOS                                                                                                                                                                                                                                                                                                                                                                                                                                          ","UN    ","17,30",null,null,"CR"]
[{"$f":"CONCATENAR","v":"SINAPI-I 39601"},"SINAPI-I",39601,"CONECTOR / TOMADA FEMEA RJ 45, CATEGORIA 6 (CAT 6) PARA CABOS                                                                                                                                                                                                                                                                                                                                                                                                                                             ","UN    ","36,70",null,null,"CR"]
[{"$f":"CONCATENAR","v":"SINAPI-I 39862"},"SINAPI-I",39862,"CONECTOR BRONZE/LATAO (REF 603) SEM ANEL DE SOLDA, BOLSA X ROSCA F, 15 MM X 1/2\"                                                                                                                                                                                                                                                                                                                                                                                                                          ","UN    ","13,75",null,null,"AS"]
[{"$f":"CONCATENAR","v":"SINAPI-I 39863"},"SINAPI-I",39863,"CONECTOR BRONZE/LATAO (REF 603) SEM ANEL DE SOLDA, BOLSA X ROSCA F, 22 MM X 1/2\"                                                                                                                                                                                                                                                                                                                                                                                                                          ","UN    ","13,94",null,null,"AS"]
[{"$f":"CONCATENAR","v":"SINAPI-I 39864"},"SINAPI-I",39864,"CONECTOR BRONZE/LATAO (REF 603) SEM ANEL DE SOLDA, BOLSA X ROSCA F, 22 MM X 3/4\"                                                                                                                                                                                                                                                                                                                                                                                                                          ","UN    ","17,30",null,null,"AS"]
[{"$f":"CONCATENAR","v":"SINAPI-I 39865"},"SINAPI-I",39865,"CONECTOR BRONZE/LATAO (REF 603) SEM ANEL DE SOLDA, BOLSA X ROSCA F, 28 MM X 1/2\"                                                                                                                                                                                                                                                                                                                                                                                                                          ","UN    ","24,38",null,null,"AS"]
[{"$f":"CONCATENAR","v":"SINAPI-I 2517"},"SINAPI-I",2517,"CONECTOR CURVO 90 GRAUS DE ALUMINIO, BITOLA 1 1/2\", PARA ADAPTAR ENTRADA DE ELETRODUTO METALICO FLEXIVEL EM QUADROS                                                                                                                                                                                                                                                                                                                                                                                       ","UN    ","30,00",null,null,"CR"]
[{"$f":"CONCATENAR","v":"SINAPI-I 2522"},"SINAPI-I",2522,"CONECTOR CURVO 90 GRAUS DE ALUMINIO, BITOLA 1 1/4\", PARA ADAPTAR ENTRADA DE ELETRODUTO METALICO FLEXIVEL EM QUADROS                                                                                                                                                                                                                                                                                                                                                                                       ","UN    ","19,39",null,null,"CR"]
[{"$f":"CONCATENAR","v":"SINAPI-I 2548"},"SINAPI-I",2548,"CONECTOR CURVO 90 GRAUS DE ALUMINIO, BITOLA 1/2\", PARA ADAPTAR ENTRADA DE ELETRODUTO METALICO FLEXIVEL EM QUADROS                                                                                                                                                                                                                                                                                                                                                                                         ","UN    ","11,92",null,null,"CR"]
[{"$f":"CONCATENAR","v":"SINAPI-I 2516"},"SINAPI-I",2516,"CONECTOR CURVO 90 GRAUS DE ALUMINIO, BITOLA 1\", PARA ADAPTAR ENTRADA DE ELETRODUTO METALICO FLEXIVEL EM QUADROS                                                                                                                                                                                                                                                                                                                                                                                           ","UN    ","15,57",null,null,"CR"]
[{"$f":"CONCATENAR","v":"SINAPI-I 2518"},"SINAPI-I",2518,"CONECTOR CURVO 90 GRAUS DE ALUMINIO, BITOLA 2 1/2\", PARA ADAPTAR ENTRADA DE ELETRODUTO METALICO FLEXIVEL EM QUADROS                                                                                                                                                                                                                                                                                                                                                                                       ","UN    ","142,79",null,null,"CR"]
[{"$f":"CONCATENAR","v":"SINAPI-I 2521"},"SINAPI-I",2521,"CONECTOR CURVO 90 GRAUS DE ALUMINIO, BITOLA 2\", PARA ADAPTAR ENTRADA DE ELETRODUTO METALICO FLEXIVEL EM QUADROS                                                                                                                                                                                                                                                                                                                                                                                           ","UN    ","60,78",null,null,"CR"]
[{"$f":"CONCATENAR","v":"SINAPI-I 2515"},"SINAPI-I",2515,"CONECTOR CURVO 90 GRAUS DE ALUMINIO, BITOLA 3/4\", PARA ADAPTAR ENTRADA DE ELETRODUTO METALICO FLEXIVEL EM QUADROS                                                                                                                                                                                                                                                                                                                                                                                         ","UN    ","12,95",null,null,"CR"]
[{"$f":"CONCATENAR","v":"SINAPI-I 2519"},"SINAPI-I",2519,"CONECTOR CURVO 90 GRAUS DE ALUMINIO, BITOLA 3\", PARA ADAPTAR ENTRADA DE ELETRODUTO METALICO FLEXIVEL EM QUADROS                                                                                                                                                                                                                                                                                                                                                                                           ","UN    ","172,18",null,null,"CR"]
[{"$f":"CONCATENAR","v":"SINAPI-I 2520"},"SINAPI-I",2520,"CONECTOR CURVO 90 GRAUS DE ALUMINIO, BITOLA 4\", PARA ADAPTAR ENTRADA DE ELETRODUTO METALICO FLEXIVEL EM QUADROS                                                                                                                                                                                                                                                                                                                                                                                           ","UN    ","316,89",null,null,"CR"]
[{"$f":"CONCATENAR","v":"SINAPI-I 1602"},"SINAPI-I",1602,"CONECTOR DE ALUMINIO TIPO PRENSA CABO, BITOLA 1 1/2\", PARA CABOS DE DIAMETRO DE 37 A 40 MM                                                                                                                                                                                                                                                                                                                                                                                                                ","UN    ","56,43",null,null,"CR"]
[{"$f":"CONCATENAR","v":"SINAPI-I 1601"},"SINAPI-I",1601,"CONECTOR DE ALUMINIO TIPO PRENSA CABO, BITOLA 1 1/4\", PARA CABOS DE DIAMETRO DE 31 A 34 MM                                                                                                                                                                                                                                                                                                                                                                                                                ","UN    ","50,29",null,null,"CR"]
[{"$f":"CONCATENAR","v":"SINAPI-I 1598"},"SINAPI-I",1598,"CONECTOR DE ALUMINIO TIPO PRENSA CABO, BITOLA 1/2\", PARA CABOS DE DIAMETRO DE 12,5 A 15 MM                                                                                                                                                                                                                                                                                                                                                                                                                ","UN    ","14,88",null,null,"CR"]
[{"$f":"CONCATENAR","v":"SINAPI-I 1600"},"SINAPI-I",1600,"CONECTOR DE ALUMINIO TIPO PRENSA CABO, BITOLA 1\", PARA CABOS DE DIAMETRO DE 22,5 A 25 MM                                                                                                                                                                                                                                                                                                                                                                                                                  ","UN    ","21,97",null,null,"CR"]
[{"$f":"CONCATENAR","v":"SINAPI-I 1603"},"SINAPI-I",1603,"CONECTOR DE ALUMINIO TIPO PRENSA CABO, BITOLA 2\", PARA CABOS DE DIAMETRO DE 47,5 A 50 MM                                                                                                                                                                                                                                                                                                                                                                                                                  ","UN    ","85,20",null,null,"CR"]
[{"$f":"CONCATENAR","v":"SINAPI-I 1599"},"SINAPI-I",1599,"CONECTOR DE ALUMINIO TIPO PRENSA CABO, BITOLA 3/4\", PARA CABOS DE DIAMETRO DE 17,5 A 20 MM                                                                                                                                                                                                                                                                                                                                                                                                                ","UN    ","17,27",null,null,"CR"]
[{"$f":"CONCATENAR","v":"SINAPI-I 1597"},"SINAPI-I",1597,"CONECTOR DE ALUMINIO TIPO PRENSA CABO, BITOLA 3/8\", PARA CABOS DE DIAMETRO DE 9 A 10 MM                                                                                                                                                                                                                                                                                                                                                                                                                   ","UN    ","13,99",null,null,"CR"]
[{"$f":"CONCATENAR","v":"SINAPI-I 39602"},"SINAPI-I",39602,"CONECTOR MACHO RJ 45, CATEGORIA 5 E (CAT 5E) PARA CABOS                                                                                                                                                                                                                                                                                                                                                                                                                                                   ","UN    ","1,83",null,null,"CR"]
[{"$f":"CONCATENAR","v":"SINAPI-I 39603"},"SINAPI-I",39603,"CONECTOR MACHO RJ 45, CATEGORIA 6 (CAT 6) PARA CABOS                                                                                                                                                                                                                                                                                                                                                                                                                                                      ","UN    ","3,91",null,null,"CR"]
[{"$f":"CONCATENAR","v":"SINAPI-I 11821"},"SINAPI-I",11821,"CONECTOR METALICO TIPO PARAFUSO FENDIDO (SPLIT BOLT), COM SEPARADOR DE CABOS BIMETALICOS, PARA CABOS ATE 25 MM2                                                                                                                                                                                                                                                                                                                                                                                           ","UN    ","11,49",null,null,"CR"]
[{"$f":"CONCATENAR","v":"SINAPI-I 1562"},"SINAPI-I",1562,"CONECTOR METALICO TIPO PARAFUSO FENDIDO (SPLIT BOLT), COM SEPARADOR DE CABOS BIMETALICOS, PARA CABOS ATE 50 MM2                                                                                                                                                                                                                                                                                                                                                                                           ","UN    ","18,82",null,null,"CR"]
[{"$f":"CONCATENAR","v":"SINAPI-I 1563"},"SINAPI-I",1563,"CONECTOR METALICO TIPO PARAFUSO FENDIDO (SPLIT BOLT), COM SEPARADOR DE CABOS BIMETALICOS, PARA CABOS ATE 70 MM2                                                                                                                                                                                                                                                                                                                                                                                           ","UN    ","25,26",null,null,"CR"]
[{"$f":"CONCATENAR","v":"SINAPI-I 11856"},"SINAPI-I",11856,"CONECTOR METALICO TIPO PARAFUSO FENDIDO (SPLIT BOLT), PARA CABOS ATE 10 MM2                                                                                                                                                                                                                                                                                                                                                                                                                               ","UN    ","7,53",null,null,"C "]
[{"$f":"CONCATENAR","v":"SINAPI-I 11857"},"SINAPI-I",11857,"CONECTOR METALICO TIPO PARAFUSO FENDIDO (SPLIT BOLT), PARA CABOS ATE 120 MM2                                                                                                                                                                                                                                                                                                                                                                                                                              ","UN    ","39,63",null,null,"CR"]
[{"$f":"CONCATENAR","v":"SINAPI-I 11858"},"SINAPI-I",11858,"CONECTOR METALICO TIPO PARAFUSO FENDIDO (SPLIT BOLT), PARA CABOS ATE 150 MM2                                                                                                                                                                                                                                                                                                                                                                                                                              ","UN    ","49,18",null,null,"CR"]
[{"$f":"CONCATENAR","v":"SINAPI-I 1539"},"SINAPI-I",1539,"CONECTOR METALICO TIPO PARAFUSO FENDIDO (SPLIT BOLT), PARA CABOS ATE 16 MM2                                                                                                                                                                                                                                                                                                                                                                                                                               ","UN    ","8,85",null,null,"CR"]
[{"$f":"CONCATENAR","v":"SINAPI-I 11859"},"SINAPI-I",11859,"CONECTOR METALICO TIPO PARAFUSO FENDIDO (SPLIT BOLT), PARA CABOS ATE 185 MM2                                                                                                                                                                                                                                                                                                                                                                                                                              ","UN    ","66,92",null,null,"CR"]
[{"$f":"CONCATENAR","v":"SINAPI-I 1550"},"SINAPI-I",1550,"CONECTOR METALICO TIPO PARAFUSO FENDIDO (SPLIT BOLT), PARA CABOS ATE 25 MM2                                                                                                                                                                                                                                                                                                                                                                                                                               ","UN    ","9,34",null,null,"CR"]
[{"$f":"CONCATENAR","v":"SINAPI-I 11854"},"SINAPI-I",11854,"CONECTOR METALICO TIPO PARAFUSO FENDIDO (SPLIT BOLT), PARA CABOS ATE 35 MM2                                                                                                                                                                                                                                                                                                                                                                                                                               ","UN    ","11,66",null,null,"CR"]
[{"$f":"CONCATENAR","v":"SINAPI-I 11862"},"SINAPI-I",11862,"CONECTOR METALICO TIPO PARAFUSO FENDIDO (SPLIT BOLT), PARA CABOS ATE 50 MM2                                                                                                                                                                                                                                                                                                                                                                                                                               ","UN    ","16,36",null,null,"CR"]
[{"$f":"CONCATENAR","v":"SINAPI-I 11863"},"SINAPI-I",11863,"CONECTOR METALICO TIPO PARAFUSO FENDIDO (SPLIT BOLT), PARA CABOS ATE 6 MM2                                                                                                                                                                                                                                                                                                                                                                                                                                ","UN    ","6,61",null,null,"CR"]
[{"$f":"CONCATENAR","v":"SINAPI-I 11855"},"SINAPI-I",11855,"CONECTOR METALICO TIPO PARAFUSO FENDIDO (SPLIT BOLT), PARA CABOS ATE 70 MM2                                                                                                                                                                                                                                                                                                                                                                                                                               ","UN    ","24,42",null,null,"CR"]
[{"$f":"CONCATENAR","v":"SINAPI-I 11864"},"SINAPI-I",11864,"CONECTOR METALICO TIPO PARAFUSO FENDIDO (SPLIT BOLT), PARA CABOS ATE 95 MM2                                                                                                                                                                                                                                                                                                                                                                                                                               ","UN    ","36,93",null,null,"CR"]
[{"$f":"CONCATENAR","v":"SINAPI-I 2527"},"SINAPI-I",2527,"CONECTOR RETO DE ALUMINIO PARA ELETRODUTO DE 1 1/2\", PARA ADAPTAR ENTRADA DE ELETRODUTO METALICO FLEXIVEL EM QUADROS                                                                                                                                                                                                                                                                                                                                                                                      ","UN    ","10,74",null,null,"CR"]
[{"$f":"CONCATENAR","v":"SINAPI-I 2526"},"SINAPI-I",2526,"CONECTOR RETO DE ALUMINIO PARA ELETRODUTO DE 1 1/4\", PARA ADAPTAR ENTRADA DE ELETRODUTO METALICO FLEXIVEL EM QUADROS                                                                                                                                                                                                                                                                                                                                                                                      ","UN    ","6,88",null,null,"CR"]
[{"$f":"CONCATENAR","v":"SINAPI-I 2487"},"SINAPI-I",2487,"CONECTOR RETO DE ALUMINIO PARA ELETRODUTO DE 1/2\", PARA ADAPTAR ENTRADA DE ELETRODUTO METALICO FLEXIVEL EM QUADROS                                                                                                                                                                                                                                                                                                                                                                                        ","UN    ","2,34",null,null,"CR"]
[{"$f":"CONCATENAR","v":"SINAPI-I 2483"},"SINAPI-I",2483,"CONECTOR RETO DE ALUMINIO PARA ELETRODUTO DE 1\", PARA ADAPTAR ENTRADA DE ELETRODUTO METALICO FLEXIVEL EM QUADROS                                                                                                                                                                                                                                                                                                                                                                                          ","UN    ","4,90",null,null,"CR"]
[{"$f":"CONCATENAR","v":"SINAPI-I 2528"},"SINAPI-I",2528,"CONECTOR RETO DE ALUMINIO PARA ELETRODUTO DE 2 1/2\", PARA ADAPTAR ENTRADA DE ELETRODUTO METALICO FLEXIVEL EM QUADROS                                                                                                                                                                                                                                                                                                                                                                                      ","UN    ","27,02",null,null,"CR"]
[{"$f":"CONCATENAR","v":"SINAPI-I 2489"},"SINAPI-I",2489,"CONECTOR RETO DE ALUMINIO PARA ELETRODUTO DE 2\", PARA ADAPTAR ENTRADA DE ELETRODUTO METALICO FLEXIVEL EM QUADROS                                                                                                                                                                                                                                                                                                                                                                                          ","UN    ","11,90",null,null,"CR"]
[{"$f":"CONCATENAR","v":"SINAPI-I 2488"},"SINAPI-I",2488,"CONECTOR RETO DE ALUMINIO PARA ELETRODUTO DE 3/4\", PARA ADAPTAR ENTRADA DE ELETRODUTO METALICO FLEXIVEL EM QUADROS                                                                                                                                                                                                                                                                                                                                                                                        ","UN    ","2,75",null,null,"CR"]
[{"$f":"CONCATENAR","v":"SINAPI-I 2484"},"SINAPI-I",2484,"CONECTOR RETO DE ALUMINIO PARA ELETRODUTO DE 3\", PARA ADAPTAR ENTRADA DE ELETRODUTO METALICO FLEXIVEL EM QUADROS                                                                                                                                                                                                                                                                                                                                                                                          ","UN    ","39,24",null,null,"CR"]
[{"$f":"CONCATENAR","v":"SINAPI-I 2485"},"SINAPI-I",2485,"CONECTOR RETO DE ALUMINIO PARA ELETRODUTO DE 4\", PARA ADAPTAR ENTRADA DE ELETRODUTO METALICO FLEXIVEL EM QUADROS                                                                                                                                                                                                                                                                                                                                                                                          ","UN    ","61,51",null,null,"CR"]
[{"$f":"CONCATENAR","v":"SINAPI-I 39279"},"SINAPI-I",39279,"CONECTOR/ADAPTADOR FIXO, ROSCA FEMEA, EM PLASTICO, DN 16 MM X 1/2\", PARA CONEXAO COM CRIMPAGEM, EM TUBO PEX PARA INST. AGUA QUENTE/FRIA                                                                                                                                                                                                                                                                                                                                                                   ","UN    ","17,86",null,null,"CR"]
[{"$f":"CONCATENAR","v":"SINAPI-I 39280"},"SINAPI-I",39280,"CONECTOR/ADAPTADOR FIXO, ROSCA FEMEA, EM PLASTICO, DN 20 MM X 1/2\", PARA CONEXAO COM CRIMPAGEM, EM TUBO PEX PARA INST. AGUA QUENTE/FRIA                                                                                                                                                                                                                                                                                                                                                                   ","UN    ","20,01",null,null,"CR"]
[{"$f":"CONCATENAR","v":"SINAPI-I 39281"},"SINAPI-I",39281,"CONECTOR/ADAPTADOR FIXO, ROSCA FEMEA, EM PLASTICO, DN 20 MM X 3/4\", PARA CONEXAO COM CRIMPAGEM, EM TUBO PEX PARA INST. AGUA QUENTE/FRIA                                                                                                                                                                                                                                                                                                                                                                   ","UN    ","26,45",null,null,"CR"]
[{"$f":"CONCATENAR","v":"SINAPI-I 39282"},"SINAPI-I",39282,"CONECTOR/ADAPTADOR FIXO, ROSCA FEMEA, EM PLASTICO, DN 25 MM X 3/4\", PARA CONEXAO COM CRIMPAGEM, EM TUBO PEX PARA INST. AGUA QUENTE/FRIA                                                                                                                                                                                                                                                                                                                                                                   ","UN    ","36,92",null,null,"CR"]
[{"$f":"CONCATENAR","v":"SINAPI-I 38844"},"SINAPI-I",38844,"CONECTOR/ADAPTADOR FIXO, ROSCA FEMEA, METALICA, COM ANEL DESLIZANTE, DN 16 MM X 1/2\", PARA TUBO PEX PARA INST. AGUA QUENTE/FRIA                                                                                                                                                                                                                                                                                                                                                                           ","UN    ","18,11",null,null,"C "]
[{"$f":"CONCATENAR","v":"SINAPI-I 38846"},"SINAPI-I",38846,"CONECTOR/ADAPTADOR FIXO, ROSCA FEMEA, METALICA, COM ANEL DESLIZANTE, DN 20 MM X 1/2\", PARA TUBO PEX PARA INST. AGUA QUENTE/FRIA                                                                                                                                                                                                                                                                                                                                                                           ","UN    ","18,43",null,null,"CR"]
[{"$f":"CONCATENAR","v":"SINAPI-I 38847"},"SINAPI-I",38847,"CONECTOR/ADAPTADOR FIXO, ROSCA FEMEA, METALICA, COM ANEL DESLIZANTE, DN 20 MM X 3/4\", PARA TUBO PEX PARA INST. AGUA QUENTE/FRIA                                                                                                                                                                                                                                                                                                                                                                           ","UN    ","21,59",null,null,"CR"]
[{"$f":"CONCATENAR","v":"SINAPI-I 38850"},"SINAPI-I",38850,"CONECTOR/ADAPTADOR FIXO, ROSCA FEMEA, METALICA, COM ANEL DESLIZANTE, DN 25 MM X 1\", PARA TUBO PEX PARA INST. AGUA QUENTE/FRIA                                                                                                                                                                                                                                                                                                                                                                             ","UN    ","38,98",null,null,"CR"]
[{"$f":"CONCATENAR","v":"SINAPI-I 38848"},"SINAPI-I",38848,"CONECTOR/ADAPTADOR FIXO, ROSCA FEMEA, METALICA, COM ANEL DESLIZANTE, DN 25 MM X 3/4\", PARA TUBO PEX PARA INST. AGUA QUENTE/FRIA                                                                                                                                                                                                                                                                                                                                                                           ","UN    ","25,56",null,null,"CR"]
[{"$f":"CONCATENAR","v":"SINAPI-I 38851"},"SINAPI-I",38851,"CONECTOR/ADAPTADOR FIXO, ROSCA FEMEA, METALICA, COM ANEL DESLIZANTE, DN 32 MM X 1\", PARA TUBO PEX PARA INST. AGUA QUENTE/FRIA                                                                                                                                                                                                                                                                                                                                                                             ","UN    ","44,08",null,null,"CR"]
[{"$f":"CONCATENAR","v":"SINAPI-I 38854"},"SINAPI-I",38854,"CONECTOR/ADAPTADOR MOVEL, ROSCA FEMEA, METALICA, COM ANEL DESLIZANTE, DN 16 MM X 3/4\", PARA TUBO PEX PARA INST. AGUA QUENTE/FRIA                                                                                                                                                                                                                                                                                                                                                                          ","UN    ","19,15",null,null,"CR"]
[{"$f":"CONCATENAR","v":"SINAPI-I 44247"},"SINAPI-I",44247,"CONECTOR, CPVC, SOLDAVEL, 114 MM X 4\", PARA AGUA QUENTE                                                                                                                                                                                                                                                                                                                                                                                                                                                   ","UN    ","1.555,55",null,null,"CR"]
[{"$f":"CONCATENAR","v":"SINAPI-I 38005"},"SINAPI-I",38005,"CONECTOR, CPVC, SOLDAVEL, 15 MM X 1/2\", PARA AGUA QUENTE                                                                                                                                                                                                                                                                                                                                                                                                                                                  ","UN    ","18,49",null,null,"CR"]
[{"$f":"CONCATENAR","v":"SINAPI-I 38006"},"SINAPI-I",38006,"CONECTOR, CPVC, SOLDAVEL, 22 MM X 1/2\", PARA AGUA QUENTE                                                                                                                                                                                                                                                                                                                                                                                                                                                  ","UN    ","24,58",null,null,"CR"]
[{"$f":"CONCATENAR","v":"SINAPI-I 38428"},"SINAPI-I",38428,"CONECTOR, CPVC, SOLDAVEL, 22 MM X 3/4\", PARA AGUA QUENTE                                                                                                                                                                                                                                                                                                                                                                                                                                                  ","UN    ","22,01",null,null,"CR"]
[{"$f":"CONCATENAR","v":"SINAPI-I 38007"},"SINAPI-I",38007,"CONECTOR, CPVC, SOLDAVEL, 28 MM X 1\", PARA AGUA QUENTE                                                                                                                                                                                                                                                                                                                                                                                                                                                    ","UN    ","28,36",null,null,"CR"]
[{"$f":"CONCATENAR","v":"SINAPI-I 38008"},"SINAPI-I",38008,"CONECTOR, CPVC, SOLDAVEL, 35 MM X 1 1/4\", PARA AGUA QUENTE                                                                                                                                                                                                                                                                                                                                                                                                                                                ","UN    ","45,38",null,null,"CR"]
[{"$f":"CONCATENAR","v":"SINAPI-I 38009"},"SINAPI-I",38009,"CONECTOR, CPVC, SOLDAVEL, 42 MM X 1 1/2\", PARA AGUA QUENTE                                                                                                                                                                                                                                                                                                                                                                                                                                                ","UN    ","55,55",null,null,"CR"]
[{"$f":"CONCATENAR","v":"SINAPI-I 44248"},"SINAPI-I",44248,"CONECTOR, CPVC, SOLDAVEL, 54 MM X 2\", PARA AGUA QUENTE                                                                                                                                                                                                                                                                                                                                                                                                                                                    ","UN    ","90,55",null,null,"CR"]
[{"$f":"CONCATENAR","v":"SINAPI-I 44249"},"SINAPI-I",44249,"CONECTOR, CPVC, SOLDAVEL, 73 MM X 2 1/2\", PARA AGUA QUENTE                                                                                                                                                                                                                                                                                                                                                                                                                                                ","UN    ","349,36",null,null,"CR"]
[{"$f":"CONCATENAR","v":"SINAPI-I 44250"},"SINAPI-I",44250,"CONECTOR, CPVC, SOLDAVEL, 89 MM X 3\", PARA AGUA QUENTE                                                                                                                                                                                                                                                                                                                                                                                                                                                    ","UN    ","507,34",null,null,"CR"]
[{"$f":"CONCATENAR","v":"SINAPI-I 3104"},"SINAPI-I",3104,"CONJ. DE FERRAGENS PARA PORTA DE VIDRO TEMPERADO, EM ZAMAC CROMADO, CONTEMPLANDO DOBRADICA INF., DOBRADICA SUP., PIVO PARA DOBRADICA INF., PIVO PARA DOBRADICA SUP., FECHADURA CENTRAL EM ZAMC. CROMADO, CONTRA FECHADURA DE PRESSAO                                                                                                                                                                                                                                                                      ","CJ    ","191,32",null,null,"CR"]
[{"$f":"CONCATENAR","v":"SINAPI-I 1607"},"SINAPI-I",1607,"CONJUNTO ARRUELAS DE VEDACAO 5/16\" PARA TELHA FIBROCIMENTO (UMA ARRUELA METALICA E UMA ARRUELA PVC - CONICAS)                                                                                                                                                                                                                                                                                                                                                                                             ","CJ    ","0,26",null,null,"CR"]
[{"$f":"CONCATENAR","v":"SINAPI-I 38169"},"SINAPI-I",38169,"CONJUNTO DE FERRAGENS PIVO, PARA PORTA PIVOTANTE DE ATE 100 KG, REGULAVEL COM ESFERA, CROMADO - SUPERIOR E INFERIOR - COMPLETO                                                                                                                                                                                                                                                                                                                                                                            ","CJ    ","84,58",null,null,"CR"]
[{"$f":"CONCATENAR","v":"SINAPI-I 6142"},"SINAPI-I",6142,"CONJUNTO DE LIGACAO AJUSTAVEL, PARA VASO / BACIA SANITARIA, EM PLASTICO BRANCO, COM TUBO, CANOPLA E ESPUDE                                                                                                                                                                                                                                                                                                                                                                                                ","UN    ","9,44",null,null,"CR"]
[{"$f":"CONCATENAR","v":"SINAPI-I 11686"},"SINAPI-I",11686,"CONJUNTO DE LIGACAO PARA VASO / BACIA SANITARIA, EM PLASTICO BRANCO, COM TUBO, CANOPLA E ANEL DE EXPANSAO (TUBO 1.1/2\" X 20 CM)                                                                                                                                                                                                                                                                                                                                                                           ","UN    ","13,10",null,null,"CR"]
[{"$f":"CONCATENAR","v":"SINAPI-I 37598"},"SINAPI-I",37598,"CONJUNTO MONTADO ESTOPIM COM ESPOLETA COMUM NUMERO 8, COM CABECA ACENDEDORA, 1,5 M                                                                                                                                                                                                                                                                                                                                                                                                                        ","UN    ","38,11",null,null,"AS"]
[{"$f":"CONCATENAR","v":"SINAPI-I 25398"},"SINAPI-I",25398,"CONJUNTO PARA FUTSAL COM PAR DE TRAVES OFICIAIS DE 3,00 X 2,00 M EM TUBO DE ACO GALVANIZADO 3\" COM REQUADROS EM TUBO DE 1\", PINTURA EM PRIMER COM TINTA ESMALTE SINTETICO E REDES DE POLIETILENO FIO 4 MM                                                                                                                                                                                                                                                                                                 ","UN    ","5.306,29",null,null,"CR"]
[{"$f":"CONCATENAR","v":"SINAPI-I 25399"},"SINAPI-I",25399,"CONJUNTO PARA QUADRA DE VOLEI COM POSTES EM TUBO DE ACO GALVANIZADO 3\", H = *255* CM, PINTURA EM TINTA ESMALTE SINTETICO, REDE DE NYLON COM 2 MM, MALHA 10 X 10 CM E ANTENAS OFICIAIS EM FIBRA DE VIDRO                                                                                                                                                                                                                                                                                                   ","UN    ","3.221,38",null,null,"CR"]
[{"$f":"CONCATENAR","v":"SINAPI-I 43440"},"SINAPI-I",43440,"CONJUNTO PRE-MOLDADO COMPOSTO POR GRELHA (0,99 X 0,45 M), QUADRO (1,10 X 0,52 M) E CANTONEIRA (1,10 X 0,35 M), EM CONCRETO ARMADO, COM FCK DE 21 MPA                                                                                                                                                                                                                                                                                                                                                      ","UN    ","466,76",null,null,"CR"]
[{"$f":"CONCATENAR","v":"SINAPI-I 10667"},"SINAPI-I",10667,"CONTAINER ALMOXARIFADO, DE *2,40* X *6,00* M, PADRAO SIMPLES, SEM REVESTIMENTO E SEM DIVISORIAS INTERNOS E SEM SANITARIO, PARA USO EM CANTEIRO DE OBRAS                                                                                                                                                                                                                                                                                                                                                   ","UN    ","21.983,00",null,null,"C "]
[{"$f":"CONCATENAR","v":"SINAPI-I 1613"},"SINAPI-I",1613,"CONTATOR TRIPOLAR, CORRENTE DE *110* A, TENSAO NOMINAL DE *500* V, CATEGORIA AC-2 E AC-3                                                                                                                                                                                                                                                                                                                                                                                                                  ","UN    ","2.440,88",null,null,"CR"]
[{"$f":"CONCATENAR","v":"SINAPI-I 1626"},"SINAPI-I",1626,"CONTATOR TRIPOLAR, CORRENTE DE *185* A, TENSAO NOMINAL DE *500* V, CATEGORIA AC-2 E AC-3                                                                                                                                                                                                                                                                                                                                                                                                                  ","UN    ","3.650,63",null,null,"CR"]
[{"$f":"CONCATENAR","v":"SINAPI-I 1625"},"SINAPI-I",1625,"CONTATOR TRIPOLAR, CORRENTE DE *22* A, TENSAO NOMINAL DE *500* V, CATEGORIA AC-2 E AC-3                                                                                                                                                                                                                                                                                                                                                                                                                   ","UN    ","254,98",null,null,"CR"]
[{"$f":"CONCATENAR","v":"SINAPI-I 1622"},"SINAPI-I",1622,"CONTATOR TRIPOLAR, CORRENTE DE *265* A, TENSAO NOMINAL DE *500* V, CATEGORIA AC-2 E AC-3                                                                                                                                                                                                                                                                                                                                                                                                                  ","UN    ","8.237,97",null,null,"CR"]
[{"$f":"CONCATENAR","v":"SINAPI-I 1620"},"SINAPI-I",1620,"CONTATOR TRIPOLAR, CORRENTE DE *38* A, TENSAO NOMINAL DE *500* V, CATEGORIA AC-2 E AC-3                                                                                                                                                                                                                                                                                                                                                                                                                   ","UN    ","537,13",null,null,"CR"]
[{"$f":"CONCATENAR","v":"SINAPI-I 1629"},"SINAPI-I",1629,"CONTATOR TRIPOLAR, CORRENTE DE *500* A, TENSAO NOMINAL DE *500* V, CATEGORIA AC-2 E AC-3                                                                                                                                                                                                                                                                                                                                                                                                                  ","UN    ","20.049,26",null,null,"CR"]
[{"$f":"CONCATENAR","v":"SINAPI-I 1627"},"SINAPI-I",1627,"CONTATOR TRIPOLAR, CORRENTE DE *65* A, TENSAO NOMINAL DE *500* V, CATEGORIA AC-2 E AC-3                                                                                                                                                                                                                                                                                                                                                                                                                   ","UN    ","1.026,70",null,null,"CR"]
[{"$f":"CONCATENAR","v":"SINAPI-I 1623"},"SINAPI-I",1623,"CONTATOR TRIPOLAR, CORRENTE DE 12 A, TENSAO NOMINAL DE *500* V, CATEGORIA AC-2 E AC-3                                                                                                                                                                                                                                                                                                                                                                                                                     ","UN    ","207,95",null,null,"CR"]
[{"$f":"CONCATENAR","v":"SINAPI-I 1619"},"SINAPI-I",1619,"CONTATOR TRIPOLAR, CORRENTE DE 25 A, TENSAO NOMINAL DE *500* V, CATEGORIA AC-2 E AC-3                                                                                                                                                                                                                                                                                                                                                                                                                     ","UN    ","286,05",null,null,"CR"]
[{"$f":"CONCATENAR","v":"SINAPI-I 1630"},"SINAPI-I",1630,"CONTATOR TRIPOLAR, CORRENTE DE 250 A, TENSAO NOMINAL DE *500* V, PARA ACIONAMENTO DE CAPACITORES                                                                                                                                                                                                                                                                                                                                                                                                          ","UN    ","6.298,10",null,null,"CR"]
[{"$f":"CONCATENAR","v":"SINAPI-I 1616"},"SINAPI-I",1616,"CONTATOR TRIPOLAR, CORRENTE DE 300 A, TENSAO NOMINAL DE *500* V, CATEGORIA AC-2 E AC-3                                                                                                                                                                                                                                                                                                                                                                                                                    ","UN    ","9.686,59",null,null,"CR"]
[{"$f":"CONCATENAR","v":"SINAPI-I 1614"},"SINAPI-I",1614,"CONTATOR TRIPOLAR, CORRENTE DE 32 A, TENSAO NOMINAL DE *500* V, CATEGORIA AC-2 E AC-3                                                                                                                                                                                                                                                                                                                                                                                                                     ","UN    ","442,71",null,null,"CR"]
[{"$f":"CONCATENAR","v":"SINAPI-I 1617"},"SINAPI-I",1617,"CONTATOR TRIPOLAR, CORRENTE DE 400 A, TENSAO NOMINAL DE *500* V, CATEGORIA AC-2 E AC-3                                                                                                                                                                                                                                                                                                                                                                                                                    ","UN    ","11.563,69",null,null,"CR"]
[{"$f":"CONCATENAR","v":"SINAPI-I 1621"},"SINAPI-I",1621,"CONTATOR TRIPOLAR, CORRENTE DE 45 A, TENSAO NOMINAL DE *500* V, CATEGORIA AC-2 E AC-3                                                                                                                                                                                                                                                                                                                                                                                                                     ","UN    ","791,78",null,null,"CR"]
[{"$f":"CONCATENAR","v":"SINAPI-I 1624"},"SINAPI-I",1624,"CONTATOR TRIPOLAR, CORRENTE DE 630 A, TENSAO NOMINAL DE *500* V, CATEGORIA AC-2 E AC-3                                                                                                                                                                                                                                                                                                                                                                                                                    ","UN    ","28.424,10",null,null,"CR"]
[{"$f":"CONCATENAR","v":"SINAPI-I 1615"},"SINAPI-I",1615,"CONTATOR TRIPOLAR, CORRENTE DE 75 A, TENSAO NOMINAL DE *500* V, CATEGORIA AC-2 E AC-3                                                                                                                                                                                                                                                                                                                                                                                                                     ","UN    ","1.486,83",null,null,"CR"]
[{"$f":"CONCATENAR","v":"SINAPI-I 1612"},"SINAPI-I",1612,"CONTATOR TRIPOLAR, CORRENTE DE 9 A, TENSAO NOMINAL DE *500* V, CATEGORIA AC-2 E AC-3                                                                                                                                                                                                                                                                                                                                                                                                                      ","UN    ","195,83",null,null,"C "]
[{"$f":"CONCATENAR","v":"SINAPI-I 1618"},"SINAPI-I",1618,"CONTATOR TRIPOLAR, CORRENTE DE 95 A, TENSAO NOMINAL DE *500* V, CATEGORIA AC-2 E AC-3                                                                                                                                                                                                                                                                                                                                                                                                                     ","UN    ","2.043,13",null,null,"CR"]
[{"$f":"CONCATENAR","v":"SINAPI-I 14211"},"SINAPI-I",14211,"CONTRA-PORCA SEXTAVADA, DIAMETRO NOMINAL 1 3/8\", ALTURA 35 MM                                                                                                                                                                                                                                                                                                                                                                                                                                             ","UN    ","47,39",null,null,"AS"]
[{"$f":"CONCATENAR","v":"SINAPI-I 43657"},"SINAPI-I",43657,"CONTRAMARCO DE ALUMINIO (PERFIL 25) PARA ESQUADRIAS, TIPO CONVENCIONAL / CADEIRINHA, 60 MM (CM-060), INCLUSO CONEXOES, GRAPAS E TRAVAMENTOS                                                                                                                                                                                                                                                                                                                                                               ","M     ","9,18",null,null,"CR"]
[{"$f":"CONCATENAR","v":"SINAPI-I 38200"},"SINAPI-I",38200,"CORDA DE POLIAMIDA 12 MM TIPO BOMBEIRO, PARA TRABALHO EM ALTURA                                                                                                                                                                                                                                                                                                                                                                                                                                           ","100M  ","732,86",null,null,"CR"]
[{"$f":"CONCATENAR","v":"SINAPI-I 39269"},"SINAPI-I",39269,"CORDAO DE COBRE, FLEXIVEL, TORCIDO, CLASSE 4 OU 5, ISOLACAO EM PVC/D, 300 V, 2 CONDUTORES DE 0,5 MM2                                                                                                                                                                                                                                                                                                                                                                                                      ","M     ","1,29",null,null,"CR"]
[{"$f":"CONCATENAR","v":"SINAPI-I 11889"},"SINAPI-I",11889,"CORDAO DE COBRE, FLEXIVEL, TORCIDO, CLASSE 4 OU 5, ISOLACAO EM PVC/D, 300 V, 2 CONDUTORES DE 0,75 MM2                                                                                                                                                                                                                                                                                                                                                                                                     ","M     ","1,77",null,null,"CR"]
[{"$f":"CONCATENAR","v":"SINAPI-I 39270"},"SINAPI-I",39270,"CORDAO DE COBRE, FLEXIVEL, TORCIDO, CLASSE 4 OU 5, ISOLACAO EM PVC/D, 300 V, 2 CONDUTORES DE 1,0 MM2                                                                                                                                                                                                                                                                                                                                                                                                      ","M     ","2,30",null,null,"CR"]
[{"$f":"CONCATENAR","v":"SINAPI-I 11890"},"SINAPI-I",11890,"CORDAO DE COBRE, FLEXIVEL, TORCIDO, CLASSE 4 OU 5, ISOLACAO EM PVC/D, 300 V, 2 CONDUTORES DE 1,5 MM2                                                                                                                                                                                                                                                                                                                                                                                                      ","M     ","3,13",null,null,"CR"]
[{"$f":"CONCATENAR","v":"SINAPI-I 11891"},"SINAPI-I",11891,"CORDAO DE COBRE, FLEXIVEL, TORCIDO, CLASSE 4 OU 5, ISOLACAO EM PVC/D, 300 V, 2 CONDUTORES DE 2,5 MM2                                                                                                                                                                                                                                                                                                                                                                                                      ","M     ","5,07",null,null,"CR"]
[{"$f":"CONCATENAR","v":"SINAPI-I 11892"},"SINAPI-I",11892,"CORDAO DE COBRE, FLEXIVEL, TORCIDO, CLASSE 4 OU 5, ISOLACAO EM PVC/D, 300 V, 2 CONDUTORES DE 4 MM2                                                                                                                                                                                                                                                                                                                                                                                                        ","M     ","8,29",null,null,"CR"]
[{"$f":"CONCATENAR","v":"SINAPI-I 37601"},"SINAPI-I",37601,"CORDEL DETONANTE, NP 05 G/M                                                                                                                                                                                                                                                                                                                                                                                                                                                                               ","M     ","8,47",null,null,"AS"]
[{"$f":"CONCATENAR","v":"SINAPI-I 1634"},"SINAPI-I",1634,"CORDEL DETONANTE, NP 10 G/M                                                                                                                                                                                                                                                                                                                                                                                                                                                                               ","M     ","8,75",null,null,"AS"]
[{"$f":"CONCATENAR","v":"SINAPI-I 5086"},"SINAPI-I",5086,"CORRENTE DE ELO CURTO COMUM, SOLDADA, GALVANIZADA, ESPESSURA DO ELO = 1/2\" (12,5 MM)                                                                                                                                                                                                                                                                                                                                                                                                                      ","KG    ","35,01",null,null,"CR"]
[{"$f":"CONCATENAR","v":"SINAPI-I 11280"},"SINAPI-I",11280,"CORTADEIRA DE PISO DE CONCRETO E ASFALTO, PARA DISCO PADRAO DE DIAMETRO 350 MM (14\") OU 450 MM (18\"), MOTOR A GASOLINA, POTENCIA 13 HP, SEM DISCO                                                                                                                                                                                                                                                                                                                                                         ","UN    ","13.399,71",null,null,"CR"]
[{"$f":"CONCATENAR","v":"SINAPI-I 40519"},"SINAPI-I",40519,"CORTADEIRA HIDRAULICA DE VERGALHAO, PARA ACO DE DIAMETRO ATE 50 MM, MOTOR ELETRICO TRIFASICO, POTENCIA DE 5,5 HP A 7,5 HP                                                                                                                                                                                                                                                                                                                                                                                 ","UN    ","110.462,64",null,null,"CR"]
[{"$f":"CONCATENAR","v":"SINAPI-I 39869"},"SINAPI-I",39869,"COTOVELO BRONZE/LATAO (REF 707-3) SEM ANEL DE SOLDA, BOLSA X ROSCA F, 15MM X 1/2\"                                                                                                                                                                                                                                                                                                                                                                                                                         ","UN    ","13,65",null,null,"AS"]
[{"$f":"CONCATENAR","v":"SINAPI-I 39870"},"SINAPI-I",39870,"COTOVELO BRONZE/LATAO (REF 707-3) SEM ANEL DE SOLDA, BOLSA X ROSCA F, 22MM X 1/2\"                                                                                                                                                                                                                                                                                                                                                                                                                         ","UN    ","20,88",null,null,"AS"]
[{"$f":"CONCATENAR","v":"SINAPI-I 39871"},"SINAPI-I",39871,"COTOVELO BRONZE/LATAO (REF 707-3) SEM ANEL DE SOLDA, BOLSA X ROSCA F, 22MM X 3/4\"                                                                                                                                                                                                                                                                                                                                                                                                                         ","UN    ","23,40",null,null,"AS"]
[{"$f":"CONCATENAR","v":"SINAPI-I 12722"},"SINAPI-I",12722,"COTOVELO DE COBRE 90 GRAUS (REF 607) SEM ANEL DE SOLDA, BOLSA X BOLSA, 104 MM                                                                                                                                                                                                                                                                                                                                                                                                                             ","UN    ","783,17",null,null,"AS"]
[{"$f":"CONCATENAR","v":"SINAPI-I 12714"},"SINAPI-I",12714,"COTOVELO DE COBRE 90 GRAUS (REF 607) SEM ANEL DE SOLDA, BOLSA X BOLSA, 15 MM                                                                                                                                                                                                                                                                                                                                                                                                                              ","UN    ","5,11",null,null,"AS"]
[{"$f":"CONCATENAR","v":"SINAPI-I 12715"},"SINAPI-I",12715,"COTOVELO DE COBRE 90 GRAUS (REF 607) SEM ANEL DE SOLDA, BOLSA X BOLSA, 22 MM                                                                                                                                                                                                                                                                                                                                                                                                                              ","UN    ","11,54",null,null,"AS"]
[{"$f":"CONCATENAR","v":"SINAPI-I 12716"},"SINAPI-I",12716,"COTOVELO DE COBRE 90 GRAUS (REF 607) SEM ANEL DE SOLDA, BOLSA X BOLSA, 28 MM                                                                                                                                                                                                                                                                                                                                                                                                                              ","UN    ","19,82",null,null,"AS"]
[{"$f":"CONCATENAR","v":"SINAPI-I 12717"},"SINAPI-I",12717,"COTOVELO DE COBRE 90 GRAUS (REF 607) SEM ANEL DE SOLDA, BOLSA X BOLSA, 35 MM                                                                                                                                                                                                                                                                                                                                                                                                                              ","UN    ","38,96",null,null,"AS"]
[{"$f":"CONCATENAR","v":"SINAPI-I 12718"},"SINAPI-I",12718,"COTOVELO DE COBRE 90 GRAUS (REF 607) SEM ANEL DE SOLDA, BOLSA X BOLSA, 42 MM                                                                                                                                                                                                                                                                                                                                                                                                                              ","UN    ","59,79",null,null,"AS"]
[{"$f":"CONCATENAR","v":"SINAPI-I 12719"},"SINAPI-I",12719,"COTOVELO DE COBRE 90 GRAUS (REF 607) SEM ANEL DE SOLDA, BOLSA X BOLSA, 54 MM                                                                                                                                                                                                                                                                                                                                                                                                                              ","UN    ","94,92",null,null,"AS"]
[{"$f":"CONCATENAR","v":"SINAPI-I 12720"},"SINAPI-I",12720,"COTOVELO DE COBRE 90 GRAUS (REF 607) SEM ANEL DE SOLDA, BOLSA X BOLSA, 66 MM                                                                                                                                                                                                                                                                                                                                                                                                                              ","UN    ","330,52",null,null,"AS"]
[{"$f":"CONCATENAR","v":"SINAPI-I 12721"},"SINAPI-I",12721,"COTOVELO DE COBRE 90 GRAUS (REF 607) SEM ANEL DE SOLDA, BOLSA X BOLSA, 79 MM                                                                                                                                                                                                                                                                                                                                                                                                                              ","UN    ","316,95",null,null,"AS"]
[{"$f":"CONCATENAR","v":"SINAPI-I 3468"},"SINAPI-I",3468,"COTOVELO DE REDUCAO 90 GRAUS DE FERRO GALVANIZADO, COM ROSCA BSP, DE 1 1/2\" X 1\"                                                                                                                                                                                                                                                                                                                                                                                                                          ","UN    ","39,15",null,null,"CR"]
[{"$f":"CONCATENAR","v":"SINAPI-I 3465"},"SINAPI-I",3465,"COTOVELO DE REDUCAO 90 GRAUS DE FERRO GALVANIZADO, COM ROSCA BSP, DE 1 1/2\" X 3/4\"                                                                                                                                                                                                                                                                                                                                                                                                                        ","UN    ","39,14",null,null,"CR"]
[{"$f":"CONCATENAR","v":"SINAPI-I 12403"},"SINAPI-I",12403,"COTOVELO DE REDUCAO 90 GRAUS DE FERRO GALVANIZADO, COM ROSCA BSP, DE 1 1/4\" X 1\"                                                                                                                                                                                                                                                                                                                                                                                                                          ","UN    ","27,90",null,null,"CR"]
[{"$f":"CONCATENAR","v":"SINAPI-I 3463"},"SINAPI-I",3463,"COTOVELO DE REDUCAO 90 GRAUS DE FERRO GALVANIZADO, COM ROSCA BSP, DE 1\" X 1/2\"                                                                                                                                                                                                                                                                                                                                                                                                                            ","UN    ","16,30",null,null,"CR"]
[{"$f":"CONCATENAR","v":"SINAPI-I 3464"},"SINAPI-I",3464,"COTOVELO DE REDUCAO 90 GRAUS DE FERRO GALVANIZADO, COM ROSCA BSP, DE 1\" X 3/4\"                                                                                                                                                                                                                                                                                                                                                                                                                            ","UN    ","16,30",null,null,"CR"]
[{"$f":"CONCATENAR","v":"SINAPI-I 3466"},"SINAPI-I",3466,"COTOVELO DE REDUCAO 90 GRAUS DE FERRO GALVANIZADO, COM ROSCA BSP, DE 2 1/2\" X 2\"                                                                                                                                                                                                                                                                                                                                                                                                                          ","UN    ","99,42",null,null,"CR"]
[{"$f":"CONCATENAR","v":"SINAPI-I 3467"},"SINAPI-I",3467,"COTOVELO DE REDUCAO 90 GRAUS DE FERRO GALVANIZADO, COM ROSCA BSP, DE 2\" X 1 1/2\"                                                                                                                                                                                                                                                                                                                                                                                                                          ","UN    ","56,15",null,null,"CR"]
[{"$f":"CONCATENAR","v":"SINAPI-I 3462"},"SINAPI-I",3462,"COTOVELO DE REDUCAO 90 GRAUS DE FERRO GALVANIZADO, COM ROSCA BSP, DE 3/4\" X 1/2\"                                                                                                                                                                                                                                                                                                                                                                                                                          ","UN    ","10,75",null,null,"CR"]
[{"$f":"CONCATENAR","v":"SINAPI-I 3446"},"SINAPI-I",3446,"COTOVELO 45 GRAUS DE FERRO GALVANIZADO, COM ROSCA BSP, DE 1 1/2\"                                                                                                                                                                                                                                                                                                                                                                                                                                          ","UN    ","33,10",null,null,"CR"]
[{"$f":"CONCATENAR","v":"SINAPI-I 3445"},"SINAPI-I",3445,"COTOVELO 45 GRAUS DE FERRO GALVANIZADO, COM ROSCA BSP, DE 1 1/4\"                                                                                                                                                                                                                                                                                                                                                                                                                                          ","UN    ","27,02",null,null,"CR"]
[{"$f":"CONCATENAR","v":"SINAPI-I 3441"},"SINAPI-I",3441,"COTOVELO 45 GRAUS DE FERRO GALVANIZADO, COM ROSCA BSP, DE 1/2\"                                                                                                                                                                                                                                                                                                                                                                                                                                            ","UN    ","7,63",null,null,"CR"]
[{"$f":"CONCATENAR","v":"SINAPI-I 3444"},"SINAPI-I",3444,"COTOVELO 45 GRAUS DE FERRO GALVANIZADO, COM ROSCA BSP, DE 1\"                                                                                                                                                                                                                                                                                                                                                                                                                                              ","UN    ","16,63",null,null,"CR"]
[{"$f":"CONCATENAR","v":"SINAPI-I 12402"},"SINAPI-I",12402,"COTOVELO 45 GRAUS DE FERRO GALVANIZADO, COM ROSCA BSP, DE 2 1/2\"                                                                                                                                                                                                                                                                                                                                                                                                                                          ","UN    ","93,04",null,null,"CR"]
[{"$f":"CONCATENAR","v":"SINAPI-I 3447"},"SINAPI-I",3447,"COTOVELO 45 GRAUS DE FERRO GALVANIZADO, COM ROSCA BSP, DE 2\"                                                                                                                                                                                                                                                                                                                                                                                                                                              ","UN    ","48,14",null,null,"CR"]
[{"$f":"CONCATENAR","v":"SINAPI-I 3442"},"SINAPI-I",3442,"COTOVELO 45 GRAUS DE FERRO GALVANIZADO, COM ROSCA BSP, DE 3/4\"                                                                                                                                                                                                                                                                                                                                                                                                                                            ","UN    ","11,41",null,null,"CR"]
[{"$f":"CONCATENAR","v":"SINAPI-I 3448"},"SINAPI-I",3448,"COTOVELO 45 GRAUS DE FERRO GALVANIZADO, COM ROSCA BSP, DE 3\"                                                                                                                                                                                                                                                                                                                                                                                                                                              ","UN    ","136,03",null,null,"CR"]
[{"$f":"CONCATENAR","v":"SINAPI-I 3449"},"SINAPI-I",3449,"COTOVELO 45 GRAUS DE FERRO GALVANIZADO, COM ROSCA BSP, DE 4\"                                                                                                                                                                                                                                                                                                                                                                                                                                              ","UN    ","238,35",null,null,"CR"]
[{"$f":"CONCATENAR","v":"SINAPI-I 37438"},"SINAPI-I",37438,"COTOVELO 45 GRAUS, PEAD PE 100, DE 125 MM, PARA ELETROFUSAO                                                                                                                                                                                                                                                                                                                                                                                                                                               ","UN    ","210,79",null,null,"CR"]
[{"$f":"CONCATENAR","v":"SINAPI-I 37439"},"SINAPI-I",37439,"COTOVELO 45 GRAUS, PEAD PE 100, DE 200 MM, PARA ELETROFUSAO                                                                                                                                                                                                                                                                                                                                                                                                                                               ","UN    ","1.378,17",null,null,"CR"]
[{"$f":"CONCATENAR","v":"SINAPI-I 37435"},"SINAPI-I",37435,"COTOVELO 45 GRAUS, PEAD PE 100, DE 32 MM, PARA ELETROFUSAO                                                                                                                                                                                                                                                                                                                                                                                                                                                ","UN    ","24,77",null,null,"CR"]
[{"$f":"CONCATENAR","v":"SINAPI-I 37436"},"SINAPI-I",37436,"COTOVELO 45 GRAUS, PEAD PE 100, DE 40 MM, PARA ELETROFUSAO                                                                                                                                                                                                                                                                                                                                                                                                                                                ","UN    ","29,23",null,null,"CR"]
[{"$f":"CONCATENAR","v":"SINAPI-I 37437"},"SINAPI-I",37437,"COTOVELO 45 GRAUS, PEAD PE 100, DE 63 MM, PARA ELETROFUSAO                                                                                                                                                                                                                                                                                                                                                                                                                                                ","UN    ","42,28",null,null,"CR"]
[{"$f":"CONCATENAR","v":"SINAPI-I 3473"},"SINAPI-I",3473,"COTOVELO 90 GRAUS DE FERRO GALVANIZADO, COM ROSCA BSP MACHO/FEMEA, DE 1 1/2\"                                                                                                                                                                                                                                                                                                                                                                                                                              ","UN    ","37,42",null,null,"CR"]
[{"$f":"CONCATENAR","v":"SINAPI-I 3474"},"SINAPI-I",3474,"COTOVELO 90 GRAUS DE FERRO GALVANIZADO, COM ROSCA BSP MACHO/FEMEA, DE 1 1/4\"                                                                                                                                                                                                                                                                                                                                                                                                                              ","UN    ","30,85",null,null,"CR"]
[{"$f":"CONCATENAR","v":"SINAPI-I 3450"},"SINAPI-I",3450,"COTOVELO 90 GRAUS DE FERRO GALVANIZADO, COM ROSCA BSP MACHO/FEMEA, DE 1/2\"                                                                                                                                                                                                                                                                                                                                                                                                                                ","UN    ","8,94",null,null,"CR"]
[{"$f":"CONCATENAR","v":"SINAPI-I 3443"},"SINAPI-I",3443,"COTOVELO 90 GRAUS DE FERRO GALVANIZADO, COM ROSCA BSP MACHO/FEMEA, DE 1\"                                                                                                                                                                                                                                                                                                                                                                                                                                  ","UN    ","19,19",null,null,"CR"]
[{"$f":"CONCATENAR","v":"SINAPI-I 3453"},"SINAPI-I",3453,"COTOVELO 90 GRAUS DE FERRO GALVANIZADO, COM ROSCA BSP MACHO/FEMEA, DE 2 1/2\"                                                                                                                                                                                                                                                                                                                                                                                                                              ","UN    ","109,24",null,null,"CR"]
[{"$f":"CONCATENAR","v":"SINAPI-I 3452"},"SINAPI-I",3452,"COTOVELO 90 GRAUS DE FERRO GALVANIZADO, COM ROSCA BSP MACHO/FEMEA, DE 2\"                                                                                                                                                                                                                                                                                                                                                                                                                                  ","UN    ","53,92",null,null,"CR"]
[{"$f":"CONCATENAR","v":"SINAPI-I 3451"},"SINAPI-I",3451,"COTOVELO 90 GRAUS DE FERRO GALVANIZADO, COM ROSCA BSP MACHO/FEMEA, DE 3/4\"                                                                                                                                                                                                                                                                                                                                                                                                                                ","UN    ","10,69",null,null,"CR"]
[{"$f":"CONCATENAR","v":"SINAPI-I 3454"},"SINAPI-I",3454,"COTOVELO 90 GRAUS DE FERRO GALVANIZADO, COM ROSCA BSP MACHO/FEMEA, DE 3\"                                                                                                                                                                                                                                                                                                                                                                                                                                  ","UN    ","166,15",null,null,"CR"]
[{"$f":"CONCATENAR","v":"SINAPI-I 3458"},"SINAPI-I",3458,"COTOVELO 90 GRAUS DE FERRO GALVANIZADO, COM ROSCA BSP, DE 1 1/2\"                                                                                                                                                                                                                                                                                                                                                                                                                                          ","UN    ","30,00",null,null,"CR"]
[{"$f":"CONCATENAR","v":"SINAPI-I 3457"},"SINAPI-I",3457,"COTOVELO 90 GRAUS DE FERRO GALVANIZADO, COM ROSCA BSP, DE 1 1/4\"                                                                                                                                                                                                                                                                                                                                                                                                                                          ","UN    ","22,52",null,null,"CR"]
[{"$f":"CONCATENAR","v":"SINAPI-I 3455"},"SINAPI-I",3455,"COTOVELO 90 GRAUS DE FERRO GALVANIZADO, COM ROSCA BSP, DE 1/2\"                                                                                                                                                                                                                                                                                                                                                                                                                                            ","UN    ","6,39",null,null,"CR"]
[{"$f":"CONCATENAR","v":"SINAPI-I 3472"},"SINAPI-I",3472,"COTOVELO 90 GRAUS DE FERRO GALVANIZADO, COM ROSCA BSP, DE 1\"                                                                                                                                                                                                                                                                                                                                                                                                                                              ","UN    ","14,37",null,null,"CR"]
[{"$f":"CONCATENAR","v":"SINAPI-I 3470"},"SINAPI-I",3470,"COTOVELO 90 GRAUS DE FERRO GALVANIZADO, COM ROSCA BSP, DE 2 1/2\"                                                                                                                                                                                                                                                                                                                                                                                                                                          ","UN    ","83,76",null,null,"CR"]
[{"$f":"CONCATENAR","v":"SINAPI-I 3471"},"SINAPI-I",3471,"COTOVELO 90 GRAUS DE FERRO GALVANIZADO, COM ROSCA BSP, DE 2\"                                                                                                                                                                                                                                                                                                                                                                                                                                              ","UN    ","46,03",null,null,"CR"]
[{"$f":"CONCATENAR","v":"SINAPI-I 3456"},"SINAPI-I",3456,"COTOVELO 90 GRAUS DE FERRO GALVANIZADO, COM ROSCA BSP, DE 3/4\"                                                                                                                                                                                                                                                                                                                                                                                                                                            ","UN    ","9,57",null,null,"CR"]
[{"$f":"CONCATENAR","v":"SINAPI-I 3459"},"SINAPI-I",3459,"COTOVELO 90 GRAUS DE FERRO GALVANIZADO, COM ROSCA BSP, DE 3\"                                                                                                                                                                                                                                                                                                                                                                                                                                              ","UN    ","118,15",null,null,"CR"]
[{"$f":"CONCATENAR","v":"SINAPI-I 3469"},"SINAPI-I",3469,"COTOVELO 90 GRAUS DE FERRO GALVANIZADO, COM ROSCA BSP, DE 4\"                                                                                                                                                                                                                                                                                                                                                                                                                                              ","UN    ","224,69",null,null,"CR"]
[{"$f":"CONCATENAR","v":"SINAPI-I 3460"},"SINAPI-I",3460,"COTOVELO 90 GRAUS DE FERRO GALVANIZADO, COM ROSCA BSP, DE 5\"                                                                                                                                                                                                                                                                                                                                                                                                                                              ","UN    ","327,86",null,null,"CR"]
[{"$f":"CONCATENAR","v":"SINAPI-I 3461"},"SINAPI-I",3461,"COTOVELO 90 GRAUS DE FERRO GALVANIZADO, COM ROSCA BSP, DE 6\"                                                                                                                                                                                                                                                                                                                                                                                                                                              ","UN    ","837,98",null,null,"CR"]
[{"$f":"CONCATENAR","v":"SINAPI-I 37433"},"SINAPI-I",37433,"COTOVELO 90 GRAUS, PEAD PE 100, DE 125 MM, PARA ELETROFUSAO                                                                                                                                                                                                                                                                                                                                                                                                                                               ","UN    ","210,79",null,null,"CR"]
[{"$f":"CONCATENAR","v":"SINAPI-I 37430"},"SINAPI-I",37430,"COTOVELO 90 GRAUS, PEAD PE 100, DE 20 MM, PARA ELETROFUSAO                                                                                                                                                                                                                                                                                                                                                                                                                                                ","UN    ","26,41",null,null,"CR"]
[{"$f":"CONCATENAR","v":"SINAPI-I 37434"},"SINAPI-I",37434,"COTOVELO 90 GRAUS, PEAD PE 100, DE 200 MM, PARA ELETROFUSAO                                                                                                                                                                                                                                                                                                                                                                                                                                               ","UN    ","1.965,46",null,null,"CR"]
[{"$f":"CONCATENAR","v":"SINAPI-I 37431"},"SINAPI-I",37431,"COTOVELO 90 GRAUS, PEAD PE 100, DE 32 MM, PARA ELETROFUSAO                                                                                                                                                                                                                                                                                                                                                                                                                                                ","UN    ","35,83",null,null,"CR"]
[{"$f":"CONCATENAR","v":"SINAPI-I 37432"},"SINAPI-I",37432,"COTOVELO 90 GRAUS, PEAD PE 100, DE 63 MM, PARA ELETROFUSAO                                                                                                                                                                                                                                                                                                                                                                                                                                                ","UN    ","66,10",null,null,"CR"]
[{"$f":"CONCATENAR","v":"SINAPI-I 37413"},"SINAPI-I",37413,"COTOVELO/JOELHO COM ADAPTADOR, 90 GRAUS, EM POLIPROPILENO, PN 16, PARA TUBOS PEAD, 20 MM X 1/2\" - LIGACAO PREDIAL DE AGUA                                                                                                                                                                                                                                                                                                                                                                                 ","UN    ","5,34",null,null,"CR"]
[{"$f":"CONCATENAR","v":"SINAPI-I 37414"},"SINAPI-I",37414,"COTOVELO/JOELHO COM ADAPTADOR, 90 GRAUS, EM POLIPROPILENO, PN 16, PARA TUBOS PEAD, 20 MM X 3/4\" - LIGACAO PREDIAL DE AGUA                                                                                                                                                                                                                                                                                                                                                                                 ","UN    ","6,06",null,null,"CR"]
[{"$f":"CONCATENAR","v":"SINAPI-I 37415"},"SINAPI-I",37415,"COTOVELO/JOELHO COM ADAPTADOR, 90 GRAUS, EM POLIPROPILENO, PN 16, PARA TUBOS PEAD, 32 MM X 1\" - LIGACAO PREDIAL DE AGUA                                                                                                                                                                                                                                                                                                                                                                                   ","UN    ","11,02",null,null,"CR"]
[{"$f":"CONCATENAR","v":"SINAPI-I 37416"},"SINAPI-I",37416,"COTOVELO/JOELHO 90 GRAUS, EM POLIPROPILENO, PN 16, PARA TUBOS PEAD, 20 X 20 MM - LIGACAO PREDIAL DE AGUA                                                                                                                                                                                                                                                                                                                                                                                                  ","UN    ","5,00",null,null,"CR"]
[{"$f":"CONCATENAR","v":"SINAPI-I 37417"},"SINAPI-I",37417,"COTOVELO/JOELHO 90 GRAUS, EM POLIPROPILENO, PN 16, PARA TUBOS PEAD, 32 X 32 MM - LIGACAO PREDIAL DE AGUA                                                                                                                                                                                                                                                                                                                                                                                                  ","UN    ","7,18",null,null,"CR"]
[{"$f":"CONCATENAR","v":"SINAPI-I 43590"},"SINAPI-I",43590,"CREMONA RETANGULAR INJETADA LISA COM CHAVE, COM CASTANHA / ALCA, EM LATAO, COM ACABAMENTO CROMADO, DE SOBREPOR / EMBUTIR                                                                                                                                                                                                                                                                                                                                                                                  ","UN    ","162,78",null,null,"CR"]
[{"$f":"CONCATENAR","v":"SINAPI-I 43589"},"SINAPI-I",43589,"CREMONA RETANGULAR INJETADA LISA, COM CASTANHA / ALCA, EM LATAO, COM ACABAMENTO CROMADO, DE SOBREPOR / EMBUTIR                                                                                                                                                                                                                                                                                                                                                                                            ","UN    ","29,45",null,null,"CR"]
[{"$f":"CONCATENAR","v":"SINAPI-I 34519"},"SINAPI-I",34519,"CRUZETA DE CONCRETO LEVE, COMP. 2000 MM SECAO, 90 X 90 MM                                                                                                                                                                                                                                                                                                                                                                                                                                                 ","UN    ","95,91",null,null,"CR"]
[{"$f":"CONCATENAR","v":"SINAPI-I 1649"},"SINAPI-I",1649,"CRUZETA DE FERRO GALVANIZADO, COM ROSCA BSP, DE 1 1/2\"                                                                                                                                                                                                                                                                                                                                                                                                                                                    ","UN    ","70,74",null,null,"CR"]
[{"$f":"CONCATENAR","v":"SINAPI-I 1653"},"SINAPI-I",1653,"CRUZETA DE FERRO GALVANIZADO, COM ROSCA BSP, DE 1 1/4\"                                                                                                                                                                                                                                                                                                                                                                                                                                                    ","UN    ","55,41",null,null,"CR"]
[{"$f":"CONCATENAR","v":"SINAPI-I 1647"},"SINAPI-I",1647,"CRUZETA DE FERRO GALVANIZADO, COM ROSCA BSP, DE 1/2\"                                                                                                                                                                                                                                                                                                                                                                                                                                                      ","UN    ","19,84",null,null,"CR"]
[{"$f":"CONCATENAR","v":"SINAPI-I 1648"},"SINAPI-I",1648,"CRUZETA DE FERRO GALVANIZADO, COM ROSCA BSP, DE 1\"                                                                                                                                                                                                                                                                                                                                                                                                                                                        ","UN    ","38,10",null,null,"CR"]
[{"$f":"CONCATENAR","v":"SINAPI-I 1651"},"SINAPI-I",1651,"CRUZETA DE FERRO GALVANIZADO, COM ROSCA BSP, DE 2 1/2\"                                                                                                                                                                                                                                                                                                                                                                                                                                                    ","UN    ","176,75",null,null,"CR"]
[{"$f":"CONCATENAR","v":"SINAPI-I 1650"},"SINAPI-I",1650,"CRUZETA DE FERRO GALVANIZADO, COM ROSCA BSP, DE 2\"                                                                                                                                                                                                                                                                                                                                                                                                                                                        ","UN    ","97,70",null,null,"CR"]
[{"$f":"CONCATENAR","v":"SINAPI-I 1654"},"SINAPI-I",1654,"CRUZETA DE FERRO GALVANIZADO, COM ROSCA BSP, DE 3/4\"                                                                                                                                                                                                                                                                                                                                                                                                                                                      ","UN    ","27,23",null,null,"CR"]
[{"$f":"CONCATENAR","v":"SINAPI-I 1652"},"SINAPI-I",1652,"CRUZETA DE FERRO GALVANIZADO, COM ROSCA BSP, DE 3\"                                                                                                                                                                                                                                                                                                                                                                                                                                                        ","UN    ","253,68",null,null,"CR"]
[{"$f":"CONCATENAR","v":"SINAPI-I 10510"},"SINAPI-I",10510,"CRUZETA DE MADEIRA TRATADA, *90 X 115 X 2400* MM, EM EUCALIPTO OU EQUIVALENTE DA REGIAO                                                                                                                                                                                                                                                                                                                                                                                                                   ","UN    ","223,57",null,null,"CR"]
[{"$f":"CONCATENAR","v":"SINAPI-I 1747"},"SINAPI-I",1747,"CUBA ACO INOX (AISI 304) DE EMBUTIR COM VALVULA DE 3 1/2 \", DE *56 X 33 X 12* CM                                                                                                                                                                                                                                                                                                                                                                                                                          ","UN    ","255,18",null,null,"CR"]
[{"$f":"CONCATENAR","v":"SINAPI-I 1744"},"SINAPI-I",1744,"CUBA ACO INOX (AISI 304) DE EMBUTIR COM VALVULA 3 1/2 \", DE *40 X 34 X 12* CM                                                                                                                                                                                                                                                                                                                                                                                                                             ","UN    ","176,75",null,null,"CR"]
[{"$f":"CONCATENAR","v":"SINAPI-I 1743"},"SINAPI-I",1743,"CUBA ACO INOX (AISI 304) DE EMBUTIR COM VALVULA 3 1/2 \", DE *46 X 30 X 12* CM                                                                                                                                                                                                                                                                                                                                                                                                                             ","UN    ","232,10",null,null,"CR"]
[{"$f":"CONCATENAR","v":"SINAPI-I 39640"},"SINAPI-I",39640,"CUMEEIRA ARTICULADA (ABA INFERIOR) PARA TELHA ONDULADA DE FIBROCIMENTO E = 4 MM, ABA *330* MM, COMPRIMENTO 500 MM (SEM AMIANTO)                                                                                                                                                                                                                                                                                                                                                                           ","UN    ","12,88",null,null,"CR"]
[{"$f":"CONCATENAR","v":"SINAPI-I 7216"},"SINAPI-I",7216,"CUMEEIRA NORMAL PARA TELHA ESTRUTURAL DE FIBROCIMENTO 2 ABAS, E = 6 MM, DE 1050 X 935 MM (SEM AMIANTO)                                                                                                                                                                                                                                                                                                                                                                                                    ","UN    ","69,18",null,null,"CR"]
[{"$f":"CONCATENAR","v":"SINAPI-I 20235"},"SINAPI-I",20235,"CUMEEIRA NORMAL PARA TELHA ONDULADA DE FIBROCIMENTO, E = 6 MM, ABA 300 MM, COMPRIMENTO 1100 MM (SEM AMIANTO)                                                                                                                                                                                                                                                                                                                                                                                              ","UN    ","55,62",null,null,"CR"]
[{"$f":"CONCATENAR","v":"SINAPI-I 7181"},"SINAPI-I",7181,"CUMEEIRA PARA TELHA CERAMICA, COMPRIMENTO DE *41* CM, RENDIMENTO DE *3* TELHAS/M                                                                                                                                                                                                                                                                                                                                                                                                                          ","UN    ","7,90",null,null,"CR"]
[{"$f":"CONCATENAR","v":"SINAPI-I 40742"},"SINAPI-I",40742,"CUMEEIRA PARA TELHA DE CONCRETO, PARA 2 AGUAS DE TELHADO, COR CINZA, RENDIMENTO DE *3* TELHAS/M                                                                                                                                                                                                                                                                                                                                                                                                           ","UN    ","12,60",null,null,"CR"]
[{"$f":"CONCATENAR","v":"SINAPI-I 7214"},"SINAPI-I",7214,"CUMEEIRA SHED PARA TELHA ONDULADA DE FIBROCIMENTO, E = 6 MM, ABA 280 MM, COMPRIMENTO 1100 MM (SEM AMIANTO)                                                                                                                                                                                                                                                                                                                                                                                                ","UN    ","67,56",null,null,"CR"]
[{"$f":"CONCATENAR","v":"SINAPI-I 7219"},"SINAPI-I",7219,"CUMEEIRA UNIVERSAL PARA TELHA ONDULADA DE FIBROCIMENTO, E = 6 MM, ABA 210 MM, COMPRIMENTO 1100 MM (SEM AMIANTO)                                                                                                                                                                                                                                                                                                                                                                                           ","UN    ","59,92",null,null,"CR"]
[{"$f":"CONCATENAR","v":"SINAPI-I 37971"},"SINAPI-I",37971,"CURVA CPVC, 90 GRAUS, SOLDAVEL, 15 MM, PARA AGUA QUENTE                                                                                                                                                                                                                                                                                                                                                                                                                                                   ","UN    ","5,02",null,null,"CR"]
[{"$f":"CONCATENAR","v":"SINAPI-I 37972"},"SINAPI-I",37972,"CURVA CPVC, 90 GRAUS, SOLDAVEL, 22 MM, PARA AGUA QUENTE                                                                                                                                                                                                                                                                                                                                                                                                                                                   ","UN    ","7,13",null,null,"CR"]
[{"$f":"CONCATENAR","v":"SINAPI-I 37973"},"SINAPI-I",37973,"CURVA CPVC, 90 GRAUS, SOLDAVEL, 28 MM, PARA AGUA QUENTE                                                                                                                                                                                                                                                                                                                                                                                                                                                   ","UN    ","13,40",null,null,"CR"]
[{"$f":"CONCATENAR","v":"SINAPI-I 1926"},"SINAPI-I",1926,"CURVA DE PVC 45 GRAUS, SOLDAVEL, 20 MM, COR MARROM, PARA AGUA FRIA PREDIAL                                                                                                                                                                                                                                                                                                                                                                                                                                ","UN    ","2,29",null,null,"CR"]
[{"$f":"CONCATENAR","v":"SINAPI-I 1927"},"SINAPI-I",1927,"CURVA DE PVC 45 GRAUS, SOLDAVEL, 25 MM, COR MARROM, PARA AGUA FRIA PREDIAL                                                                                                                                                                                                                                                                                                                                                                                                                                ","UN    ","2,57",null,null,"CR"]
[{"$f":"CONCATENAR","v":"SINAPI-I 1923"},"SINAPI-I",1923,"CURVA DE PVC 45 GRAUS, SOLDAVEL, 32 MM, COR MARROM, PARA AGUA FRIA PREDIAL                                                                                                                                                                                                                                                                                                                                                                                                                                ","UN    ","4,68",null,null,"CR"]
[{"$f":"CONCATENAR","v":"SINAPI-I 1929"},"SINAPI-I",1929,"CURVA DE PVC 45 GRAUS, SOLDAVEL, 40 MM, COR MARROM, PARA AGUA FRIA PREDIAL                                                                                                                                                                                                                                                                                                                                                                                                                                ","UN    ","5,68",null,null,"CR"]
[{"$f":"CONCATENAR","v":"SINAPI-I 1930"},"SINAPI-I",1930,"CURVA DE PVC 45 GRAUS, SOLDAVEL, 50 MM, COR MARROM, PARA AGUA FRIA PREDIAL                                                                                                                                                                                                                                                                                                                                                                                                                                ","UN    ","9,71",null,null,"CR"]
[{"$f":"CONCATENAR","v":"SINAPI-I 1924"},"SINAPI-I",1924,"CURVA DE PVC 45 GRAUS, SOLDAVEL, 60 MM, COR MARROM, PARA AGUA FRIA PREDIAL                                                                                                                                                                                                                                                                                                                                                                                                                                ","UN    ","15,68",null,null,"CR"]
[{"$f":"CONCATENAR","v":"SINAPI-I 1922"},"SINAPI-I",1922,"CURVA DE PVC 45 GRAUS, SOLDAVEL, 75 MM, COR MARROM, PARA AGUA FRIA PREDIAL                                                                                                                                                                                                                                                                                                                                                                                                                                ","UN    ","32,42",null,null,"CR"]
[{"$f":"CONCATENAR","v":"SINAPI-I 1953"},"SINAPI-I",1953,"CURVA DE PVC 45 GRAUS, SOLDAVEL, 85 MM, COR MARROM, PARA AGUA FRIA PREDIAL                                                                                                                                                                                                                                                                                                                                                                                                                                ","UN    ","39,58",null,null,"CR"]
[{"$f":"CONCATENAR","v":"SINAPI-I 1962"},"SINAPI-I",1962,"CURVA DE PVC 90 GRAUS, SOLDAVEL, 110 MM, COR MARROM, PARA AGUA FRIA PREDIAL                                                                                                                                                                                                                                                                                                                                                                                                                               ","UN    ","192,29",null,null,"CR"]
[{"$f":"CONCATENAR","v":"SINAPI-I 1955"},"SINAPI-I",1955,"CURVA DE PVC 90 GRAUS, SOLDAVEL, 20 MM, COR MARROM, PARA AGUA FRIA PREDIAL                                                                                                                                                                                                                                                                                                                                                                                                                                ","UN    ","2,21",null,null,"CR"]
[{"$f":"CONCATENAR","v":"SINAPI-I 1956"},"SINAPI-I",1956,"CURVA DE PVC 90 GRAUS, SOLDAVEL, 25 MM, COR MARROM, PARA AGUA FRIA PREDIAL                                                                                                                                                                                                                                                                                                                                                                                                                                ","UN    ","3,13",null,null,"CR"]
[{"$f":"CONCATENAR","v":"SINAPI-I 1957"},"SINAPI-I",1957,"CURVA DE PVC 90 GRAUS, SOLDAVEL, 32 MM, COR MARROM, PARA AGUA FRIA PREDIAL                                                                                                                                                                                                                                                                                                                                                                                                                                ","UN    ","6,76",null,null,"CR"]
[{"$f":"CONCATENAR","v":"SINAPI-I 1958"},"SINAPI-I",1958,"CURVA DE PVC 90 GRAUS, SOLDAVEL, 40 MM, COR MARROM, PARA AGUA FRIA PREDIAL                                                                                                                                                                                                                                                                                                                                                                                                                                ","UN    ","12,59",null,null,"CR"]
[{"$f":"CONCATENAR","v":"SINAPI-I 1959"},"SINAPI-I",1959,"CURVA DE PVC 90 GRAUS, SOLDAVEL, 50 MM, COR MARROM, PARA AGUA FRIA PREDIAL                                                                                                                                                                                                                                                                                                                                                                                                                                ","UN    ","13,66",null,null,"CR"]
[{"$f":"CONCATENAR","v":"SINAPI-I 1925"},"SINAPI-I",1925,"CURVA DE PVC 90 GRAUS, SOLDAVEL, 60 MM, COR MARROM, PARA AGUA FRIA PREDIAL                                                                                                                                                                                                                                                                                                                                                                                                                                ","UN    ","35,71",null,null,"CR"]
[{"$f":"CONCATENAR","v":"SINAPI-I 1960"},"SINAPI-I",1960,"CURVA DE PVC 90 GRAUS, SOLDAVEL, 75 MM, COR MARROM, PARA AGUA FRIA PREDIAL                                                                                                                                                                                                                                                                                                                                                                                                                                ","UN    ","54,83",null,null,"CR"]
[{"$f":"CONCATENAR","v":"SINAPI-I 1961"},"SINAPI-I",1961,"CURVA DE PVC 90 GRAUS, SOLDAVEL, 85 MM, COR MARROM, PARA AGUA FRIA PREDIAL                                                                                                                                                                                                                                                                                                                                                                                                                                ","UN    ","70,25",null,null,"CR"]
[{"$f":"CONCATENAR","v":"SINAPI-I 38423"},"SINAPI-I",38423,"CURVA DE PVC, 90 GRAUS, SERIE R, DN 100 MM, PARA ESGOTO PREDIAL                                                                                                                                                                                                                                                                                                                                                                                                                                           ","UN    ","37,45",null,null,"CR"]
[{"$f":"CONCATENAR","v":"SINAPI-I 39866"},"SINAPI-I",39866,"CURVA DE TRANSPOSICAO BRONZE/LATAO (REF 736) SEM ANEL DE SOLDA, BOLSA X BOLSA, 15 MM                                                                                                                                                                                                                                                                                                                                                                                                                      ","UN    ","18,08",null,null,"AS"]
[{"$f":"CONCATENAR","v":"SINAPI-I 39867"},"SINAPI-I",39867,"CURVA DE TRANSPOSICAO BRONZE/LATAO (REF 736) SEM ANEL DE SOLDA, BOLSA X BOLSA, 22 MM                                                                                                                                                                                                                                                                                                                                                                                                                      ","UN    ","40,19",null,null,"AS"]
[{"$f":"CONCATENAR","v":"SINAPI-I 39868"},"SINAPI-I",39868,"CURVA DE TRANSPOSICAO BRONZE/LATAO (REF 736) SEM ANEL DE SOLDA, BOLSA X BOLSA, 28 MM                                                                                                                                                                                                                                                                                                                                                                                                                      ","UN    ","72,41",null,null,"AS"]
[{"$f":"CONCATENAR","v":"SINAPI-I 37999"},"SINAPI-I",37999,"CURVA DE TRANSPOSICAO, CPVC, SOLDAVEL, 15 MM                                                                                                                                                                                                                                                                                                                                                                                                                                                              ","UN    ","8,47",null,null,"CR"]
[{"$f":"CONCATENAR","v":"SINAPI-I 38000"},"SINAPI-I",38000,"CURVA DE TRANSPOSICAO, CPVC, SOLDAVEL, 22 MM                                                                                                                                                                                                                                                                                                                                                                                                                                                              ","UN    ","9,89",null,null,"CR"]
[{"$f":"CONCATENAR","v":"SINAPI-I 38129"},"SINAPI-I",38129,"CURVA DE TRANSPOSICAO, PVC SOLDAVEL, 20 MM, COR MARROM, PARA AGUA FRIA PREDIAL                                                                                                                                                                                                                                                                                                                                                                                                                            ","UN    ","5,16",null,null,"CR"]
[{"$f":"CONCATENAR","v":"SINAPI-I 38025"},"SINAPI-I",38025,"CURVA DE TRANSPOSICAO, PVC, SOLDAVEL, 25 MM, COR MARROM, PARA AGUA FRIA PREDIAL                                                                                                                                                                                                                                                                                                                                                                                                                           ","UN    ","7,00",null,null,"CR"]
[{"$f":"CONCATENAR","v":"SINAPI-I 38026"},"SINAPI-I",38026,"CURVA DE TRANSPOSICAO, PVC, SOLDAVEL, 32 MM, COR MARROM, PARA AGUA FRIA PREDIAL                                                                                                                                                                                                                                                                                                                                                                                                                           ","UN    ","17,28",null,null,"CR"]
[{"$f":"CONCATENAR","v":"SINAPI-I 1858"},"SINAPI-I",1858,"CURVA LONGA PVC, PB, JE, 45 GRAUS, DN 100 MM, PARA REDE COLETORA ESGOTO                                                                                                                                                                                                                                                                                                                                                                                                                                   ","UN    ","58,03",null,null,"CR"]
[{"$f":"CONCATENAR","v":"SINAPI-I 1844"},"SINAPI-I",1844,"CURVA LONGA PVC, PB, JE, 45 GRAUS, DN 150 MM, PARA REDE COLETORA ESGOTO                                                                                                                                                                                                                                                                                                                                                                                                                                   ","UN    ","132,91",null,null,"CR"]
[{"$f":"CONCATENAR","v":"SINAPI-I 1863"},"SINAPI-I",1863,"CURVA LONGA PVC, PB, JE, 90 GRAUS, DN 100 MM, PARA REDE COLETORA ESGOTO                                                                                                                                                                                                                                                                                                                                                                                                                                   ","UN    ","61,76",null,null,"CR"]
[{"$f":"CONCATENAR","v":"SINAPI-I 1865"},"SINAPI-I",1865,"CURVA LONGA PVC, PB, JE, 90 GRAUS, DN 150 MM, PARA REDE COLETORA ESGOTO                                                                                                                                                                                                                                                                                                                                                                                                                                   ","UN    ","160,91",null,null,"CR"]
[{"$f":"CONCATENAR","v":"SINAPI-I 36355"},"SINAPI-I",36355,"CURVA PPR 90 GRAUS, F/F, DN 20 MM, PARA AGUA QUENTE PREDIAL                                                                                                                                                                                                                                                                                                                                                                                                                                               ","UN    ","9,47",null,null,"CR"]
[{"$f":"CONCATENAR","v":"SINAPI-I 36356"},"SINAPI-I",36356,"CURVA PPR 90 GRAUS, F/F, DN 25 MM, PARA AGUA QUENTE PREDIAL                                                                                                                                                                                                                                                                                                                                                                                                                                               ","UN    ","15,23",null,null,"CR"]
[{"$f":"CONCATENAR","v":"SINAPI-I 1966"},"SINAPI-I",1966,"CURVA PVC CURTA 90 GRAUS, DN 100 MM, PARA ESGOTO PREDIAL                                                                                                                                                                                                                                                                                                                                                                                                                                                  ","UN    ","24,63",null,null,"CR"]
[{"$f":"CONCATENAR","v":"SINAPI-I 1933"},"SINAPI-I",1933,"CURVA PVC CURTA 90 GRAUS, DN 40 MM, PARA ESGOTO PREDIAL                                                                                                                                                                                                                                                                                                                                                                                                                                                   ","UN    ","5,31",null,null,"CR"]
[{"$f":"CONCATENAR","v":"SINAPI-I 1932"},"SINAPI-I",1932,"CURVA PVC CURTA 90 GRAUS, DN 50 MM, PARA ESGOTO PREDIAL                                                                                                                                                                                                                                                                                                                                                                                                                                                   ","UN    ","12,15",null,null,"CR"]
[{"$f":"CONCATENAR","v":"SINAPI-I 1951"},"SINAPI-I",1951,"CURVA PVC CURTA 90 GRAUS, DN 75 MM, PARA ESGOTO PREDIAL                                                                                                                                                                                                                                                                                                                                                                                                                                                   ","UN    ","25,34",null,null,"CR"]
[{"$f":"CONCATENAR","v":"SINAPI-I 1970"},"SINAPI-I",1970,"CURVA PVC LONGA 90 GRAUS, DN 100 MM, PARA ESGOTO PREDIAL                                                                                                                                                                                                                                                                                                                                                                                                                                                  ","UN    ","61,56",null,null,"CR"]
[{"$f":"CONCATENAR","v":"SINAPI-I 1967"},"SINAPI-I",1967,"CURVA PVC LONGA 90 GRAUS, DN 40 MM, PARA ESGOTO PREDIAL                                                                                                                                                                                                                                                                                                                                                                                                                                                   ","UN    ","7,31",null,null,"CR"]
[{"$f":"CONCATENAR","v":"SINAPI-I 1968"},"SINAPI-I",1968,"CURVA PVC LONGA 90 GRAUS, DN 50 MM, PARA ESGOTO PREDIAL                                                                                                                                                                                                                                                                                                                                                                                                                                                   ","UN    ","14,45",null,null,"CR"]
[{"$f":"CONCATENAR","v":"SINAPI-I 1969"},"SINAPI-I",1969,"CURVA PVC LONGA 90 GRAUS, DN 75 MM, PARA ESGOTO PREDIAL                                                                                                                                                                                                                                                                                                                                                                                                                                                   ","UN    ","47,03",null,null,"CR"]
[{"$f":"CONCATENAR","v":"SINAPI-I 1827"},"SINAPI-I",1827,"CURVA PVC PBA, JE, PB, 45 GRAUS, DN 100 / DE 110 MM, PARA REDE DE AGUA                                                                                                                                                                                                                                                                                                                                                                                                                                    ","UN    ","103,34",null,null,"AS"]
[{"$f":"CONCATENAR","v":"SINAPI-I 1831"},"SINAPI-I",1831,"CURVA PVC PBA, JE, PB, 45 GRAUS, DN 50 / DE 60 MM, PARA REDE DE AGUA                                                                                                                                                                                                                                                                                                                                                                                                                                      ","UN    ","22,56",null,null,"AS"]
[{"$f":"CONCATENAR","v":"SINAPI-I 1825"},"SINAPI-I",1825,"CURVA PVC PBA, JE, PB, 45 GRAUS, DN 75 / DE 85 MM, PARA REDE DE AGUA                                                                                                                                                                                                                                                                                                                                                                                                                                      ","UN    ","55,67",null,null,"AS"]
[{"$f":"CONCATENAR","v":"SINAPI-I 1828"},"SINAPI-I",1828,"CURVA PVC PBA, JE, PB, 90 GRAUS, DN 100 / DE 110 MM, PARA REDE DE AGUA                                                                                                                                                                                                                                                                                                                                                                                                                                    ","UN    ","126,11",null,null,"AS"]
[{"$f":"CONCATENAR","v":"SINAPI-I 1845"},"SINAPI-I",1845,"CURVA PVC PBA, JE, PB, 90 GRAUS, DN 50 / DE 60 MM, PARA REDE DE AGUA                                                                                                                                                                                                                                                                                                                                                                                                                                      ","UN    ","28,27",null,null,"AS"]
[{"$f":"CONCATENAR","v":"SINAPI-I 1824"},"SINAPI-I",1824,"CURVA PVC PBA, JE, PB, 90 GRAUS, DN 75 / DE 85 MM, PARA REDE DE AGUA                                                                                                                                                                                                                                                                                                                                                                                                                                      ","UN    ","66,74",null,null,"AS"]
[{"$f":"CONCATENAR","v":"SINAPI-I 1940"},"SINAPI-I",1940,"CURVA PVC 90 GRAUS, ROSCAVEL, 1 1/4\", COR BRANCA, AGUA FRIA PREDIAL                                                                                                                                                                                                                                                                                                                                                                                                                                       ","UN    ","34,89",null,null,"CR"]
[{"$f":"CONCATENAR","v":"SINAPI-I 1937"},"SINAPI-I",1937,"CURVA PVC 90 GRAUS, ROSCAVEL, 1/2\", COR BRANCA, AGUA FRIA PREDIAL                                                                                                                                                                                                                                                                                                                                                                                                                                         ","UN    ","5,89",null,null,"CR"]
[{"$f":"CONCATENAR","v":"SINAPI-I 1939"},"SINAPI-I",1939,"CURVA PVC 90 GRAUS, ROSCAVEL, 1\", COR BRANCA, AGUA FRIA PREDIAL                                                                                                                                                                                                                                                                                                                                                                                                                                           ","UN    ","9,57",null,null,"CR"]
[{"$f":"CONCATENAR","v":"SINAPI-I 1938"},"SINAPI-I",1938,"CURVA PVC 90 GRAUS, ROSCAVEL, 3/4\", COR BRANCA, AGUA FRIA PREDIAL                                                                                                                                                                                                                                                                                                                                                                                                                                         ","UN    ","6,69",null,null,"CR"]
[{"$f":"CONCATENAR","v":"SINAPI-I 42693"},"SINAPI-I",42693,"CURVA PVC, BB, JE, 45 GRAUS, DN 250 MM, PARA TUBO CORRUGADO E/OU LISO, REDE COLETORA ESGOTO                                                                                                                                                                                                                                                                                                                                                                                                               ","UN    ","452,02",null,null,"CR"]
[{"$f":"CONCATENAR","v":"SINAPI-I 42695"},"SINAPI-I",42695,"CURVA PVC, BB, JE, 90 GRAUS, DN 200 MM, PARA TUBO CORRUGADO E/OU LISO, REDE COLETORA ESGOTO                                                                                                                                                                                                                                                                                                                                                                                                               ","UN    ","315,81",null,null,"CR"]
[{"$f":"CONCATENAR","v":"SINAPI-I 42694"},"SINAPI-I",42694,"CURVA PVC, BB, JE, 90 GRAUS, DN 250 MM, PARA TUBO CORRUGADO E/OU LISO, REDE COLETORA ESGOTO                                                                                                                                                                                                                                                                                                                                                                                                               ","UN    ","604,90",null,null,"CR"]
[{"$f":"CONCATENAR","v":"SINAPI-I 20097"},"SINAPI-I",20097,"CURVA PVC, SERIE R, 87.30 GRAUS, CURTA, PARA PE-DE-COLUNA, DN 100 MM, PARA ESGOTO PREDIAL                                                                                                                                                                                                                                                                                                                                                                                                                 ","UN    ","26,23",null,null,"CR"]
[{"$f":"CONCATENAR","v":"SINAPI-I 20098"},"SINAPI-I",20098,"CURVA PVC, SERIE R, 87.30 GRAUS, CURTA, PARA PE-DE-COLUNA, DN 150 MM, PARA ESGOTO PREDIAL                                                                                                                                                                                                                                                                                                                                                                                                                 ","UN    ","107,19",null,null,"CR"]
[{"$f":"CONCATENAR","v":"SINAPI-I 20096"},"SINAPI-I",20096,"CURVA PVC, SERIE R, 87.30 GRAUS, CURTA, PARA PE-DE-COLUNA, DN 75 MM, PARA ESGOTO PREDIAL                                                                                                                                                                                                                                                                                                                                                                                                                  ","UN    ","27,15",null,null,"CR"]
[{"$f":"CONCATENAR","v":"SINAPI-I 2628"},"SINAPI-I",2628,"CURVA 135 GRAUS PARA ELETRODUTO, EM ACO GALVANIZADO ELETROLITICO, COM ROSCA, DIAMETRO DE 100 MM (4\")                                                                                                                                                                                                                                                                                                                                                                                                      ","UN    ","226,41",null,null,"AS"]
[{"$f":"CONCATENAR","v":"SINAPI-I 2622"},"SINAPI-I",2622,"CURVA 135 GRAUS PARA ELETRODUTO, EM ACO GALVANIZADO ELETROLITICO, COM ROSCA, DIAMETRO DE 15 MM (1/2\"), ESPESSURA DE 1,50 MM                                                                                                                                                                                                                                                                                                                                                                               ","UN    ","5,37",null,null,"AS"]
[{"$f":"CONCATENAR","v":"SINAPI-I 2623"},"SINAPI-I",2623,"CURVA 135 GRAUS PARA ELETRODUTO, EM ACO GALVANIZADO ELETROLITICO, COM ROSCA, DIAMETRO DE 20 MM (3/4\"), ESPESSURA DE 1,50 MM                                                                                                                                                                                                                                                                                                                                                                               ","UN    ","6,47",null,null,"AS"]
[{"$f":"CONCATENAR","v":"SINAPI-I 2624"},"SINAPI-I",2624,"CURVA 135 GRAUS PARA ELETRODUTO, EM ACO GALVANIZADO ELETROLITICO, COM ROSCA, DIAMETRO DE 25 MM (1\"), ESPESSURA DE 1,50 MM                                                                                                                                                                                                                                                                                                                                                                                 ","UN    ","10,29",null,null,"AS"]
[{"$f":"CONCATENAR","v":"SINAPI-I 2625"},"SINAPI-I",2625,"CURVA 135 GRAUS PARA ELETRODUTO, EM ACO GALVANIZADO ELETROLITICO, COM ROSCA, DIAMETRO DE 32 MM (1 1/4\"), ESPESSURA DE 1,50 MM                                                                                                                                                                                                                                                                                                                                                                             ","UN    ","21,72",null,null,"AS"]
[{"$f":"CONCATENAR","v":"SINAPI-I 2626"},"SINAPI-I",2626,"CURVA 135 GRAUS PARA ELETRODUTO, EM ACO GALVANIZADO ELETROLITICO, COM ROSCA, DIAMETRO DE 40 MM (1 1/2\"), ESPESSURA DE 1,50 MM                                                                                                                                                                                                                                                                                                                                                                             ","UN    ","31,83",null,null,"AS"]
[{"$f":"CONCATENAR","v":"SINAPI-I 2630"},"SINAPI-I",2630,"CURVA 135 GRAUS PARA ELETRODUTO, EM ACO GALVANIZADO ELETROLITICO, COM ROSCA, DIAMETRO DE 50 MM (2\")                                                                                                                                                                                                                                                                                                                                                                                                       ","UN    ","48,41",null,null,"AS"]
[{"$f":"CONCATENAR","v":"SINAPI-I 2627"},"SINAPI-I",2627,"CURVA 135 GRAUS PARA ELETRODUTO, EM ACO GALVANIZADO ELETROLITICO, COM ROSCA, DIAMETRO DE 65 MM (2 1/2\")                                                                                                                                                                                                                                                                                                                                                                                                   ","UN    ","85,28",null,null,"AS"]
[{"$f":"CONCATENAR","v":"SINAPI-I 2629"},"SINAPI-I",2629,"CURVA 135 GRAUS PARA ELETRODUTO, EM ACO GALVANIZADO ELETROLITICO, COM ROSCA, DIAMETRO DE 80 MM (3\")                                                                                                                                                                                                                                                                                                                                                                                                       ","UN    ","115,35",null,null,"AS"]
[{"$f":"CONCATENAR","v":"SINAPI-I 1880"},"SINAPI-I",1880,"CURVA 135 GRAUS, DE PVC RIGIDO ROSCAVEL, DE 1\", PARA ELETRODUTO                                                                                                                                                                                                                                                                                                                                                                                                                                           ","UN    ","3,95",null,null,"CR"]
[{"$f":"CONCATENAR","v":"SINAPI-I 39274"},"SINAPI-I",39274,"CURVA 135 GRAUS, DE PVC RIGIDO ROSCAVEL, DE 3/4\", PARA ELETRODUTO                                                                                                                                                                                                                                                                                                                                                                                                                                         ","UN    ","3,07",null,null,"CR"]
[{"$f":"CONCATENAR","v":"SINAPI-I 12033"},"SINAPI-I",12033,"CURVA 180 GRAUS, DE PVC RIGIDO ROSCAVEL, DE 1 1/2\", PARA ELETRODUTO                                                                                                                                                                                                                                                                                                                                                                                                                                       ","UN    ","12,62",null,null,"CR"]
[{"$f":"CONCATENAR","v":"SINAPI-I 40408"},"SINAPI-I",40408,"CURVA 180 GRAUS, DE PVC RIGIDO ROSCAVEL, DE 1 1/4\", PARA ELETRODUTO                                                                                                                                                                                                                                                                                                                                                                                                                                       ","UN    ","8,29",null,null,"CR"]
[{"$f":"CONCATENAR","v":"SINAPI-I 40409"},"SINAPI-I",40409,"CURVA 180 GRAUS, DE PVC RIGIDO ROSCAVEL, DE 1/2\", PARA ELETRODUTO                                                                                                                                                                                                                                                                                                                                                                                                                                         ","UN    ","2,93",null,null,"CR"]
[{"$f":"CONCATENAR","v":"SINAPI-I 39276"},"SINAPI-I",39276,"CURVA 180 GRAUS, DE PVC RIGIDO ROSCAVEL, DE 1\", PARA ELETRODUTO                                                                                                                                                                                                                                                                                                                                                                                                                                           ","UN    ","7,47",null,null,"CR"]
[{"$f":"CONCATENAR","v":"SINAPI-I 39277"},"SINAPI-I",39277,"CURVA 180 GRAUS, DE PVC RIGIDO ROSCAVEL, DE 2\", PARA ELETRODUTO                                                                                                                                                                                                                                                                                                                                                                                                                                           ","UN    ","20,17",null,null,"CR"]
[{"$f":"CONCATENAR","v":"SINAPI-I 12034"},"SINAPI-I",12034,"CURVA 180 GRAUS, DE PVC RIGIDO ROSCAVEL, DE 3/4\", PARA ELETRODUTO                                                                                                                                                                                                                                                                                                                                                                                                                                         ","UN    ","5,72",null,null,"CR"]
[{"$f":"CONCATENAR","v":"SINAPI-I 39879"},"SINAPI-I",39879,"CURVA 45 GRAUS DE COBRE (REF 606) SEM ANEL DE SOLDA, BOLSA X BOLSA, 15 MM                                                                                                                                                                                                                                                                                                                                                                                                                                 ","UN    ","5,08",null,null,"AS"]
[{"$f":"CONCATENAR","v":"SINAPI-I 39880"},"SINAPI-I",39880,"CURVA 45 GRAUS DE COBRE (REF 606) SEM ANEL DE SOLDA, BOLSA X BOLSA, 22 MM                                                                                                                                                                                                                                                                                                                                                                                                                                 ","UN    ","11,25",null,null,"AS"]
[{"$f":"CONCATENAR","v":"SINAPI-I 39881"},"SINAPI-I",39881,"CURVA 45 GRAUS DE COBRE (REF 606) SEM ANEL DE SOLDA, BOLSA X BOLSA, 28 MM                                                                                                                                                                                                                                                                                                                                                                                                                                 ","UN    ","18,06",null,null,"AS"]
[{"$f":"CONCATENAR","v":"SINAPI-I 39882"},"SINAPI-I",39882,"CURVA 45 GRAUS DE COBRE (REF 606) SEM ANEL DE SOLDA, BOLSA X BOLSA, 35 MM                                                                                                                                                                                                                                                                                                                                                                                                                                 ","UN    ","47,58",null,null,"AS"]
[{"$f":"CONCATENAR","v":"SINAPI-I 39883"},"SINAPI-I",39883,"CURVA 45 GRAUS DE COBRE (REF 606) SEM ANEL DE SOLDA, BOLSA X BOLSA, 42 MM                                                                                                                                                                                                                                                                                                                                                                                                                                 ","UN    ","75,98",null,null,"AS"]
[{"$f":"CONCATENAR","v":"SINAPI-I 39884"},"SINAPI-I",39884,"CURVA 45 GRAUS DE COBRE (REF 606) SEM ANEL DE SOLDA, BOLSA X BOLSA, 54 MM                                                                                                                                                                                                                                                                                                                                                                                                                                 ","UN    ","112,85",null,null,"AS"]
[{"$f":"CONCATENAR","v":"SINAPI-I 39885"},"SINAPI-I",39885,"CURVA 45 GRAUS DE COBRE (REF 606) SEM ANEL DE SOLDA, BOLSA X BOLSA, 66 MM                                                                                                                                                                                                                                                                                                                                                                                                                                 ","UN    ","268,20",null,null,"AS"]
[{"$f":"CONCATENAR","v":"SINAPI-I 1777"},"SINAPI-I",1777,"CURVA 45 GRAUS DE FERRO GALVANIZADO, COM ROSCA BSP FEMEA, DE 1 1/2\"                                                                                                                                                                                                                                                                                                                                                                                                                                       ","UN    ","76,28",null,null,"CR"]
[{"$f":"CONCATENAR","v":"SINAPI-I 1819"},"SINAPI-I",1819,"CURVA 45 GRAUS DE FERRO GALVANIZADO, COM ROSCA BSP FEMEA, DE 1 1/4\"                                                                                                                                                                                                                                                                                                                                                                                                                                       ","UN    ","55,49",null,null,"CR"]
[{"$f":"CONCATENAR","v":"SINAPI-I 1775"},"SINAPI-I",1775,"CURVA 45 GRAUS DE FERRO GALVANIZADO, COM ROSCA BSP FEMEA, DE 1/2\"                                                                                                                                                                                                                                                                                                                                                                                                                                         ","UN    ","16,59",null,null,"CR"]
[{"$f":"CONCATENAR","v":"SINAPI-I 1776"},"SINAPI-I",1776,"CURVA 45 GRAUS DE FERRO GALVANIZADO, COM ROSCA BSP FEMEA, DE 1\"                                                                                                                                                                                                                                                                                                                                                                                                                                           ","UN    ","45,15",null,null,"CR"]
[{"$f":"CONCATENAR","v":"SINAPI-I 1778"},"SINAPI-I",1778,"CURVA 45 GRAUS DE FERRO GALVANIZADO, COM ROSCA BSP FEMEA, DE 2 1/2\"                                                                                                                                                                                                                                                                                                                                                                                                                                       ","UN    ","184,63",null,null,"CR"]
[{"$f":"CONCATENAR","v":"SINAPI-I 1818"},"SINAPI-I",1818,"CURVA 45 GRAUS DE FERRO GALVANIZADO, COM ROSCA BSP FEMEA, DE 2\"                                                                                                                                                                                                                                                                                                                                                                                                                                           ","UN    ","122,56",null,null,"CR"]
[{"$f":"CONCATENAR","v":"SINAPI-I 1820"},"SINAPI-I",1820,"CURVA 45 GRAUS DE FERRO GALVANIZADO, COM ROSCA BSP FEMEA, DE 3/4\"                                                                                                                                                                                                                                                                                                                                                                                                                                         ","UN    ","23,96",null,null,"CR"]
[{"$f":"CONCATENAR","v":"SINAPI-I 1779"},"SINAPI-I",1779,"CURVA 45 GRAUS DE FERRO GALVANIZADO, COM ROSCA BSP FEMEA, DE 3\"                                                                                                                                                                                                                                                                                                                                                                                                                                           ","UN    ","268,52",null,null,"CR"]
[{"$f":"CONCATENAR","v":"SINAPI-I 1780"},"SINAPI-I",1780,"CURVA 45 GRAUS DE FERRO GALVANIZADO, COM ROSCA BSP FEMEA, DE 4\"                                                                                                                                                                                                                                                                                                                                                                                                                                           ","UN    ","553,56",null,null,"CR"]
[{"$f":"CONCATENAR","v":"SINAPI-I 1783"},"SINAPI-I",1783,"CURVA 45 GRAUS DE FERRO GALVANIZADO, COM ROSCA BSP MACHO/FEMEA, DE 1 1/2\"                                                                                                                                                                                                                                                                                                                                                                                                                                 ","UN    ","58,53",null,null,"CR"]
[{"$f":"CONCATENAR","v":"SINAPI-I 1782"},"SINAPI-I",1782,"CURVA 45 GRAUS DE FERRO GALVANIZADO, COM ROSCA BSP MACHO/FEMEA, DE 1 1/4\"                                                                                                                                                                                                                                                                                                                                                                                                                                 ","UN    ","46,28",null,null,"CR"]
[{"$f":"CONCATENAR","v":"SINAPI-I 1817"},"SINAPI-I",1817,"CURVA 45 GRAUS DE FERRO GALVANIZADO, COM ROSCA BSP MACHO/FEMEA, DE 1/2\"                                                                                                                                                                                                                                                                                                                                                                                                                                   ","UN    ","13,79",null,null,"CR"]
[{"$f":"CONCATENAR","v":"SINAPI-I 1781"},"SINAPI-I",1781,"CURVA 45 GRAUS DE FERRO GALVANIZADO, COM ROSCA BSP MACHO/FEMEA, DE 1\"                                                                                                                                                                                                                                                                                                                                                                                                                                     ","UN    ","30,15",null,null,"CR"]
[{"$f":"CONCATENAR","v":"SINAPI-I 1784"},"SINAPI-I",1784,"CURVA 45 GRAUS DE FERRO GALVANIZADO, COM ROSCA BSP MACHO/FEMEA, DE 2 1/2\"                                                                                                                                                                                                                                                                                                                                                                                                                                 ","UN    ","165,27",null,null,"CR"]
[{"$f":"CONCATENAR","v":"SINAPI-I 1810"},"SINAPI-I",1810,"CURVA 45 GRAUS DE FERRO GALVANIZADO, COM ROSCA BSP MACHO/FEMEA, DE 2\"                                                                                                                                                                                                                                                                                                                                                                                                                                     ","UN    ","91,67",null,null,"CR"]
[{"$f":"CONCATENAR","v":"SINAPI-I 1811"},"SINAPI-I",1811,"CURVA 45 GRAUS DE FERRO GALVANIZADO, COM ROSCA BSP MACHO/FEMEA, DE 3/4\"                                                                                                                                                                                                                                                                                                                                                                                                                                   ","UN    ","19,83",null,null,"CR"]
[{"$f":"CONCATENAR","v":"SINAPI-I 1812"},"SINAPI-I",1812,"CURVA 45 GRAUS DE FERRO GALVANIZADO, COM ROSCA BSP MACHO/FEMEA, DE 3\"                                                                                                                                                                                                                                                                                                                                                                                                                                     ","UN    ","231,41",null,null,"CR"]
[{"$f":"CONCATENAR","v":"SINAPI-I 40386"},"SINAPI-I",40386,"CURVA 45 GRAUS EM ACO CARBONO, SOLDAVEL, PRESSAO 3.000 LBS, DN 1 1/2\"                                                                                                                                                                                                                                                                                                                                                                                                                                     ","UN    ","194,43",null,null,"CR"]
[{"$f":"CONCATENAR","v":"SINAPI-I 40384"},"SINAPI-I",40384,"CURVA 45 GRAUS EM ACO CARBONO, SOLDAVEL, PRESSAO 3.000 LBS, DN 1 1/4\"                                                                                                                                                                                                                                                                                                                                                                                                                                     ","UN    ","133,12",null,null,"CR"]
[{"$f":"CONCATENAR","v":"SINAPI-I 40379"},"SINAPI-I",40379,"CURVA 45 GRAUS EM ACO CARBONO, SOLDAVEL, PRESSAO 3.000 LBS, DN 1/2\"                                                                                                                                                                                                                                                                                                                                                                                                                                       ","UN    ","46,02",null,null,"CR"]
[{"$f":"CONCATENAR","v":"SINAPI-I 40423"},"SINAPI-I",40423,"CURVA 45 GRAUS EM ACO CARBONO, SOLDAVEL, PRESSAO 3.000 LBS, DN 1\"                                                                                                                                                                                                                                                                                                                                                                                                                                         ","UN    ","87,09",null,null,"CR"]
[{"$f":"CONCATENAR","v":"SINAPI-I 40389"},"SINAPI-I",40389,"CURVA 45 GRAUS EM ACO CARBONO, SOLDAVEL, PRESSAO 3.000 LBS, DN 2 1/2\"                                                                                                                                                                                                                                                                                                                                                                                                                                     ","UN    ","552,27",null,null,"CR"]
[{"$f":"CONCATENAR","v":"SINAPI-I 40388"},"SINAPI-I",40388,"CURVA 45 GRAUS EM ACO CARBONO, SOLDAVEL, PRESSAO 3.000 LBS, DN 2\"                                                                                                                                                                                                                                                                                                                                                                                                                                         ","UN    ","276,43",null,null,"CR"]
[{"$f":"CONCATENAR","v":"SINAPI-I 40381"},"SINAPI-I",40381,"CURVA 45 GRAUS EM ACO CARBONO, SOLDAVEL, PRESSAO 3.000 LBS, DN 3/4\"                                                                                                                                                                                                                                                                                                                                                                                                                                       ","UN    ","61,36",null,null,"CR"]
[{"$f":"CONCATENAR","v":"SINAPI-I 40391"},"SINAPI-I",40391,"CURVA 45 GRAUS EM ACO CARBONO, SOLDAVEL, PRESSAO 3.000 LBS, DN 3\"                                                                                                                                                                                                                                                                                                                                                                                                                                         ","UN    ","1.433,41",null,null,"CR"]
[{"$f":"CONCATENAR","v":"SINAPI-I 2609"},"SINAPI-I",2609,"CURVA 45 GRAUS PARA ELETRODUTO, EM ACO GALVANIZADO ELETROLITICO, COM ROSCA, DIAMETRO DE 20 MM (3/4\"), ESPESSURA DE 1,50 MM                                                                                                                                                                                                                                                                                                                                                                                ","UN    ","5,05",null,null,"AS"]
[{"$f":"CONCATENAR","v":"SINAPI-I 2634"},"SINAPI-I",2634,"CURVA 45 GRAUS PARA ELETRODUTO, EM ACO GALVANIZADO ELETROLITICO, COM ROSCA, DIAMETRO DE 25 MM (1\"), ESPESSURA DE 1,50 MM                                                                                                                                                                                                                                                                                                                                                                                  ","UN    ","6,63",null,null,"AS"]
[{"$f":"CONCATENAR","v":"SINAPI-I 2611"},"SINAPI-I",2611,"CURVA 45 GRAUS PARA ELETRODUTO, EM ACO GALVANIZADO ELETROLITICO, COM ROSCA, DIAMETRO DE 40 MM (1 1/2\"), ESPESSURA DE 1,50 MM                                                                                                                                                                                                                                                                                                                                                                              ","UN    ","18,70",null,null,"AS"]
[{"$f":"CONCATENAR","v":"SINAPI-I 40414"},"SINAPI-I",40414,"CURVA 45 GRAUS RANHURADA EM FERRO FUNDIDO, DN 50 MM (2\")                                                                                                                                                                                                                                                                                                                                                                                                                                                  ","UN    ","16,80",null,null,"AS"]
[{"$f":"CONCATENAR","v":"SINAPI-I 40416"},"SINAPI-I",40416,"CURVA 45 GRAUS RANHURADA EM FERRO FUNDIDO, DN 65 MM (2 1/2\")                                                                                                                                                                                                                                                                                                                                                                                                                                              ","UN    ","23,22",null,null,"AS"]
[{"$f":"CONCATENAR","v":"SINAPI-I 40418"},"SINAPI-I",40418,"CURVA 45 GRAUS RANHURADA EM FERRO FUNDIDO, DN 80 MM (3\")                                                                                                                                                                                                                                                                                                                                                                                                                                                  ","UN    ","27,70",null,null,"AS"]
[{"$f":"CONCATENAR","v":"SINAPI-I 34359"},"SINAPI-I",34359,"CURVA 90 GRAUS DE BARRA CHATA EM ALUMINIO 3/4\" X 1/4\" X 300 MM                                                                                                                                                                                                                                                                                                                                                                                                                                            ","UN    ","11,62",null,null,"CR"]
[{"$f":"CONCATENAR","v":"SINAPI-I 1789"},"SINAPI-I",1789,"CURVA 90 GRAUS DE FERRO GALVANIZADO, COM ROSCA BSP FEMEA, DE 1 1/2\"                                                                                                                                                                                                                                                                                                                                                                                                                                       ","UN    ","73,21",null,null,"CR"]
[{"$f":"CONCATENAR","v":"SINAPI-I 1788"},"SINAPI-I",1788,"CURVA 90 GRAUS DE FERRO GALVANIZADO, COM ROSCA BSP FEMEA, DE 1 1/4\"                                                                                                                                                                                                                                                                                                                                                                                                                                       ","UN    ","58,68",null,null,"CR"]
[{"$f":"CONCATENAR","v":"SINAPI-I 1786"},"SINAPI-I",1786,"CURVA 90 GRAUS DE FERRO GALVANIZADO, COM ROSCA BSP FEMEA, DE 1/2\"                                                                                                                                                                                                                                                                                                                                                                                                                                         ","UN    ","14,57",null,null,"CR"]
[{"$f":"CONCATENAR","v":"SINAPI-I 1787"},"SINAPI-I",1787,"CURVA 90 GRAUS DE FERRO GALVANIZADO, COM ROSCA BSP FEMEA, DE 1\"                                                                                                                                                                                                                                                                                                                                                                                                                                           ","UN    ","34,89",null,null,"CR"]
[{"$f":"CONCATENAR","v":"SINAPI-I 1791"},"SINAPI-I",1791,"CURVA 90 GRAUS DE FERRO GALVANIZADO, COM ROSCA BSP FEMEA, DE 2 1/2\"                                                                                                                                                                                                                                                                                                                                                                                                                                       ","UN    ","211,57",null,null,"CR"]
[{"$f":"CONCATENAR","v":"SINAPI-I 1790"},"SINAPI-I",1790,"CURVA 90 GRAUS DE FERRO GALVANIZADO, COM ROSCA BSP FEMEA, DE 2\"                                                                                                                                                                                                                                                                                                                                                                                                                                           ","UN    ","121,92",null,null,"CR"]
[{"$f":"CONCATENAR","v":"SINAPI-I 1813"},"SINAPI-I",1813,"CURVA 90 GRAUS DE FERRO GALVANIZADO, COM ROSCA BSP FEMEA, DE 3/4\"                                                                                                                                                                                                                                                                                                                                                                                                                                         ","UN    ","23,12",null,null,"CR"]
[{"$f":"CONCATENAR","v":"SINAPI-I 1792"},"SINAPI-I",1792,"CURVA 90 GRAUS DE FERRO GALVANIZADO, COM ROSCA BSP FEMEA, DE 3\"                                                                                                                                                                                                                                                                                                                                                                                                                                           ","UN    ","285,59",null,null,"CR"]
[{"$f":"CONCATENAR","v":"SINAPI-I 1793"},"SINAPI-I",1793,"CURVA 90 GRAUS DE FERRO GALVANIZADO, COM ROSCA BSP FEMEA, DE 4\"                                                                                                                                                                                                                                                                                                                                                                                                                                           ","UN    ","577,09",null,null,"CR"]
[{"$f":"CONCATENAR","v":"SINAPI-I 1809"},"SINAPI-I",1809,"CURVA 90 GRAUS DE FERRO GALVANIZADO, COM ROSCA BSP MACHO/FEMEA, DE 1 1/2\"                                                                                                                                                                                                                                                                                                                                                                                                                                 ","UN    ","68,63",null,null,"CR"]
[{"$f":"CONCATENAR","v":"SINAPI-I 1814"},"SINAPI-I",1814,"CURVA 90 GRAUS DE FERRO GALVANIZADO, COM ROSCA BSP MACHO/FEMEA, DE 1 1/4\"                                                                                                                                                                                                                                                                                                                                                                                                                                 ","UN    ","56,38",null,null,"CR"]
[{"$f":"CONCATENAR","v":"SINAPI-I 1803"},"SINAPI-I",1803,"CURVA 90 GRAUS DE FERRO GALVANIZADO, COM ROSCA BSP MACHO/FEMEA, DE 1/2\"                                                                                                                                                                                                                                                                                                                                                                                                                                   ","UN    ","14,25",null,null,"CR"]
[{"$f":"CONCATENAR","v":"SINAPI-I 1805"},"SINAPI-I",1805,"CURVA 90 GRAUS DE FERRO GALVANIZADO, COM ROSCA BSP MACHO/FEMEA, DE 1\"                                                                                                                                                                                                                                                                                                                                                                                                                                     ","UN    ","32,72",null,null,"CR"]
[{"$f":"CONCATENAR","v":"SINAPI-I 1821"},"SINAPI-I",1821,"CURVA 90 GRAUS DE FERRO GALVANIZADO, COM ROSCA BSP MACHO/FEMEA, DE 2 1/2\"                                                                                                                                                                                                                                                                                                                                                                                                                                 ","UN    ","193,30",null,null,"CR"]
[{"$f":"CONCATENAR","v":"SINAPI-I 1806"},"SINAPI-I",1806,"CURVA 90 GRAUS DE FERRO GALVANIZADO, COM ROSCA BSP MACHO/FEMEA, DE 2\"                                                                                                                                                                                                                                                                                                                                                                                                                                     ","UN    ","115,06",null,null,"CR"]
[{"$f":"CONCATENAR","v":"SINAPI-I 1804"},"SINAPI-I",1804,"CURVA 90 GRAUS DE FERRO GALVANIZADO, COM ROSCA BSP MACHO/FEMEA, DE 3/4\"                                                                                                                                                                                                                                                                                                                                                                                                                                   ","UN    ","20,28",null,null,"CR"]
[{"$f":"CONCATENAR","v":"SINAPI-I 1807"},"SINAPI-I",1807,"CURVA 90 GRAUS DE FERRO GALVANIZADO, COM ROSCA BSP MACHO/FEMEA, DE 3\"                                                                                                                                                                                                                                                                                                                                                                                                                                     ","UN    ","276,46",null,null,"CR"]
[{"$f":"CONCATENAR","v":"SINAPI-I 1808"},"SINAPI-I",1808,"CURVA 90 GRAUS DE FERRO GALVANIZADO, COM ROSCA BSP MACHO/FEMEA, DE 4\"                                                                                                                                                                                                                                                                                                                                                                                                                                     ","UN    ","554,25",null,null,"CR"]
[{"$f":"CONCATENAR","v":"SINAPI-I 1797"},"SINAPI-I",1797,"CURVA 90 GRAUS DE FERRO GALVANIZADO, COM ROSCA BSP MACHO, DE 1 1/2\"                                                                                                                                                                                                                                                                                                                                                                                                                                       ","UN    ","83,12",null,null,"CR"]
[{"$f":"CONCATENAR","v":"SINAPI-I 1796"},"SINAPI-I",1796,"CURVA 90 GRAUS DE FERRO GALVANIZADO, COM ROSCA BSP MACHO, DE 1 1/4\"                                                                                                                                                                                                                                                                                                                                                                                                                                       ","UN    ","63,76",null,null,"CR"]
[{"$f":"CONCATENAR","v":"SINAPI-I 1794"},"SINAPI-I",1794,"CURVA 90 GRAUS DE FERRO GALVANIZADO, COM ROSCA BSP MACHO, DE 1/2\"                                                                                                                                                                                                                                                                                                                                                                                                                                         ","UN    ","15,22",null,null,"CR"]
[{"$f":"CONCATENAR","v":"SINAPI-I 1816"},"SINAPI-I",1816,"CURVA 90 GRAUS DE FERRO GALVANIZADO, COM ROSCA BSP MACHO, DE 1\"                                                                                                                                                                                                                                                                                                                                                                                                                                           ","UN    ","34,32",null,null,"CR"]
[{"$f":"CONCATENAR","v":"SINAPI-I 1815"},"SINAPI-I",1815,"CURVA 90 GRAUS DE FERRO GALVANIZADO, COM ROSCA BSP MACHO, DE 2 1/2\"                                                                                                                                                                                                                                                                                                                                                                                                                                       ","UN    ","263,57",null,null,"CR"]
[{"$f":"CONCATENAR","v":"SINAPI-I 1798"},"SINAPI-I",1798,"CURVA 90 GRAUS DE FERRO GALVANIZADO, COM ROSCA BSP MACHO, DE 2\"                                                                                                                                                                                                                                                                                                                                                                                                                                           ","UN    ","117,94",null,null,"CR"]
[{"$f":"CONCATENAR","v":"SINAPI-I 1795"},"SINAPI-I",1795,"CURVA 90 GRAUS DE FERRO GALVANIZADO, COM ROSCA BSP MACHO, DE 3/4\"                                                                                                                                                                                                                                                                                                                                                                                                                                         ","UN    ","21,09",null,null,"CR"]
[{"$f":"CONCATENAR","v":"SINAPI-I 1799"},"SINAPI-I",1799,"CURVA 90 GRAUS DE FERRO GALVANIZADO, COM ROSCA BSP MACHO, DE 3\"                                                                                                                                                                                                                                                                                                                                                                                                                                           ","UN    ","343,27",null,null,"CR"]
[{"$f":"CONCATENAR","v":"SINAPI-I 1800"},"SINAPI-I",1800,"CURVA 90 GRAUS DE FERRO GALVANIZADO, COM ROSCA BSP MACHO, DE 4\"                                                                                                                                                                                                                                                                                                                                                                                                                                           ","UN    ","655,36",null,null,"CR"]
[{"$f":"CONCATENAR","v":"SINAPI-I 1802"},"SINAPI-I",1802,"CURVA 90 GRAUS DE FERRO GALVANIZADO, COM ROSCA BSP MACHO, DE 6\"                                                                                                                                                                                                                                                                                                                                                                                                                                           ","UN    ","1.639,32",null,null,"CR"]
[{"$f":"CONCATENAR","v":"SINAPI-I 40385"},"SINAPI-I",40385,"CURVA 90 GRAUS EM ACO CARBONO, RAIO CURTO, SOLDAVEL, PRESSAO 3.000 LBS, DN 1 1/2\"                                                                                                                                                                                                                                                                                                                                                                                                                         ","UN    ","194,43",null,null,"CR"]
[{"$f":"CONCATENAR","v":"SINAPI-I 40383"},"SINAPI-I",40383,"CURVA 90 GRAUS EM ACO CARBONO, RAIO CURTO, SOLDAVEL, PRESSAO 3.000 LBS, DN 1 1/4\"                                                                                                                                                                                                                                                                                                                                                                                                                         ","UN    ","133,12",null,null,"CR"]
[{"$f":"CONCATENAR","v":"SINAPI-I 40378"},"SINAPI-I",40378,"CURVA 90 GRAUS EM ACO CARBONO, RAIO CURTO, SOLDAVEL, PRESSAO 3.000 LBS, DN 1/2\"                                                                                                                                                                                                                                                                                                                                                                                                                           ","UN    ","46,02",null,null,"CR"]
[{"$f":"CONCATENAR","v":"SINAPI-I 40382"},"SINAPI-I",40382,"CURVA 90 GRAUS EM ACO CARBONO, RAIO CURTO, SOLDAVEL, PRESSAO 3.000 LBS, DN 1\"                                                                                                                                                                                                                                                                                                                                                                                                                             ","UN    ","87,09",null,null,"CR"]
[{"$f":"CONCATENAR","v":"SINAPI-I 40422"},"SINAPI-I",40422,"CURVA 90 GRAUS EM ACO CARBONO, RAIO CURTO, SOLDAVEL, PRESSAO 3.000 LBS, DN 2 1/2\"                                                                                                                                                                                                                                                                                                                                                                                                                         ","UN    ","593,27",null,null,"CR"]
[{"$f":"CONCATENAR","v":"SINAPI-I 40387"},"SINAPI-I",40387,"CURVA 90 GRAUS EM ACO CARBONO, RAIO CURTO, SOLDAVEL, PRESSAO 3.000 LBS, DN 2\"                                                                                                                                                                                                                                                                                                                                                                                                                             ","UN    ","302,07",null,null,"CR"]
[{"$f":"CONCATENAR","v":"SINAPI-I 40380"},"SINAPI-I",40380,"CURVA 90 GRAUS EM ACO CARBONO, RAIO CURTO, SOLDAVEL, PRESSAO 3.000 LBS, DN 3/4\"                                                                                                                                                                                                                                                                                                                                                                                                                           ","UN    ","61,36",null,null,"CR"]
[{"$f":"CONCATENAR","v":"SINAPI-I 40390"},"SINAPI-I",40390,"CURVA 90 GRAUS EM ACO CARBONO, RAIO CURTO, SOLDAVEL, PRESSAO 3.000 LBS, DN 3\"                                                                                                                                                                                                                                                                                                                                                                                                                             ","UN    ","1.249,48",null,null,"CR"]
[{"$f":"CONCATENAR","v":"SINAPI-I 2621"},"SINAPI-I",2621,"CURVA 90 GRAUS PARA ELETRODUTO, EM ACO GALVANIZADO ELETROLITICO, COM ROSCA, DIAMETRO DE 100 MM (4\")                                                                                                                                                                                                                                                                                                                                                                                                       ","UN    ","159,97",null,null,"AS"]
[{"$f":"CONCATENAR","v":"SINAPI-I 2616"},"SINAPI-I",2616,"CURVA 90 GRAUS PARA ELETRODUTO, EM ACO GALVANIZADO ELETROLITICO, COM ROSCA, DIAMETRO DE 15 MM (1/2\"), ESPESSURA DE 1,50 MM                                                                                                                                                                                                                                                                                                                                                                                ","UN    ","4,52",null,null,"AS"]
[{"$f":"CONCATENAR","v":"SINAPI-I 2633"},"SINAPI-I",2633,"CURVA 90 GRAUS PARA ELETRODUTO, EM ACO GALVANIZADO ELETROLITICO, COM ROSCA, DIAMETRO DE 20 MM (3/4\"), ESPESSURA DE 1,50 MM                                                                                                                                                                                                                                                                                                                                                                                ","UN    ","5,12",null,null,"AS"]
[{"$f":"CONCATENAR","v":"SINAPI-I 2617"},"SINAPI-I",2617,"CURVA 90 GRAUS PARA ELETRODUTO, EM ACO GALVANIZADO ELETROLITICO, COM ROSCA, DIAMETRO DE 25 MM (1\"), ESPESSURA DE 1,50 MM                                                                                                                                                                                                                                                                                                                                                                                  ","UN    ","6,96",null,null,"AS"]
[{"$f":"CONCATENAR","v":"SINAPI-I 2618"},"SINAPI-I",2618,"CURVA 90 GRAUS PARA ELETRODUTO, EM ACO GALVANIZADO ELETROLITICO, COM ROSCA, DIAMETRO DE 32 MM (1 1/4\"), ESPESSURA DE 1,50 MM                                                                                                                                                                                                                                                                                                                                                                              ","UN    ","15,84",null,null,"AS"]
[{"$f":"CONCATENAR","v":"SINAPI-I 2632"},"SINAPI-I",2632,"CURVA 90 GRAUS PARA ELETRODUTO, EM ACO GALVANIZADO ELETROLITICO, COM ROSCA, DIAMETRO DE 40 MM (1 1/2\"), ESPESSURA DE 1,50 MM                                                                                                                                                                                                                                                                                                                                                                              ","UN    ","19,32",null,null,"AS"]
[{"$f":"CONCATENAR","v":"SINAPI-I 2631"},"SINAPI-I",2631,"CURVA 90 GRAUS PARA ELETRODUTO, EM ACO GALVANIZADO ELETROLITICO, COM ROSCA, DIAMETRO DE 50 MM (2\")                                                                                                                                                                                                                                                                                                                                                                                                        ","UN    ","28,37",null,null,"AS"]
[{"$f":"CONCATENAR","v":"SINAPI-I 2619"},"SINAPI-I",2619,"CURVA 90 GRAUS PARA ELETRODUTO, EM ACO GALVANIZADO ELETROLITICO, COM ROSCA, DIAMETRO DE 65 MM (2 1/2\")                                                                                                                                                                                                                                                                                                                                                                                                    ","UN    ","71,84",null,null,"AS"]
[{"$f":"CONCATENAR","v":"SINAPI-I 2620"},"SINAPI-I",2620,"CURVA 90 GRAUS PARA ELETRODUTO, EM ACO GALVANIZADO ELETROLITICO, COM ROSCA, DIAMETRO DE 80 MM (3\")                                                                                                                                                                                                                                                                                                                                                                                                        ","UN    ","94,32",null,null,"AS"]
[{"$f":"CONCATENAR","v":"SINAPI-I 40413"},"SINAPI-I",40413,"CURVA 90 GRAUS RANHURADA EM FERRO FUNDIDO, DN 50 MM (2\")                                                                                                                                                                                                                                                                                                                                                                                                                                                  ","UN    ","18,25",null,null,"AS"]
[{"$f":"CONCATENAR","v":"SINAPI-I 40415"},"SINAPI-I",40415,"CURVA 90 GRAUS RANHURADA EM FERRO FUNDIDO, DN 65 MM (2 1/2\")                                                                                                                                                                                                                                                                                                                                                                                                                                              ","UN    ","26,00",null,null,"AS"]
[{"$f":"CONCATENAR","v":"SINAPI-I 40417"},"SINAPI-I",40417,"CURVA 90 GRAUS RANHURADA EM FERRO FUNDIDO, DN 80 MM (3\")                                                                                                                                                                                                                                                                                                                                                                                                                                                  ","UN    ","30,68",null,null,"AS"]
[{"$f":"CONCATENAR","v":"SINAPI-I 39271"},"SINAPI-I",39271,"CURVA 90 GRAUS, CURTA, DE PVC RIGIDO ROSCAVEL, DE 1/2\", PARA ELETRODUTO                                                                                                                                                                                                                                                                                                                                                                                                                                   ","UN    ","2,54",null,null,"CR"]
[{"$f":"CONCATENAR","v":"SINAPI-I 39273"},"SINAPI-I",39273,"CURVA 90 GRAUS, CURTA, DE PVC RIGIDO ROSCAVEL, DE 1\", PARA ELETRODUTO                                                                                                                                                                                                                                                                                                                                                                                                                                     ","UN    ","4,31",null,null,"CR"]
[{"$f":"CONCATENAR","v":"SINAPI-I 39272"},"SINAPI-I",39272,"CURVA 90 GRAUS, CURTA, DE PVC RIGIDO ROSCAVEL, DE 3/4\", PARA ELETRODUTO                                                                                                                                                                                                                                                                                                                                                                                                                                   ","UN    ","3,12",null,null,"CR"]
[{"$f":"CONCATENAR","v":"SINAPI-I 1875"},"SINAPI-I",1875,"CURVA 90 GRAUS, LONGA, DE PVC RIGIDO ROSCAVEL, DE 1 1/2\", PARA ELETRODUTO                                                                                                                                                                                                                                                                                                                                                                                                                                 ","UN    ","6,90",null,null,"CR"]
[{"$f":"CONCATENAR","v":"SINAPI-I 1874"},"SINAPI-I",1874,"CURVA 90 GRAUS, LONGA, DE PVC RIGIDO ROSCAVEL, DE 1 1/4\", PARA ELETRODUTO                                                                                                                                                                                                                                                                                                                                                                                                                                 ","UN    ","5,70",null,null,"CR"]
[{"$f":"CONCATENAR","v":"SINAPI-I 1870"},"SINAPI-I",1870,"CURVA 90 GRAUS, LONGA, DE PVC RIGIDO ROSCAVEL, DE 1/2\", PARA ELETRODUTO                                                                                                                                                                                                                                                                                                                                                                                                                                   ","UN    ","3,29",null,null,"C "]
[{"$f":"CONCATENAR","v":"SINAPI-I 1884"},"SINAPI-I",1884,"CURVA 90 GRAUS, LONGA, DE PVC RIGIDO ROSCAVEL, DE 1\", PARA ELETRODUTO                                                                                                                                                                                                                                                                                                                                                                                                                                     ","UN    ","5,05",null,null,"CR"]
[{"$f":"CONCATENAR","v":"SINAPI-I 1887"},"SINAPI-I",1887,"CURVA 90 GRAUS, LONGA, DE PVC RIGIDO ROSCAVEL, DE 2 1/2\", PARA ELETRODUTO                                                                                                                                                                                                                                                                                                                                                                                                                                 ","UN    ","28,60",null,null,"CR"]
[{"$f":"CONCATENAR","v":"SINAPI-I 1876"},"SINAPI-I",1876,"CURVA 90 GRAUS, LONGA, DE PVC RIGIDO ROSCAVEL, DE 2\", PARA ELETRODUTO                                                                                                                                                                                                                                                                                                                                                                                                                                     ","UN    ","11,21",null,null,"CR"]
[{"$f":"CONCATENAR","v":"SINAPI-I 1879"},"SINAPI-I",1879,"CURVA 90 GRAUS, LONGA, DE PVC RIGIDO ROSCAVEL, DE 3/4\", PARA ELETRODUTO                                                                                                                                                                                                                                                                                                                                                                                                                                   ","UN    ","3,33",null,null,"CR"]
[{"$f":"CONCATENAR","v":"SINAPI-I 1877"},"SINAPI-I",1877,"CURVA 90 GRAUS, LONGA, DE PVC RIGIDO ROSCAVEL, DE 3\", PARA ELETRODUTO                                                                                                                                                                                                                                                                                                                                                                                                                                     ","UN    ","28,64",null,null,"CR"]
[{"$f":"CONCATENAR","v":"SINAPI-I 1878"},"SINAPI-I",1878,"CURVA 90 GRAUS, LONGA, DE PVC RIGIDO ROSCAVEL, DE 4\", PARA ELETRODUTO                                                                                                                                                                                                                                                                                                                                                                                                                                     ","UN    ","57,55",null,null,"CR"]
[{"$f":"CONCATENAR","v":"SINAPI-I 44472"},"SINAPI-I",44472,"DENTE PARA  FRESADORA                                                                                                                                                                                                                                                                                                                                                                                                                                                                                     ","UN    ","57,38",null,null,"AS"]
[{"$f":"CONCATENAR","v":"SINAPI-I 38369"},"SINAPI-I",38369,"DESEMPENADEIRA DE ACO DENTADA 12 X *25* CM, DENTES 8 X 8 MM, CABO FECHADO DE MADEIRA                                                                                                                                                                                                                                                                                                                                                                                                                      ","UN    ","24,02",null,null,"CR"]
[{"$f":"CONCATENAR","v":"SINAPI-I 38370"},"SINAPI-I",38370,"DESEMPENADEIRA DE ACO LISA 12 X *25* CM COM CABO FECHADO DE MADEIRA                                                                                                                                                                                                                                                                                                                                                                                                                                       ","UN    ","24,02",null,null,"CR"]
[{"$f":"CONCATENAR","v":"SINAPI-I 38372"},"SINAPI-I",38372,"DESEMPENADEIRA PLASTICA LISA *14 X 27* CM                                                                                                                                                                                                                                                                                                                                                                                                                                                                 ","UN    ","24,18",null,null,"CR"]
[{"$f":"CONCATENAR","v":"SINAPI-I 2358"},"SINAPI-I",2358,"DESENHISTA PROJETISTA (HORISTA)                                                                                                                                                                                                                                                                                                                                                                                                                                                                           ","H     ","26,51",null,null,"CR"]
[{"$f":"CONCATENAR","v":"SINAPI-I 40807"},"SINAPI-I",40807,"DESENHISTA PROJETISTA (MENSALISTA)                                                                                                                                                                                                                                                                                                                                                                                                                                                                        ","MES   ","4.650,44",null,null,"CR"]
[{"$f":"CONCATENAR","v":"SINAPI-I 44330"},"SINAPI-I",44330,"DESINFETANTE PRONTO USO                                                                                                                                                                                                                                                                                                                                                                                                                                                                                   ","L     ","11,48",null,null,"CR"]
[{"$f":"CONCATENAR","v":"SINAPI-I 43144"},"SINAPI-I",43144,"DESMOLDANTE PARA CONCRETO ESTAMPADO                                                                                                                                                                                                                                                                                                                                                                                                                                                                       ","KG    ","39,77",null,null,"CR"]
[{"$f":"CONCATENAR","v":"SINAPI-I 39397"},"SINAPI-I",39397,"DESMOLDANTE PARA FORMAS METALICAS A BASE DE OLEO VEGETAL                                                                                                                                                                                                                                                                                                                                                                                                                                                  ","L     ","18,12",null,null,"CR"]
[{"$f":"CONCATENAR","v":"SINAPI-I 2692"},"SINAPI-I",2692,"DESMOLDANTE PROTETOR PARA FORMAS DE MADEIRA, DE BASE OLEOSA EMULSIONADA EM AGUA                                                                                                                                                                                                                                                                                                                                                                                                                           ","L     ","7,31",null,null,"CR"]
[{"$f":"CONCATENAR","v":"SINAPI-I 44329"},"SINAPI-I",44329,"DETERGENTE NEUTRO USO GERAL, CONCENTRADO                                                                                                                                                                                                                                                                                                                                                                                                                                                                  ","L     ","15,04",null,null,"CR"]
[{"$f":"CONCATENAR","v":"SINAPI-I 5318"},"SINAPI-I",5318,"DILUENTE AGUARRAS                                                                                                                                                                                                                                                                                                                                                                                                                                                                                         ","L     ","24,32",null,null,"C "]
[{"$f":"CONCATENAR","v":"SINAPI-I 5330"},"SINAPI-I",5330,"DILUENTE EPOXI                                                                                                                                                                                                                                                                                                                                                                                                                                                                                            ","L     ","55,43",null,null,"CR"]
[{"$f":"CONCATENAR","v":"SINAPI-I 44532"},"SINAPI-I",44532,"DISCO DE BORRACHA PARA LIXADEIRA RIGIDO 7\" COM ARRUELA CENTRAL                                                                                                                                                                                                                                                                                                                                                                                                                                            ","UN    ","24,65",null,null,"CR"]
[{"$f":"CONCATENAR","v":"SINAPI-I 44531"},"SINAPI-I",44531,"DISCO DE CORTE DIAMANTADO SEGMENTADO DIAMETRO DE 180 MM PARA ESMERILHADEIRA 7\"                                                                                                                                                                                                                                                                                                                                                                                                                            ","UN    ","78,35",null,null,"CR"]
[{"$f":"CONCATENAR","v":"SINAPI-I 38140"},"SINAPI-I",38140,"DISCO DE CORTE DIAMANTADO SEGMENTADO PARA CONCRETO, DIAMETRO DE 110 MM, FURO DE 20 MM                                                                                                                                                                                                                                                                                                                                                                                                                     ","UN    ","19,00",null,null,"C "]
[{"$f":"CONCATENAR","v":"SINAPI-I 13887"},"SINAPI-I",13887,"DISCO DE CORTE DIAMANTADO SEGMENTADO PARA CONCRETO, DIAMETRO DE 350 MM, FURO DE 1\" (14 X 1 \")                                                                                                                                                                                                                                                                                                                                                                                                             ","UN    ","449,84",null,null,"CR"]
[{"$f":"CONCATENAR","v":"SINAPI-I 44495"},"SINAPI-I",44495,"DISCO DE CORTE PARA METAL COM DUAS TELAS 12 X 1/8 X 3/4\" (300 X 3,2 X 19,05 MM)                                                                                                                                                                                                                                                                                                                                                                                                                           ","UN    ","20,02",null,null,"CR"]
[{"$f":"CONCATENAR","v":"SINAPI-I 44533"},"SINAPI-I",44533,"DISCO DE DESBASTE PARA METAL FERROSO EM GERAL, COM TRES TELAS, 9 X 1/4 X 7/8\" (228,6 X 6,4 X 22,2 MM)                                                                                                                                                                                                                                                                                                                                                                                                     ","UN    ","18,91",null,null,"CR"]
[{"$f":"CONCATENAR","v":"SINAPI-I 44534"},"SINAPI-I",44534,"DISCO DE LIXA PARA METAL, DIAMETRO = 180 MM, GRAO  120                                                                                                                                                                                                                                                                                                                                                                                                                                                    ","UN    ","4,93",null,null,"CR"]
[{"$f":"CONCATENAR","v":"SINAPI-I 34729"},"SINAPI-I",34729,"DISJUNTOR TERMOMAGNETICO AJUSTAVEL, TRIPOLAR DE 100 ATE 250A, CAPACIDADE DE INTERRUPCAO DE 35KA                                                                                                                                                                                                                                                                                                                                                                                                           ","UN    ","1.024,42",null,null,"CR"]
[{"$f":"CONCATENAR","v":"SINAPI-I 34734"},"SINAPI-I",34734,"DISJUNTOR TERMOMAGNETICO AJUSTAVEL, TRIPOLAR DE 300 ATE 400A, CAPACIDADE DE INTERRUPCAO DE 35KA                                                                                                                                                                                                                                                                                                                                                                                                           ","UN    ","1.586,13",null,null,"CR"]
[{"$f":"CONCATENAR","v":"SINAPI-I 34738"},"SINAPI-I",34738,"DISJUNTOR TERMOMAGNETICO AJUSTAVEL, TRIPOLAR DE 450 ATE 600A, CAPACIDADE DE INTERRUPCAO DE 35KA                                                                                                                                                                                                                                                                                                                                                                                                           ","UN    ","3.705,71",null,null,"CR"]
[{"$f":"CONCATENAR","v":"SINAPI-I 34623"},"SINAPI-I",34623,"DISJUNTOR TERMOMAGNETICO PARA TRILHO DIN (IEC), BIPOLAR, 40 - 50 A                                                                                                                                                                                                                                                                                                                                                                                                                                        ","UN    ","44,40",null,null,"CR"]
[{"$f":"CONCATENAR","v":"SINAPI-I 34616"},"SINAPI-I",34616,"DISJUNTOR TERMOMAGNETICO PARA TRILHO DIN (IEC), BIPOLAR, 6 - 32 A                                                                                                                                                                                                                                                                                                                                                                                                                                         ","UN    ","45,10",null,null,"CR"]
[{"$f":"CONCATENAR","v":"SINAPI-I 34628"},"SINAPI-I",34628,"DISJUNTOR TERMOMAGNETICO PARA TRILHO DIN (IEC), BIPOLAR, 63 A                                                                                                                                                                                                                                                                                                                                                                                                                                             ","UN    ","63,60",null,null,"CR"]
[{"$f":"CONCATENAR","v":"SINAPI-I 34686"},"SINAPI-I",34686,"DISJUNTOR TERMOMAGNETICO PARA TRILHO DIN (IEC), MONOPOLAR, 40 - 50 A                                                                                                                                                                                                                                                                                                                                                                                                                                      ","UN    ","11,66",null,null,"CR"]
[{"$f":"CONCATENAR","v":"SINAPI-I 34653"},"SINAPI-I",34653,"DISJUNTOR TERMOMAGNETICO PARA TRILHO DIN (IEC), MONOPOLAR, 6 - 32 A                                                                                                                                                                                                                                                                                                                                                                                                                                       ","UN    ","7,86",null,null,"CR"]
[{"$f":"CONCATENAR","v":"SINAPI-I 34688"},"SINAPI-I",34688,"DISJUNTOR TERMOMAGNETICO PARA TRILHO DIN (IEC), MONOPOLAR, 63 A                                                                                                                                                                                                                                                                                                                                                                                                                                           ","UN    ","14,26",null,null,"CR"]
[{"$f":"CONCATENAR","v":"SINAPI-I 34709"},"SINAPI-I",34709,"DISJUNTOR TERMOMAGNETICO PARA TRILHO DIN (IEC), TRIPOLAR, 10 - 50 A                                                                                                                                                                                                                                                                                                                                                                                                                                       ","UN    ","55,25",null,null,"CR"]
[{"$f":"CONCATENAR","v":"SINAPI-I 34714"},"SINAPI-I",34714,"DISJUNTOR TERMOMAGNETICO PARA TRILHO DIN (IEC), TRIPOLAR, 63 A                                                                                                                                                                                                                                                                                                                                                                                                                                            ","UN    ","65,99",null,null,"CR"]
[{"$f":"CONCATENAR","v":"SINAPI-I 2391"},"SINAPI-I",2391,"DISJUNTOR TERMOMAGNETICO TRIPOLAR 125 A / 425 V / ICC - 25 KA                                                                                                                                                                                                                                                                                                                                                                                                                                             ","UN    ","301,39",null,null,"CR"]
[{"$f":"CONCATENAR","v":"SINAPI-I 2374"},"SINAPI-I",2374,"DISJUNTOR TERMOMAGNETICO TRIPOLAR 150 A / 600 V, TIPO FXD / ICC - 35 KA                                                                                                                                                                                                                                                                                                                                                                                                                                   ","UN    ","341,92",null,null,"CR"]
[{"$f":"CONCATENAR","v":"SINAPI-I 2377"},"SINAPI-I",2377,"DISJUNTOR TERMOMAGNETICO TRIPOLAR 200 A / 600 V, TIPO FXD / ICC - 35 KA                                                                                                                                                                                                                                                                                                                                                                                                                                   ","UN    ","479,85",null,null,"CR"]
[{"$f":"CONCATENAR","v":"SINAPI-I 2393"},"SINAPI-I",2393,"DISJUNTOR TERMOMAGNETICO TRIPOLAR 250 A / 600 V, TIPO FXD                                                                                                                                                                                                                                                                                                                                                                                                                                                 ","UN    ","803,58",null,null,"CR"]
[{"$f":"CONCATENAR","v":"SINAPI-I 34705"},"SINAPI-I",34705,"DISJUNTOR TERMOMAGNETICO TRIPOLAR 3 X 250 A/ICC - 25 KA                                                                                                                                                                                                                                                                                                                                                                                                                                                   ","UN    ","702,85",null,null,"CR"]
[{"$f":"CONCATENAR","v":"SINAPI-I 34707"},"SINAPI-I",34707,"DISJUNTOR TERMOMAGNETICO TRIPOLAR 3 X 350 A/ICC - 25 KA                                                                                                                                                                                                                                                                                                                                                                                                                                                   ","UN    ","1.302,39",null,null,"CR"]
[{"$f":"CONCATENAR","v":"SINAPI-I 34544"},"SINAPI-I",34544,"DISJUNTOR TERMOMAGNETICO TRIPOLAR 3 X 400 A / ICC - 25 KA                                                                                                                                                                                                                                                                                                                                                                                                                                                 ","UN    ","1.302,25",null,null,"CR"]
[{"$f":"CONCATENAR","v":"SINAPI-I 2378"},"SINAPI-I",2378,"DISJUNTOR TERMOMAGNETICO TRIPOLAR 300 A / 600 V, TIPO JXD / ICC - 40 KA                                                                                                                                                                                                                                                                                                                                                                                                                                   ","UN    ","1.103,83",null,null,"CR"]
[{"$f":"CONCATENAR","v":"SINAPI-I 2379"},"SINAPI-I",2379,"DISJUNTOR TERMOMAGNETICO TRIPOLAR 400 A / 600 V, TIPO JXD / ICC - 40 KA                                                                                                                                                                                                                                                                                                                                                                                                                                   ","UN    ","1.103,83",null,null,"CR"]
[{"$f":"CONCATENAR","v":"SINAPI-I 2376"},"SINAPI-I",2376,"DISJUNTOR TERMOMAGNETICO TRIPOLAR 600 A / 600 V, TIPO LXD / ICC - 40 KA                                                                                                                                                                                                                                                                                                                                                                                                                                   ","UN    ","1.817,99",null,null,"CR"]
[{"$f":"CONCATENAR","v":"SINAPI-I 2394"},"SINAPI-I",2394,"DISJUNTOR TERMOMAGNETICO TRIPOLAR 800 A / 600 V, TIPO LMXD                                                                                                                                                                                                                                                                                                                                                                                                                                                ","UN    ","3.886,54",null,null,"CR"]
[{"$f":"CONCATENAR","v":"SINAPI-I 2388"},"SINAPI-I",2388,"DISJUNTOR TIPO NEMA, BIPOLAR 10 ATE 50 A, TENSAO MAXIMA 415 V                                                                                                                                                                                                                                                                                                                                                                                                                                             ","UN    ","54,84",null,null,"CR"]
[{"$f":"CONCATENAR","v":"SINAPI-I 34606"},"SINAPI-I",34606,"DISJUNTOR TIPO NEMA, BIPOLAR 60 ATE 100A, TENSAO MAXIMA 415 V                                                                                                                                                                                                                                                                                                                                                                                                                                             ","UN    ","84,12",null,null,"CR"]
[{"$f":"CONCATENAR","v":"SINAPI-I 34689"},"SINAPI-I",34689,"DISJUNTOR TIPO NEMA, MONOPOLAR DE 60 ATE 70A, TENSAO MAXIMA DE 240 V                                                                                                                                                                                                                                                                                                                                                                                                                                      ","UN    ","26,78",null,null,"CR"]
[{"$f":"CONCATENAR","v":"SINAPI-I 2370"},"SINAPI-I",2370,"DISJUNTOR TIPO NEMA, MONOPOLAR 10 ATE 30A, TENSAO MAXIMA DE 240 V                                                                                                                                                                                                                                                                                                                                                                                                                                         ","UN    ","10,19",null,null,"C "]
[{"$f":"CONCATENAR","v":"SINAPI-I 2386"},"SINAPI-I",2386,"DISJUNTOR TIPO NEMA, MONOPOLAR 35 ATE 50 A, TENSAO MAXIMA DE 240 V                                                                                                                                                                                                                                                                                                                                                                                                                                        ","UN    ","17,09",null,null,"CR"]
[{"$f":"CONCATENAR","v":"SINAPI-I 2392"},"SINAPI-I",2392,"DISJUNTOR TIPO NEMA, TRIPOLAR 10 ATE 50A, TENSAO MAXIMA DE 415 V                                                                                                                                                                                                                                                                                                                                                                                                                                          ","UN    ","68,40",null,null,"CR"]
[{"$f":"CONCATENAR","v":"SINAPI-I 2373"},"SINAPI-I",2373,"DISJUNTOR TIPO NEMA, TRIPOLAR 60 ATE 100 A, TENSAO MAXIMA DE 415 V                                                                                                                                                                                                                                                                                                                                                                                                                                        ","UN    ","96,37",null,null,"CR"]
[{"$f":"CONCATENAR","v":"SINAPI-I 39465"},"SINAPI-I",39465,"DISPOSITIVO DPS CLASSE II, 1 POLO, TENSAO MAXIMA DE 175 V, CORRENTE MAXIMA DE *20* KA (TIPO AC)                                                                                                                                                                                                                                                                                                                                                                                                           ","UN    ","58,87",null,null,"CR"]
[{"$f":"CONCATENAR","v":"SINAPI-I 39466"},"SINAPI-I",39466,"DISPOSITIVO DPS CLASSE II, 1 POLO, TENSAO MAXIMA DE 175 V, CORRENTE MAXIMA DE *30* KA (TIPO AC)                                                                                                                                                                                                                                                                                                                                                                                                           ","UN    ","66,23",null,null,"CR"]
[{"$f":"CONCATENAR","v":"SINAPI-I 39467"},"SINAPI-I",39467,"DISPOSITIVO DPS CLASSE II, 1 POLO, TENSAO MAXIMA DE 175 V, CORRENTE MAXIMA DE *45* KA (TIPO AC)                                                                                                                                                                                                                                                                                                                                                                                                           ","UN    ","84,72",null,null,"CR"]
[{"$f":"CONCATENAR","v":"SINAPI-I 39468"},"SINAPI-I",39468,"DISPOSITIVO DPS CLASSE II, 1 POLO, TENSAO MAXIMA DE 175 V, CORRENTE MAXIMA DE *90* KA (TIPO AC)                                                                                                                                                                                                                                                                                                                                                                                                           ","UN    ","150,59",null,null,"CR"]
[{"$f":"CONCATENAR","v":"SINAPI-I 39469"},"SINAPI-I",39469,"DISPOSITIVO DPS CLASSE II, 1 POLO, TENSAO MAXIMA DE 275 V, CORRENTE MAXIMA DE *20* KA (TIPO AC)                                                                                                                                                                                                                                                                                                                                                                                                           ","UN    ","61,34",null,null,"CR"]
[{"$f":"CONCATENAR","v":"SINAPI-I 39470"},"SINAPI-I",39470,"DISPOSITIVO DPS CLASSE II, 1 POLO, TENSAO MAXIMA DE 275 V, CORRENTE MAXIMA DE *30* KA (TIPO AC)                                                                                                                                                                                                                                                                                                                                                                                                           ","UN    ","75,37",null,null,"CR"]
[{"$f":"CONCATENAR","v":"SINAPI-I 39471"},"SINAPI-I",39471,"DISPOSITIVO DPS CLASSE II, 1 POLO, TENSAO MAXIMA DE 275 V, CORRENTE MAXIMA DE *45* KA (TIPO AC)                                                                                                                                                                                                                                                                                                                                                                                                           ","UN    ","90,57",null,null,"CR"]
[{"$f":"CONCATENAR","v":"SINAPI-I 39472"},"SINAPI-I",39472,"DISPOSITIVO DPS CLASSE II, 1 POLO, TENSAO MAXIMA DE 275 V, CORRENTE MAXIMA DE *90* KA (TIPO AC)                                                                                                                                                                                                                                                                                                                                                                                                           ","UN    ","157,37",null,null,"CR"]
[{"$f":"CONCATENAR","v":"SINAPI-I 39473"},"SINAPI-I",39473,"DISPOSITIVO DPS CLASSE II, 1 POLO, TENSAO MAXIMA DE 385 V, CORRENTE MAXIMA DE *20* KA (TIPO AC)                                                                                                                                                                                                                                                                                                                                                                                                           ","UN    ","101,66",null,null,"CR"]
[{"$f":"CONCATENAR","v":"SINAPI-I 39474"},"SINAPI-I",39474,"DISPOSITIVO DPS CLASSE II, 1 POLO, TENSAO MAXIMA DE 385 V, CORRENTE MAXIMA DE *30* KA (TIPO AC)                                                                                                                                                                                                                                                                                                                                                                                                           ","UN    ","108,38",null,null,"CR"]
[{"$f":"CONCATENAR","v":"SINAPI-I 39475"},"SINAPI-I",39475,"DISPOSITIVO DPS CLASSE II, 1 POLO, TENSAO MAXIMA DE 385 V, CORRENTE MAXIMA DE *45* KA (TIPO AC)                                                                                                                                                                                                                                                                                                                                                                                                           ","UN    ","122,97",null,null,"CR"]
[{"$f":"CONCATENAR","v":"SINAPI-I 39476"},"SINAPI-I",39476,"DISPOSITIVO DPS CLASSE II, 1 POLO, TENSAO MAXIMA DE 385 V, CORRENTE MAXIMA DE *90* KA (TIPO AC)                                                                                                                                                                                                                                                                                                                                                                                                           ","UN    ","231,48",null,null,"CR"]
[{"$f":"CONCATENAR","v":"SINAPI-I 39477"},"SINAPI-I",39477,"DISPOSITIVO DPS CLASSE II, 1 POLO, TENSAO MAXIMA DE 460 V, CORRENTE MAXIMA DE *20* KA (TIPO AC)                                                                                                                                                                                                                                                                                                                                                                                                           ","UN    ","113,42",null,null,"CR"]
[{"$f":"CONCATENAR","v":"SINAPI-I 39478"},"SINAPI-I",39478,"DISPOSITIVO DPS CLASSE II, 1 POLO, TENSAO MAXIMA DE 460 V, CORRENTE MAXIMA DE *30* KA (TIPO AC)                                                                                                                                                                                                                                                                                                                                                                                                           ","UN    ","116,93",null,null,"CR"]
[{"$f":"CONCATENAR","v":"SINAPI-I 39479"},"SINAPI-I",39479,"DISPOSITIVO DPS CLASSE II, 1 POLO, TENSAO MAXIMA DE 460 V, CORRENTE MAXIMA DE *45* KA (TIPO AC)                                                                                                                                                                                                                                                                                                                                                                                                           ","UN    ","137,76",null,null,"CR"]
[{"$f":"CONCATENAR","v":"SINAPI-I 39480"},"SINAPI-I",39480,"DISPOSITIVO DPS CLASSE II, 1 POLO, TENSAO MAXIMA DE 460 V, CORRENTE MAXIMA DE *90* KA (TIPO AC)                                                                                                                                                                                                                                                                                                                                                                                                           ","UN    ","284,27",null,null,"CR"]
[{"$f":"CONCATENAR","v":"SINAPI-I 39459"},"SINAPI-I",39459,"DISPOSITIVO DR, 2 POLOS, SENSIBILIDADE DE 30 MA, CORRENTE DE 100 A, TIPO AC                                                                                                                                                                                                                                                                                                                                                                                                                               ","UN    ","241,28",null,null,"CR"]
[{"$f":"CONCATENAR","v":"SINAPI-I 39445"},"SINAPI-I",39445,"DISPOSITIVO DR, 2 POLOS, SENSIBILIDADE DE 30 MA, CORRENTE DE 25 A, TIPO AC                                                                                                                                                                                                                                                                                                                                                                                                                                ","UN    ","121,14",null,null,"CR"]
[{"$f":"CONCATENAR","v":"SINAPI-I 39446"},"SINAPI-I",39446,"DISPOSITIVO DR, 2 POLOS, SENSIBILIDADE DE 30 MA, CORRENTE DE 40 A, TIPO AC                                                                                                                                                                                                                                                                                                                                                                                                                                ","UN    ","123,30",null,null,"CR"]
[{"$f":"CONCATENAR","v":"SINAPI-I 39447"},"SINAPI-I",39447,"DISPOSITIVO DR, 2 POLOS, SENSIBILIDADE DE 30 MA, CORRENTE DE 63 A, TIPO AC                                                                                                                                                                                                                                                                                                                                                                                                                                ","UN    ","131,85",null,null,"CR"]
[{"$f":"CONCATENAR","v":"SINAPI-I 39448"},"SINAPI-I",39448,"DISPOSITIVO DR, 2 POLOS, SENSIBILIDADE DE 30 MA, CORRENTE DE 80 A, TIPO AC                                                                                                                                                                                                                                                                                                                                                                                                                                ","UN    ","224,84",null,null,"CR"]
[{"$f":"CONCATENAR","v":"SINAPI-I 39450"},"SINAPI-I",39450,"DISPOSITIVO DR, 2 POLOS, SENSIBILIDADE DE 300 MA, CORRENTE DE 25 A, TIPO AC                                                                                                                                                                                                                                                                                                                                                                                                                               ","UN    ","137,18",null,null,"CR"]
[{"$f":"CONCATENAR","v":"SINAPI-I 39451"},"SINAPI-I",39451,"DISPOSITIVO DR, 2 POLOS, SENSIBILIDADE DE 300 MA, CORRENTE DE 40 A, TIPO AC                                                                                                                                                                                                                                                                                                                                                                                                                               ","UN    ","149,62",null,null,"CR"]
[{"$f":"CONCATENAR","v":"SINAPI-I 39452"},"SINAPI-I",39452,"DISPOSITIVO DR, 2 POLOS, SENSIBILIDADE DE 300 MA, CORRENTE DE 63 A, TIPO AC                                                                                                                                                                                                                                                                                                                                                                                                                               ","UN    ","150,51",null,null,"CR"]
[{"$f":"CONCATENAR","v":"SINAPI-I 39523"},"SINAPI-I",39523,"DISPOSITIVO DR, 2 POLOS, SENSIBILIDADE DE 300 MA, CORRENTE DE 80 A, TIPO  AC                                                                                                                                                                                                                                                                                                                                                                                                                              ","UN    ","251,88",null,null,"CR"]
[{"$f":"CONCATENAR","v":"SINAPI-I 39449"},"SINAPI-I",39449,"DISPOSITIVO DR, 4 POLOS, SENSIBILIDADE DE 30 MA, CORRENTE DE 100 A, TIPO AC                                                                                                                                                                                                                                                                                                                                                                                                                               ","UN    ","278,94",null,null,"CR"]
[{"$f":"CONCATENAR","v":"SINAPI-I 39455"},"SINAPI-I",39455,"DISPOSITIVO DR, 4 POLOS, SENSIBILIDADE DE 30 MA, CORRENTE DE 25 A, TIPO AC                                                                                                                                                                                                                                                                                                                                                                                                                                ","UN    ","138,02",null,null,"CR"]
[{"$f":"CONCATENAR","v":"SINAPI-I 39456"},"SINAPI-I",39456,"DISPOSITIVO DR, 4 POLOS, SENSIBILIDADE DE 30 MA, CORRENTE DE 40 A, TIPO AC                                                                                                                                                                                                                                                                                                                                                                                                                                ","UN    ","138,13",null,null,"CR"]
[{"$f":"CONCATENAR","v":"SINAPI-I 39457"},"SINAPI-I",39457,"DISPOSITIVO DR, 4 POLOS, SENSIBILIDADE DE 30 MA, CORRENTE DE 63 A, TIPO AC                                                                                                                                                                                                                                                                                                                                                                                                                                ","UN    ","150,58",null,null,"CR"]
[{"$f":"CONCATENAR","v":"SINAPI-I 39458"},"SINAPI-I",39458,"DISPOSITIVO DR, 4 POLOS, SENSIBILIDADE DE 30 MA, CORRENTE DE 80 A, TIPO AC                                                                                                                                                                                                                                                                                                                                                                                                                                ","UN    ","281,00",null,null,"CR"]
[{"$f":"CONCATENAR","v":"SINAPI-I 39464"},"SINAPI-I",39464,"DISPOSITIVO DR, 4 POLOS, SENSIBILIDADE DE 300 MA, CORRENTE DE 100 A, TIPO AC                                                                                                                                                                                                                                                                                                                                                                                                                              ","UN    ","451,86",null,null,"CR"]
[{"$f":"CONCATENAR","v":"SINAPI-I 39460"},"SINAPI-I",39460,"DISPOSITIVO DR, 4 POLOS, SENSIBILIDADE DE 300 MA, CORRENTE DE 25 A, TIPO AC                                                                                                                                                                                                                                                                                                                                                                                                                               ","UN    ","171,38",null,null,"CR"]
[{"$f":"CONCATENAR","v":"SINAPI-I 39461"},"SINAPI-I",39461,"DISPOSITIVO DR, 4 POLOS, SENSIBILIDADE DE 300 MA, CORRENTE DE 40 A, TIPO AC                                                                                                                                                                                                                                                                                                                                                                                                                               ","UN    ","200,82",null,null,"CR"]
[{"$f":"CONCATENAR","v":"SINAPI-I 39462"},"SINAPI-I",39462,"DISPOSITIVO DR, 4 POLOS, SENSIBILIDADE DE 300 MA, CORRENTE DE 63 A, TIPO AC                                                                                                                                                                                                                                                                                                                                                                                                                               ","UN    ","193,54",null,null,"CR"]
[{"$f":"CONCATENAR","v":"SINAPI-I 39463"},"SINAPI-I",39463,"DISPOSITIVO DR, 4 POLOS, SENSIBILIDADE DE 300 MA, CORRENTE DE 80 A, TIPO AC                                                                                                                                                                                                                                                                                                                                                                                                                               ","UN    ","448,36",null,null,"CR"]
[{"$f":"CONCATENAR","v":"SINAPI-I 26039"},"SINAPI-I",26039,"DISTRIBUIDOR DE AGREGADOS AUTOPROPELIDO, CAP 3 M3, A DIESEL, 6 CC, 176 CV                                                                                                                                                                                                                                                                                                                                                                                                                                 ","UN    ","391.246,87",null,null,"AS"]
[{"$f":"CONCATENAR","v":"SINAPI-I 2401"},"SINAPI-I",2401,"DISTRIBUIDOR DE AGREGADOS REBOCAVEL, CAPACIDADE 1,9 M3, LARGURA DE TRABALHO 3,66 M                                                                                                                                                                                                                                                                                                                                                                                                                        ","UN    ","89.991,11",null,null,"AS"]
[{"$f":"CONCATENAR","v":"SINAPI-I 38870"},"SINAPI-I",38870,"DISTRIBUIDOR METALICO, COM ROSCA, 2 SAIDAS, DN 1\" X 1/2\", PARA CONEXAO COM ANEL DESLIZANTE EM TUBO PEX PARA INST. AGUA QUENTE/FRIA                                                                                                                                                                                                                                                                                                                                                                        ","UN    ","63,09",null,null,"CR"]
[{"$f":"CONCATENAR","v":"SINAPI-I 38869"},"SINAPI-I",38869,"DISTRIBUIDOR METALICO, COM ROSCA, 2 SAIDAS, DN 3/4\" X 1/2\", PARA CONEXAO COM ANEL DESLIZANTE EM TUBO PEX PARA INST. AGUA QUENTE/FRIA                                                                                                                                                                                                                                                                                                                                                                      ","UN    ","42,58",null,null,"CR"]
[{"$f":"CONCATENAR","v":"SINAPI-I 38872"},"SINAPI-I",38872,"DISTRIBUIDOR METALICO, COM ROSCA, 3 SAIDAS, DN 1\" X 1/2\", PARA CONEXAO COM ANEL DESLIZANTE EM TUBO PEX PARA INST. AGUA QUENTE/FRIA                                                                                                                                                                                                                                                                                                                                                                        ","UN    ","80,38",null,null,"CR"]
[{"$f":"CONCATENAR","v":"SINAPI-I 38871"},"SINAPI-I",38871,"DISTRIBUIDOR METALICO, COM ROSCA, 3 SAIDAS, DN 3/4\" X 1/2\", PARA CONEXAO COM ANEL DESLIZANTE EM TUBO PEX PARA INST. AGUA QUENTE/FRIA                                                                                                                                                                                                                                                                                                                                                                      ","UN    ","55,57",null,null,"CR"]
[{"$f":"CONCATENAR","v":"SINAPI-I 39283"},"SINAPI-I",39283,"DISTRIBUIDOR, PLASTICO, 2 SAIDAS, DN 32 X 16 MM, PARA CONEXAO COM CRIMPAGEM, EM TUBO PEX PARA INST. AGUA QUENTE/FRIA                                                                                                                                                                                                                                                                                                                                                                                      ","UN    ","260,35",null,null,"CR"]
[{"$f":"CONCATENAR","v":"SINAPI-I 39285"},"SINAPI-I",39285,"DISTRIBUIDOR, PLASTICO, 2 SAIDAS, DN 32 X 25 MM, PARA CONEXAO COM CRIMPAGEM, EM TUBO PEX PARA INST. AGUA QUENTE/FRIA                                                                                                                                                                                                                                                                                                                                                                                      ","UN    ","297,55",null,null,"CR"]
[{"$f":"CONCATENAR","v":"SINAPI-I 39286"},"SINAPI-I",39286,"DISTRIBUIDOR, PLASTICO, 3 SAIDAS, DN 32 X 16 MM, PARA CONEXAO COM CRIMPAGEM, EM TUBO PEX PARA INST. AGUA QUENTE/FRIA                                                                                                                                                                                                                                                                                                                                                                                      ","UN    ","285,17",null,null,"CR"]
[{"$f":"CONCATENAR","v":"SINAPI-I 39288"},"SINAPI-I",39288,"DISTRIBUIDOR, PLASTICO, 3 SAIDAS, DN 32 X 25 MM, PARA CONEXAO COM CRIMPAGEM, EM TUBO PEX PARA INST. AGUA QUENTE/FRIA                                                                                                                                                                                                                                                                                                                                                                                      ","UN    ","347,11",null,null,"CR"]
[{"$f":"CONCATENAR","v":"SINAPI-I 44476"},"SINAPI-I",44476,"DIVISORIA EM GRANITO, COM DUAS FACES POLIDAS, TIPO ANDORINHA/ QUARTZ/ CASTELO/ CORUMBA OU OUTROS EQUIVALENTES DA REGIAO, E= *3,0* CM                                                                                                                                                                                                                                                                                                                                                                      ","M2    ","736,10",null,null,"CR"]
[{"$f":"CONCATENAR","v":"SINAPI-I 10629"},"SINAPI-I",10629,"DIVISORIA EM MARMORE, COM DUAS FACES POLIDAS, BRANCO COMUM, E= *3,0* CM                                                                                                                                                                                                                                                                                                                                                                                                                                   ","M2    ","645,54",null,null,"CR"]
[{"$f":"CONCATENAR","v":"SINAPI-I 10698"},"SINAPI-I",10698,"DIVISORIA, PLACA PRE-MOLDADA EM GRANILITE, MARMORITE OU GRANITINA, E = *3 CM                                                                                                                                                                                                                                                                                                                                                                                                                              ","M2    ","226,69",null,null,"AS"]
[{"$f":"CONCATENAR","v":"SINAPI-I 40521"},"SINAPI-I",40521,"DOBRADEIRA ELETROMECANICA DE VERGALHAO, PARA ACO DE DIAMETRO ATE 1 1/2\", MOTOR ELETRICO TRIFASICO, POTENCIA DE 3 HP ATE 5 HP                                                                                                                                                                                                                                                                                                                                                                              ","UN    ","117.072,63",null,null,"CR"]
[{"$f":"CONCATENAR","v":"SINAPI-I 2432"},"SINAPI-I",2432,"DOBRADICA EM ACO/FERRO, 3 1/2\" X 3\", E= 1,9 A 2 MM, COM ANEL, CROMADO OU ZINCADO, TAMPA BOLA, COM PARAFUSOS                                                                                                                                                                                                                                                                                                                                                                                               ","UN    ","34,10",null,null,"CR"]
[{"$f":"CONCATENAR","v":"SINAPI-I 2418"},"SINAPI-I",2418,"DOBRADICA EM ACO/FERRO, 3\" X 2 1/2\", E= 1,2 A 1,8 MM, SEM ANEL, CROMADO OU ZINCADO, TAMPA BOLA, COM PARAFUSOS                                                                                                                                                                                                                                                                                                                                                                                             ","UN    ","15,82",null,null,"C "]
[{"$f":"CONCATENAR","v":"SINAPI-I 2433"},"SINAPI-I",2433,"DOBRADICA EM ACO/FERRO, 3\" X 2 1/2\", E= 1,2 A 1,8 MM, SEM ANEL, CROMADO OU ZINCADO, TAMPA CHATA, COM PARAFUSOS                                                                                                                                                                                                                                                                                                                                                                                            ","UN    ","11,55",null,null,"CR"]
[{"$f":"CONCATENAR","v":"SINAPI-I 2420"},"SINAPI-I",2420,"DOBRADICA EM ACO/FERRO, 3\" X 2 1/2\", E= 1,9 A 2 MM, SEM ANEL, CROMADO OU ZINCADO, TAMPA BOLA, COM PARAFUSOS                                                                                                                                                                                                                                                                                                                                                                                               ","UN    ","19,84",null,null,"CR"]
[{"$f":"CONCATENAR","v":"SINAPI-I 11447"},"SINAPI-I",11447,"DOBRADICA EM LATAO, 3\" X 2 1/2 \", E= 1,9 A 2 MM, COM ANEL, CROMADO, TAMPA BOLA, COM PARAFUSOS                                                                                                                                                                                                                                                                                                                                                                                                             ","UN    ","39,21",null,null,"CR"]
[{"$f":"CONCATENAR","v":"SINAPI-I 11451"},"SINAPI-I",11451,"DOBRADICA TIPO VAI-E-VEM EM ACO/FERRO, TAMANHO 3\", GALVANIZADO, COM PARAFUSOS                                                                                                                                                                                                                                                                                                                                                                                                                             ","UN    ","105,12",null,null,"CR"]
[{"$f":"CONCATENAR","v":"SINAPI-I 11116"},"SINAPI-I",11116,"DOMOS INDIVIDUAL EM ACRILICO BRANCO *95 X 95* CM, SEM INSTALACAO                                                                                                                                                                                                                                                                                                                                                                                                                                          ","UN    ","678,61",null,null,"CR"]
[{"$f":"CONCATENAR","v":"SINAPI-I 38411"},"SINAPI-I",38411,"DOSADOR DE AREIA, CAPACIDADE DE *26* LITROS                                                                                                                                                                                                                                                                                                                                                                                                                                                               ","UN    ","1.590,12",null,null,"CR"]
[{"$f":"CONCATENAR","v":"SINAPI-I 38189"},"SINAPI-I",38189,"DUCHA / CHUVEIRO METALICO, DE PAREDE, ARTICULAVEL, COM BRACO/CANO, SEM DESVIADOR                                                                                                                                                                                                                                                                                                                                                                                                                          ","UN    ","276,01",null,null,"CR"]
[{"$f":"CONCATENAR","v":"SINAPI-I 38190"},"SINAPI-I",38190,"DUCHA / CHUVEIRO METALICO, DE PAREDE, ARTICULAVEL, COM DESVIADOR E DUCHA MANUAL                                                                                                                                                                                                                                                                                                                                                                                                                           ","UN    ","581,49",null,null,"CR"]
[{"$f":"CONCATENAR","v":"SINAPI-I 7608"},"SINAPI-I",7608,"DUCHA / CHUVEIRO PLASTICO SIMPLES, 5\", BRANCO, PARA ACOPLAR EM HASTE 1/2\", AGUA FRIA                                                                                                                                                                                                                                                                                                                                                                                                                      ","UN    ","11,15",null,null,"CR"]
[{"$f":"CONCATENAR","v":"SINAPI-I 1370"},"SINAPI-I",1370,"DUCHA HIGIENICA PLASTICA COM REGISTRO METALICO 1/2\"                                                                                                                                                                                                                                                                                                                                                                                                                                                       ","UN    ","112,90",null,null,"CR"]
[{"$f":"CONCATENAR","v":"SINAPI-I 36516"},"SINAPI-I",36516,"DUMPER COM CAPACIDADE DE CARGA DE 1700 KG, PARTIDA ELETRICA, MOTOR DIESEL COM POTENCIA DE 16 CV                                                                                                                                                                                                                                                                                                                                                                                                           ","UN    ","145.738,29",null,null,"CR"]
[{"$f":"CONCATENAR","v":"SINAPI-I 34777"},"SINAPI-I",34777,"ELEMENTO VAZADO CERAMICO DIAGONAL (TIPO FLOR/QUADRADO/XIS) DE *7 X 18 X 25* CM (L X A X C)                                                                                                                                                                                                                                                                                                                                                                                                                ","UN    ","2,87",null,null,"CR"]
[{"$f":"CONCATENAR","v":"SINAPI-I 7272"},"SINAPI-I",7272,"ELEMENTO VAZADO CERAMICO QUADRADO (TIPO RETO OU REDONDO) DE *7 A 9 X 20 X 20* CM (L X A X C)                                                                                                                                                                                                                                                                                                                                                                                                              ","UN    ","2,42",null,null,"CR"]
[{"$f":"CONCATENAR","v":"SINAPI-I 10605"},"SINAPI-I",10605,"ELEMENTO VAZADO DE CONCRETO, QUADRICULADO, 1 FURO *10 X 10 X 10* CM                                                                                                                                                                                                                                                                                                                                                                                                                                       ","UN    ","5,90",null,null,"CR"]
[{"$f":"CONCATENAR","v":"SINAPI-I 10604"},"SINAPI-I",10604,"ELEMENTO VAZADO DE CONCRETO, QUADRICULADO, 1 FURO *20 X 10 X 7* CM                                                                                                                                                                                                                                                                                                                                                                                                                                        ","UN    ","13,75",null,null,"CR"]
[{"$f":"CONCATENAR","v":"SINAPI-I 672"},"SINAPI-I",672,"ELEMENTO VAZADO DE CONCRETO, QUADRICULADO, 1 FURO *20 X 20 X 6,5* CM                                                                                                                                                                                                                                                                                                                                                                                                                                      ","UN    ","18,91",null,null,"CR"]
[{"$f":"CONCATENAR","v":"SINAPI-I 668"},"SINAPI-I",668,"ELEMENTO VAZADO DE CONCRETO, QUADRICULADO, 16 FUROS *29 X 29 X 6* CM                                                                                                                                                                                                                                                                                                                                                                                                                                      ","UN    ","22,83",null,null,"CR"]
[{"$f":"CONCATENAR","v":"SINAPI-I 10578"},"SINAPI-I",10578,"ELEMENTO VAZADO DE CONCRETO, QUADRICULADO, 16 FUROS *33 X 33 X 10* CM                                                                                                                                                                                                                                                                                                                                                                                                                                     ","UN    ","26,59",null,null,"CR"]
[{"$f":"CONCATENAR","v":"SINAPI-I 666"},"SINAPI-I",666,"ELEMENTO VAZADO DE CONCRETO, QUADRICULADO, 16 FUROS *40 X 40 X 7* CM                                                                                                                                                                                                                                                                                                                                                                                                                                      ","UN    ","29,57",null,null,"CR"]
[{"$f":"CONCATENAR","v":"SINAPI-I 665"},"SINAPI-I",665,"ELEMENTO VAZADO DE CONCRETO, QUADRICULADO, 16 FUROS *50 X 50 X 7* CM                                                                                                                                                                                                                                                                                                                                                                                                                                      ","UN    ","39,54",null,null,"CR"]
[{"$f":"CONCATENAR","v":"SINAPI-I 10577"},"SINAPI-I",10577,"ELEMENTO VAZADO DE CONCRETO, QUADRICULADO, 25 FUROS *50 X 50 X 5* CM                                                                                                                                                                                                                                                                                                                                                                                                                                      ","UN    ","35,07",null,null,"CR"]
[{"$f":"CONCATENAR","v":"SINAPI-I 10583"},"SINAPI-I",10583,"ELEMENTO VAZADO DE CONCRETO, VENEZIANA *39 X 22 X 15* CM                                                                                                                                                                                                                                                                                                                                                                                                                                                  ","UN    ","18,22",null,null,"CR"]
[{"$f":"CONCATENAR","v":"SINAPI-I 10579"},"SINAPI-I",10579,"ELEMENTO VAZADO DE CONCRETO, VENEZIANA *39 X 29 X 10* CM                                                                                                                                                                                                                                                                                                                                                                                                                                                  ","UN    ","31,76",null,null,"CR"]
[{"$f":"CONCATENAR","v":"SINAPI-I 10582"},"SINAPI-I",10582,"ELEMENTO VAZADO DE CONCRETO, VENEZIANA *40 X 10 X 10* CM                                                                                                                                                                                                                                                                                                                                                                                                                                                  ","UN    ","16,04",null,null,"CR"]
[{"$f":"CONCATENAR","v":"SINAPI-I 2436"},"SINAPI-I",2436,"ELETRICISTA (HORISTA)                                                                                                                                                                                                                                                                                                                                                                                                                                                                                     ","H     ","19,07",null,null,"C "]
[{"$f":"CONCATENAR","v":"SINAPI-I 40918"},"SINAPI-I",40918,"ELETRICISTA (MENSALISTA)                                                                                                                                                                                                                                                                                                                                                                                                                                                                                  ","MES   ","3.345,52",null,null,"CR"]
[{"$f":"CONCATENAR","v":"SINAPI-I 10998"},"SINAPI-I",10998,"ELETRODO REVESTIDO AWS - E-6010, DIAMETRO IGUAL A 4,00 MM                                                                                                                                                                                                                                                                                                                                                                                                                                                 ","KG    ","60,25",null,null,"CR"]
[{"$f":"CONCATENAR","v":"SINAPI-I 11002"},"SINAPI-I",11002,"ELETRODO REVESTIDO AWS - E6013, DIAMETRO IGUAL A 2,50 MM                                                                                                                                                                                                                                                                                                                                                                                                                                                  ","KG    ","55,20",null,null,"CR"]
[{"$f":"CONCATENAR","v":"SINAPI-I 10999"},"SINAPI-I",10999,"ELETRODO REVESTIDO AWS - E6013, DIAMETRO IGUAL A 4,00 MM                                                                                                                                                                                                                                                                                                                                                                                                                                                  ","KG    ","53,03",null,null,"CR"]
[{"$f":"CONCATENAR","v":"SINAPI-I 10997"},"SINAPI-I",10997,"ELETRODO REVESTIDO AWS - E7018, DIAMETRO IGUAL A 4,00 MM                                                                                                                                                                                                                                                                                                                                                                                                                                                  ","KG    ","57,48",null,null,"C "]
[{"$f":"CONCATENAR","v":"SINAPI-I 2685"},"SINAPI-I",2685,"ELETRODUTO DE PVC RIGIDO ROSCAVEL DE 1 \", SEM LUVA                                                                                                                                                                                                                                                                                                                                                                                                                                                        ","M     ","10,37",null,null,"CR"]
[{"$f":"CONCATENAR","v":"SINAPI-I 2680"},"SINAPI-I",2680,"ELETRODUTO DE PVC RIGIDO ROSCAVEL DE 1 1/2 \", SEM LUVA                                                                                                                                                                                                                                                                                                                                                                                                                                                    ","M     ","15,18",null,null,"CR"]
[{"$f":"CONCATENAR","v":"SINAPI-I 2684"},"SINAPI-I",2684,"ELETRODUTO DE PVC RIGIDO ROSCAVEL DE 1 1/4 \", SEM LUVA                                                                                                                                                                                                                                                                                                                                                                                                                                                    ","M     ","13,81",null,null,"CR"]
[{"$f":"CONCATENAR","v":"SINAPI-I 2673"},"SINAPI-I",2673,"ELETRODUTO DE PVC RIGIDO ROSCAVEL DE 1/2 \", SEM LUVA                                                                                                                                                                                                                                                                                                                                                                                                                                                      ","M     ","5,33",null,null,"C "]
[{"$f":"CONCATENAR","v":"SINAPI-I 2681"},"SINAPI-I",2681,"ELETRODUTO DE PVC RIGIDO ROSCAVEL DE 2 \", SEM LUVA                                                                                                                                                                                                                                                                                                                                                                                                                                                        ","M     ","24,80",null,null,"CR"]
[{"$f":"CONCATENAR","v":"SINAPI-I 2682"},"SINAPI-I",2682,"ELETRODUTO DE PVC RIGIDO ROSCAVEL DE 2 1/2 \", SEM LUVA                                                                                                                                                                                                                                                                                                                                                                                                                                                    ","M     ","36,18",null,null,"CR"]
[{"$f":"CONCATENAR","v":"SINAPI-I 2686"},"SINAPI-I",2686,"ELETRODUTO DE PVC RIGIDO ROSCAVEL DE 3 \", SEM LUVA                                                                                                                                                                                                                                                                                                                                                                                                                                                        ","M     ","45,38",null,null,"CR"]
[{"$f":"CONCATENAR","v":"SINAPI-I 2674"},"SINAPI-I",2674,"ELETRODUTO DE PVC RIGIDO ROSCAVEL DE 3/4 \", SEM LUVA                                                                                                                                                                                                                                                                                                                                                                                                                                                      ","M     ","6,63",null,null,"CR"]
[{"$f":"CONCATENAR","v":"SINAPI-I 2683"},"SINAPI-I",2683,"ELETRODUTO DE PVC RIGIDO ROSCAVEL DE 4 \", SEM LUVA                                                                                                                                                                                                                                                                                                                                                                                                                                                        ","M     ","71,50",null,null,"CR"]
[{"$f":"CONCATENAR","v":"SINAPI-I 2676"},"SINAPI-I",2676,"ELETRODUTO DE PVC RIGIDO SOLDAVEL, CLASSE B, DE 20 MM                                                                                                                                                                                                                                                                                                                                                                                                                                                     ","M     ","3,10",null,null,"CR"]
[{"$f":"CONCATENAR","v":"SINAPI-I 2678"},"SINAPI-I",2678,"ELETRODUTO DE PVC RIGIDO SOLDAVEL, CLASSE B, DE 25 MM                                                                                                                                                                                                                                                                                                                                                                                                                                                     ","M     ","3,88",null,null,"CR"]
[{"$f":"CONCATENAR","v":"SINAPI-I 2679"},"SINAPI-I",2679,"ELETRODUTO DE PVC RIGIDO SOLDAVEL, CLASSE B, DE 32 MM                                                                                                                                                                                                                                                                                                                                                                                                                                                     ","M     ","5,98",null,null,"CR"]
[{"$f":"CONCATENAR","v":"SINAPI-I 12070"},"SINAPI-I",12070,"ELETRODUTO DE PVC RIGIDO SOLDAVEL, CLASSE B, DE 40 MM                                                                                                                                                                                                                                                                                                                                                                                                                                                     ","M     ","8,33",null,null,"CR"]
[{"$f":"CONCATENAR","v":"SINAPI-I 2675"},"SINAPI-I",2675,"ELETRODUTO DE PVC RIGIDO SOLDAVEL, CLASSE B, DE 50 MM                                                                                                                                                                                                                                                                                                                                                                                                                                                     ","M     ","10,83",null,null,"CR"]
[{"$f":"CONCATENAR","v":"SINAPI-I 12067"},"SINAPI-I",12067,"ELETRODUTO DE PVC RIGIDO SOLDAVEL, CLASSE B, DE 60 MM                                                                                                                                                                                                                                                                                                                                                                                                                                                     ","M     ","14,69",null,null,"CR"]
[{"$f":"CONCATENAR","v":"SINAPI-I 21128"},"SINAPI-I",21128,"ELETRODUTO EM ACO GALVANIZADO ELETROLITICO, LEVE, DIAMETRO 3/4\", PAREDE DE 0,90 MM                                                                                                                                                                                                                                                                                                                                                                                                                        ","M     ","10,48",null,null,"AS"]
[{"$f":"CONCATENAR","v":"SINAPI-I 40400"},"SINAPI-I",40400,"ELETRODUTO FLEXIVEL PLANO EM PEAD, COR PRETA E LARANJA, DIAMETRO 25 MM                                                                                                                                                                                                                                                                                                                                                                                                                                    ","M     ","2,61",null,null,"CR"]
[{"$f":"CONCATENAR","v":"SINAPI-I 40401"},"SINAPI-I",40401,"ELETRODUTO FLEXIVEL PLANO EM PEAD, COR PRETA E LARANJA, DIAMETRO 32 MM                                                                                                                                                                                                                                                                                                                                                                                                                                    ","M     ","3,85",null,null,"CR"]
[{"$f":"CONCATENAR","v":"SINAPI-I 40402"},"SINAPI-I",40402,"ELETRODUTO FLEXIVEL PLANO EM PEAD, COR PRETA E LARANJA, DIAMETRO 40 MM                                                                                                                                                                                                                                                                                                                                                                                                                                    ","M     ","4,94",null,null,"CR"]
[{"$f":"CONCATENAR","v":"SINAPI-I 21137"},"SINAPI-I",21137,"ELETRODUTO FLEXIVEL, EM FITA DE ACO GALVANIZADO, REVESTIDO COM PVC PRETO, DIAMETRO EXTERNO DE 15 MM, DN = 3/8\", TIPO SEALTUBO                                                                                                                                                                                                                                                                                                                                                                             ","M     ","10,73",null,null,"AS"]
[{"$f":"CONCATENAR","v":"SINAPI-I 2504"},"SINAPI-I",2504,"ELETRODUTO FLEXIVEL, EM FITA DE ACO GALVANIZADO, REVESTIDO COM PVC PRETO, DIAMETRO EXTERNO DE 25 MM, DN = 3/4\", TIPO SEALTUBO                                                                                                                                                                                                                                                                                                                                                                             ","M     ","11,63",null,null,"AS"]
[{"$f":"CONCATENAR","v":"SINAPI-I 2501"},"SINAPI-I",2501,"ELETRODUTO FLEXIVEL, EM FITA DE ACO GALVANIZADO, REVESTIDO COM PVC PRETO, DIAMETRO EXTERNO DE 32 MM, DN = 1\", TIPO SEALTUBO                                                                                                                                                                                                                                                                                                                                                                               ","M     ","15,25",null,null,"AS"]
[{"$f":"CONCATENAR","v":"SINAPI-I 2502"},"SINAPI-I",2502,"ELETRODUTO FLEXIVEL, EM FITA DE ACO GALVANIZADO, REVESTIDO COM PVC PRETO, DIAMETRO EXTERNO DE 40 MM, DN = 1 1/4\", TIPO SEALTUBO                                                                                                                                                                                                                                                                                                                                                                           ","M     ","23,01",null,null,"AS"]
[{"$f":"CONCATENAR","v":"SINAPI-I 2503"},"SINAPI-I",2503,"ELETRODUTO FLEXIVEL, EM FITA DE ACO GALVANIZADO, REVESTIDO COM PVC PRETO, DIAMETRO EXTERNO DE 50 MM, DN = 1 1/2\", TIPO SEALTUBO                                                                                                                                                                                                                                                                                                                                                                           ","M     ","29,61",null,null,"AS"]
[{"$f":"CONCATENAR","v":"SINAPI-I 2500"},"SINAPI-I",2500,"ELETRODUTO FLEXIVEL, EM FITA DE ACO GALVANIZADO, REVESTIDO COM PVC PRETO, DIAMETRO EXTERNO DE 60 MM, DN = 2\", TIPO SEALTUBO                                                                                                                                                                                                                                                                                                                                                                               ","M     ","39,44",null,null,"AS"]
[{"$f":"CONCATENAR","v":"SINAPI-I 2505"},"SINAPI-I",2505,"ELETRODUTO FLEXIVEL, EM FITA DE ACO GALVANIZADO, REVESTIDO COM PVC PRETO, DIAMETRO EXTERNO DE 75 MM, DN = 2 1/2\", TIPO SEALTUBO                                                                                                                                                                                                                                                                                                                                                                           ","M     ","61,47",null,null,"AS"]
[{"$f":"CONCATENAR","v":"SINAPI-I 12056"},"SINAPI-I",12056,"ELETRODUTO FLEXIVEL, EM FITA DE ACO GALVANIZADO, SEM REVESTIMENTO, DIAMETRO NOMINAL 1 1/2\"                                                                                                                                                                                                                                                                                                                                                                                                                ","M     ","24,84",null,null,"AS"]
[{"$f":"CONCATENAR","v":"SINAPI-I 12057"},"SINAPI-I",12057,"ELETRODUTO FLEXIVEL, EM FITA DE ACO GALVANIZADO, SEM REVESTIMENTO, DIAMETRO NOMINAL 1 1/4\"                                                                                                                                                                                                                                                                                                                                                                                                                ","M     ","21,10",null,null,"AS"]
[{"$f":"CONCATENAR","v":"SINAPI-I 12059"},"SINAPI-I",12059,"ELETRODUTO FLEXIVEL, EM FITA DE ACO GALVANIZADO, SEM REVESTIMENTO, DIAMETRO NOMINAL 1/2\"                                                                                                                                                                                                                                                                                                                                                                                                                  ","M     ","7,40",null,null,"AS"]
[{"$f":"CONCATENAR","v":"SINAPI-I 12058"},"SINAPI-I",12058,"ELETRODUTO FLEXIVEL, EM FITA DE ACO GALVANIZADO, SEM REVESTIMENTO, DIAMETRO NOMINAL 1\"                                                                                                                                                                                                                                                                                                                                                                                                                    ","M     ","13,15",null,null,"AS"]
[{"$f":"CONCATENAR","v":"SINAPI-I 12060"},"SINAPI-I",12060,"ELETRODUTO FLEXIVEL, EM FITA DE ACO GALVANIZADO, SEM REVESTIMENTO, DIAMETRO NOMINAL 2 1/2\"                                                                                                                                                                                                                                                                                                                                                                                                                ","M     ","54,81",null,null,"AS"]
[{"$f":"CONCATENAR","v":"SINAPI-I 12061"},"SINAPI-I",12061,"ELETRODUTO FLEXIVEL, EM FITA DE ACO GALVANIZADO, SEM REVESTIMENTO, DIAMETRO NOMINAL 2\"                                                                                                                                                                                                                                                                                                                                                                                                                    ","M     ","33,47",null,null,"AS"]
[{"$f":"CONCATENAR","v":"SINAPI-I 12062"},"SINAPI-I",12062,"ELETRODUTO FLEXIVEL, EM FITA DE ACO GALVANIZADO, SEM REVESTIMENTO, DIAMETRO NOMINAL 3\"                                                                                                                                                                                                                                                                                                                                                                                                                    ","M     ","61,72",null,null,"AS"]
[{"$f":"CONCATENAR","v":"SINAPI-I 2687"},"SINAPI-I",2687,"ELETRODUTO PVC FLEXIVEL CORRUGADO, COR AMARELA, DE 16 MM                                                                                                                                                                                                                                                                                                                                                                                                                                                  ","M     ","2,71",null,null,"CR"]
[{"$f":"CONCATENAR","v":"SINAPI-I 2689"},"SINAPI-I",2689,"ELETRODUTO PVC FLEXIVEL CORRUGADO, COR AMARELA, DE 20 MM                                                                                                                                                                                                                                                                                                                                                                                                                                                  ","M     ","3,22",null,null,"CR"]
[{"$f":"CONCATENAR","v":"SINAPI-I 2688"},"SINAPI-I",2688,"ELETRODUTO PVC FLEXIVEL CORRUGADO, COR AMARELA, DE 25 MM                                                                                                                                                                                                                                                                                                                                                                                                                                                  ","M     ","3,49",null,null,"CR"]
[{"$f":"CONCATENAR","v":"SINAPI-I 2690"},"SINAPI-I",2690,"ELETRODUTO PVC FLEXIVEL CORRUGADO, COR AMARELA, DE 32 MM                                                                                                                                                                                                                                                                                                                                                                                                                                                  ","M     ","5,97",null,null,"CR"]
[{"$f":"CONCATENAR","v":"SINAPI-I 39243"},"SINAPI-I",39243,"ELETRODUTO PVC FLEXIVEL CORRUGADO, REFORCADO, COR LARANJA, DE 20 MM, PARA LAJES E PISOS                                                                                                                                                                                                                                                                                                                                                                                                                   ","M     ","3,93",null,null,"CR"]
[{"$f":"CONCATENAR","v":"SINAPI-I 39244"},"SINAPI-I",39244,"ELETRODUTO PVC FLEXIVEL CORRUGADO, REFORCADO, COR LARANJA, DE 25 MM, PARA LAJES E PISOS                                                                                                                                                                                                                                                                                                                                                                                                                   ","M     ","5,32",null,null,"CR"]
[{"$f":"CONCATENAR","v":"SINAPI-I 39245"},"SINAPI-I",39245,"ELETRODUTO PVC FLEXIVEL CORRUGADO, REFORCADO, COR LARANJA, DE 32 MM, PARA LAJES E PISOS                                                                                                                                                                                                                                                                                                                                                                                                                   ","M     ","10,23",null,null,"CR"]
[{"$f":"CONCATENAR","v":"SINAPI-I 39254"},"SINAPI-I",39254,"ELETRODUTO/CONDULETE DE PVC RIGIDO, LISO, COR CINZA, DE 1/2\", PARA INSTALACOES APARENTES (NBR 5410)                                                                                                                                                                                                                                                                                                                                                                                                       ","M     ","15,31",null,null,"CR"]
[{"$f":"CONCATENAR","v":"SINAPI-I 39255"},"SINAPI-I",39255,"ELETRODUTO/CONDULETE DE PVC RIGIDO, LISO, COR CINZA, DE 1\", PARA INSTALACOES APARENTES (NBR 5410)                                                                                                                                                                                                                                                                                                                                                                                                         ","M     ","28,33",null,null,"CR"]
[{"$f":"CONCATENAR","v":"SINAPI-I 39253"},"SINAPI-I",39253,"ELETRODUTO/CONDULETE DE PVC RIGIDO, LISO, COR CINZA, DE 3/4\", PARA INSTALACOES APARENTES (NBR 5410)                                                                                                                                                                                                                                                                                                                                                                                                       ","M     ","19,51",null,null,"CR"]
[{"$f":"CONCATENAR","v":"SINAPI-I 39246"},"SINAPI-I",39246,"ELETRODUTO/DUTO PEAD FLEXIVEL PAREDE SIMPLES, CORRUGACAO HELICOIDAL, COR PRETA, SEM ROSCA, DE 1 1/2\", CRC 680 N, PARA CABEAMENTO SUBTERRANEO (NBR 15715)                                                                                                                                                                                                                                                                                                                                                  ","M     ","6,69",null,null,"CR"]
[{"$f":"CONCATENAR","v":"SINAPI-I 39247"},"SINAPI-I",39247,"ELETRODUTO/DUTO PEAD FLEXIVEL PAREDE SIMPLES, CORRUGACAO HELICOIDAL, COR PRETA, SEM ROSCA, DE 1 1/4\", CRC 680 N, PARA CABEAMENTO SUBTERRANEO (NBR 15715)                                                                                                                                                                                                                                                                                                                                                  ","M     ","5,83",null,null,"CR"]
[{"$f":"CONCATENAR","v":"SINAPI-I 2446"},"SINAPI-I",2446,"ELETRODUTO/DUTO PEAD FLEXIVEL PAREDE SIMPLES, CORRUGACAO HELICOIDAL, COR PRETA, SEM ROSCA, DE 2\", CRC 680 N, PARA CABEAMENTO SUBTERRANEO (NBR 15715)                                                                                                                                                                                                                                                                                                                                                      ","M     ","9,60",null,null,"C "]
[{"$f":"CONCATENAR","v":"SINAPI-I 2442"},"SINAPI-I",2442,"ELETRODUTO/DUTO PEAD FLEXIVEL PAREDE SIMPLES, CORRUGACAO HELICOIDAL, COR PRETA, SEM ROSCA, DE 3\", CRC 680 N, PARA CABEAMENTO SUBTERRANEO (NBR 15715)                                                                                                                                                                                                                                                                                                                                                      ","M     ","13,45",null,null,"CR"]
[{"$f":"CONCATENAR","v":"SINAPI-I 39248"},"SINAPI-I",39248,"ELETRODUTO/DUTO PEAD FLEXIVEL PAREDE SIMPLES, CORRUGACAO HELICOIDAL, COR PRETA, SEM ROSCA, DE 4\", CRC 680 N, PARA CABEAMENTO SUBTERRANEO (NBR 15715)                                                                                                                                                                                                                                                                                                                                                      ","M     ","18,74",null,null,"CR"]
[{"$f":"CONCATENAR","v":"SINAPI-I 2438"},"SINAPI-I",2438,"ELETROTECNICO (HORISTA)                                                                                                                                                                                                                                                                                                                                                                                                                                                                                   ","H     ","24,13",null,null,"CR"]
[{"$f":"CONCATENAR","v":"SINAPI-I 40922"},"SINAPI-I",40922,"ELETROTECNICO (MENSALISTA)                                                                                                                                                                                                                                                                                                                                                                                                                                                                                ","MES   ","4.233,06",null,null,"CR"]
[{"$f":"CONCATENAR","v":"SINAPI-I 36486"},"SINAPI-I",36486,"ELEVADOR DE CARGA A CABO, CABINE SEMI FECHADA 2,0 X 1,5 X 2,0 M, CAPACIDADE DE CARGA 1000 KG, TORRE 2,38 X 2,21 X 15 M, GUINCHO DE EMBREAGEM, FREIO DE SEGURANCA, LIMITADOR DE VELOCIDADE E CANCELA                                                                                                                                                                                                                                                                                                       ","UN    ","70.644,15",null,null,"CR"]
[{"$f":"CONCATENAR","v":"SINAPI-I 37777"},"SINAPI-I",37777,"ELEVADOR DE CREMALHEIRA CABINE FECHADA 1,5 X 2,5 X 2,35 M (UMA POR TORRE), CAPACIDADE DE CARGA 1200 KG (15 PESSOAS), TORRE 24 M (16 MODULOS), FREIO DE SEGURANCA, LIMITADOR DE CARGA                                                                                                                                                                                                                                                                                                                      ","UN    ","332.591,31",null,null,"CR"]
[{"$f":"CONCATENAR","v":"SINAPI-I 12624"},"SINAPI-I",12624,"EMENDA PARA CALHA PLUVIAL, PVC, DIAMETRO ENTRE 119 E 170 MM, PARA DRENAGEM PLUVIAL PREDIAL                                                                                                                                                                                                                                                                                                                                                                                                                ","UN    ","33,86",null,null,"CR"]
[{"$f":"CONCATENAR","v":"SINAPI-I 517"},"SINAPI-I",517,"EMULSAO ASFALTICA ANIONICA                                                                                                                                                                                                                                                                                                                                                                                                                                                                                ","L     ","11,20",null,null,"CR"]
[{"$f":"CONCATENAR","v":"SINAPI-I 37534"},"SINAPI-I",37534,"EMULSAO EXPLOSIVA EM CARTUCHOS DE 1\" X 12\", DENSIDADE 1.15 G/CM3, INICIACAO ESPOLETA N. 8 / CORDEL                                                                                                                                                                                                                                                                                                                                                                                                        ","KG    ","21,64",null,null,"AS"]
[{"$f":"CONCATENAR","v":"SINAPI-I 37535"},"SINAPI-I",37535,"EMULSAO EXPLOSIVA EM CARTUCHOS DE 1\" X 24\", DENSIDADE 1.15 G/CM3, INICIACAO ESPOLETA N. 8 / CORDEL                                                                                                                                                                                                                                                                                                                                                                                                        ","KG    ","21,64",null,null,"AS"]
[{"$f":"CONCATENAR","v":"SINAPI-I 37533"},"SINAPI-I",37533,"EMULSAO EXPLOSIVA EM CARTUCHOS DE 1\" X 8\", DENSIDADE 1.15 G/CM3, INICIACAO ESPOLETA N. 8 / CORDEL                                                                                                                                                                                                                                                                                                                                                                                                         ","KG    ","21,64",null,null,"AS"]
[{"$f":"CONCATENAR","v":"SINAPI-I 37537"},"SINAPI-I",37537,"EMULSAO EXPLOSIVA EM CARTUCHOS DE 2 1/2\" X 24\", DENSIDADE 1.15 G/CM3, INICIACAO ESPOLETA N. 8 / CORDEL                                                                                                                                                                                                                                                                                                                                                                                                    ","KG    ","16,38",null,null,"AS"]
[{"$f":"CONCATENAR","v":"SINAPI-I 37536"},"SINAPI-I",37536,"EMULSAO EXPLOSIVA EM CARTUCHOS DE 2 1/4\" X 24\", DENSIDADE 1.15 G/CM3, INICIACAO ESPOLETA N. 8 / CORDEL                                                                                                                                                                                                                                                                                                                                                                                                    ","KG    ","16,38",null,null,"AS"]
[{"$f":"CONCATENAR","v":"SINAPI-I 37532"},"SINAPI-I",37532,"EMULSAO EXPLOSIVA EM CARTUCHOS DE 2\" X 24\", DENSIDADE 1.15 G/CM3, INICIACAO ESPOLETA N. 8 / CORDEL                                                                                                                                                                                                                                                                                                                                                                                                        ","KG    ","16,38",null,null,"AS"]
[{"$f":"CONCATENAR","v":"SINAPI-I 2696"},"SINAPI-I",2696,"ENCANADOR OU BOMBEIRO HIDRAULICO (HORISTA)                                                                                                                                                                                                                                                                                                                                                                                                                                                                ","H     ","20,24",null,null,"C "]
[{"$f":"CONCATENAR","v":"SINAPI-I 40928"},"SINAPI-I",40928,"ENCANADOR OU BOMBEIRO HIDRAULICO (MENSALISTA)                                                                                                                                                                                                                                                                                                                                                                                                                                                             ","MES   ","3.551,20",null,null,"CR"]
[{"$f":"CONCATENAR","v":"SINAPI-I 4083"},"SINAPI-I",4083,"ENCARREGADO GERAL DE OBRAS (HORISTA)                                                                                                                                                                                                                                                                                                                                                                                                                                                                      ","H     ","52,06",null,null,"C "]
[{"$f":"CONCATENAR","v":"SINAPI-I 40818"},"SINAPI-I",40818,"ENCARREGADO GERAL DE OBRAS (MENSALISTA)                                                                                                                                                                                                                                                                                                                                                                                                                                                                   ","MES   ","9.130,29",null,null,"CR"]
[{"$f":"CONCATENAR","v":"SINAPI-I 43146"},"SINAPI-I",43146,"ENDURECEDOR MINERAL DE BASE CIMENTICIA PARA PISO DE CONCRETO                                                                                                                                                                                                                                                                                                                                                                                                                                              ","KG    ","9,36",null,null,"CR"]
[{"$f":"CONCATENAR","v":"SINAPI-I 2705"},"SINAPI-I",2705,"ENERGIA ELETRICA ATE 2000 KWH INDUSTRIAL, SEM DEMANDA                                                                                                                                                                                                                                                                                                                                                                                                                                                     ","KWH   ","0,87",null,null,"CR"]
[{"$f":"CONCATENAR","v":"SINAPI-I 14250"},"SINAPI-I",14250,"ENERGIA ELETRICA COMERCIAL, BAIXA TENSAO, RELATIVA AO CONSUMO DE ATE 100 KWH, INCLUINDO ICMS, PIS/PASEP E COFINS                                                                                                                                                                                                                                                                                                                                                                                          ","KWH   ","0,89",null,null,"C "]
[{"$f":"CONCATENAR","v":"SINAPI-I 11683"},"SINAPI-I",11683,"ENGATE / RABICHO FLEXIVEL INOX 1/2\" X 30 CM                                                                                                                                                                                                                                                                                                                                                                                                                                                               ","UN    ","61,32",null,null,"CR"]
[{"$f":"CONCATENAR","v":"SINAPI-I 11684"},"SINAPI-I",11684,"ENGATE / RABICHO FLEXIVEL INOX 1/2\" X 40 CM                                                                                                                                                                                                                                                                                                                                                                                                                                                               ","UN    ","67,12",null,null,"CR"]
[{"$f":"CONCATENAR","v":"SINAPI-I 6141"},"SINAPI-I",6141,"ENGATE/RABICHO FLEXIVEL PLASTICO (PVC OU ABS) BRANCO 1/2\" X 30 CM                                                                                                                                                                                                                                                                                                                                                                                                                                         ","UN    ","5,80",null,null,"CR"]
[{"$f":"CONCATENAR","v":"SINAPI-I 11681"},"SINAPI-I",11681,"ENGATE/RABICHO FLEXIVEL PLASTICO (PVC OU ABS) BRANCO 1/2\" X 40 CM                                                                                                                                                                                                                                                                                                                                                                                                                                         ","UN    ","7,31",null,null,"CR"]
[{"$f":"CONCATENAR","v":"SINAPI-I 2706"},"SINAPI-I",2706,"ENGENHEIRO CIVIL DE OBRA JUNIOR (HORISTA)                                                                                                                                                                                                                                                                                                                                                                                                                                                                 ","H     ","99,96",null,null,"C "]
[{"$f":"CONCATENAR","v":"SINAPI-I 40811"},"SINAPI-I",40811,"ENGENHEIRO CIVIL DE OBRA JUNIOR (MENSALISTA)                                                                                                                                                                                                                                                                                                                                                                                                                                                              ","MES   ","17.531,06",null,null,"CR"]
[{"$f":"CONCATENAR","v":"SINAPI-I 2707"},"SINAPI-I",2707,"ENGENHEIRO CIVIL DE OBRA PLENO (HORISTA)                                                                                                                                                                                                                                                                                                                                                                                                                                                                  ","H     ","105,35",null,null,"CR"]
[{"$f":"CONCATENAR","v":"SINAPI-I 40813"},"SINAPI-I",40813,"ENGENHEIRO CIVIL DE OBRA PLENO (MENSALISTA)                                                                                                                                                                                                                                                                                                                                                                                                                                                               ","MES   ","18.478,78",null,null,"CR"]
[{"$f":"CONCATENAR","v":"SINAPI-I 2708"},"SINAPI-I",2708,"ENGENHEIRO CIVIL DE OBRA SENIOR (HORISTA)                                                                                                                                                                                                                                                                                                                                                                                                                                                                 ","H     ","115,96",null,null,"CR"]
[{"$f":"CONCATENAR","v":"SINAPI-I 40814"},"SINAPI-I",40814,"ENGENHEIRO CIVIL DE OBRA SENIOR (MENSALISTA)                                                                                                                                                                                                                                                                                                                                                                                                                                                              ","MES   ","20.337,33",null,null,"CR"]
[{"$f":"CONCATENAR","v":"SINAPI-I 38403"},"SINAPI-I",38403,"ENXADA ESTREITA *25 X 23* CM COM CABO                                                                                                                                                                                                                                                                                                                                                                                                                                                                     ","UN    ","59,45",null,null,"CR"]
[{"$f":"CONCATENAR","v":"SINAPI-I 43482"},"SINAPI-I",43482,"EPI - FAMILIA ALMOXARIFE - HORISTA (ENCARGOS COMPLEMENTARES - COLETADO CAIXA)                                                                                                                                                                                                                                                                                                                                                                                                                             ","H     ","0,79",null,null,"C "]
[{"$f":"CONCATENAR","v":"SINAPI-I 43494"},"SINAPI-I",43494,"EPI - FAMILIA ALMOXARIFE - MENSALISTA (ENCARGOS COMPLEMENTARES - COLETADO CAIXA)                                                                                                                                                                                                                                                                                                                                                                                                                          ","MES   ","148,04",null,null,"C "]
[{"$f":"CONCATENAR","v":"SINAPI-I 43483"},"SINAPI-I",43483,"EPI - FAMILIA CARPINTEIRO DE FORMAS - HORISTA (ENCARGOS COMPLEMENTARES - COLETADO CAIXA)                                                                                                                                                                                                                                                                                                                                                                                                                  ","H     ","1,43",null,null,"C "]
[{"$f":"CONCATENAR","v":"SINAPI-I 43495"},"SINAPI-I",43495,"EPI - FAMILIA CARPINTEIRO DE FORMAS - MENSALISTA (ENCARGOS COMPLEMENTARES - COLETADO CAIXA)                                                                                                                                                                                                                                                                                                                                                                                                               ","MES   ","269,97",null,null,"C "]
[{"$f":"CONCATENAR","v":"SINAPI-I 43484"},"SINAPI-I",43484,"EPI - FAMILIA ELETRICISTA - HORISTA (ENCARGOS COMPLEMENTARES - COLETADO CAIXA)                                                                                                                                                                                                                                                                                                                                                                                                                            ","H     ","1,20",null,null,"C "]
[{"$f":"CONCATENAR","v":"SINAPI-I 43496"},"SINAPI-I",43496,"EPI - FAMILIA ELETRICISTA - MENSALISTA (ENCARGOS COMPLEMENTARES - COLETADO CAIXA)                                                                                                                                                                                                                                                                                                                                                                                                                         ","MES   ","226,41",null,null,"C "]
[{"$f":"CONCATENAR","v":"SINAPI-I 43485"},"SINAPI-I",43485,"EPI - FAMILIA ENCANADOR - HORISTA (ENCARGOS COMPLEMENTARES - COLETADO CAIXA)                                                                                                                                                                                                                                                                                                                                                                                                                              ","H     ","1,06",null,null,"C "]
[{"$f":"CONCATENAR","v":"SINAPI-I 43497"},"SINAPI-I",43497,"EPI - FAMILIA ENCANADOR - MENSALISTA (ENCARGOS COMPLEMENTARES - COLETADO CAIXA)                                                                                                                                                                                                                                                                                                                                                                                                                           ","MES   ","199,20",null,null,"C "]
[{"$f":"CONCATENAR","v":"SINAPI-I 43487"},"SINAPI-I",43487,"EPI - FAMILIA ENCARREGADO GERAL - HORISTA (ENCARGOS COMPLEMENTARES - COLETADO CAIXA)                                                                                                                                                                                                                                                                                                                                                                                                                      ","H     ","1,25",null,null,"C "]
[{"$f":"CONCATENAR","v":"SINAPI-I 43499"},"SINAPI-I",43499,"EPI - FAMILIA ENCARREGADO GERAL - MENSALISTA (ENCARGOS COMPLEMENTARES - COLETADO CAIXA)                                                                                                                                                                                                                                                                                                                                                                                                                   ","MES   ","236,16",null,null,"C "]
[{"$f":"CONCATENAR","v":"SINAPI-I 43486"},"SINAPI-I",43486,"EPI - FAMILIA ENGENHEIRO CIVIL - HORISTA (ENCARGOS COMPLEMENTARES - COLETADO CAIXA)                                                                                                                                                                                                                                                                                                                                                                                                                       ","H     ","0,74",null,null,"C "]
[{"$f":"CONCATENAR","v":"SINAPI-I 43498"},"SINAPI-I",43498,"EPI - FAMILIA ENGENHEIRO CIVIL - MENSALISTA (ENCARGOS COMPLEMENTARES - COLETADO CAIXA)                                                                                                                                                                                                                                                                                                                                                                                                                    ","MES   ","140,23",null,null,"C "]
[{"$f":"CONCATENAR","v":"SINAPI-I 43488"},"SINAPI-I",43488,"EPI - FAMILIA OPERADOR ESCAVADEIRA - HORISTA (ENCARGOS COMPLEMENTARES - COLETADO CAIXA)                                                                                                                                                                                                                                                                                                                                                                                                                   ","H     ","0,86",null,null,"C "]
[{"$f":"CONCATENAR","v":"SINAPI-I 43500"},"SINAPI-I",43500,"EPI - FAMILIA OPERADOR ESCAVADEIRA - MENSALISTA (ENCARGOS COMPLEMENTARES - COLETADO CAIXA)                                                                                                                                                                                                                                                                                                                                                                                                                ","MES   ","162,97",null,null,"C "]
[{"$f":"CONCATENAR","v":"SINAPI-I 43489"},"SINAPI-I",43489,"EPI - FAMILIA PEDREIRO - HORISTA (ENCARGOS COMPLEMENTARES - COLETADO CAIXA)                                                                                                                                                                                                                                                                                                                                                                                                                               ","H     ","1,24",null,null,"C "]
[{"$f":"CONCATENAR","v":"SINAPI-I 43501"},"SINAPI-I",43501,"EPI - FAMILIA PEDREIRO - MENSALISTA (ENCARGOS COMPLEMENTARES - COLETADO CAIXA)                                                                                                                                                                                                                                                                                                                                                                                                                            ","MES   ","233,35",null,null,"C "]
[{"$f":"CONCATENAR","v":"SINAPI-I 43490"},"SINAPI-I",43490,"EPI - FAMILIA PINTOR - HORISTA (ENCARGOS COMPLEMENTARES - COLETADO CAIXA)                                                                                                                                                                                                                                                                                                                                                                                                                                 ","H     ","1,73",null,null,"C "]
[{"$f":"CONCATENAR","v":"SINAPI-I 43502"},"SINAPI-I",43502,"EPI - FAMILIA PINTOR - MENSALISTA (ENCARGOS COMPLEMENTARES - COLETADO CAIXA)                                                                                                                                                                                                                                                                                                                                                                                                                              ","MES   ","325,51",null,null,"C "]
[{"$f":"CONCATENAR","v":"SINAPI-I 43491"},"SINAPI-I",43491,"EPI - FAMILIA SERVENTE - HORISTA (ENCARGOS COMPLEMENTARES - COLETADO CAIXA)                                                                                                                                                                                                                                                                                                                                                                                                                               ","H     ","1,33",null,null,"C "]
[{"$f":"CONCATENAR","v":"SINAPI-I 43503"},"SINAPI-I",43503,"EPI - FAMILIA SERVENTE - MENSALISTA (ENCARGOS COMPLEMENTARES - COLETADO CAIXA)                                                                                                                                                                                                                                                                                                                                                                                                                            ","MES   ","250,24",null,null,"C "]
[{"$f":"CONCATENAR","v":"SINAPI-I 43492"},"SINAPI-I",43492,"EPI - FAMILIA SOLDADOR - HORISTA (ENCARGOS COMPLEMENTARES - COLETADO CAIXA)                                                                                                                                                                                                                                                                                                                                                                                                                               ","H     ","1,79",null,null,"C "]
[{"$f":"CONCATENAR","v":"SINAPI-I 43504"},"SINAPI-I",43504,"EPI - FAMILIA SOLDADOR - MENSALISTA (ENCARGOS COMPLEMENTARES - COLETADO CAIXA)                                                                                                                                                                                                                                                                                                                                                                                                                            ","MES   ","337,87",null,null,"C "]
[{"$f":"CONCATENAR","v":"SINAPI-I 43493"},"SINAPI-I",43493,"EPI - FAMILIA TOPOGRAFO - HORISTA (ENCARGOS COMPLEMENTARES - COLETADO CAIXA)                                                                                                                                                                                                                                                                                                                                                                                                                              ","H     ","0,71",null,null,"C "]
[{"$f":"CONCATENAR","v":"SINAPI-I 43505"},"SINAPI-I",43505,"EPI - FAMILIA TOPOGRAFO - MENSALISTA (ENCARGOS COMPLEMENTARES - COLETADO CAIXA)                                                                                                                                                                                                                                                                                                                                                                                                                           ","MES   ","132,94",null,null,"C "]
[{"$f":"CONCATENAR","v":"SINAPI-I 37774"},"SINAPI-I",37774,"EQUIPAMENTO DE LIMPEZA COMBINADO (VACUO/ALTA PRESSAO) 95% VACUO, TANQUE 7000 L, BOMBA 140 KGF/CM2 66 L/MIN COM MOTOR INDEPENDENTE A DIESEL DE 60 CV (INCLUI MONTAGEM, NAO INCLUI CAMINHAO)                                                                                                                                                                                                                                                                                                                ","UN    ","565.124,71",null,null,"AS"]
[{"$f":"CONCATENAR","v":"SINAPI-I 38629"},"SINAPI-I",38629,"EQUIPAMENTO P/ DEMARCACAO DE FAIXAS DE TRAFEGO A QUENTE, A SER MONTADO SOBRE CAMINHAO DE PBT MIN. DE 17 T, DIST. MIN. ENTRE EIXOS 5,2 M, CAPACIDADE PARA 1.000 KG DE MATERIAL TERMOPLASTICO (INCLUI MONTAGEM, NAO INCLUI CAMINHAO, NEM COMPRESSOR DE AR)                                                                                                                                                                                                                                                  ","UN    ","3.473.437,50",null,null,"CR"]
[{"$f":"CONCATENAR","v":"SINAPI-I 38630"},"SINAPI-I",38630,"EQUIPAMENTO PARA DEMARCACAO DE FAIXAS DE TRAFEGO A FRIO, A SER MONTADO SOBRE CAMINHAO DE PBT MINIMO DE 9 T E DISTANCIA MINIMA ENTRE EIXOS DE 4,3 M, CAPACIDADE PARA 800 L DE TINTA (INCLUI MONTAGEM, NAO INCLUI CAMINHAO)                                                                                                                                                                                                                                                                                 ","UN    ","2.333.437,50",null,null,"CR"]
[{"$f":"CONCATENAR","v":"SINAPI-I 38476"},"SINAPI-I",38476,"ESCADA DUPLA DE ABRIR EM ALUMINIO, MODELO PINTOR, 8 DEGRAUS                                                                                                                                                                                                                                                                                                                                                                                                                                               ","UN    ","446,84",null,null,"CR"]
[{"$f":"CONCATENAR","v":"SINAPI-I 38477"},"SINAPI-I",38477,"ESCADA EXTENSIVEL EM ALUMINIO COM 6,00 M ESTENDIDA                                                                                                                                                                                                                                                                                                                                                                                                                                                        ","UN    ","1.265,46",null,null,"CR"]
[{"$f":"CONCATENAR","v":"SINAPI-I 40635"},"SINAPI-I",40635,"ESCAVADEIRA HIDRAULICA SOBRE ESTEIRA, COM GARRA GIRATORIA DE MANDIBULAS, PESO OPERACIONAL ENTRE 22,00 E 25,50 TON, POTENCIA LIQUIDA ENTRE 150 E 160 HP                                                                                                                                                                                                                                                                                                                                                    ","UN    ","949.749,30",null,null,"AS"]
[{"$f":"CONCATENAR","v":"SINAPI-I 36483"},"SINAPI-I",36483,"ESCAVADEIRA HIDRAULICA SOBRE ESTEIRAS CACAMBA 0,40 A 1,20 M3, PESO OPERACIONAL 21,19 T, POTENCIA LIQUIDA 173 HP                                                                                                                                                                                                                                                                                                                                                                                           ","UN    ","860.625,00",null,null,"AS"]
[{"$f":"CONCATENAR","v":"SINAPI-I 14525"},"SINAPI-I",14525,"ESCAVADEIRA HIDRAULICA SOBRE ESTEIRAS COM CACAMBA DE 1,20 M3, PESO OPERACIONAL 21 T, POTENCIA BRUTA 155 HP                                                                                                                                                                                                                                                                                                                                                                                                ","UN    ","901.125,00",null,null,"AS"]
[{"$f":"CONCATENAR","v":"SINAPI-I 36408"},"SINAPI-I",36408,"ESCAVADEIRA HIDRAULICA SOBRE ESTEIRAS, CACAMBA 0,4 A 1,70 M3, PESO OPERACIONAL 23,2 T, POTENCIA BRUTA 183 HP                                                                                                                                                                                                                                                                                                                                                                                              ","UN    ","923.400,00",null,null,"AS"]
[{"$f":"CONCATENAR","v":"SINAPI-I 2723"},"SINAPI-I",2723,"ESCAVADEIRA HIDRAULICA SOBRE ESTEIRAS, CACAMBA 0,62M3, PESO OPERACIONAL 12,61T, POTENCIA LIQUIDA 95HP                                                                                                                                                                                                                                                                                                                                                                                                     ","UN    ","708.750,00",null,null,"AS"]
[{"$f":"CONCATENAR","v":"SINAPI-I 36481"},"SINAPI-I",36481,"ESCAVADEIRA HIDRAULICA SOBRE ESTEIRAS, CACAMBA 0,80 A 1,30 M3, PESO OPERACIONAL 22,18 T, POTENCIA LIQUIDA 170 HP                                                                                                                                                                                                                                                                                                                                                                                          ","UN    ","845.437,50",null,null,"AS"]
[{"$f":"CONCATENAR","v":"SINAPI-I 36482"},"SINAPI-I",36482,"ESCAVADEIRA HIDRAULICA SOBRE ESTEIRAS, CACAMBA 0,80 M3, PESO OPERACIONAL 17,8 T, POTENCIA LIQUIDA 110 HP                                                                                                                                                                                                                                                                                                                                                                                                  ","UN    ","772.840,19",null,null,"AS"]
[{"$f":"CONCATENAR","v":"SINAPI-I 10685"},"SINAPI-I",10685,"ESCAVADEIRA HIDRAULICA SOBRE ESTEIRAS, CACAMBA 0,80M3, PESO OPERACIONAL 17T, POTENCIA BRUTA 111HP                                                                                                                                                                                                                                                                                                                                                                                                         ","UN    ","810.000,00",null,null,"AS"]
[{"$f":"CONCATENAR","v":"SINAPI-I 40636"},"SINAPI-I",40636,"ESCAVADEIRA HIDRAULICA SOBRE ESTEIRAS, CAPACIDADE DA CACAMBA ENTRE 1,20 E 1,50 M3, PESO OPERACIONAL ENTRE 20,00 E 22,00 TON, POTENCIA LIQUIDA ENTRE 150 E 155 HP, EQUIPADA COM CLAMSHELL                                                                                                                                                                                                                                                                                                                  ","UN    ","914.311,80",null,null,"AS"]
[{"$f":"CONCATENAR","v":"SINAPI-I 4111"},"SINAPI-I",4111,"ESCORA PRE-MOLDADA EM CONCRETO, *10 X 10* CM, H = 2,30M                                                                                                                                                                                                                                                                                                                                                                                                                                                   ","UN    ","58,70",null,null,"CR"]
[{"$f":"CONCATENAR","v":"SINAPI-I 44538"},"SINAPI-I",44538,"ESCOVA CIRCULAR EM ACO LATONADO, 6 X 1\" (DIAMETRO X ESPESSURA), FURO DE 1 1/4 \", FIO ONDULADO *0,30* MM                                                                                                                                                                                                                                                                                                                                                                                                   ","UN    ","45,52",null,null,"CR"]
[{"$f":"CONCATENAR","v":"SINAPI-I 12"},"SINAPI-I",12,"ESCOVA DE ACO, COM CABO, *4 X 15* FILEIRAS DE CERDAS                                                                                                                                                                                                                                                                                                                                                                                                                                                      ","UN    ","13,90",null,null,"C "]
[{"$f":"CONCATENAR","v":"SINAPI-I 37554"},"SINAPI-I",37554,"ESGUICHO JATO REGULAVEL, TIPO ELKHART, ENGATE RAPIDO 1 1/2\", PARA COMBATE A INCENDIO                                                                                                                                                                                                                                                                                                                                                                                                                      ","UN    ","208,86",null,null,"CR"]
[{"$f":"CONCATENAR","v":"SINAPI-I 37555"},"SINAPI-I",37555,"ESGUICHO JATO REGULAVEL, TIPO ELKHART, ENGATE RAPIDO 2 1/2\", PARA COMBATE A INCENDIO                                                                                                                                                                                                                                                                                                                                                                                                                      ","UN    ","254,07",null,null,"CR"]
[{"$f":"CONCATENAR","v":"SINAPI-I 10902"},"SINAPI-I",10902,"ESGUICHO TIPO JATO SOLIDO, EM LATAO, ENGATE RAPIDO 1 1/2\" X 13 MM, PARA MANGUEIRA EM INSTALACAO PREDIAL COMBATE A INCENDIO                                                                                                                                                                                                                                                                                                                                                                                ","UN    ","63,75",null,null,"CR"]
[{"$f":"CONCATENAR","v":"SINAPI-I 20965"},"SINAPI-I",20965,"ESGUICHO TIPO JATO SOLIDO, EM LATAO, ENGATE RAPIDO 1 1/2\" X 16 MM, PARA MANGUEIRA EM INSTALACAO PREDIAL COMBATE A INCENDIO                                                                                                                                                                                                                                                                                                                                                                                ","UN    ","64,34",null,null,"CR"]
[{"$f":"CONCATENAR","v":"SINAPI-I 20966"},"SINAPI-I",20966,"ESGUICHO TIPO JATO SOLIDO, EM LATAO, ENGATE RAPIDO 1 1/2\" X 19 MM, PARA MANGUEIRA EM INSTALACAO PREDIAL COMBATE A INCENDIO                                                                                                                                                                                                                                                                                                                                                                                ","UN    ","69,28",null,null,"CR"]
[{"$f":"CONCATENAR","v":"SINAPI-I 10903"},"SINAPI-I",10903,"ESGUICHO TIPO JATO SOLIDO, EM LATAO, ENGATE RAPIDO 2 1/2\" X 13 MM, PARA MANGUEIRA EM INSTALACAO PREDIAL COMBATE A INCENDIO                                                                                                                                                                                                                                                                                                                                                                                ","UN    ","105,01",null,null,"CR"]
[{"$f":"CONCATENAR","v":"SINAPI-I 20967"},"SINAPI-I",20967,"ESGUICHO TIPO JATO SOLIDO, EM LATAO, ENGATE RAPIDO 2 1/2\" X 16 MM, PARA MANGUEIRA EM INSTALACAO PREDIAL COMBATE A INCENDIO                                                                                                                                                                                                                                                                                                                                                                                ","UN    ","105,01",null,null,"CR"]
[{"$f":"CONCATENAR","v":"SINAPI-I 20968"},"SINAPI-I",20968,"ESGUICHO TIPO JATO SOLIDO, EM LATAO, ENGATE RAPIDO 2 1/2\" X 19 MM, PARA MANGUEIRA EM INSTALACAO PREDIAL COMBATE A INCENDIO                                                                                                                                                                                                                                                                                                                                                                                ","UN    ","115,17",null,null,"CR"]
[{"$f":"CONCATENAR","v":"SINAPI-I 11359"},"SINAPI-I",11359,"ESMERILHADEIRA ANGULAR ELETRICA, DIAMETRO DO DISCO 7\" (180 MM), ROTACAO 8500 RPM, POTENCIA 2400 W                                                                                                                                                                                                                                                                                                                                                                                                         ","UN    ","969,90",null,null,"C "]
[{"$f":"CONCATENAR","v":"SINAPI-I 39017"},"SINAPI-I",39017,"ESPACADOR / DISTANCIADOR CIRCULAR COM ENTRADA LATERAL, EM PLASTICO, PARA VERGALHAO *4,2 A 12,5* MM, COBRIMENTO 20 MM                                                                                                                                                                                                                                                                                                                                                                                      ","UN    ","0,16",null,null,"CR"]
[{"$f":"CONCATENAR","v":"SINAPI-I 39315"},"SINAPI-I",39315,"ESPACADOR / DISTANCIADOR TIPO GARRA DUPLA, EM PLASTICO, COBRIMENTO *20* MM, PARA FERRAGENS DE LAJES E FUNDO DE VIGAS                                                                                                                                                                                                                                                                                                                                                                                      ","UN    ","0,26",null,null,"CR"]
[{"$f":"CONCATENAR","v":"SINAPI-I 39016"},"SINAPI-I",39016,"ESPACADOR / DISTANCIADOR TIPO PINO EM PLASTICO, PARA VERGALHAO ATE 10 MM, PARA APOIO DE ARMADURA                                                                                                                                                                                                                                                                                                                                                                                                          ","UN    ","0,26",null,null,"CR"]
[{"$f":"CONCATENAR","v":"SINAPI-I 39481"},"SINAPI-I",39481,"ESPACADOR OU DISTANCIADOR, EM PLASTICO, TIPO APOIO DE CORDOALHA (CARANGUEJO), PARA ARMADURA NEGATIVA E PROTENSAO, COBRIMENTO 50 MM                                                                                                                                                                                                                                                                                                                                                                        ","UN    ","1,29",null,null,"CR"]
[{"$f":"CONCATENAR","v":"SINAPI-I 39013"},"SINAPI-I",39013,"ESPACADOR/SEPARADOR /CENTRALIZADOR DE BARRA DE ACO, PLASTICO, (CHUMBADOR TIPO CARAMBOLA - CB), DIAMETRO INTERNO ATE 20 MM                                                                                                                                                                                                                                                                                                                                                                                 ","UN    ","1,10",null,null,"CR"]
[{"$f":"CONCATENAR","v":"SINAPI-I 44919"},"SINAPI-I",44919,"ESPACADOR/SEPARADOR /CENTRALIZADOR DE BARRA DE ACO, PLASTICO, (CHUMBADOR TIPO CARAMBOLA - CB), DIAMETRO INTERNO ENTRE 25 A 32 MM                                                                                                                                                                                                                                                                                                                                                                          ","UN    ","2,05",null,null,"CR"]
[{"$f":"CONCATENAR","v":"SINAPI-I 40433"},"SINAPI-I",40433,"ESPACADOR/SEPARADOR DE CORDOALHA TIPO DISCO 12 FUROS DE 14 MM, PARA TIRANTES                                                                                                                                                                                                                                                                                                                                                                                                                              ","UN    ","1,14",null,null,"CR"]
[{"$f":"CONCATENAR","v":"SINAPI-I 20219"},"SINAPI-I",20219,"ESPARGIDOR DE ASFALTO PRESSURIZADO, REBOCAVEL, TANQUE DE 2500 L, PNEUMATICO, COM MOTOR A GASOLINA 3,4HP                                                                                                                                                                                                                                                                                                                                                                                                   ","UN    ","116.000,00",null,null,"AS"]
[{"$f":"CONCATENAR","v":"SINAPI-I 36484"},"SINAPI-I",36484,"ESPARGIDOR DE ASFALTO PRESSURIZADO, TANQUE 6 M3 COM ISOLACAO TERMICA, AQUECIDO COM 2 MACARICOS, COM BARRA ESPARGIDORA 3,60 M, A SER MONTADO SOBRE CAMINHAO                                                                                                                                                                                                                                                                                                                                                ","UN    ","246.246,87",null,null,"AS"]
[{"$f":"CONCATENAR","v":"SINAPI-I 38367"},"SINAPI-I",38367,"ESPATULA DE ACO INOX COM CABO DE MADEIRA, LARGURA 8 CM                                                                                                                                                                                                                                                                                                                                                                                                                                                    ","UN    ","24,01",null,null,"CR"]
[{"$f":"CONCATENAR","v":"SINAPI-I 38368"},"SINAPI-I",38368,"ESPATULA DE PLASTICO LISA, LARGURA 10 CM                                                                                                                                                                                                                                                                                                                                                                                                                                                                  ","UN    ","9,40",null,null,"CR"]
[{"$f":"CONCATENAR","v":"SINAPI-I 38091"},"SINAPI-I",38091,"ESPELHO / PLACA CEGA 4\" X 2\", PARA INSTALACAO DE TOMADAS E INTERRUPTORES                                                                                                                                                                                                                                                                                                                                                                                                                                  ","UN    ","2,90",null,null,"CR"]
[{"$f":"CONCATENAR","v":"SINAPI-I 38095"},"SINAPI-I",38095,"ESPELHO / PLACA CEGA 4\" X 4\", PARA INSTALACAO DE TOMADAS E INTERRUPTORES                                                                                                                                                                                                                                                                                                                                                                                                                                  ","UN    ","6,14",null,null,"CR"]
[{"$f":"CONCATENAR","v":"SINAPI-I 38092"},"SINAPI-I",38092,"ESPELHO / PLACA DE 1 POSTO 4\" X 2\", PARA INSTALACAO DE TOMADAS E INTERRUPTORES                                                                                                                                                                                                                                                                                                                                                                                                                            ","UN    ","2,75",null,null,"CR"]
[{"$f":"CONCATENAR","v":"SINAPI-I 38093"},"SINAPI-I",38093,"ESPELHO / PLACA DE 2 POSTOS 4\" X 2\", PARA INSTALACAO DE TOMADAS E INTERRUPTORES                                                                                                                                                                                                                                                                                                                                                                                                                           ","UN    ","2,84",null,null,"CR"]
[{"$f":"CONCATENAR","v":"SINAPI-I 38096"},"SINAPI-I",38096,"ESPELHO / PLACA DE 2 POSTOS 4\" X 4\", PARA INSTALACAO DE TOMADAS E INTERRUPTORES                                                                                                                                                                                                                                                                                                                                                                                                                           ","UN    ","6,60",null,null,"CR"]
[{"$f":"CONCATENAR","v":"SINAPI-I 38094"},"SINAPI-I",38094,"ESPELHO / PLACA DE 3 POSTOS 4\" X 2\", PARA INSTALACAO DE TOMADAS E INTERRUPTORES                                                                                                                                                                                                                                                                                                                                                                                                                           ","UN    ","3,48",null,null,"CR"]
[{"$f":"CONCATENAR","v":"SINAPI-I 38097"},"SINAPI-I",38097,"ESPELHO / PLACA DE 4 POSTOS 4\" X 4\", PARA INSTALACAO DE TOMADAS E INTERRUPTORES                                                                                                                                                                                                                                                                                                                                                                                                                           ","UN    ","7,08",null,null,"CR"]
[{"$f":"CONCATENAR","v":"SINAPI-I 38098"},"SINAPI-I",38098,"ESPELHO / PLACA DE 6 POSTOS 4\" X 4\", PARA INSTALACAO DE TOMADAS E INTERRUPTORES                                                                                                                                                                                                                                                                                                                                                                                                                           ","UN    ","7,08",null,null,"CR"]
[{"$f":"CONCATENAR","v":"SINAPI-I 11186"},"SINAPI-I",11186,"ESPELHO CRISTAL E = 4 MM                                                                                                                                                                                                                                                                                                                                                                                                                                                                                  ","M2    ","286,66",null,null,"CR"]
[{"$f":"CONCATENAR","v":"SINAPI-I 11558"},"SINAPI-I",11558,"ESPELHO, RETO OU CURVO, EM LATAO CROMADO, ESPESSURA ATE 6 MM, LARGURA *40*MM, ALTURA *180*MM - PARA FECHADURA DE EMBUTIR                                                                                                                                                                                                                                                                                                                                                                                  ","PAR   ","15,34",null,null,"CR"]
[{"$f":"CONCATENAR","v":"SINAPI-I 11557"},"SINAPI-I",11557,"ESPELHO, RETO OU CURVO, EM LATAO CROMADO, ESPESSURA MINIMA 6 MM, LARGURA *43*MM, ALTURA *230*MM - PARA FECHADURA DE EMBUTIR                                                                                                                                                                                                                                                                                                                                                                               ","PAR   ","38,83",null,null,"CR"]
[{"$f":"CONCATENAR","v":"SINAPI-I 2759"},"SINAPI-I",2759,"ESPOLETA SIMPLES N 8.                                                                                                                                                                                                                                                                                                                                                                                                                                                                                     ","UN    ","9,68",null,null,"AS"]
[{"$f":"CONCATENAR","v":"SINAPI-I 38124"},"SINAPI-I",38124,"ESPUMA EXPANSIVA DE POLIURETANO, APLICACAO MANUAL - 500 ML                                                                                                                                                                                                                                                                                                                                                                                                                                                ","UN    ","29,99",null,null,"C "]
[{"$f":"CONCATENAR","v":"SINAPI-I 38380"},"SINAPI-I",38380,"ESQUADRO DE ACO 12\" (300 MM), CABO DE ALUMINIO                                                                                                                                                                                                                                                                                                                                                                                                                                                            ","UN    ","38,15",null,null,"CR"]
[{"$f":"CONCATENAR","v":"SINAPI-I 42429"},"SINAPI-I",42429,"ESQUI TRIPLO, EM TUBO DE ACO CARBONO, PINTURA NO PROCESSO ELETROSTATICO - EQUIPAMENTO DE GINASTICA PARA ACADEMIA AO AR LIVRE / ACADEMIA DA TERCEIRA IDADE - ATI                                                                                                                                                                                                                                                                                                                                           ","UN    ","6.025,10",null,null,"AS"]
[{"$f":"CONCATENAR","v":"SINAPI-I 39616"},"SINAPI-I",39616,"ESTABILIZADOR BIVOLT AUTOMATICO, 1000 VA                                                                                                                                                                                                                                                                                                                                                                                                                                                                  ","UN    ","434,90",null,null,"C "]
[{"$f":"CONCATENAR","v":"SINAPI-I 39618"},"SINAPI-I",39618,"ESTABILIZADOR BIVOLT AUTOMATICO, 1500 VA                                                                                                                                                                                                                                                                                                                                                                                                                                                                  ","UN    ","788,83",null,null,"CR"]
[{"$f":"CONCATENAR","v":"SINAPI-I 39619"},"SINAPI-I",39619,"ESTABILIZADOR BIVOLT AUTOMATICO, 2000 VA                                                                                                                                                                                                                                                                                                                                                                                                                                                                  ","UN    ","1.080,38",null,null,"CR"]
[{"$f":"CONCATENAR","v":"SINAPI-I 39613"},"SINAPI-I",39613,"ESTABILIZADOR BIVOLT AUTOMATICO, 300 VA                                                                                                                                                                                                                                                                                                                                                                                                                                                                   ","UN    ","172,75",null,null,"CR"]
[{"$f":"CONCATENAR","v":"SINAPI-I 39614"},"SINAPI-I",39614,"ESTABILIZADOR BIVOLT AUTOMATICO, 500 VA                                                                                                                                                                                                                                                                                                                                                                                                                                                                   ","UN    ","252,03",null,null,"CR"]
[{"$f":"CONCATENAR","v":"SINAPI-I 38538"},"SINAPI-I",38538,"ESTACA PRE-MOLDADA MACICA DE CONCRETO VIBRADO ARMADO, PARA CARGA DE 25 T, SECAO QUADRADA DE *16 X 16*, COM ANEL METALICO INCORPORADO A PECA (SOMENTE FORNECIMENTO)                                                                                                                                                                                                                                                                                                                                        ","M     ","79,00",null,null,"AS"]
[{"$f":"CONCATENAR","v":"SINAPI-I 38539"},"SINAPI-I",38539,"ESTACA PRE-MOLDADA MACICA DE CONCRETO VIBRADO ARMADO, PARA CARGA DE 50 T, SECAO QUADRADA, COM ANEL METALICO INCORPORADO A PECA (SOMENTE FORNECIMENTO)                                                                                                                                                                                                                                                                                                                                                     ","M     ","107,43",null,null,"AS"]
[{"$f":"CONCATENAR","v":"SINAPI-I 38540"},"SINAPI-I",38540,"ESTACA PRE-MOLDADA VAZADA DE CONCRETO CENTRIFUGADO, PARA CARGA DE 100 T, SECAO CIRCULAR, COM ANEL METALICO INCORPORADO A PECA (SOMENTE FORNECIMENTO)                                                                                                                                                                                                                                                                                                                                                      ","M     ","275,32",null,null,"AS"]
[{"$f":"CONCATENAR","v":"SINAPI-I 38384"},"SINAPI-I",38384,"ESTILETE DE METAL, LAMINA 18 MM                                                                                                                                                                                                                                                                                                                                                                                                                                                                           ","UN    ","24,36",null,null,"CR"]
[{"$f":"CONCATENAR","v":"SINAPI-I 13"},"SINAPI-I",13,"ESTOPA                                                                                                                                                                                                                                                                                                                                                                                                                                                                                                    ","KG    ","21,40",null,null,"CR"]
[{"$f":"CONCATENAR","v":"SINAPI-I 2762"},"SINAPI-I",2762,"ESTOPIM SIMPLES                                                                                                                                                                                                                                                                                                                                                                                                                                                                                           ","M     ","12,10",null,null,"AS"]
[{"$f":"CONCATENAR","v":"SINAPI-I 21142"},"SINAPI-I",21142,"ESTRIBO COM PARAFUSO EM CHAPA DE FERRO FUNDIDO DE 2\" X 3/16\" X 35 CM, SECAO \"U\", PARA MADEIRAMENTO DE TELHADO                                                                                                                                                                                                                                                                                                                                                                                             ","UN    ","33,23",null,null,"CR"]
[{"$f":"CONCATENAR","v":"SINAPI-I 4223"},"SINAPI-I",4223,"ETANOL                                                                                                                                                                                                                                                                                                                                                                                                                                                                                                    ","L     ","4,74",null,null,"C "]
[{"$f":"CONCATENAR","v":"SINAPI-I 37372"},"SINAPI-I",37372,"EXAMES - HORISTA (COLETADO CAIXA - ENCARGOS COMPLEMENTARES)                                                                                                                                                                                                                                                                                                                                                                                                                                               ","H     ","1,34",null,null,"C "]
[{"$f":"CONCATENAR","v":"SINAPI-I 40863"},"SINAPI-I",40863,"EXAMES - MENSALISTA (COLETADO CAIXA - ENCARGOS COMPLEMENTARES)                                                                                                                                                                                                                                                                                                                                                                                                                                            ","MES   ","252,08",null,null,"C "]
[{"$f":"CONCATENAR","v":"SINAPI-I 38475"},"SINAPI-I",38475,"EXTENSAO DE SOLDA 201 ACETILENO, E = *1,5 A 2,5* MM                                                                                                                                                                                                                                                                                                                                                                                                                                                       ","UN    ","48,51",null,null,"CR"]
[{"$f":"CONCATENAR","v":"SINAPI-I 38474"},"SINAPI-I",38474,"EXTENSAO DE SOLDA 201 GLP, E = *2,5 A 4,0* MM                                                                                                                                                                                                                                                                                                                                                                                                                                                             ","UN    ","59,97",null,null,"CR"]
[{"$f":"CONCATENAR","v":"SINAPI-I 10886"},"SINAPI-I",10886,"EXTINTOR DE INCENDIO PORTATIL COM CARGA DE AGUA PRESSURIZADA DE 10 L, CLASSE A                                                                                                                                                                                                                                                                                                                                                                                                                            ","UN    ","207,07",null,null,"CR"]
[{"$f":"CONCATENAR","v":"SINAPI-I 10888"},"SINAPI-I",10888,"EXTINTOR DE INCENDIO PORTATIL COM CARGA DE GAS CARBONICO CO2 DE 4 KG, CLASSE BC                                                                                                                                                                                                                                                                                                                                                                                                                           ","UN    ","655,36",null,null,"CR"]
[{"$f":"CONCATENAR","v":"SINAPI-I 10889"},"SINAPI-I",10889,"EXTINTOR DE INCENDIO PORTATIL COM CARGA DE GAS CARBONICO CO2 DE 6 KG, CLASSE BC                                                                                                                                                                                                                                                                                                                                                                                                                           ","UN    ","709,98",null,null,"CR"]
[{"$f":"CONCATENAR","v":"SINAPI-I 10890"},"SINAPI-I",10890,"EXTINTOR DE INCENDIO PORTATIL COM CARGA DE PO QUIMICO SECO (PQS) DE 12 KG, CLASSE BC                                                                                                                                                                                                                                                                                                                                                                                                                      ","UN    ","327,68",null,null,"CR"]
[{"$f":"CONCATENAR","v":"SINAPI-I 10891"},"SINAPI-I",10891,"EXTINTOR DE INCENDIO PORTATIL COM CARGA DE PO QUIMICO SECO (PQS) DE 4 KG, CLASSE BC                                                                                                                                                                                                                                                                                                                                                                                                                       ","UN    ","200,25",null,null,"CR"]
[{"$f":"CONCATENAR","v":"SINAPI-I 10892"},"SINAPI-I",10892,"EXTINTOR DE INCENDIO PORTATIL COM CARGA DE PO QUIMICO SECO (PQS) DE 6 KG, CLASSE BC                                                                                                                                                                                                                                                                                                                                                                                                                       ","UN    ","236,66",null,null,"C "]
[{"$f":"CONCATENAR","v":"SINAPI-I 20977"},"SINAPI-I",20977,"EXTINTOR DE INCENDIO PORTATIL COM CARGA DE PO QUIMICO SECO (PQS) DE 8 KG, CLASSE BC                                                                                                                                                                                                                                                                                                                                                                                                                       ","UN    ","282,17",null,null,"CR"]
[{"$f":"CONCATENAR","v":"SINAPI-I 3073"},"SINAPI-I",3073,"EXTREMIDADE PVC PBA, BF, JE, DN 100/ DE 110 MM                                                                                                                                                                                                                                                                                                                                                                                                                                                            ","UN    ","151,99",null,null,"AS"]
[{"$f":"CONCATENAR","v":"SINAPI-I 3074"},"SINAPI-I",3074,"EXTREMIDADE PVC PBA, BF, JE, DN 75/ DE 85 MM                                                                                                                                                                                                                                                                                                                                                                                                                                                              ","UN    ","95,95",null,null,"AS"]
[{"$f":"CONCATENAR","v":"SINAPI-I 3076"},"SINAPI-I",3076,"EXTREMIDADE PVC PBA, PF, JE, DN 100 / DE 110 MM                                                                                                                                                                                                                                                                                                                                                                                                                                                           ","UN    ","124,95",null,null,"AS"]
[{"$f":"CONCATENAR","v":"SINAPI-I 10781"},"SINAPI-I",10781,"EXTREMIDADE/TUBETE PARA HIDROMETRO PVC, COM ROSCA, CURTA, COM BUCHA LATAO, 3/4\" OU 1/2\"                                                                                                                                                                                                                                                                                                                                                                                                                   ","UN    ","10,71",null,null,"AS"]
[{"$f":"CONCATENAR","v":"SINAPI-I 38153"},"SINAPI-I",38153,"FECHADURA ESPELHO PARA PORTA DE BANHEIRO, EM ACO INOX (MAQUINA, TESTA E CONTRA-TESTA) E EM ZAMAC (MACANETA, LINGUETA E TRINCOS) COM ACABAMENTO CROMADO, MAQUINA DE 40 MM, INCLUINDO CHAVE TIPO TRANQUETA                                                                                                                                                                                                                                                                                                  ","CJ    ","65,27",null,null,"CR"]
[{"$f":"CONCATENAR","v":"SINAPI-I 38151"},"SINAPI-I",38151,"FECHADURA ROSETA REDONDA PARA PORTA EXTERNA, EM ACO INOX (MAQUINA, TESTA E CONTRA-TESTA) E EM ZAMAC (MACANETA, LINGUETA E TRINCOS) COM ACABAMENTO CROMADO, MAQUINA DE 40 MM, INCLUINDO CHAVE TIPO CILINDRO                                                                                                                                                                                                                                                                                                ","CJ    ","107,89",null,null,"CR"]
[{"$f":"CONCATENAR","v":"SINAPI-I 38178"},"SINAPI-I",38178,"FECHO QUEBRA UNHA, EM LATAO COM ACABAMENTO CROMADO, DE EMBUTIR, COM COMANDO DESLIZANTE, ALTURA DE 12 CM, LARGURA MINIMA DE 1,90 CM E ESPESSURA MINIMA DE 1,90 MM                                                                                                                                                                                                                                                                                                                                          ","UN    ","24,13",null,null,"CR"]
[{"$f":"CONCATENAR","v":"SINAPI-I 43461"},"SINAPI-I",43461,"FERRAMENTAS - FAMILIA ENCANADOR - HORISTA (ENCARGOS COMPLEMENTARES - COLETADO CAIXA)                                                                                                                                                                                                                                                                                                                                                                                                                      ","H     ","0,31",null,null,"C "]
[{"$f":"CONCATENAR","v":"SINAPI-I 43474"},"SINAPI-I",43474,"FERRAMENTAS - FAMILIA ENGENHEIRO CIVIL - MENSALISTA (ENCARGOS COMPLEMENTARES - COLETADO CAIXA)                                                                                                                                                                                                                                                                                                                                                                                                            ","MES   ","2,29",null,null,"C "]
[{"$f":"CONCATENAR","v":"SINAPI-I 3122"},"SINAPI-I",3122,"FERROLHO COM FECHO / TRINCO REDONDO, EM ACO GALVANIZADO / ZINCADO, DE SOBREPOR, COM COMPRIMENTO DE 3\" A 4\" E ESPESSURA MINIMA DA CHAPA DE 0,90 MM                                                                                                                                                                                                                                                                                                                                                         ","UN    ","5,77",null,null,"CR"]
[{"$f":"CONCATENAR","v":"SINAPI-I 3121"},"SINAPI-I",3121,"FERROLHO COM FECHO / TRINCO REDONDO, EM ACO GALVANIZADO / ZINCADO, DE SOBREPOR, COM COMPRIMENTO DE 5\" E ESPESSURA MINIMA DA CHAPA DE 0,90 MM                                                                                                                                                                                                                                                                                                                                                              ","UN    ","6,54",null,null,"CR"]
[{"$f":"CONCATENAR","v":"SINAPI-I 3106"},"SINAPI-I",3106,"FERROLHO COM FECHO CHATO E PORTA CADEADO, EM ACO GALVANIZADO / ZINCADO, DE SOBREPOR, COM COMPRIMENTO DE 6\", CHAPA COM ESPESSURA MINIMA DE 1,70 MM E LARGURA /MINIMA DE 5,00 CM (FECHO REFORCADO) (INCLUI PARAFUSOS)                                                                                                                                                                                                                                                                                       ","UN    ","16,66",null,null,"CR"]
[{"$f":"CONCATENAR","v":"SINAPI-I 14146"},"SINAPI-I",14146,"FINCAPINO LONGO CALIBRE 22, CARGA FORTE POTENCIA 7 (PARA FERRAMENTA DE ACAO DIRETA), COR AMARELA                                                                                                                                                                                                                                                                                                                                                                                                          ","CENTO ","74,07",null,null,"AS"]
[{"$f":"CONCATENAR","v":"SINAPI-I 39432"},"SINAPI-I",39432,"FITA DE PAPEL REFORCADA COM LAMINA DE METAL PARA REFORCO DE CANTOS DE CHAPA DE GESSO PARA DRYWALL                                                                                                                                                                                                                                                                                                                                                                                                         ","M     ","3,23",null,null,"CR"]
[{"$f":"CONCATENAR","v":"SINAPI-I 14152"},"SINAPI-I",14152,"FITA METALICA PERFURADA, L = 17 MM, ROLO DE 30 M, CARGA RECOMENDADA = *19* KGF                                                                                                                                                                                                                                                                                                                                                                                                                            ","UN    ","46,20",null,null,"AS"]
[{"$f":"CONCATENAR","v":"SINAPI-I 3272"},"SINAPI-I",3272,"FLANGE SEXTAVADO DE FERRO GALVANIZADO, COM ROSCA BSP, DE 1 1/2\"                                                                                                                                                                                                                                                                                                                                                                                                                                           ","UN    ","48,78",null,null,"CR"]
[{"$f":"CONCATENAR","v":"SINAPI-I 3270"},"SINAPI-I",3270,"FLANGE SEXTAVADO DE FERRO GALVANIZADO, COM ROSCA BSP, DE 6\"                                                                                                                                                                                                                                                                                                                                                                                                                                               ","UN    ","305,62",null,null,"CR"]
[{"$f":"CONCATENAR","v":"SINAPI-I 36225"},"SINAPI-I",36225,"FORRO DE PVC LISO, BRANCO, REGUA DE 20 CM, ESPESSURA APROXIMADA DE 8 MM, COMPRIMENTO 6 M (SEM COLOCACAO)                                                                                                                                                                                                                                                                                                                                                                                                  ","M2    ","46,82",null,null,"CR"]
[{"$f":"CONCATENAR","v":"SINAPI-I 39361"},"SINAPI-I",39361,"FOSSA SEPTICA, SEM FILTRO, EM POLIETILENO DE ALTA DENSIDADE (PEAD), PARA 4 A 7 CONTRIBUINTES, CILINDRICA, COM TAMPA, CAPACIDADE APROXIMADA DE *1100* LITROS (NBR 7229)                                                                                                                                                                                                                                                                                                                                    ","UN    ","1.853,23",null,null,"CR"]
[{"$f":"CONCATENAR","v":"SINAPI-I 43653"},"SINAPI-I",43653,"FUNDO SINTETICO NIVELADOR BRANCO FOSCO PARA MADEIRA                                                                                                                                                                                                                                                                                                                                                                                                                                                       ","L     ","41,41",null,null,"CR"]
[{"$f":"CONCATENAR","v":"SINAPI-I 3298"},"SINAPI-I",3298,"FUSIVEL NH 200 A 250 AMPERES, TAMANHO 1, CAPACIDADE DE INTERRUPCAO DE 120 KA, TENSAO NOMINAL DE 500 V                                                                                                                                                                                                                                                                                                                                                                                                     ","UN    ","60,70",null,null,"AS"]
[{"$f":"CONCATENAR","v":"SINAPI-I 11599"},"SINAPI-I",11599,"GABIAO SACO MALHA HEXAGONAL 8 X 10 CM (ZN/AL), FIO 2,7 MM, DIMENSOES 4,0 X 0,65 M                                                                                                                                                                                                                                                                                                                                                                                                                         ","UN    ","518,31",null,null,"CR"]
[{"$f":"CONCATENAR","v":"SINAPI-I 40441"},"SINAPI-I",40441,"GABIAO TIPO CAIXA PARA SOLO REFORCADO, MALHA HEXAGONAL 8 X 10 CM (ZN/AL REVESTIDO COM POLIMERO), FIO 2,7 MM, DIMENSOES 2,0 X 1,0 X 1,0 M, COM CAUDA DE 4,0 M                                                                                                                                                                                                                                                                                                                                              ","M3    ","345,60",null,null,"CR"]
[{"$f":"CONCATENAR","v":"SINAPI-I 4013"},"SINAPI-I",4013,"GEOTEXTIL NAO TECIDO AGULHADO DE FILAMENTOS CONTINUOS 100% POLIESTER, RESITENCIA A TRACAO = 09 KN/M                                                                                                                                                                                                                                                                                                                                                                                                       ","M2    ","8,22",null,null,"CR"]
[{"$f":"CONCATENAR","v":"SINAPI-I 36498"},"SINAPI-I",36498,"GERADOR PORTATIL MONOFASICO, POTENCIA 5500 VA, MOTOR A GASOLINA, POTENCIA DO MOTOR 13 CV                                                                                                                                                                                                                                                                                                                                                                                                                  ","UN    ","8.600,61",null,null,"AS"]
[{"$f":"CONCATENAR","v":"SINAPI-I 3318"},"SINAPI-I",3318,"GRADE DE DISCOS MECANICA 20X24\" COM 20 DISCOS 24\" X 6MM COM PNEUS PARA TRANSPORTE                                                                                                                                                                                                                                                                                                                                                                                                                         ","UN    ","54.000,00",null,null,"C "]
[{"$f":"CONCATENAR","v":"SINAPI-I 3324"},"SINAPI-I",3324,"GRAMA BATATAIS EM PLACAS, SEM PLANTIO                                                                                                                                                                                                                                                                                                                                                                                                                                                                     ","M2    ","17,46",null,null,"CR"]
[{"$f":"CONCATENAR","v":"SINAPI-I 426"},"SINAPI-I",426,"GRAMPO METALICO TIPO U PARA HASTE DE ATERRAMENTO DE ATE 3/4\", CONDUTOR DE 10 A 25 MM2                                                                                                                                                                                                                                                                                                                                                                                                                     ","UN    ","52,66",null,null,"CR"]
[{"$f":"CONCATENAR","v":"SINAPI-I 4229"},"SINAPI-I",4229,"GRAXA LUBRIFICANTE A BASE DE LITIO, DE MULTIPLAS APLICACOES E CONTENDO ADITIVOS DE EXTREMA PRESSAO (GRAU DE VISCOSIDADE NLGI 2)                                                                                                                                                                                                                                                                                                                                                                           ","KG    ","44,61",null,null,"CR"]
[{"$f":"CONCATENAR","v":"SINAPI-I 36493"},"SINAPI-I",36493,"GRUA ASCENCIONAL, LANCA DE 42 M, CAPACIDADE DE 1,5 T A 30 M, ALTURA ATE 39 M                                                                                                                                                                                                                                                                                                                                                                                                                              ","UN    ","821.179,19",null,null,"CR"]
[{"$f":"CONCATENAR","v":"SINAPI-I 39584"},"SINAPI-I",39584,"GRUPO GERADOR DIESEL, COM CARENAGEM, POTENCIA STANDART ENTRE 50 E 55 KVA, VELOCIDADE DE 1800 RPM, FREQUENCIA DE 60 HZ                                                                                                                                                                                                                                                                                                                                                                                     ","UN    ","136.951,18",null,null,"AS"]
[{"$f":"CONCATENAR","v":"SINAPI-I 36500"},"SINAPI-I",36500,"GRUPO GERADOR REBOCAVEL, POTENCIA *66* KVA, MOTOR A DIESEL                                                                                                                                                                                                                                                                                                                                                                                                                                                ","UN    ","112.469,48",null,null,"AS"]
[{"$f":"CONCATENAR","v":"SINAPI-I 36487"},"SINAPI-I",36487,"GUINCHO ELETRICO DE COLUNA, CAPACIDADE 400 KG, COM MOTO FREIO, MOTOR TRIFASICO DE 1,25 CV                                                                                                                                                                                                                                                                                                                                                                                                                 ","UN    ","3.675,88",null,null,"CR"]
[{"$f":"CONCATENAR","v":"SINAPI-I 44474"},"SINAPI-I",44474,"GUINDASTE HIDRAULICO AUTOPROPELIDO, COM LANCA TELESCOPICA 40 M, CAPACIDADE MAXIMA 60 T, POTENCIA 260 KW, TRACAO  6 X 6                                                                                                                                                                                                                                                                                                                                                                                    ","UN    ","2.437.384,66",null,null,"CR"]
[{"$f":"CONCATENAR","v":"SINAPI-I 3378"},"SINAPI-I",3378,"HASTE DE ATERRAMENTO EM ACO COM 3,00 M DE COMPRIMENTO E DN = 3/4\", REVESTIDA COM BAIXA CAMADA DE COBRE, SEM CONECTOR                                                                                                                                                                                                                                                                                                                                                                                      ","UN    ","149,14",null,null,"CR"]
[{"$f":"CONCATENAR","v":"SINAPI-I 4314"},"SINAPI-I",4314,"HASTE RETA PARA GANCHO DE FERRO GALVANIZADO, COM ROSCA 5/16\" X 45 CM PARA FIXACAO DE TELHA DE FIBROCIMENTO, INCLUI PORCA E ARRUELAS DE VEDACAO                                                                                                                                                                                                                                                                                                                                                            ","CJ    ","3,84",null,null,"CR"]
[{"$f":"CONCATENAR","v":"SINAPI-I 12775"},"SINAPI-I",12775,"HIDROMETRO MULTIJATO / MEDIDOR DE AGUA, DN 1\", VAZAO MAXIMA DE 7 M3/H, PARA AGUA POTAVEL FRIA, RELOJOARIA PLANA, CLASSE B, HORIZONTAL (SEM CONEXOES)                                                                                                                                                                                                                                                                                                                                                      ","UN    ","549,02",null,null,"CR"]
[{"$f":"CONCATENAR","v":"SINAPI-I 140"},"SINAPI-I",140,"IMPERMEABILIZANTE FLEXIVEL BRANCO DE BASE ACRILICA PARA COBERTURAS                                                                                                                                                                                                                                                                                                                                                                                                                                        ","KG    ","20,01",null,null,"CR"]
[{"$f":"CONCATENAR","v":"SINAPI-I 38113"},"SINAPI-I",38113,"INTERRUPTOR PARALELO 10A, 250V (APENAS MODULO)                                                                                                                                                                                                                                                                                                                                                                                                                                                            ","UN    ","10,71",null,null,"CR"]
[{"$f":"CONCATENAR","v":"SINAPI-I 12129"},"SINAPI-I",12129,"INTERRUPTOR SIMPLES 10A, 250V, CONJUNTO MONTADO PARA SOBREPOR 4\" X 2\" (CAIXA + 2 MODULOS)                                                                                                                                                                                                                                                                                                                                                                                                                 ","UN    ","14,92",null,null,"CR"]
[{"$f":"CONCATENAR","v":"SINAPI-I 3405"},"SINAPI-I",3405,"ISOLADOR DE PORCELANA SUSPENSO, DISCO TIPO GARFO OLHAL, DIAMETRO DE 152 MM, PARA TENSAO DE *15* KV                                                                                                                                                                                                                                                                                                                                                                                                        ","UN    ","96,54",null,null,"AS"]
[{"$f":"CONCATENAR","v":"SINAPI-I 34377"},"SINAPI-I",34377,"JANELA BASCULANTE, EM ALUMINIO PERFIL 20, 80 X 60 CM (A X L), 4 FLS (1 FIXA E 3 MOVEIS), ACABAMENTO BRANCO OU BRILHANTE, BATENTE DE 3 A 4 CM, COM VIDRO 4 MM, SEM GUARNICAO                                                                                                                                                                                                                                                                                                                               ","UN    ","246,51",null,null,"CR"]
[{"$f":"CONCATENAR","v":"SINAPI-I 3428"},"SINAPI-I",3428,"JANELA DE ABRIR EM MADEIRA IMBUIA/CEDRO ARANA/CEDRO ROSA OU EQUIVALENTE DA REGIAO, CAIXA DO BATENTE/MARCO *10* CM, 2 FOLHAS DE ABRIR TIPO VENEZIANA E 2 FOLHAS DE ABRIR PARA VIDRO, COM GUARNICAO/ALIZAR, COM FERRAGENS, (SEM VIDRO E SEM ACABAMENTO)                                                                                                                                                                                                                                                     ","M2    ","1.221,04",null,null,"C "]
[{"$f":"CONCATENAR","v":"SINAPI-I 40660"},"SINAPI-I",40660,"JANELA DE 6 FOLHAS DE CORRER EM MADEIRA IMBUIA/CEDRO ARANA/CEDRO ROSA OU EQUIVALENTE DA REGIAO, CAIXA DO BATENTE/MARCO *10* CM, 2 FOLHAS DE CORRER VENEZIANA, 2 FOLHAS FIXAS VENEZIANA E 2 FOLHAS DE CORRER PARA VIDRO, COM FERRAGENS (SEM VIDRO, SEM ACABAMENTO E SEM GUARNICAO/ALIZAR)                                                                                                                                                                                                                  ","M2    ","1.476,09",null,null,"CR"]
[{"$f":"CONCATENAR","v":"SINAPI-I 44503"},"SINAPI-I",44503,"JARDINEIRO (HORISTA)                                                                                                                                                                                                                                                                                                                                                                                                                                                                                      ","H     ","15,63",null,null,"CR"]
[{"$f":"CONCATENAR","v":"SINAPI-I 37970"},"SINAPI-I",37970,"JOELHO CPVC, SOLDAVEL, 45 GRAUS, 89 MM, PARA AGUA QUENTE                                                                                                                                                                                                                                                                                                                                                                                                                                                  ","UN    ","193,87",null,null,"CR"]
[{"$f":"CONCATENAR","v":"SINAPI-I 37962"},"SINAPI-I",37962,"JOELHO CPVC, SOLDAVEL, 90 GRAUS, 89 MM, PARA AGUA QUENTE                                                                                                                                                                                                                                                                                                                                                                                                                                                  ","UN    ","160,64",null,null,"CR"]
[{"$f":"CONCATENAR","v":"SINAPI-I 36349"},"SINAPI-I",36349,"JOELHO PPR 45 GRAUS, SOLDAVEL, F/F, DN 25 MM, PARA AGUA QUENTE PREDIAL                                                                                                                                                                                                                                                                                                                                                                                                                                    ","UN    ","2,70",null,null,"CR"]
[{"$f":"CONCATENAR","v":"SINAPI-I 36360"},"SINAPI-I",36360,"JOELHO PPR, 90 GRAUS, SOLDAVEL, F/F, DN 25 MM, PARA AGUA QUENTE PREDIAL                                                                                                                                                                                                                                                                                                                                                                                                                                   ","UN    ","2,34",null,null,"CR"]
[{"$f":"CONCATENAR","v":"SINAPI-I 38435"},"SINAPI-I",38435,"JOELHO PPR, 90 GRAUS, SOLDAVEL, F/F, DN 40 MM, PARA AGUA QUENTE PREDIAL                                                                                                                                                                                                                                                                                                                                                                                                                                   ","UN    ","8,03",null,null,"CR"]
[{"$f":"CONCATENAR","v":"SINAPI-I 3534"},"SINAPI-I",3534,"JOELHO PVC, ROSCAVEL, 45 GRAUS, 3/4\", COR BRANCA, PARA AGUA FRIA PREDIAL                                                                                                                                                                                                                                                                                                                                                                                                                                  ","UN    ","7,96",null,null,"CR"]
[{"$f":"CONCATENAR","v":"SINAPI-I 3517"},"SINAPI-I",3517,"JOELHO PVC, SOLDAVEL, BB, 90 GRAUS, SEM ANEL, DN 40 MM, PARA ESGOTO PREDIAL SECUNDARIO                                                                                                                                                                                                                                                                                                                                                                                                                    ","UN    ","2,23",null,null,"CR"]
[{"$f":"CONCATENAR","v":"SINAPI-I 3519"},"SINAPI-I",3519,"JOELHO PVC, SOLDAVEL, PB, 45 GRAUS, DN 75 MM, PARA ESGOTO PREDIAL                                                                                                                                                                                                                                                                                                                                                                                                                                         ","UN    ","8,37",null,null,"CR"]
[{"$f":"CONCATENAR","v":"SINAPI-I 3536"},"SINAPI-I",3536,"JOELHO PVC, SOLDAVEL, 90 GRAUS, 32 MM, COR MARROM, PARA AGUA FRIA PREDIAL                                                                                                                                                                                                                                                                                                                                                                                                                                 ","UN    ","2,54",null,null,"CR"]
[{"$f":"CONCATENAR","v":"SINAPI-I 39300"},"SINAPI-I",39300,"JOELHO/COTOVELO 90 GRAUS, PLASTICO, PARA CONEXAO COM CRIMPAGEM, DN 16 MM, EM TUBO PEX PARA INST. AGUA QUENTE/FRIA                                                                                                                                                                                                                                                                                                                                                                                         ","UN    ","17,99",null,null,"CR"]
[{"$f":"CONCATENAR","v":"SINAPI-I 39305"},"SINAPI-I",39305,"JOELHO/COTOVELO 90 GRAUS, ROSCA FEMEA TERMINAL, PLASTICO, PARA CONEXAO COM CRIMPAGEM, DN 20 MM X 1/2\", EM TUBO PEX PARA INST. AGUA QUENTE/FRIA                                                                                                                                                                                                                                                                                                                                                            ","UN    ","23,34",null,null,"CR"]
[{"$f":"CONCATENAR","v":"SINAPI-I 20149"},"SINAPI-I",20149,"JOELHO, PVC SERIE R, 45 GRAUS, DN 50 MM, PARA ESGOTO PREDIAL                                                                                                                                                                                                                                                                                                                                                                                                                                              ","UN    ","7,08",null,null,"CR"]
[{"$f":"CONCATENAR","v":"SINAPI-I 3501"},"SINAPI-I",3501,"JOELHO, PVC SOLDAVEL, 45 GRAUS, 32 MM, COR MARROM, PARA AGUA FRIA PREDIAL                                                                                                                                                                                                                                                                                                                                                                                                                                 ","UN    ","4,34",null,null,"CR"]
[{"$f":"CONCATENAR","v":"SINAPI-I 3502"},"SINAPI-I",3502,"JOELHO, PVC SOLDAVEL, 45 GRAUS, 40 MM, COR MARROM, PARA AGUA FRIA PREDIAL                                                                                                                                                                                                                                                                                                                                                                                                                                 ","UN    ","6,24",null,null,"CR"]
[{"$f":"CONCATENAR","v":"SINAPI-I 10909"},"SINAPI-I",10909,"JUNCAO DE REDUCAO INVERTIDA, PVC SOLDAVEL, 100 X 75 MM, SERIE NORMAL PARA ESGOTO PREDIAL                                                                                                                                                                                                                                                                                                                                                                                                                  ","UN    ","23,44",null,null,"CR"]
[{"$f":"CONCATENAR","v":"SINAPI-I 20146"},"SINAPI-I",20146,"JUNCAO SIMPLES, PVC SERIE R, DN 150 X 150 MM, PARA ESGOTO PREDIAL                                                                                                                                                                                                                                                                                                                                                                                                                                         ","UN    ","193,02",null,null,"CR"]
[{"$f":"CONCATENAR","v":"SINAPI-I 42696"},"SINAPI-I",42696,"JUNCAO, PVC, 45 GRAUS, JE, BBB, DN 150 MM, PARA TUBO CORRUGADO E/OU LISO, REDE COLETORA DE ESGOTO                                                                                                                                                                                                                                                                                                                                                                                                         ","UN    ","156,41",null,null,"CR"]
[{"$f":"CONCATENAR","v":"SINAPI-I 3681"},"SINAPI-I",3681,"JUNTA DILATACAO ELASTICA PARA CONCRETO (FUGENBAND) O-22, ATE 30 MCA                                                                                                                                                                                                                                                                                                                                                                                                                                       ","M     ","128,78",null,null,"AS"]
[{"$f":"CONCATENAR","v":"SINAPI-I 39358"},"SINAPI-I",39358,"KIT CHASSI COZINHA, CUBA SIMPLES SEM MAQUINA LAVAR LOUCA, INSTAL. PEX, QUADRO METALICO C/ TRAVESSA COM FURO P/ESGOTO DN 50 MM E FUROS SUPERIORES P/AGUA, *340* X *650* MM (L X H), P/ CONEXAO COM CRIMPAGEM (CONJUNTO COMPLETO)                                                                                                                                                                                                                                                                           ","UN    ","111,64",null,null,"CR"]
[{"$f":"CONCATENAR","v":"SINAPI-I 39486"},"SINAPI-I",39486,"KIT PORTA PRONTA DE MADEIRA, FOLHA LEVE (NBR 15930) DE 600 X 2100 MM OU 700 X 2100 MM, DE 35 MM A 40 MM DE ESPESSURA, NUCLEO COLMEIA, ESTRUTURA USINADA PARA FECHADURA, CAPA LISA EM HDF, ACABAMENTO EM PRIMER PARA PINTURA (INCLUI MARCO, ALIZARES E DOBRADICAS)                                                                                                                                                                                                                                         ","UN    ","715,21",null,null,"CR"]
[{"$f":"CONCATENAR","v":"SINAPI-I 39497"},"SINAPI-I",39497,"KIT PORTA PRONTA DE MADEIRA, FOLHA MEDIA (NBR 15930) DE 900 X 2100 MM, DE 35 MM A 40 MM DE ESPESSURA, NUCLEO SEMI-SOLIDO (SARRAFEADO), ESTRUTURA USINADA PARA FECHADURA, CAPA LISA EM HDF, ACABAMENTO EM PRIMER PARA PINTURA (INCLUI MARCO, ALIZARES E DOBRADICAS)                                                                                                                                                                                                                                        ","UN    ","1.025,35",null,null,"CR"]
[{"$f":"CONCATENAR","v":"SINAPI-I 39493"},"SINAPI-I",39493,"KIT PORTA PRONTA DE MADEIRA, FOLHA MEDIA (NBR 15930) DE 900 X 2100 MM, DE 35 MM A 40 MM DE ESPESSURA, NUCLEO SEMI-SOLIDO (SARRAFEADO), ESTRUTURA USINADA PARA FECHADURA, CAPA LISA EM HDF, ACABAMENTO MELAMINICO BRANCO (INCLUI MARCO, ALIZARES E DOBRADICAS)                                                                                                                                                                                                                                             ","UN    ","1.217,57",null,null,"CR"]
[{"$f":"CONCATENAR","v":"SINAPI-I 38137"},"SINAPI-I",38137,"LADRILHO HIDRAULICO, *25 X 25* CM, E= 2 CM, PADRAO RAMPA, COR NATURAL                                                                                                                                                                                                                                                                                                                                                                                                                                     ","M2    ","96,01",null,null,"CR"]
[{"$f":"CONCATENAR","v":"SINAPI-I 3738"},"SINAPI-I",3738,"LAJE PRE-MOLDADA CONVENCIONAL (LAJOTAS + VIGOTAS) PARA PISO, UNIDIRECIONAL, SOBRECARGA DE 350 KG/M2, VAO ATE 5,00 M (SEM COLOCACAO)                                                                                                                                                                                                                                                                                                                                                                       ","M2    ","101,74",null,null,"CR"]
[{"$f":"CONCATENAR","v":"SINAPI-I 39387"},"SINAPI-I",39387,"LAMPADA LED TUBULAR BIVOLT 18/20 W, BASE G13                                                                                                                                                                                                                                                                                                                                                                                                                                                              ","UN    ","9,49",null,null,"CR"]
[{"$f":"CONCATENAR","v":"SINAPI-I 36794"},"SINAPI-I",36794,"LAVATORIO DE LOUCA BRANCA, COM COLUNA, DIMENSOES *44 X 35* CM (L X C)                                                                                                                                                                                                                                                                                                                                                                                                                                     ","UN    ","165,29",null,null,"CR"]
[{"$f":"CONCATENAR","v":"SINAPI-I 37773"},"SINAPI-I",37773,"LIMPADORA DE SUCCAO TANQUE 7000 L, BOMBA 12 M3/MIN 95% VACUO (INCLUI MONTAGEM, NAO INCLUI CAMINHAO)                                                                                                                                                                                                                                                                                                                                                                                                       ","UN    ","250.504,73",null,null,"AS"]
[{"$f":"CONCATENAR","v":"SINAPI-I 42440"},"SINAPI-I",42440,"LIXEIRA DUPLA, COM CAPACIDADE VOLUMETRICA DE 60L*, FABRICADA EM TUBO DE ACO CARBONO, CESTOS EM CHAPA DE ACO E PINTURA NO PROCESSO ELETROSTATICO - PARA ACADEMIA AO AR LIVRE / ACADEMIA DA TERCEIRA IDADE - ATI                                                                                                                                                                                                                                                                                            ","UN    ","1.235,91",null,null,"AS"]
[{"$f":"CONCATENAR","v":"SINAPI-I 40294"},"SINAPI-I",40294,"LOCACAO DE BOMBA SUBMERSIVEL PARA DRENAGEM E ESGOTAMENTO, MOTOR ELETRICO TRIFASICO, POTENCIA DE 3 CV, DIAMETRO DE RECALQUE DE 2\", FAIXA DE OPERACAO Q=84 M3/H (+ OU - 2,5 M3/H) E AMT=2 M, Q=9,1 M3/H (+ OU - 2 M3/H) E AMT = 12 M (+ OU - 2 M)                                                                                                                                                                                                                                                           ","H     ","1,89",null,null,"CR"]
[{"$f":"CONCATENAR","v":"SINAPI-I 10749"},"SINAPI-I",10749,"LOCACAO DE ESCORA METALICA TELESCOPICA, COM ALTURA REGULAVEL DE *1,80* A *3,20* M, COM CAPACIDADE DE CARGA DE NO MINIMO 1000 KGF (10 KN), INCLUSO TRIPE E FORCADO                                                                                                                                                                                                                                                                                                                                         ","UNXMES","22,18",null,null,"CR"]
[{"$f":"CONCATENAR","v":"SINAPI-I 3348"},"SINAPI-I",3348,"LOCACAO DE GRUPO GERADOR ACIMA DE * 125 ATE 180* KVA, MOTOR DIESEL, REBOCAVEL, ACIONAMENTO MANUAL                                                                                                                                                                                                                                                                                                                                                                                                         ","H     ","26,83",null,null,"CR"]
[{"$f":"CONCATENAR","v":"SINAPI-I 3798"},"SINAPI-I",3798,"LUMINARIA ABERTA P/ ILUMINACAO PUBLICA, TIPO X-57 PETERCO OU EQUIV                                                                                                                                                                                                                                                                                                                                                                                                                                        ","UN    ","87,16",null,null,"AS"]
[{"$f":"CONCATENAR","v":"SINAPI-I 42243"},"SINAPI-I",42243,"LUMINARIA DE LED PARA ILUMINACAO PUBLICA, DE 98 W ATE 137 W, INVOLUCRO EM ALUMINIO OU ACO INOX                                                                                                                                                                                                                                                                                                                                                                                                            ","UN    ","314,18",null,null,"CR"]
[{"$f":"CONCATENAR","v":"SINAPI-I 39391"},"SINAPI-I",39391,"LUMINARIA LED REFLETOR RETANGULAR BIVOLT, LUZ BRANCA, 50 W                                                                                                                                                                                                                                                                                                                                                                                                                                                ","UN    ","29,04",null,null,"CR"]
[{"$f":"CONCATENAR","v":"SINAPI-I 43543"},"SINAPI-I",43543,"LUMINARIA TIPO TARTARUGA A PROVA DE TEMPO, GASES, VAPOR E PO, EM ALUMINIO, COM GRADE, BASE E27, POTENCIA MAXIMA 100 W - REF Y 25/1 (NAO INCLUI LAMPADA)                                                                                                                                                                                                                                                                                                                                                   ","UN    ","165,57",null,null,"AS"]
[{"$f":"CONCATENAR","v":"SINAPI-I 12731"},"SINAPI-I",12731,"LUVA DE COBRE (REF 600) SEM ANEL DE SOLDA, BOLSA X BOLSA, 104 MM                                                                                                                                                                                                                                                                                                                                                                                                                                          ","UN    ","366,88",null,null,"AS"]
[{"$f":"CONCATENAR","v":"SINAPI-I 3840"},"SINAPI-I",3840,"LUVA DE CORRER COM TRAVAS DEFOFO, PVC, JE, DN 100 MM                                                                                                                                                                                                                                                                                                                                                                                                                                                      ","UN    ","39,95",null,null,"AS"]
[{"$f":"CONCATENAR","v":"SINAPI-I 3838"},"SINAPI-I",3838,"LUVA DE CORRER COM TRAVAS DEFOFO, PVC, JE, DN 150 MM                                                                                                                                                                                                                                                                                                                                                                                                                                                      ","UN    ","88,18",null,null,"AS"]
[{"$f":"CONCATENAR","v":"SINAPI-I 38021"},"SINAPI-I",38021,"LUVA DE CORRER PARA TUBO SOLDAVEL, PVC, 32 MM, PARA AGUA FRIA PREDIAL                                                                                                                                                                                                                                                                                                                                                                                                                                     ","UN    ","22,95",null,null,"CR"]
[{"$f":"CONCATENAR","v":"SINAPI-I 37984"},"SINAPI-I",37984,"LUVA DE CORRER, CPVC, SOLDAVEL, 35 MM, PARA AGUA QUENTE PREDIAL                                                                                                                                                                                                                                                                                                                                                                                                                                           ","UN    ","20,69",null,null,"CR"]
[{"$f":"CONCATENAR","v":"SINAPI-I 12404"},"SINAPI-I",12404,"LUVA DE FERRO GALVANIZADO, COM ROSCA BSP MACHO/FEMEA, DE 3/4\"                                                                                                                                                                                                                                                                                                                                                                                                                                             ","UN    ","10,27",null,null,"CR"]
[{"$f":"CONCATENAR","v":"SINAPI-I 3915"},"SINAPI-I",3915,"LUVA DE FERRO GALVANIZADO, COM ROSCA BSP, DE 4\"                                                                                                                                                                                                                                                                                                                                                                                                                                                           ","UN    ","140,61",null,null,"CR"]
[{"$f":"CONCATENAR","v":"SINAPI-I 12410"},"SINAPI-I",12410,"LUVA DE REDUCAO DE FERRO GALVANIZADO, COM ROSCA BSP MACHO/FEMEA, DE 3/4\" X 1/2\"                                                                                                                                                                                                                                                                                                                                                                                                                           ","UN    ","12,44",null,null,"CR"]
[{"$f":"CONCATENAR","v":"SINAPI-I 3919"},"SINAPI-I",3919,"LUVA DE REDUCAO DE FERRO GALVANIZADO, COM ROSCA BSP, DE 1\" X 3/4\"                                                                                                                                                                                                                                                                                                                                                                                                                                         ","UN    ","12,46",null,null,"CR"]
[{"$f":"CONCATENAR","v":"SINAPI-I 3928"},"SINAPI-I",3928,"LUVA DE REDUCAO DE FERRO GALVANIZADO, COM ROSCA BSP, DE 2 1/2\" X 2\"                                                                                                                                                                                                                                                                                                                                                                                                                                       ","UN    ","63,11",null,null,"CR"]
[{"$f":"CONCATENAR","v":"SINAPI-I 3933"},"SINAPI-I",3933,"LUVA DE REDUCAO DE FERRO GALVANIZADO, COM ROSCA BSP, DE 4\" X 2\"                                                                                                                                                                                                                                                                                                                                                                                                                                           ","UN    ","166,04",null,null,"CR"]
[{"$f":"CONCATENAR","v":"SINAPI-I 3907"},"SINAPI-I",3907,"LUVA DE REDUCAO ROSCAVEL, PVC, 1\" X 3/4\", PARA AGUA FRIA PREDIAL                                                                                                                                                                                                                                                                                                                                                                                                                                          ","UN    ","5,62",null,null,"CR"]
[{"$f":"CONCATENAR","v":"SINAPI-I 37988"},"SINAPI-I",37988,"LUVA DE TRANSICAO, CPVC, SOLDAVEL, 54 MM X 2\", PARA AGUA QUENTE PREDIAL                                                                                                                                                                                                                                                                                                                                                                                                                                   ","UN    ","185,77",null,null,"CR"]
[{"$f":"CONCATENAR","v":"SINAPI-I 40357"},"SINAPI-I",40357,"LUVA EM ACO CARBONO, SOLDAVEL, PRESSAO 3.000 LBS, DN 3/4\"                                                                                                                                                                                                                                                                                                                                                                                                                                                 ","UN    ","38,49",null,null,"CR"]
[{"$f":"CONCATENAR","v":"SINAPI-I 1896"},"SINAPI-I",1896,"LUVA EM PVC RIGIDO ROSCAVEL, DE 3\", PARA ELETRODUTO                                                                                                                                                                                                                                                                                                                                                                                                                                                       ","UN    ","18,61",null,null,"CR"]
[{"$f":"CONCATENAR","v":"SINAPI-I 2644"},"SINAPI-I",2644,"LUVA PARA ELETRODUTO, EM ACO GALVANIZADO ELETROLITICO, COM ROSCA, DIAMETRO DE 40 MM (1 1/2\")                                                                                                                                                                                                                                                                                                                                                                                                              ","UN    ","5,76",null,null,"AS"]
[{"$f":"CONCATENAR","v":"SINAPI-I 3861"},"SINAPI-I",3861,"LUVA PVC SOLDAVEL, 20 MM, PARA AGUA FRIA PREDIAL                                                                                                                                                                                                                                                                                                                                                                                                                                                          ","UN    ","0,81",null,null,"CR"]
[{"$f":"CONCATENAR","v":"SINAPI-I 3883"},"SINAPI-I",3883,"LUVA PVC, ROSCAVEL, 1/2\", AGUA FRIA PREDIAL                                                                                                                                                                                                                                                                                                                                                                                                                                                               ","UN    ","1,60",null,null,"CR"]
[{"$f":"CONCATENAR","v":"SINAPI-I 3876"},"SINAPI-I",3876,"LUVA PVC, ROSCAVEL, 1\", AGUA FRIA PREDIAL                                                                                                                                                                                                                                                                                                                                                                                                                                                                 ","UN    ","4,98",null,null,"CR"]
[{"$f":"CONCATENAR","v":"SINAPI-I 38444"},"SINAPI-I",38444,"LUVA SIMPLES PPR, F/F, SOLDAVEL, DN 63 MM, PARA AGUA QUENTE PREDIAL                                                                                                                                                                                                                                                                                                                                                                                                                                       ","UN    ","20,81",null,null,"CR"]
[{"$f":"CONCATENAR","v":"SINAPI-I 3898"},"SINAPI-I",3898,"LUVA SIMPLES, PVC, SOLDAVEL, DN 75 MM, SERIE NORMAL, PARA ESGOTO PREDIAL                                                                                                                                                                                                                                                                                                                                                                                                                                  ","UN    ","7,08",null,null,"CR"]
[{"$f":"CONCATENAR","v":"SINAPI-I 38678"},"SINAPI-I",38678,"LUVA SOLDAVEL COM BUCHA DE LATAO, PVC, 32 MM X 1\"                                                                                                                                                                                                                                                                                                                                                                                                                                                         ","UN    ","18,20",null,null,"CR"]
[{"$f":"CONCATENAR","v":"SINAPI-I 39294"},"SINAPI-I",39294,"LUVA/UNIAO DE REDUCAO METALICA, PARA CONEXAO COM ANEL DESLIZANTE, DN 25 X 20 MM, EM TUBO PEX PARA INST. AGUA QUENTE/FRIA                                                                                                                                                                                                                                                                                                                                                                                  ","UN    ","26,93",null,null,"CR"]
[{"$f":"CONCATENAR","v":"SINAPI-I 39308"},"SINAPI-I",39308,"LUVA/UNIAO, PLASTICA, PARA CONEXAO COM CRIMPAGEM, DN 16 MM, EM TUBO PEX PARA INST. AGUA QUENTE/FRIA                                                                                                                                                                                                                                                                                                                                                                                                       ","UN    ","12,33",null,null,"CR"]
[{"$f":"CONCATENAR","v":"SINAPI-I 37426"},"SINAPI-I",37426,"LUVA, PEAD PE 100, DE 63 MM, PARA ELETROFUSAO                                                                                                                                                                                                                                                                                                                                                                                                                                                             ","UN    ","23,27",null,null,"CR"]
[{"$f":"CONCATENAR","v":"SINAPI-I 11520"},"SINAPI-I",11520,"MACANETA ALAVANCA, RETA SIMPLES / OCA, CROMADA, COMPRIMENTO DE 10 A 16 CM, ACABAMENTO PADRAO POPULAR - SOMENTE MACANETAS                                                                                                                                                                                                                                                                                                                                                                                  ","PAR   ","28,72",null,null,"CR"]
[{"$f":"CONCATENAR","v":"SINAPI-I 4006"},"SINAPI-I",4006,"MADEIRA SERRADA EM PINUS, MISTA OU EQUIVALENTE DA REGIAO - BRUTA                                                                                                                                                                                                                                                                                                                                                                                                                                          ","M3    ","1.574,60",null,null,"CR"]
[{"$f":"CONCATENAR","v":"SINAPI-I 37459"},"SINAPI-I",37459,"MANGUEIRA CRISTAL, LISA, PVC TRANSPARENTE, 3/4\" X 2 MM                                                                                                                                                                                                                                                                                                                                                                                                                                                    ","M     ","6,32",null,null,"CR"]
[{"$f":"CONCATENAR","v":"SINAPI-I 21034"},"SINAPI-I",21034,"MANGUEIRA DE INCENDIO, TIPO 2, DE 2 1/2\", COMPRIMENTO = 15 M, TECIDO EM FIO DE POLIESTER E TUBO INTERNO EM BORRACHA SINTETICA, COM UNIOES ENGATE RAPIDO                                                                                                                                                                                                                                                                                                                                                   ","UN    ","685,63",null,null,"CR"]
[{"$f":"CONCATENAR","v":"SINAPI-I 12898"},"SINAPI-I",12898,"MANOMETRO COM CAIXA EM ACO PINTADO, ESCALA *10* KGF/CM2 (*10* BAR), DIAMETRO NOMINAL DE 100 MM, CONEXAO DE 1/2\"                                                                                                                                                                                                                                                                                                                                                                                           ","UN    ","234,50",null,null,"C "]
[{"$f":"CONCATENAR","v":"SINAPI-I 38544"},"SINAPI-I",38544,"MANTA DE POLIETILENO EXPANDIDO (PEBD) ANTICHAMAS, E = 8 MM                                                                                                                                                                                                                                                                                                                                                                                                                                                ","M2    ","11,78",null,null,"CR"]
[{"$f":"CONCATENAR","v":"SINAPI-I 44508"},"SINAPI-I",44508,"MANTA TERMOPLASTICA, PEAD, GEOMEMBRANA LISA, E = 1,50 MM (NBR 15352)                                                                                                                                                                                                                                                                                                                                                                                                                                      ","M2    ","36,67",null,null,"CR"]
[{"$f":"CONCATENAR","v":"SINAPI-I 44517"},"SINAPI-I",44517,"MANTA TERMOPLASTICA, PEAD, GEOMEMBRANA TEXTURIZADA EM AMBAS AS FACES, E = 2,50 MM ( NBR 15352)                                                                                                                                                                                                                                                                                                                                                                                                            ","M2    ","66,74",null,null,"CR"]
[{"$f":"CONCATENAR","v":"SINAPI-I 14534"},"SINAPI-I",14534,"MAQUINA MANUAL TIPO PRENSA PARA PRODUCAO DE BLOCOS E PAVIMENTOS DE CONCRETO, COM MOTOR ELETRICO TRIFASICO PARA VIBRACAO, POTENCIA TOTAL INSTALADA DE 1,5 KW                                                                                                                                                                                                                                                                                                                                               ","UN    ","28.136,25",null,null,"AS"]
[{"$f":"CONCATENAR","v":"SINAPI-I 14619"},"SINAPI-I",14619,"MAQUINA PARA CORTE COM DISCO ABRASIVO DE DIAMETRO DE 18\" (450 MM), COM MOTOR ELETRICO TRIFASICO DE 10 CV                                                                                                                                                                                                                                                                                                                                                                                                  ","UN    ","17.091,04",null,null,"CR"]
[{"$f":"CONCATENAR","v":"SINAPI-I 40703"},"SINAPI-I",40703,"MARTELO DEMOLIDOR ELETRICO, COM POTENCIA DE 2.000 W, FREQUENCIA DE 1.000 IMPACTOS POR MINUTO, FORCA DE IMPACTO ENTRE 60 E 65 J, PESO DE 30 KG                                                                                                                                                                                                                                                                                                                                                             ","UN    ","12.662,00",null,null,"C "]
[{"$f":"CONCATENAR","v":"SINAPI-I 43626"},"SINAPI-I",43626,"MASSA CORRIDA PARA SUPERFICIES DE AMBIENTES INTERNOS                                                                                                                                                                                                                                                                                                                                                                                                                                                      ","KG    ","4,21",null,null,"C "]
[{"$f":"CONCATENAR","v":"SINAPI-I 34546"},"SINAPI-I",34546,"MASSA PREMIUM PARA TEXTURA RUSTICA DE BASE ACRILICA, COR BRANCA, USO INTERNO E EXTERNO                                                                                                                                                                                                                                                                                                                                                                                                                    ","KG    ","8,37",null,null,"CR"]
[{"$f":"CONCATENAR","v":"SINAPI-I 40974"},"SINAPI-I",40974,"MECANICO DE EQUIPAMENTOS PESADOS (MENSALISTA)                                                                                                                                                                                                                                                                                                                                                                                                                                                             ","MES   ","6.649,41",null,null,"CR"]
[{"$f":"CONCATENAR","v":"SINAPI-I 38588"},"SINAPI-I",38588,"MEIO BLOCO DE CONCRETO ESTRUTURAL 14 X 19 X 14 CM, FBK 4,5 MPA (NBR 6136)                                                                                                                                                                                                                                                                                                                                                                                                                                 ","UN    ","2,62",null,null,"CR"]
[{"$f":"CONCATENAR","v":"SINAPI-I 34764"},"SINAPI-I",34764,"MEIO BLOCO DE VEDACAO DE CONCRETO 9 X 19 X 19 CM (CLASSE C - NBR 6136)                                                                                                                                                                                                                                                                                                                                                                                                                                    ","UN    ","2,02",null,null,"CR"]
[{"$f":"CONCATENAR","v":"SINAPI-I 4062"},"SINAPI-I",4062,"MEIO-FIO OU GUIA DE CONCRETO, PRE-MOLDADO, COMP 1 M, *30 X 15* CM (H X L)                                                                                                                                                                                                                                                                                                                                                                                                                                 ","UN    ","36,36",null,null,"CR"]
[{"$f":"CONCATENAR","v":"SINAPI-I 4061"},"SINAPI-I",4061,"MEIO-FIO OU GUIA DE CONCRETO, PRE-MOLDADO, COMP 80 CM, *45 X 12/18* CM (H X L1/L2)                                                                                                                                                                                                                                                                                                                                                                                                                        ","UN    ","45,27",null,null,"CR"]
[{"$f":"CONCATENAR","v":"SINAPI-I 44478"},"SINAPI-I",44478,"MICROESFERAS DE VIDRO PARA SINALIZACAO HORIZONTAL VIARIA, TIPO I-B (PREMIX) - NBR  16184                                                                                                                                                                                                                                                                                                                                                                                                                  ","KG    ","8,33",null,null,"CR"]
[{"$f":"CONCATENAR","v":"SINAPI-I 41421"},"SINAPI-I",41421,"MINICAPTOR, EM ACO GALVANIZADO A FOGO, FIXACAO HORIZONTAL COM BANDEIRA A 20 CM, H=300 MM E X DN=10 MM                                                                                                                                                                                                                                                                                                                                                                                                     ","UN    ","11,04",null,null,"AS"]
[{"$f":"CONCATENAR","v":"SINAPI-I 37520"},"SINAPI-I",37520,"MINIESCAVADEIRA SOBRE ESTEIRAS, POTENCIA LIQUIDA DE *30* HP, PESO OPERACIONAL DE *3.500* KG                                                                                                                                                                                                                                                                                                                                                                                                               ","UN    ","462.988,01",null,null,"AS"]
[{"$f":"CONCATENAR","v":"SINAPI-I 36800"},"SINAPI-I",36800,"MISTURADOR METALICO, BASE PARA CHUVEIRO/BANHEIRA, 1/2\" OU 3/4 \", SOLDAVEL OU ROSCAVEL (NAO INCLUI ACABAMENTOS)                                                                                                                                                                                                                                                                                                                                                                                            ","UN    ","373,19",null,null,"CR"]
[{"$f":"CONCATENAR","v":"SINAPI-I 44497"},"SINAPI-I",44497,"MONTADOR DE ESTRUTURAS METALICAS HORISTA                                                                                                                                                                                                                                                                                                                                                                                                                                                                  ","H     ","23,27",null,null,"CR"]
[{"$f":"CONCATENAR","v":"SINAPI-I 13227"},"SINAPI-I",13227,"MOTONIVELADORA POTENCIA BASICA LIQUIDA (PRIMEIRA MARCHA) 171 HP, PESO BRUTO 14768 KG, LARGURA DA LAMINA DE 3,7 M                                                                                                                                                                                                                                                                                                                                                                                          ","UN    ","1.397.952,78",null,null,"AS"]
[{"$f":"CONCATENAR","v":"SINAPI-I 20020"},"SINAPI-I",20020,"MOTORISTA DE CAMINHAO-BASCULANTE (HORISTA)                                                                                                                                                                                                                                                                                                                                                                                                                                                                ","H     ","20,10",null,null,"CR"]
[{"$f":"CONCATENAR","v":"SINAPI-I 4114"},"SINAPI-I",4114,"MOURAO CONCRETO CURVO, SECAO \"T\", H = 2,80 M + CURVA COM 0,45 M, COM FUROS PARA FIOS                                                                                                                                                                                                                                                                                                                                                                                                                      ","UN    ","83,34",null,null,"CR"]
[{"$f":"CONCATENAR","v":"SINAPI-I 4102"},"SINAPI-I",4102,"MOURAO DE CONCRETO RETO, SECAO QUADRADA, *10 X 10* CM, H= 3,00 M                                                                                                                                                                                                                                                                                                                                                                                                                                          ","UN    ","85,40",null,null,"C "]
[{"$f":"CONCATENAR","v":"SINAPI-I 359"},"SINAPI-I",359,"MUDA DE ARVORE ORNAMENTAL, OITI/AROEIRA SALSA/ANGICO/IPE/JACARANDA OU EQUIVALENTE DA REGIAO, H= *2* M                                                                                                                                                                                                                                                                                                                                                                                                     ","UN    ","101,77",null,null,"CR"]
[{"$f":"CONCATENAR","v":"SINAPI-I 4181"},"SINAPI-I",4181,"NIPLE DE FERRO GALVANIZADO, COM ROSCA BSP, DE 2\"                                                                                                                                                                                                                                                                                                                                                                                                                                                          ","UN    ","32,42",null,null,"CR"]
[{"$f":"CONCATENAR","v":"SINAPI-I 4207"},"SINAPI-I",4207,"NIPLE DE REDUCAO DE FERRO GALVANIZADO, COM ROSCA BSP, DE 1 1/4\" X 1/2\"                                                                                                                                                                                                                                                                                                                                                                                                                                    ","UN    ","22,15",null,null,"CR"]
[{"$f":"CONCATENAR","v":"SINAPI-I 4194"},"SINAPI-I",4194,"NIPLE DE REDUCAO DE FERRO GALVANIZADO, COM ROSCA BSP, DE 2\" X 1 1/2\"                                                                                                                                                                                                                                                                                                                                                                                                                                      ","UN    ","41,54",null,null,"CR"]
[{"$f":"CONCATENAR","v":"SINAPI-I 40359"},"SINAPI-I",40359,"NIPLE SEXTAVADO EM ACO CARBONO, COM ROSCA BSP, PRESSAO 3.000 LBS, DN 3/4\"                                                                                                                                                                                                                                                                                                                                                                                                                                 ","UN    ","36,75",null,null,"CR"]
[{"$f":"CONCATENAR","v":"SINAPI-I 38176"},"SINAPI-I",38176,"NUMERO / ALGARISMO PARA RESIDENCIA (FACHADA), EM ZAMAC, COM ALTURA DE APROX 125 MM, INCLUSIVE PARAFUSOS                                                                                                                                                                                                                                                                                                                                                                                                   ","UN    ","14,62",null,null,"CR"]
[{"$f":"CONCATENAR","v":"SINAPI-I 36152"},"SINAPI-I",36152,"OCULOS DE SEGURANCA CONTRA IMPACTOS COM LENTE INCOLOR, ARMACAO NYLON, COM PROTECAO UVA E UVB                                                                                                                                                                                                                                                                                                                                                                                                              ","UN    ","6,69",null,null,"CR"]
[{"$f":"CONCATENAR","v":"SINAPI-I 4250"},"SINAPI-I",4250,"OPERADOR DE COMPRESSOR DE AR OU COMPRESSORISTA (HORISTA)                                                                                                                                                                                                                                                                                                                                                                                                                                                  ","H     ","19,00",null,null,"CR"]
[{"$f":"CONCATENAR","v":"SINAPI-I 41036"},"SINAPI-I",41036,"OPERADOR DE GUINDASTE (MENSALISTA)                                                                                                                                                                                                                                                                                                                                                                                                                                                                        ","MES   ","7.128,99",null,null,"CR"]
[{"$f":"CONCATENAR","v":"SINAPI-I 41026"},"SINAPI-I",41026,"OPERADOR DE MOTO SCRAPER (MENSALISTA)                                                                                                                                                                                                                                                                                                                                                                                                                                                                     ","MES   ","7.293,07",null,null,"CR"]
[{"$f":"CONCATENAR","v":"SINAPI-I 2"},"SINAPI-I",2,"OXIGENIO, RECARGA PARA CILINDRO DE CONJUNTO OXICORTE GRANDE                                                                                                                                                                                                                                                                                                                                                                                                                                               ","M3    ","20,27",null,null,"CR"]
[{"$f":"CONCATENAR","v":"SINAPI-I 39744"},"SINAPI-I",39744,"PAINEL DE LA DE VIDRO SEM REVESTIMENTO PSI 40, E = 25 MM, DE 1200 X 600 MM                                                                                                                                                                                                                                                                                                                                                                                                                                ","M2    ","61,98",null,null,"CR"]
[{"$f":"CONCATENAR","v":"SINAPI-I 37400"},"SINAPI-I",37400,"PAPELEIRA PLASTICA TIPO DISPENSER PARA PAPEL HIGIENICO ROLAO                                                                                                                                                                                                                                                                                                                                                                                                                                              ","UN    ","44,74",null,null,"CR"]
[{"$f":"CONCATENAR","v":"SINAPI-I 13246"},"SINAPI-I",13246,"PARAFUSO DE ACO ZINCADO, SEXTAVADO, COM ROSCA INTEIRA, DIAMETRO 5/16\", COMPRIMENTO 3/4\", COM PORCA E ARRUELA LISA LEVE                                                                                                                                                                                                                                                                                                                                                                                    ","UN    ","0,47",null,null,"AS"]
[{"$f":"CONCATENAR","v":"SINAPI-I 4358"},"SINAPI-I",4358,"PARAFUSO DE LATAO COM ROSCA SOBERBA, CABECA CHATA E FENDA SIMPLES, DIAMETRO 4,8 MM, COMPRIMENTO 65 MM                                                                                                                                                                                                                                                                                                                                                                                                     ","UN    ","2,15",null,null,"AS"]
[{"$f":"CONCATENAR","v":"SINAPI-I 39437"},"SINAPI-I",39437,"PARAFUSO DRY WALL, EM ACO FOSFATIZADO, CABECA TROMBETA E PONTA AGULHA (TA), COMPRIMENTO 45 MM                                                                                                                                                                                                                                                                                                                                                                                                             ","UN    ","0,24",null,null,"AS"]
[{"$f":"CONCATENAR","v":"SINAPI-I 436"},"SINAPI-I",436,"PARAFUSO FRANCES M16 EM ACO GALVANIZADO, COMPRIMENTO = 150 MM, DIAMETRO = 16 MM, CABECA ABAULADA                                                                                                                                                                                                                                                                                                                                                                                                          ","UN    ","12,13",null,null,"AS"]
[{"$f":"CONCATENAR","v":"SINAPI-I 432"},"SINAPI-I",432,"PARAFUSO M16 EM ACO GALVANIZADO, COMPRIMENTO = 250 MM, DIAMETRO = 16 MM, ROSCA MAQUINA, CABECA QUADRADA                                                                                                                                                                                                                                                                                                                                                                                                   ","UN    ","15,91",null,null,"AS"]
[{"$f":"CONCATENAR","v":"SINAPI-I 11054"},"SINAPI-I",11054,"PARAFUSO ROSCA SOBERBA ZINCADO CABECA CHATA FENDA SIMPLES 3,2 X 20 MM (3/4 \")                                                                                                                                                                                                                                                                                                                                                                                                                             ","UN    ","0,05",null,null,"CR"]
[{"$f":"CONCATENAR","v":"SINAPI-I 4299"},"SINAPI-I",4299,"PARAFUSO ZINCADO ROSCA SOBERBA, CABECA SEXTAVADA, 5/16\" X 110 MM, PARA FIXACAO DE TELHA EM MADEIRA                                                                                                                                                                                                                                                                                                                                                                                                        ","UN    ","1,41",null,null,"C "]
[{"$f":"CONCATENAR","v":"SINAPI-I 4332"},"SINAPI-I",4332,"PARAFUSO ZINCADO, SEXTAVADO, COM ROSCA INTEIRA, DIAMETRO 3/8\", COMPRIMENTO 2\"                                                                                                                                                                                                                                                                                                                                                                                                                             ","UN    ","1,15",null,null,"AS"]
[{"$f":"CONCATENAR","v":"SINAPI-I 4385"},"SINAPI-I",4385,"PARALELEPIPEDO GRANITICO OU BASALTICO, PARA PAVIMENTACAO, SEM FRETE (VARIACAO REGIONAL DE PECAS POR M2)                                                                                                                                                                                                                                                                                                                                                                                                   ","MIL   ","2.334,46",null,null,"CR"]
[{"$f":"CONCATENAR","v":"SINAPI-I 20078"},"SINAPI-I",20078,"PASTA LUBRIFICANTE PARA TUBOS E CONEXOES COM JUNTA ELASTICA, EMBALAGEM DE *400* GR (USO EM PVC, ACO, POLIETILENO E OUTROS)                                                                                                                                                                                                                                                                                                                                                                                ","UN    ","29,69",null,null,"CR"]
[{"$f":"CONCATENAR","v":"SINAPI-I 39604"},"SINAPI-I",39604,"PATCH CORD (CABO DE REDE), CATEGORIA 5 E (CAT 5E) UTP, 24 AWG, 4 PARES, EXTENSAO DE 1,50 M                                                                                                                                                                                                                                                                                                                                                                                                                ","UN    ","14,62",null,null,"CR"]
[{"$f":"CONCATENAR","v":"SINAPI-I 4730"},"SINAPI-I",4730,"PEDRA DE MAO OU PEDRA RACHAO PARA ARRIMO/FUNDACAO (POSTO PEDREIRA/FORNECEDOR, SEM FRETE)                                                                                                                                                                                                                                                                                                                                                                                                                  ","M3    ","80,06",null,null,"CR"]
[{"$f":"CONCATENAR","v":"SINAPI-I 4708"},"SINAPI-I",4708,"PEDRA PORTUGUESA OU PETIT PAVE, BRANCA OU PRETA                                                                                                                                                                                                                                                                                                                                                                                                                                                           ","M2    ","163,17",null,null,"AS"]
[{"$f":"CONCATENAR","v":"SINAPI-I 34744"},"SINAPI-I",34744,"PELICULA REFLETIVA, GT 7 ANOS PARA SINALIZACAO VERTICAL                                                                                                                                                                                                                                                                                                                                                                                                                                                   ","M2    ","37,20",null,null,"AS"]
[{"$f":"CONCATENAR","v":"SINAPI-I 43665"},"SINAPI-I",43665,"PERFIL \"U\" SIMPLES, EM CHAPA DOBRADA DE ACO LAMINADO, E = 4,75 MM, H = 100 MM, L = 75 MM (8,74 KG/M)                                                                                                                                                                                                                                                                                                                                                                                                      ","KG    ","12,32",null,null,"CR"]
[{"$f":"CONCATENAR","v":"SINAPI-I 3678"},"SINAPI-I",3678,"PERFIL ELASTOMERICO PRE-FORMADO EM EPMD, PARA JUNTA DE DILATACAO DE USO GERAL EM MEDIAS SOLICITACOES, 8 MM DE LARGURA, MOVIMENTACAO DE *5 A 11* MM                                                                                                                                                                                                                                                                                                                                                        ","M     ","89,24",null,null,"AS"]
[{"$f":"CONCATENAR","v":"SINAPI-I 39571"},"SINAPI-I",39571,"PERFIL LONGARINA (PRINCIPAL), T CLICADO, EM ACO, BRANCO NAS FACES APARENTES, PARA FORRO REMOVIVEL, 24 X 32 X 3750 MM (L X H X C                                                                                                                                                                                                                                                                                                                                                                           ","M     ","5,58",null,null,"CR"]
[{"$f":"CONCATENAR","v":"SINAPI-I 39429"},"SINAPI-I",39429,"PERFIL TABICA ABERTA, PERFURADA, FORMATO Z, EM ACO GALVANIZADO NATURAL, LARGURA APROXIMADA 40 MM, PARA ESTRUTURA FORRO DRYWALL                                                                                                                                                                                                                                                                                                                                                                            ","M     ","7,82",null,null,"CR"]
[{"$f":"CONCATENAR","v":"SINAPI-I 38542"},"SINAPI-I",38542,"PERFURATRIZ COM TORRE METALICA PARA EXECUCAO DE ESTACA HELICE CONTINUA, PROFUNDIDADE MAXIMA DE 32 M, DIAMETRO MAXIMO DE 1000 MM, POTENCIA INSTALADA DE 350 HP, MESA ROTATIVA COM TORQUE MAXIMO DE 263 KNM                                                                                                                                                                                                                                                                                                 ","UN    ","6.181.578,90",null,null,"AS"]
[{"$f":"CONCATENAR","v":"SINAPI-I 35274"},"SINAPI-I",35274,"PILAR QUADRADO NAO APARELHADO *10 X 10* CM, EM MACARANDUBA/MASSARANDUBA, ANGELIM OU EQUIVALENTE DA REGIAO - BRUTA                                                                                                                                                                                                                                                                                                                                                                                         ","M     ","30,26",null,null,"CR"]
[{"$f":"CONCATENAR","v":"SINAPI-I 37397"},"SINAPI-I",37397,"PINO DE ACO LISO 1/4 \", HASTE = *53* MM (ACAO DIRETA)                                                                                                                                                                                                                                                                                                                                                                                                                                                     ","CENTO ","37,49",null,null,"AS"]
[{"$f":"CONCATENAR","v":"SINAPI-I 41079"},"SINAPI-I",41079,"PINTOR (MENSALISTA)                                                                                                                                                                                                                                                                                                                                                                                                                                                                                       ","MES   ","3.255,53",null,null,"CR"]
[{"$f":"CONCATENAR","v":"SINAPI-I 10840"},"SINAPI-I",10840,"PISO EM GRANITO, POLIDO, TIPO AMENDOA/ AMARELO CAPRI/ AMARELO DOURADO CARIOCA OU OUTROS EQUIVALENTES DA REGIAO, FORMATO MENOR OU IGUAL A 3025 CM2, E= *2* CM                                                                                                                                                                                                                                                                                                                                              ","M2    ","440,00",null,null,"C "]
[{"$f":"CONCATENAR","v":"SINAPI-I 40650"},"SINAPI-I",40650,"PISO FULGET (GRANITO LAVADO) EM PLACAS DE *40 X 40* CM, E = 2,0 CM (SEM COLOCACAO)                                                                                                                                                                                                                                                                                                                                                                                                                        ","M2    ","170,64",null,null,"AS"]
[{"$f":"CONCATENAR","v":"SINAPI-I 38186"},"SINAPI-I",38186,"PISO TATIL DE ALERTA OU DIRECIONAL, DE BORRACHA, COLORIDO, 25 X 25 CM, E = 12 MM, PARA ARGAMASSA                                                                                                                                                                                                                                                                                                                                                                                                          ","M2    ","579,20",null,null,"CR"]
[{"$f":"CONCATENAR","v":"SINAPI-I 38185"},"SINAPI-I",38185,"PISO TATIL DE ALERTA OU DIRECIONAL, DE BORRACHA, PRETO, 25 X 25 CM, E = 12 MM, PARA ARGAMASSA                                                                                                                                                                                                                                                                                                                                                                                                             ","M2    ","515,69",null,null,"CR"]
[{"$f":"CONCATENAR","v":"SINAPI-I 39412"},"SINAPI-I",39412,"PLACA / CHAPA DE GESSO ACARTONADO, STANDARD (ST), COR BRANCA, E = 12,5 MM, 1200 X 1800 MM (L X C)                                                                                                                                                                                                                                                                                                                                                                                                         ","M2    ","21,62",null,null,"C "]
[{"$f":"CONCATENAR","v":"SINAPI-I 10851"},"SINAPI-I",10851,"PLACA DE ACRILICO TRANSPARENTE ADESIVADA PARA SINALIZACAO DE PORTAS, BORDA POLIDA, DE *25 X 8*, E = 6 MM (NAO INCLUI ACESSORIOS PARA FIXACAO)                                                                                                                                                                                                                                                                                                                                                             ","UN    ","66,84",null,null,"CR"]
[{"$f":"CONCATENAR","v":"SINAPI-I 37557"},"SINAPI-I",37557,"PLACA DE SINALIZACAO DE SEGURANCA CONTRA INCENDIO, FOTOLUMINESCENTE, QUADRADA, *14 X 14* CM, EM PVC *2* MM ANTI-CHAMAS (SIMBOLOS, CORES E PICTOGRAMAS CONFORME NBR 16820)                                                                                                                                                                                                                                                                                                                                 ","UN    ","8,72",null,null,"CR"]
[{"$f":"CONCATENAR","v":"SINAPI-I 10850"},"SINAPI-I",10850,"PLACA NUMERACAO RESIDENCIAL EM CHAPA GALVANIZADA ESMALTADA 12 X 18 CM                                                                                                                                                                                                                                                                                                                                                                                                                                     ","UN    ","60,00",null,null,"AS"]
[{"$f":"CONCATENAR","v":"SINAPI-I 4890"},"SINAPI-I",4890,"PLUG OU BUJAO DE FERRO GALVANIZADO, DE 1\"                                                                                                                                                                                                                                                                                                                                                                                                                                                                 ","UN    ","7,14",null,null,"CR"]
[{"$f":"CONCATENAR","v":"SINAPI-I 4892"},"SINAPI-I",4892,"PLUG OU BUJAO DE FERRO GALVANIZADO, DE 3\"                                                                                                                                                                                                                                                                                                                                                                                                                                                                 ","UN    ","53,85",null,null,"CR"]
[{"$f":"CONCATENAR","v":"SINAPI-I 2745"},"SINAPI-I",2745,"PONTALETE ROLICO SEM TRATAMENTO, D = 8 A 11 CM, H = 3 M, EM EUCALIPTO OU EQUIVALENTE DA REGIAO - BRUTA (PARA ESCORAMENTO)                                                                                                                                                                                                                                                                                                                                                                                 ","M     ","5,58",null,null,"CR"]
[{"$f":"CONCATENAR","v":"SINAPI-I 14439"},"SINAPI-I",14439,"PONTALETE ROLICO SEM TRATAMENTO, D = 8 A 11 CM, H = 6 M, EM EUCALIPTO OU EQUIVALENTE DA REGIAO - BRUTA (PARA ESCORAMENTO)                                                                                                                                                                                                                                                                                                                                                                                 ","M     ","6,93",null,null,"CR"]
[{"$f":"CONCATENAR","v":"SINAPI-I 11971"},"SINAPI-I",11971,"PORCA ZINCADA, SEXTAVADA, DIAMETRO 1\"                                                                                                                                                                                                                                                                                                                                                                                                                                                                     ","UN    ","4,48",null,null,"AS"]
[{"$f":"CONCATENAR","v":"SINAPI-I 4981"},"SINAPI-I",4981,"PORTA DE ABRIR / GIRO, DE MADEIRA FOLHA MEDIA (NBR 15930) DE 700 X 2100 MM, DE 35 MM A 40 MM DE ESPESSURA, NUCLEO SEMI-SOLIDO (SARRAFEADO), CAPA LISA EM HDF, ACABAMENTO EM LAMINADO NATURAL PARA VERNIZ                                                                                                                                                                                                                                                                                                  ","UN    ","304,99",null,null,"C "]
[{"$f":"CONCATENAR","v":"SINAPI-I 4914"},"SINAPI-I",4914,"PORTA DE ABRIR EM ALUMINIO COM LAMBRI HORIZONTAL/LAMINADA, ACABAMENTO ANODIZADO NATURAL, SEM GUARNICAO/ALIZAR/VISTA                                                                                                                                                                                                                                                                                                                                                                                       ","M2    ","717,15",null,null,"CR"]
[{"$f":"CONCATENAR","v":"SINAPI-I 37518"},"SINAPI-I",37518,"PORTA DE ENROLAR MANUAL COMPLETA, PERFIL MEIA CANA CEGA, EM ACO GALVANIZADO COM PINTURA ELETROSTATICA, CHAPA NUMERO 24\" (SEM INSTALACAO)                                                                                                                                                                                                                                                                                                                                                                  ","M2    ","588,31",null,null,"CR"]
[{"$f":"CONCATENAR","v":"SINAPI-I 10554"},"SINAPI-I",10554,"PORTA DE MADEIRA, FOLHA MEDIA (NBR 15930) DE 700 X 2100 MM, DE 35 MM A 40 MM DE ESPESSURA, NUCLEO SEMI-SOLIDO (SARRAFEADO), CAPA LISA EM HDF, ACABAMENTO EM PRIMER PARA PINTURA                                                                                                                                                                                                                                                                                                                           ","UN    ","288,71",null,null,"CR"]
[{"$f":"CONCATENAR","v":"SINAPI-I 21102"},"SINAPI-I",21102,"PORTA TOALHA BANHO EM METAL CROMADO, TIPO BARRA                                                                                                                                                                                                                                                                                                                                                                                                                                                           ","UN    ","96,16",null,null,"CR"]
[{"$f":"CONCATENAR","v":"SINAPI-I 5051"},"SINAPI-I",5051,"POSTE CONICO CONTINUO EM ACO GALVANIZADO, CURVO, BRACO SIMPLES, ENGASTADO, H = 9 M, DIAMETRO INFERIOR = *135* MM                                                                                                                                                                                                                                                                                                                                                                                          ","UN    ","2.315,26",null,null,"CR"]
[{"$f":"CONCATENAR","v":"SINAPI-I 5052"},"SINAPI-I",5052,"POSTE CONICO CONTINUO EM ACO GALVANIZADO, CURVO, BRACO SIMPLES, FLANGEADO, H = 7 M, DIAMETRO INFERIOR = *125* MM                                                                                                                                                                                                                                                                                                                                                                                          ","UN    ","1.725,00",null,null,"C "]
[{"$f":"CONCATENAR","v":"SINAPI-I 41185"},"SINAPI-I",41185,"POSTE DE CONCRETO ARMADO DE SECAO CIRCULAR, EXTENSAO DE 14,00 M, RESISTENCIA DE 1000 DAN, TIPO C-23                                                                                                                                                                                                                                                                                                                                                                                                       ","UN    ","5.851,07",null,null,"CR"]
[{"$f":"CONCATENAR","v":"SINAPI-I 41190"},"SINAPI-I",41190,"POSTE DE CONCRETO ARMADO DE SECAO CIRCULAR, EXTENSAO DE 15,00 M, RESISTENCIA DE 1000 DAN, TIPO C-23                                                                                                                                                                                                                                                                                                                                                                                                       ","UN    ","6.286,90",null,null,"CR"]
[{"$f":"CONCATENAR","v":"SINAPI-I 5057"},"SINAPI-I",5057,"POSTE DE CONCRETO ARMADO DE SECAO DUPLO T, EXTENSAO DE 10,00 M, RESISTENCIA DE 300 A 400 DAN, TIPO B OU D                                                                                                                                                                                                                                                                                                                                                                                                 ","UN    ","1.113,25",null,null,"CR"]
[{"$f":"CONCATENAR","v":"SINAPI-I 41210"},"SINAPI-I",41210,"POSTE DE CONCRETO ARMADO DE SECAO DUPLO T, EXTENSAO DE 12,00 M, RESISTENCIA DE 1000 DAN, TIPO B-1,5                                                                                                                                                                                                                                                                                                                                                                                                       ","UN    ","3.273,89",null,null,"CR"]
[{"$f":"CONCATENAR","v":"SINAPI-I 41214"},"SINAPI-I",41214,"POSTE DE CONCRETO ARMADO DE SECAO DUPLO T, EXTENSAO DE 13,00 M, RESISTENCIA DE 300 DAN, TIPO B                                                                                                                                                                                                                                                                                                                                                                                                            ","UN    ","1.814,71",null,null,"CR"]
[{"$f":"CONCATENAR","v":"SINAPI-I 41195"},"SINAPI-I",41195,"POSTE DE CONCRETO ARMADO DE SECAO DUPLO T, EXTENSAO DE 8,00 M, RESISTENCIA DE 150 DAN, TIPO D                                                                                                                                                                                                                                                                                                                                                                                                             ","UN    ","581,88",null,null,"CR"]
[{"$f":"CONCATENAR","v":"SINAPI-I 4470"},"SINAPI-I",4470,"PRANCHA NAO APARELHADA *6 X 40* CM, EM MACARANDUBA/MASSARANDUBA, ANGELIM OU EQUIVALENTE DA REGIAO - BRUTA                                                                                                                                                                                                                                                                                                                                                                                                 ","M     ","72,88",null,null,"CR"]
[{"$f":"CONCATENAR","v":"SINAPI-I 20204"},"SINAPI-I",20204,"PRANCHAO APARELHADO *7,5 X 23* CM, EM MACARANDUBA/MASSARANDUBA, ANGELIM OU EQUIVALENTE DA REGIAO                                                                                                                                                                                                                                                                                                                                                                                                          ","M     ","48,58",null,null,"CR"]
[{"$f":"CONCATENAR","v":"SINAPI-I 20247"},"SINAPI-I",20247,"PREGO DE ACO POLIDO COM CABECA 15 X 15 (1 1/4 X 13)                                                                                                                                                                                                                                                                                                                                                                                                                                                       ","KG    ","16,15",null,null,"CR"]
[{"$f":"CONCATENAR","v":"SINAPI-I 5061"},"SINAPI-I",5061,"PREGO DE ACO POLIDO COM CABECA 18 X 27 (2 1/2 X 10)                                                                                                                                                                                                                                                                                                                                                                                                                                                       ","KG    ","14,34",null,null,"C "]
[{"$f":"CONCATENAR","v":"SINAPI-I 39828"},"SINAPI-I",39828,"PROJETOR PNEUMATICO DE ARGAMASSA PARA CHAPISCO E REBOCO COM RECIPIENTE ACOPLADO, TIPO CANEQUINHA, COM VOLUME DE 1,50 L, SEM COMPRESSOR                                                                                                                                                                                                                                                                                                                                                                    ","UN    ","622,28",null,null,"CR"]
[{"$f":"CONCATENAR","v":"SINAPI-I 36146"},"SINAPI-I",36146,"PROTETOR SOLAR FPS 30, EMBALAGEM 2 LITROS                                                                                                                                                                                                                                                                                                                                                                                                                                                                 ","UN    ","291,89",null,null,"CR"]
[{"$f":"CONCATENAR","v":"SINAPI-I 43600"},"SINAPI-I",43600,"PUXADOR TIPO ALCA, EM ZAMAC CROMADO, COM COMPRIMENTO DE APROX 150 MM, COM ROSETA PARA PORTAS DE MADEIRAS, INCLUINDO PARAFUSOS                                                                                                                                                                                                                                                                                                                                                                             ","UN    ","55,66",null,null,"CR"]
[{"$f":"CONCATENAR","v":"SINAPI-I 12043"},"SINAPI-I",12043,"QUADRO DE DISTRIBUICAO COM BARRAMENTO TRIFASICO, DE EMBUTIR, EM CHAPA DE ACO GALVANIZADO, PARA 30 DISJUNTORES DIN, 225 A                                                                                                                                                                                                                                                                                                                                                                                  ","UN    ","1.339,52",null,null,"CR"]
[{"$f":"CONCATENAR","v":"SINAPI-I 39759"},"SINAPI-I",39759,"QUADRO DE DISTRIBUICAO COM BARRAMENTO TRIFASICO, DE SOBREPOR, EM CHAPA DE ACO GALVANIZADO, PARA 36 DISJUNTORES DIN, 100 A                                                                                                                                                                                                                                                                                                                                                                                 ","UN    ","810,89",null,null,"CR"]
[{"$f":"CONCATENAR","v":"SINAPI-I 39806"},"SINAPI-I",39806,"QUADRO DE DISTRIBUICAO, EM PVC, DE EMBUTIR, COM BARRAMENTO TERRA / NEUTRO, PARA 18 DISJUNTORES NEMA OU 24 DISJUNTORES DIN                                                                                                                                                                                                                                                                                                                                                                                 ","UN    ","259,22",null,null,"CR"]
[{"$f":"CONCATENAR","v":"SINAPI-I 39795"},"SINAPI-I",39795,"QUADRO DE DISTRIBUICAO, SEM BARRAMENTO, EM PVC, DE EMBUTIR, PARA 6 DISJUNTORES NEMA OU 8 DISJUNTORES DIN                                                                                                                                                                                                                                                                                                                                                                                                  ","UN    ","57,06",null,null,"CR"]
[{"$f":"CONCATENAR","v":"SINAPI-I 11234"},"SINAPI-I",11234,"RALO FOFO COM REQUADRO, QUADRADO 200 X 200 MM                                                                                                                                                                                                                                                                                                                                                                                                                                                             ","UN    ","93,51",null,null,"AS"]
[{"$f":"CONCATENAR","v":"SINAPI-I 11711"},"SINAPI-I",11711,"RALO SECO CONICO, PVC, 100 X 40 MM, COM GRELHA QUADRADA BRANCA                                                                                                                                                                                                                                                                                                                                                                                                                                            ","UN    ","10,03",null,null,"CR"]
[{"$f":"CONCATENAR","v":"SINAPI-I 20043"},"SINAPI-I",20043,"REDUCAO EXCENTRICA PVC, DN 100 X 50 MM, PARA ESGOTO PREDIAL                                                                                                                                                                                                                                                                                                                                                                                                                                               ","UN    ","9,48",null,null,"CR"]
[{"$f":"CONCATENAR","v":"SINAPI-I 11321"},"SINAPI-I",11321,"REDUCAO PVC PBA, JE, PB, DN 100 X 50 / DE 110 X 60 MM, PARA REDE DE AGUA                                                                                                                                                                                                                                                                                                                                                                                                                                  ","UN    ","22,37",null,null,"AS"]
[{"$f":"CONCATENAR","v":"SINAPI-I 11671"},"SINAPI-I",11671,"REGISTRO DE ESFERA, PVC, COM VOLANTE, VS, ROSCAVEL, DN 2\", COM CORPO DIVIDIDO                                                                                                                                                                                                                                                                                                                                                                                                                             ","UN    ","121,94",null,null,"CR"]
[{"$f":"CONCATENAR","v":"SINAPI-I 11718"},"SINAPI-I",11718,"REGISTRO DE PRESSAO PVC, ROSCAVEL, VOLANTE SIMPLES, DE 3/4\"                                                                                                                                                                                                                                                                                                                                                                                                                                               ","UN    ","25,66",null,null,"CR"]
[{"$f":"CONCATENAR","v":"SINAPI-I 6037"},"SINAPI-I",6037,"REGISTRO DE PRESSAO PVC, SOLDAVEL, VOLANTE SIMPLES, DE 20 MM                                                                                                                                                                                                                                                                                                                                                                                                                                              ","UN    ","18,72",null,null,"CR"]
[{"$f":"CONCATENAR","v":"SINAPI-I 6012"},"SINAPI-I",6012,"REGISTRO GAVETA BRUTO EM LATAO FORJADO, BITOLA 3\" (REF 1509)                                                                                                                                                                                                                                                                                                                                                                                                                                              ","UN    ","395,99",null,null,"CR"]
[{"$f":"CONCATENAR","v":"SINAPI-I 10640"},"SINAPI-I",10640,"REGUA VIBRATORIA DE CONCRETO TRELICADA, EQUIPADA COM MOTOR A GASOLINA DE 9 HP                                                                                                                                                                                                                                                                                                                                                                                                                             ","UN    ","14.005,53",null,null,"AS"]
[{"$f":"CONCATENAR","v":"SINAPI-I 12359"},"SINAPI-I",12359,"RELE TERMICO BIMETAL PARA USO EM MOTORES TRIFASICOS, TENSAO 380 V, POTENCIA ATE 15 CV, CORRENTE NOMINAL MAXIMA 22 A                                                                                                                                                                                                                                                                                                                                                                                       ","UN    ","211,68",null,null,"CR"]
[{"$f":"CONCATENAR","v":"SINAPI-I 10515"},"SINAPI-I",10515,"REVESTIMENTO EM CERAMICA ESMALTADA, PEI MAIOR OU IGUAL 4, FORMATO MAIOR A 2025 CM2                                                                                                                                                                                                                                                                                                                                                                                                                        ","M2    ","44,10",null,null,"CR"]
[{"$f":"CONCATENAR","v":"SINAPI-I 4803"},"SINAPI-I",4803,"RODAPE DE BORRACHA LISO, H = 70 MM, E = *2* MM, PARA ARGAMASSA, PRETO                                                                                                                                                                                                                                                                                                                                                                                                                                     ","M     ","31,28",null,null,"CR"]
[{"$f":"CONCATENAR","v":"SINAPI-I 11575"},"SINAPI-I",11575,"ROLDANA CONCAVA DUPLA, 4 RODAS, EM ZAMAC COM CHAPA DE LATAO, ROLAMENTOS EM ACO, PARA PORTAS E JANELAS DE CORRER                                                                                                                                                                                                                                                                                                                                                                                           ","UN    ","59,94",null,null,"CR"]
[{"$f":"CONCATENAR","v":"SINAPI-I 14513"},"SINAPI-I",14513,"ROLO COMPACTADOR PE DE CARNEIRO VIBRATORIO, POTENCIA 80 HP, PESO OPERACIONAL SEM/COM LASTRO 7,4/8,8 T, LARGURA DE TRABALHO 1,68 M                                                                                                                                                                                                                                                                                                                                                                         ","UN    ","618.689,10",null,null,"AS"]
[{"$f":"CONCATENAR","v":"SINAPI-I 14626"},"SINAPI-I",14626,"ROLO COMPACTADOR VIBRATORIO TANDEM, ACO LISO, POTENCIA 125 HP, PESO SEM/COM LASTRO 10,20/11,65 T, LARGURA DE TRABALHO 1,73 M                                                                                                                                                                                                                                                                                                                                                                              ","UN    ","890.142,89",null,null,"AS"]
[{"$f":"CONCATENAR","v":"SINAPI-I 1116"},"SINAPI-I",1116,"RUFO EXTERNO DE CHAPA DE ACO GALVANIZADA NUM 26, CORTE 25 CM                                                                                                                                                                                                                                                                                                                                                                                                                                              ","M     ","21,58",null,null,"CR"]
[{"$f":"CONCATENAR","v":"SINAPI-I 37526"},"SINAPI-I",37526,"SACO DE RAFIA PARA ENTULHO, NOVO, LISO (SEM CLICHE), *60 X 90* CM                                                                                                                                                                                                                                                                                                                                                                                                                                         ","UN    ","3,76",null,null,"CR"]
[{"$f":"CONCATENAR","v":"SINAPI-I 4460"},"SINAPI-I",4460,"SARRAFO NAO APARELHADO *2,5 X 10* CM, EM MACARANDUBA/MASSARANDUBA, ANGELIM OU EQUIVALENTE DA REGIAO - BRUTA                                                                                                                                                                                                                                                                                                                                                                                               ","M     ","5,61",null,null,"CR"]
[{"$f":"CONCATENAR","v":"SINAPI-I 4734"},"SINAPI-I",4734,"SEIXO ROLADO PARA APLICACAO EM CONCRETO (POSTO PEDREIRA/FORNECEDOR, SEM FRETE)                                                                                                                                                                                                                                                                                                                                                                                                                            ","M3    ","280,01",null,null,"CR"]
[{"$f":"CONCATENAR","v":"SINAPI-I 39392"},"SINAPI-I",39392,"SENSOR DE PRESENCA BIVOLT DE PAREDE COM FOTOCELULA PARA QUALQUER TIPO DE LAMPADA POTENCIA MAXIMA *1000* W, USO INTERNO                                                                                                                                                                                                                                                                                                                                                                                    ","UN    ","81,70",null,null,"AS"]
[{"$f":"CONCATENAR","v":"SINAPI-I 41084"},"SINAPI-I",41084,"SERVENTE DE OBRAS (MENSALISTA)                                                                                                                                                                                                                                                                                                                                                                                                                                                                            ","MES   ","2.558,15",null,null,"CR"]
[{"$f":"CONCATENAR","v":"SINAPI-I 6149"},"SINAPI-I",6149,"SIFAO PLASTICO TIPO COPO PARA PIA OU LAVATORIO, 1 X 1.1/2\"                                                                                                                                                                                                                                                                                                                                                                                                                                                ","UN    ","12,82",null,null,"CR"]
[{"$f":"CONCATENAR","v":"SINAPI-I 6146"},"SINAPI-I",6146,"SIFAO PLASTICO TIPO COPO PARA TANQUE, 1.1/4 X 1.1/2\"                                                                                                                                                                                                                                                                                                                                                                                                                                                      ","UN    ","18,43",null,null,"CR"]
[{"$f":"CONCATENAR","v":"SINAPI-I 39914"},"SINAPI-I",39914,"SOLDA EM VARETA FOSCOPER, D = *2,5* MM X COMPRIMENTO 500 MM                                                                                                                                                                                                                                                                                                                                                                                                                                               ","KG    ","249,42",null,null,"AS"]
[{"$f":"CONCATENAR","v":"SINAPI-I 12294"},"SINAPI-I",12294,"SOQUETE DE PORCELANA BASE E27, PARA USO AO TEMPO, PARA LAMPADAS                                                                                                                                                                                                                                                                                                                                                                                                                                           ","UN    ","13,24",null,null,"CR"]
[{"$f":"CONCATENAR","v":"SINAPI-I 21042"},"SINAPI-I",21042,"SPRINKLER TIPO PENDENTE, BULBO AMARELO DE RESPOSTA RAPIDA, 79 GRAUS CELSIUS, ACABAMENTO NATURAL OU CROMADO, D = 15 MM (1/2\")                                                                                                                                                                                                                                                                                                                                                                              ","UN    ","33,30",null,null,"AS"]
[{"$f":"CONCATENAR","v":"SINAPI-I 7576"},"SINAPI-I",7576,"SUPORTE EM ACO GALVANIZADO PARA TRANSFORMADOR PARA POSTE DUPLO T 185 X 95 MM, CHAPA DE 5/16\"                                                                                                                                                                                                                                                                                                                                                                                                              ","UN    ","141,30",null,null,"AS"]
[{"$f":"CONCATENAR","v":"SINAPI-I 42436"},"SINAPI-I",42436,"SURF DUPLO, EM TUBO DE ACO CARBONO, PINTURA NO PROCESSO ELETROSTATICO - EQUIPAMENTO DE GINASTICA PARA ACADEMIA AO AR LIVRE / ACADEMIA DA TERCEIRA IDADE - ATI                                                                                                                                                                                                                                                                                                                                             ","UN    ","2.701,34",null,null,"AS"]
[{"$f":"CONCATENAR","v":"SINAPI-I 6182"},"SINAPI-I",6182,"TABUA DE MADEIRA PARA PISO, IPE (CERNE) OU EQUIVALENTE DA REGIAO, ENCAIXE MACHO/FEMEA, *20 X 2* CM                                                                                                                                                                                                                                                                                                                                                                                                        ","M2    ","372,37",null,null,"CR"]
[{"$f":"CONCATENAR","v":"SINAPI-I 10740"},"SINAPI-I",10740,"TALHA ELETRICA 3 T, VELOCIDADE 2,1 M / MIN, POTENCIA 1,3 KW                                                                                                                                                                                                                                                                                                                                                                                                                                               ","UN    ","8.196,33",null,null,"CR"]
[{"$f":"CONCATENAR","v":"SINAPI-I 43427"},"SINAPI-I",43427,"TAMPA DE CONCRETO ARMADO PARA FOSSA SEPTICA, DIAMETRO NOMINAL DE 3,00 M E ESPESSURA MINIMA DE 100 MM                                                                                                                                                                                                                                                                                                                                                                                                      ","UN    ","1.864,15",null,null,"CR"]
[{"$f":"CONCATENAR","v":"SINAPI-I 41620"},"SINAPI-I",41620,"TAMPA DE CONCRETO ARMADO PARA POCO, COM FURO E TAMPINHA, D = *1,10* M, E = 0,05 M                                                                                                                                                                                                                                                                                                                                                                                                                         ","UN    ","185,54",null,null,"CR"]
[{"$f":"CONCATENAR","v":"SINAPI-I 38837"},"SINAPI-I",38837,"TAMPAO / CAP, ROSCA MACHO, DN 1\", PARA TUBO PEX PARA INST. AGUA QUENTE/FRIA                                                                                                                                                                                                                                                                                                                                                                                                                               ","UN    ","16,11",null,null,"CR"]
[{"$f":"CONCATENAR","v":"SINAPI-I 11241"},"SINAPI-I",11241,"TAMPAO FOFO ARTICULADO P/ REGISTRO, COM BASE / REQUADRO, CLASSE A15 CARGA MAXIMA 1,5 T, *400 X 400* MM (COM INSCRICAO EM RELEVO DO TIPO DE REDE)                                                                                                                                                                                                                                                                                                                                                          ","UN    ","251,78",null,null,"AS"]
[{"$f":"CONCATENAR","v":"SINAPI-I 14112"},"SINAPI-I",14112,"TAMPAO FOFO SIMPLES COM BASE / REQUADRO, CLASSE A15 CARGA MAX. 1,5 T, 400 X 600 MM (COM INSCRICAO EM RELEVO DO TIPO DE REDE)                                                                                                                                                                                                                                                                                                                                                                              ","UN    ","326,41",null,null,"AS"]
[{"$f":"CONCATENAR","v":"SINAPI-I 14405"},"SINAPI-I",14405,"TANQUE DE ASFALTO ESTACIONARIO COM SERPENTINA, CAPACIDADE 30.000 L                                                                                                                                                                                                                                                                                                                                                                                                                                        ","UN    ","147.034,86",null,null,"AS"]
[{"$f":"CONCATENAR","v":"SINAPI-I 44073"},"SINAPI-I",44073,"TARUGO DELIMITADOR DE PROFUNDIDADE EM ESPUMA DE POLIETILENO DE BAIXA DENSIDADE 10 MM, CINZA                                                                                                                                                                                                                                                                                                                                                                                                               ","M     ","0,85",null,null,"CR"]
[{"$f":"CONCATENAR","v":"SINAPI-I 38016"},"SINAPI-I",38016,"TE CPVC, SOLDAVEL, 90 GRAUS, 89 MM, PARA AGUA QUENTE PREDIAL                                                                                                                                                                                                                                                                                                                                                                                                                                              ","UN    ","216,75",null,null,"CR"]
[{"$f":"CONCATENAR","v":"SINAPI-I 12741"},"SINAPI-I",12741,"TE DE COBRE (REF 611) SEM ANEL DE SOLDA, BOLSA X BOLSA X BOLSA, 104 MM                                                                                                                                                                                                                                                                                                                                                                                                                                    ","UN    ","1.381,93",null,null,"AS"]
[{"$f":"CONCATENAR","v":"SINAPI-I 6299"},"SINAPI-I",6299,"TE DE FERRO GALVANIZADO, DE 2 1/2\"                                                                                                                                                                                                                                                                                                                                                                                                                                                                        ","UN    ","116,19",null,null,"CR"]
[{"$f":"CONCATENAR","v":"SINAPI-I 6301"},"SINAPI-I",6301,"TE DE FERRO GALVANIZADO, DE 6\"                                                                                                                                                                                                                                                                                                                                                                                                                                                                            ","UN    ","960,64",null,null,"CR"]
[{"$f":"CONCATENAR","v":"SINAPI-I 6304"},"SINAPI-I",6304,"TE DE REDUCAO DE FERRO GALVANIZADO, COM ROSCA BSP, DE 1 1/2\" X 3/4\"                                                                                                                                                                                                                                                                                                                                                                                                                                       ","UN    ","45,39",null,null,"CR"]
[{"$f":"CONCATENAR","v":"SINAPI-I 6306"},"SINAPI-I",6306,"TE DE REDUCAO DE FERRO GALVANIZADO, COM ROSCA BSP, DE 2\" X 1 1/4\"                                                                                                                                                                                                                                                                                                                                                                                                                                         ","UN    ","67,74",null,null,"CR"]
[{"$f":"CONCATENAR","v":"SINAPI-I 6316"},"SINAPI-I",6316,"TE DE REDUCAO DE FERRO GALVANIZADO, COM ROSCA BSP, DE 4\" X 3\"                                                                                                                                                                                                                                                                                                                                                                                                                                             ","UN    ","342,05",null,null,"CR"]
[{"$f":"CONCATENAR","v":"SINAPI-I 39327"},"SINAPI-I",39327,"TE DE REDUCAO, CPVC, 42 X 35 MM, PARA AGUA QUENTE PREDIAL                                                                                                                                                                                                                                                                                                                                                                                                                                                 ","UN    ","41,23",null,null,"CR"]
[{"$f":"CONCATENAR","v":"SINAPI-I 37421"},"SINAPI-I",37421,"TE DE SERVICO INTEGRADO, EM POLIPROPILENO (PP), PARA TUBOS EM PEAD/PVC, 60 X 32 MM - LIGACAO PREDIAL DE AGUA                                                                                                                                                                                                                                                                                                                                                                                              ","UN    ","76,91",null,null,"CR"]
[{"$f":"CONCATENAR","v":"SINAPI-I 37422"},"SINAPI-I",37422,"TE DE SERVICO INTEGRADO, EM POLIPROPILENO (PP), PARA TUBOS EM PEAD, 63 X 20 MM - LIGACAO PREDIAL DE AGUA                                                                                                                                                                                                                                                                                                                                                                                                  ","UN    ","71,99",null,null,"CR"]
[{"$f":"CONCATENAR","v":"SINAPI-I 37442"},"SINAPI-I",37442,"TE DE SERVICO, PEAD PE 100, DE 63 X 63 MM, PARA ELETROFUSAO                                                                                                                                                                                                                                                                                                                                                                                                                                               ","UN    ","166,09",null,null,"CR"]
[{"$f":"CONCATENAR","v":"SINAPI-I 39000"},"SINAPI-I",39000,"TE MISTURADOR COM INSERTO METALICO, FEMEA, PPR, DN 25 MM X 3/4\", PARA AGUA QUENTE E FRIA PREDIAL                                                                                                                                                                                                                                                                                                                                                                                                          ","UN    ","29,82",null,null,"CR"]
[{"$f":"CONCATENAR","v":"SINAPI-I 38459"},"SINAPI-I",38459,"TE NORMAL, PPR, F/F/F, SOLDAVEL, 90 GRAUS, DN 63 X 63 X 63 MM, PARA AGUA QUENTE PREDIAL                                                                                                                                                                                                                                                                                                                                                                                                                   ","UN    ","39,38",null,null,"CR"]
[{"$f":"CONCATENAR","v":"SINAPI-I 7110"},"SINAPI-I",7110,"TE PVC, ROSCAVEL, 90 GRAUS, 2\", AGUA FRIA PREDIAL                                                                                                                                                                                                                                                                                                                                                                                                                                                         ","UN    ","51,31",null,null,"CR"]
[{"$f":"CONCATENAR","v":"SINAPI-I 7103"},"SINAPI-I",7103,"TE PVC, SOLDAVEL, COM ROSCA NA BOLSA CENTRAL, 90 GRAUS, 32 MM X 3/4\", PARA AGUA FRIA PREDIAL                                                                                                                                                                                                                                                                                                                                                                                                              ","UN    ","14,43",null,null,"CR"]
[{"$f":"CONCATENAR","v":"SINAPI-I 7091"},"SINAPI-I",7091,"TE SANITARIO, PVC, DN 100 X 100 MM, SERIE NORMAL, PARA ESGOTO PREDIAL                                                                                                                                                                                                                                                                                                                                                                                                                                     ","UN    ","16,89",null,null,"CR"]
[{"$f":"CONCATENAR","v":"SINAPI-I 7143"},"SINAPI-I",7143,"TE SOLDAVEL, PVC, 90 GRAUS, 60 MM, PARA AGUA FRIA PREDIAL (NBR 5648)                                                                                                                                                                                                                                                                                                                                                                                                                                      ","UN    ","32,42",null,null,"CR"]
[{"$f":"CONCATENAR","v":"SINAPI-I 7142"},"SINAPI-I",7142,"TE SOLDAVEL, PVC, 90 GRAUS,50 MM, PARA AGUA FRIA PREDIAL (NBR 5648)                                                                                                                                                                                                                                                                                                                                                                                                                                       ","UN    ","10,10",null,null,"CR"]
[{"$f":"CONCATENAR","v":"SINAPI-I 3592"},"SINAPI-I",3592,"TE 45 GRAUS DE FERRO GALVANIZADO, COM ROSCA BSP, DE 3\"                                                                                                                                                                                                                                                                                                                                                                                                                                                    ","UN    ","376,32",null,null,"CR"]
[{"$f":"CONCATENAR","v":"SINAPI-I 40399"},"SINAPI-I",40399,"TE 90 GRAUS EM ACO CARBONO, SOLDAVEL, PRESSAO 3.000 LBS, DN 3\"                                                                                                                                                                                                                                                                                                                                                                                                                                            ","UN    ","1.504,39",null,null,"CR"]
[{"$f":"CONCATENAR","v":"SINAPI-I 20178"},"SINAPI-I",20178,"TE, PVC, SERIE R, 100 X 75 MM, PARA ESGOTO PREDIAL                                                                                                                                                                                                                                                                                                                                                                                                                                                        ","UN    ","55,41",null,null,"CR"]
[{"$f":"CONCATENAR","v":"SINAPI-I 40943"},"SINAPI-I",40943,"TECNICO EM SEGURANCA DO TRABALHO (HORISTA)                                                                                                                                                                                                                                                                                                                                                                                                                                                                ","H     ","32,50",null,null,"CR"]
[{"$f":"CONCATENAR","v":"SINAPI-I 39508"},"SINAPI-I",39508,"TELA DE ACO SOLDADA NERVURADA, CA-60, L-159, (1,69 KG/M2), DIAMETRO DO FIO = 4,5 MM, LARGURA = 2,45 M, ESPACAMENTO DA MALHA = 30 X 10 CM                                                                                                                                                                                                                                                                                                                                                                  ","M2    ","9,90",null,null,"CR"]
[{"$f":"CONCATENAR","v":"SINAPI-I 39509"},"SINAPI-I",39509,"TELA DE ACO SOLDADA NERVURADA, CA-60, T-196, (2,11 KG/M2), DIAMETRO DO FIO = 5,0 MM, LARGURA = 2,45 M, ESPACAMENTO DA MALHA = 30 X 10 CM                                                                                                                                                                                                                                                                                                                                                                  ","M2    ","12,24",null,null,"CR"]
[{"$f":"CONCATENAR","v":"SINAPI-I 10937"},"SINAPI-I",10937,"TELA DE ARAME GALVANIZADA REVESTIDA EM PVC, QUADRANGULAR / LOSANGULAR, FIO 2,11 MM (14 BWG), BITOLA FINAL = *2,8* MM, MALHA *8 X 8* CM, H = 2 M                                                                                                                                                                                                                                                                                                                                                           ","M2    ","16,49",null,null,"CR"]
[{"$f":"CONCATENAR","v":"SINAPI-I 10935"},"SINAPI-I",10935,"TELA DE ARAME GALVANIZADA REVESTIDA EM PVC, QUADRANGULAR / LOSANGULAR, FIO 2,77 MM (12 BWG), BITOLA FINAL = *3,8* MM, MALHA 7,5 X 7,5 CM, H = 2 M                                                                                                                                                                                                                                                                                                                                                         ","M2    ","28,61",null,null,"CR"]
[{"$f":"CONCATENAR","v":"SINAPI-I 36789"},"SINAPI-I",36789,"TELHA CERAMICA TIPO AMERICANA, COMPRIMENTO DE *45* CM, RENDIMENTO DE *12* TELHAS/M2                                                                                                                                                                                                                                                                                                                                                                                                                       ","UN    ","4,72",null,null,"CR"]
[{"$f":"CONCATENAR","v":"SINAPI-I 34486"},"SINAPI-I",34486,"TELHA DE FIBROCIMENTO E = 8 MM, DE 4,60 X 1,06 M (SEM AMIANTO)                                                                                                                                                                                                                                                                                                                                                                                                                                            ","UN    ","392,12",null,null,"CR"]
[{"$f":"CONCATENAR","v":"SINAPI-I 7193"},"SINAPI-I",7193,"TELHA DE FIBROCIMENTO ONDULADA E = 8 MM, DE 1,83 X 1,10 M (SEM AMIANTO)                                                                                                                                                                                                                                                                                                                                                                                                                                   ","UN    ","120,62",null,null,"CR"]
[{"$f":"CONCATENAR","v":"SINAPI-I 7226"},"SINAPI-I",7226,"TELHA ESTRUTURAL DE FIBROCIMENTO 1 ABA, DE 0,52 X 5,50 M (SEM AMIANTO)                                                                                                                                                                                                                                                                                                                                                                                                                                    ","UN    ","298,00",null,null,"CR"]
[{"$f":"CONCATENAR","v":"SINAPI-I 40740"},"SINAPI-I",40740,"TELHA GALVALUME COM ISOLAMENTO TERMOACUSTICO EM ESPUMA RIGIDA DE POLIURETANO (PU) INJETADO, ESPESSURA DE 30 MM, DENSIDADE DE 35 KG/M3, REVESTIMENTO EM TELHA TRAPEZOIDAL NAS DUAS FACES COM ESPESSURA DE 0,50 MM CADA, ACABAMENTO NATURAL (NAO INCLUI ACESSORIOS DE FIXACAO)                                                                                                                                                                                                                              ","M2    ","136,89",null,null,"CR"]
[{"$f":"CONCATENAR","v":"SINAPI-I 7246"},"SINAPI-I",7246,"TELHA VIDRO TIPO CANAL OU COLONIAL, C = 46 A 50 CM                                                                                                                                                                                                                                                                                                                                                                                                                                                        ","UN    ","37,32",null,null,"CR"]
[{"$f":"CONCATENAR","v":"SINAPI-I 1571"},"SINAPI-I",1571,"TERMINAL A COMPRESSAO EM COBRE ESTANHADO PARA CABO 4 MM2, 1 FURO E 1 COMPRESSAO, PARA PARAFUSO DE FIXACAO M5                                                                                                                                                                                                                                                                                                                                                                                              ","UN    ","1,49",null,null,"CR"]
[{"$f":"CONCATENAR","v":"SINAPI-I 1579"},"SINAPI-I",1579,"TERMINAL A COMPRESSAO EM COBRE ESTANHADO PARA CABO 70 MM2, 1 FURO E 1 COMPRESSAO, PARA PARAFUSO DE FIXACAO M10                                                                                                                                                                                                                                                                                                                                                                                            ","UN    ","7,70",null,null,"CR"]
[{"$f":"CONCATENAR","v":"SINAPI-I 1543"},"SINAPI-I",1543,"TERMINAL METALICO A PRESSAO PARA 1 CABO DE 16 A 25 MM2, COM 2 FUROS PARA FIXACAO                                                                                                                                                                                                                                                                                                                                                                                                                          ","UN    ","31,88",null,null,"CR"]
[{"$f":"CONCATENAR","v":"SINAPI-I 1588"},"SINAPI-I",1588,"TERMINAL METALICO A PRESSAO PARA 1 CABO DE 50 MM2, COM 1 FURO DE FIXACAO                                                                                                                                                                                                                                                                                                                                                                                                                                  ","UN    ","10,92",null,null,"CR"]
[{"$f":"CONCATENAR","v":"SINAPI-I 7253"},"SINAPI-I",7253,"TERRA VEGETAL (GRANEL)                                                                                                                                                                                                                                                                                                                                                                                                                                                                                    ","M3    ","171,42",null,null,"CR"]
[{"$f":"CONCATENAR","v":"SINAPI-I 7274"},"SINAPI-I",7274,"TIL PARA LIGACAO PREDIAL, EM PVC, JE, BBB, DN 100 X 100 MM, PARA REDE COLETORA ESGOTO                                                                                                                                                                                                                                                                                                                                                                                                                     ","UN    ","74,50",null,null,"CR"]
[{"$f":"CONCATENAR","v":"SINAPI-I 43649"},"SINAPI-I",43649,"TINTA ESMALTE BASE AGUA PREMIUM ACETINADO                                                                                                                                                                                                                                                                                                                                                                                                                                                                 ","L     ","41,54",null,null,"CR"]
[{"$f":"CONCATENAR","v":"SINAPI-I 43647"},"SINAPI-I",43647,"TINTA ESMALTE SINTETICO STANDARD BRILHANTE                                                                                                                                                                                                                                                                                                                                                                                                                                                                ","L     ","28,94",null,null,"CR"]
[{"$f":"CONCATENAR","v":"SINAPI-I 11060"},"SINAPI-I",11060,"TIRANTE EM FERRO GALVANIZADO PARA CONTRAVENTAMENTO DE TELHA CANALETE 90, 1/4\" X 400 MM                                                                                                                                                                                                                                                                                                                                                                                                                    ","UN    ","43,75",null,null,"CR"]
[{"$f":"CONCATENAR","v":"SINAPI-I 37401"},"SINAPI-I",37401,"TOALHEIRO PLASTICO TIPO DISPENSER PARA PAPEL TOALHA INTERFOLHADO                                                                                                                                                                                                                                                                                                                                                                                                                                          ","UN    ","44,74",null,null,"CR"]
[{"$f":"CONCATENAR","v":"SINAPI-I 38101"},"SINAPI-I",38101,"TOMADA 2P+T 10A, 250V (APENAS MODULO)                                                                                                                                                                                                                                                                                                                                                                                                                                                                     ","UN    ","9,36",null,null,"CR"]
[{"$f":"CONCATENAR","v":"SINAPI-I 11763"},"SINAPI-I",11763,"TORNEIRA DE BOIA CONVENCIONAL PARA CAIXA D'AGUA, AGUA FRIA, 1.1/2\", COM HASTE E TORNEIRA METALICOS E BALAO PLASTICO                                                                                                                                                                                                                                                                                                                                                                                       ","UN    ","250,04",null,null,"CR"]
[{"$f":"CONCATENAR","v":"SINAPI-I 44045"},"SINAPI-I",44045,"TORNEIRA DE MESA PARA LAVATORIO, METALICA CROMADA, COM MISTURADOR MONOCOMANDO, BICA BAIXA (REF 2875)                                                                                                                                                                                                                                                                                                                                                                                                      ","UN    ","524,21",null,null,"CR"]
[{"$f":"CONCATENAR","v":"SINAPI-I 36796"},"SINAPI-I",36796,"TORNEIRA METALICA CROMADA DE MESA, PARA LAVATORIO, TEMPORIZADA PRESSAO FECHAMENTO AUTOMATICO, BICA BAIXA                                                                                                                                                                                                                                                                                                                                                                                                  ","UN    ","234,75",null,null,"CR"]
[{"$f":"CONCATENAR","v":"SINAPI-I 40329"},"SINAPI-I",40329,"TORNEIRA PLASTICA DE BOIA CONVENCIONAL PARA CAIXA DE AGUA, AGUA FRIA, 3/4 \", COM HASTE METALICA E COM TORNEIRA E BALAO PLASTICOS (PADRAO POPULAR)                                                                                                                                                                                                                                                                                                                                                         ","UN    ","31,07",null,null,"C "]
[{"$f":"CONCATENAR","v":"SINAPI-I 7620"},"SINAPI-I",7620,"TRANSFORMADOR TRIFASICO DE DISTRIBUICAO, POTENCIA DE 225 KVA, TENSAO NOMINAL DE 15 KV, TENSAO SECUNDARIA DE 220/127V, EM OLEO ISOLANTE TIPO MINERAL                                                                                                                                                                                                                                                                                                                                                       ","UN    ","33.145,50",null,null,"AS"]
[{"$f":"CONCATENAR","v":"SINAPI-I 25020"},"SINAPI-I",25020,"TRATOR DE ESTEIRAS, POTENCIA BRUTA DE 347 HP, PESO OPERACIONAL DE 38,5 T, COM ESCARIFICADOR E LAMINA COM CAPACIDADE DE 4,70M3                                                                                                                                                                                                                                                                                                                                                                             ","UN    ","4.290.985,04",null,null,"AS"]
[{"$f":"CONCATENAR","v":"SINAPI-I 7622"},"SINAPI-I",7622,"TRATOR DE ESTEIRAS, POTENCIA DE 100 HP, PESO OPERACIONAL DE 9,4 T, COM LAMINA COM CAPACIDADE DE 2,19 M3                                                                                                                                                                                                                                                                                                                                                                                                   ","UN    ","1.010.494,70",null,null,"AS"]
[{"$f":"CONCATENAR","v":"SINAPI-I 10598"},"SINAPI-I",10598,"TRATOR DE PNEUS COM POTENCIA DE 50 CV, TRACAO 4 X 2, PESO COM LASTRO DE 2714 KG                                                                                                                                                                                                                                                                                                                                                                                                                           ","UN    ","179.866,85",null,null,"CR"]
[{"$f":"CONCATENAR","v":"SINAPI-I 11580"},"SINAPI-I",11580,"TRILHO QUADRADO FRISADO PARA RODIZIO (VERGALHAO MACICO), EM ALUMINIO, COM DIMENSOES DE *6 X 6* MM                                                                                                                                                                                                                                                                                                                                                                                                         ","M     ","8,82",null,null,"CR"]
[{"$f":"CONCATENAR","v":"SINAPI-I 21024"},"SINAPI-I",21024,"TUBO ACO CARBONO COM COSTURA, NBR 5580, CLASSE M, DN = 80 MM, E = 4,05 MM, *8,47* KG/M                                                                                                                                                                                                                                                                                                                                                                                                                    ","M     ","85,28",null,null,"CR"]
[{"$f":"CONCATENAR","v":"SINAPI-I 20984"},"SINAPI-I",20984,"TUBO ACO CARBONO SEM COSTURA 20\", E= *12,70 MM, SCHEDULE 30, *154,97 KG/M                                                                                                                                                                                                                                                                                                                                                                                                                                 ","M     ","2.770,96",null,null,"CR"]
[{"$f":"CONCATENAR","v":"SINAPI-I 20995"},"SINAPI-I",20995,"TUBO ACO CARBONO SEM COSTURA 8\", E= *12,70 MM, SCHEDULE 80, *64,64 KG/M                                                                                                                                                                                                                                                                                                                                                                                                                                   ","M     ","878,60",null,null,"CR"]
[{"$f":"CONCATENAR","v":"SINAPI-I 21012"},"SINAPI-I",21012,"TUBO ACO GALVANIZADO COM COSTURA, CLASSE LEVE, DN 40 MM (1 1/2\"), E = 3,00 MM, *3,48* KG/M (NBR 5580)                                                                                                                                                                                                                                                                                                                                                                                                     ","M     ","48,40",null,null,"CR"]
[{"$f":"CONCATENAR","v":"SINAPI-I 7696"},"SINAPI-I",7696,"TUBO ACO GALVANIZADO COM COSTURA, CLASSE MEDIA, DN 2\", E = *3,65* MM, PESO *5,10* KG/M (NBR 5580)                                                                                                                                                                                                                                                                                                                                                                                                         ","M     ","69,86",null,null,"CR"]
[{"$f":"CONCATENAR","v":"SINAPI-I 7700"},"SINAPI-I",7700,"TUBO ACO GALVANIZADO COM COSTURA, CLASSE MEDIA, DN 3/4\", E = *2,65* MM, PESO *1,58* KG/M (NBR 5580)                                                                                                                                                                                                                                                                                                                                                                                                       ","M     ","22,28",null,null,"CR"]
[{"$f":"CONCATENAR","v":"SINAPI-I 41931"},"SINAPI-I",41931,"TUBO COLETOR DE ESGOTO PVC, JEI, DN 250 MM (NBR 7362)                                                                                                                                                                                                                                                                                                                                                                                                                                                     ","M     ","221,14",null,null,"CR"]
[{"$f":"CONCATENAR","v":"SINAPI-I 41780"},"SINAPI-I",41780,"TUBO CORRUGADO PEAD, PAREDE DUPLA, INTERNA LISA, JEI, DN/DI 300 MM, PARA SANEAMENTO (DRENAGEM/ESGOTO)                                                                                                                                                                                                                                                                                                                                                                                                     ","M     ","276,36",null,null,"CR"]
[{"$f":"CONCATENAR","v":"SINAPI-I 38030"},"SINAPI-I",38030,"TUBO CPVC, SOLDAVEL, 73 MM, AGUA QUENTE PREDIAL (NBR 15884)                                                                                                                                                                                                                                                                                                                                                                                                                                               ","M     ","133,44",null,null,"CR"]
[{"$f":"CONCATENAR","v":"SINAPI-I 39854"},"SINAPI-I",39854,"TUBO DE BORRACHA ELASTOMERICA FLEXIVEL, PRETA, PARA ISOLAMENTO TERMICO DE TUBULACAO, DN 2 5/8\" (*64* MM), E= *32* MM, COEFICIENTE DE CONDUTIVIDADE TERMICA 0,036W/MK, VAPOR DE AGUA MAIOR OU IGUAL A 10.000                                                                                                                                                                                                                                                                                               ","M     ","115,93",null,null,"CR"]
[{"$f":"CONCATENAR","v":"SINAPI-I 39753"},"SINAPI-I",39753,"TUBO DE COBRE CLASSE \"A\", DN = 2 1/2\" (66 MM), PARA INSTALACOES DE MEDIA PRESSAO PARA GASES COMBUSTIVEIS E MEDICINAIS                                                                                                                                                                                                                                                                                                                                                                                     ","M     ","324,48",null,null,"AS"]
[{"$f":"CONCATENAR","v":"SINAPI-I 12742"},"SINAPI-I",12742,"TUBO DE COBRE CLASSE \"E\", DN = 104 MM, PARA INSTALACAO HIDRAULICA PREDIAL                                                                                                                                                                                                                                                                                                                                                                                                                                 ","M     ","573,95",null,null,"AS"]
[{"$f":"CONCATENAR","v":"SINAPI-I 39665"},"SINAPI-I",39665,"TUBO DE COBRE FLEXIVEL, D = 5/8 \", E = 0,79 MM, PARA AR-CONDICIONADO/ INSTALACOES GAS RESIDENCIAIS E COMERCIAIS                                                                                                                                                                                                                                                                                                                                                                                           ","M     ","49,88",null,null,"AS"]
[{"$f":"CONCATENAR","v":"SINAPI-I 39752"},"SINAPI-I",39752,"TUBO DE COBRE, CLASSE \"A\", DN = 2\" (54 MM), PARA INSTALACOES DE MEDIA PRESSAO PARA GASES COMBUSTIVEIS E MEDICINAIS                                                                                                                                                                                                                                                                                                                                                                                        ","M     ","250,83",null,null,"AS"]
[{"$f":"CONCATENAR","v":"SINAPI-I 7742"},"SINAPI-I",7742,"TUBO DE CONCRETO ARMADO PARA AGUAS PLUVIAIS, CLASSE PA-1, COM ENCAIXE PONTA E BOLSA, DIAMETRO NOMINAL DE 700 MM                                                                                                                                                                                                                                                                                                                                                                                           ","M     ","313,49",null,null,"CR"]
[{"$f":"CONCATENAR","v":"SINAPI-I 7761"},"SINAPI-I",7761,"TUBO DE CONCRETO ARMADO PARA AGUAS PLUVIAIS, CLASSE PA-2, COM ENCAIXE PONTA E BOLSA, DIAMETRO NOMINAL DE 400 MM                                                                                                                                                                                                                                                                                                                                                                                           ","M     ","125,63",null,null,"CR"]
[{"$f":"CONCATENAR","v":"SINAPI-I 12578"},"SINAPI-I",12578,"TUBO DE CONCRETO ARMADO PARA AGUAS PLUVIAIS, CLASSE PA-3, COM ENCAIXE PONTA E BOLSA, DIAMETRO NOMINAL DE 600 MM                                                                                                                                                                                                                                                                                                                                                                                           ","M     ","299,57",null,null,"CR"]
[{"$f":"CONCATENAR","v":"SINAPI-I 7741"},"SINAPI-I",7741,"TUBO DE CONCRETO ARMADO PARA ESGOTO SANITARIO, CLASSE EA-2, COM ENCAIXE PONTA E BOLSA, COM JUNTA ELASTICA, DIAMETRO NOMINAL DE 500 MM                                                                                                                                                                                                                                                                                                                                                                     ","M     ","357,56",null,null,"CR"]
[{"$f":"CONCATENAR","v":"SINAPI-I 7733"},"SINAPI-I",7733,"TUBO DE CONCRETO ARMADO PARA ESGOTO SANITARIO, CLASSE EA-3, COM ENCAIXE PONTA E BOLSA, COM JUNTA ELASTICA, DIAMETRO NOMINAL DE 700 MM                                                                                                                                                                                                                                                                                                                                                                     ","M     ","657,14",null,null,"CR"]
[{"$f":"CONCATENAR","v":"SINAPI-I 7778"},"SINAPI-I",7778,"TUBO DE CONCRETO SIMPLES PARA AGUAS PLUVIAIS, CLASSE PS1, COM ENCAIXE PONTA E BOLSA, DIAMETRO NOMINAL DE 200 MM                                                                                                                                                                                                                                                                                                                                                                                           ","M     ","42,32",null,null,"CR"]
[{"$f":"CONCATENAR","v":"SINAPI-I 7793"},"SINAPI-I",7793,"TUBO DE CONCRETO SIMPLES PARA AGUAS PLUVIAIS, CLASSE PS2, COM ENCAIXE PONTA E BOLSA, DIAMETRO NOMINAL DE 600 MM                                                                                                                                                                                                                                                                                                                                                                                           ","M     ","126,03",null,null,"CR"]
[{"$f":"CONCATENAR","v":"SINAPI-I 13159"},"SINAPI-I",13159,"TUBO DE CONCRETO SIMPLES PARA ESGOTO SANITARIO, CLASSE ES, COM ENCAIXE PONTA E BOLSA, COM JUNTA ELASTICA, DIAMETRO NOMINAL DE 400 MM                                                                                                                                                                                                                                                                                                                                                                      ","M     ","109,72",null,null,"CR"]
[{"$f":"CONCATENAR","v":"SINAPI-I 39708"},"SINAPI-I",39708,"TUBO DE ESPUMA DE POLIETILENO EXPANDIDO FLEXIVEL PARA ISOLAMENTO TERMICO DE TUBULACAO DE AR CONDICIONADO, AGUA QUENTE, DN 1 1/4\", E= 10 MM                                                                                                                                                                                                                                                                                                                                                                ","M     ","5,46",null,null,"CR"]
[{"$f":"CONCATENAR","v":"SINAPI-I 9815"},"SINAPI-I",9815,"TUBO DE POLIETILENO DE ALTA DENSIDADE (PEAD), PE-80, DE = 32 MM X 3,0 MM DE PAREDE, PARA LIGACAO DE AGUA PREDIAL (NBR 15561)                                                                                                                                                                                                                                                                                                                                                                              ","M     ","9,32",null,null,"CR"]
[{"$f":"CONCATENAR","v":"SINAPI-I 44522"},"SINAPI-I",44522,"TUBO DE POLIETILENO DE ALTA DENSIDADE, PEAD, PE-80, DE= 500 MM X 45,5 MM PAREDE, (SDR 11 - PN 12,5) PARA REDE DE AGUA OU ESGOTO (NBR 15561)                                                                                                                                                                                                                                                                                                                                                               ","M     ","2.635,45",null,null,"CR"]
[{"$f":"CONCATENAR","v":"SINAPI-I 41987"},"SINAPI-I",41987,"TUBO DE REVESTIMENTO, EM ACO, CORPO SCHEDULE 40, PONTEIRA SCHEDULE 80, ROSQUEAVEL E SEGMENTADO PARA PERFURACAO, DIAMETRO 14\" (400 MM)                                                                                                                                                                                                                                                                                                                                                                     ","M     ","3.715,27",null,null,"CR"]
[{"$f":"CONCATENAR","v":"SINAPI-I 38787"},"SINAPI-I",38787,"TUBO MONOCAMADA PEX, DN 16 MM, PARA AGUA QUENTE E FRIA                                                                                                                                                                                                                                                                                                                                                                                                                                                    ","M     ","7,49",null,null,"C "]
[{"$f":"CONCATENAR","v":"SINAPI-I 36274"},"SINAPI-I",36274,"TUBO PPR PN 20, DN 20 MM, PARA AGUA QUENTE PREDIAL                                                                                                                                                                                                                                                                                                                                                                                                                                                        ","M     ","8,95",null,null,"C "]
[{"$f":"CONCATENAR","v":"SINAPI-I 38978"},"SINAPI-I",38978,"TUBO PPR, CLASSE PN 25, DN 20 MM, PARA AGUA QUENTE E FRIA PREDIAL                                                                                                                                                                                                                                                                                                                                                                                                                                         ","M     ","9,84",null,null,"CR"]
[{"$f":"CONCATENAR","v":"SINAPI-I 38979"},"SINAPI-I",38979,"TUBO PPR, CLASSE PN 25, DN 25 MM, PARA AGUA QUENTE E FRIA PREDIAL                                                                                                                                                                                                                                                                                                                                                                                                                                         ","M     ","13,60",null,null,"CR"]
[{"$f":"CONCATENAR","v":"SINAPI-I 38034"},"SINAPI-I",38034,"TUBO PVC CORRUGADO, PAREDE DUPLA, JE, DN 250 MM/ DE 250 MM, REDE COLETORA ESGOTO                                                                                                                                                                                                                                                                                                                                                                                                                          ","M     ","165,62",null,null,"CR"]
[{"$f":"CONCATENAR","v":"SINAPI-I 9828"},"SINAPI-I",9828,"TUBO PVC DEFOFO, JEI, 1 MPA, DN 150 MM, PARA REDE DE AGUA (NBR 7665)                                                                                                                                                                                                                                                                                                                                                                                                                                      ","M     ","96,03",null,null,"AS"]
[{"$f":"CONCATENAR","v":"SINAPI-I 36379"},"SINAPI-I",36379,"TUBO PVC PBA JEI, CLASSE 20, DN 75 MM, PARA REDE DE AGUA (NBR 5647)                                                                                                                                                                                                                                                                                                                                                                                                                                       ","M     ","38,75",null,null,"AS"]
[{"$f":"CONCATENAR","v":"SINAPI-I 44315"},"SINAPI-I",44315,"TUBO PVC, RIGIDO, CORRUGADO, PERFURADO DN 100 MM, PARA DRENAGEM, SISTEMA IRRIGACAO                                                                                                                                                                                                                                                                                                                                                                                                                        ","M     ","61,62",null,null,"CR"]
[{"$f":"CONCATENAR","v":"SINAPI-I 20067"},"SINAPI-I",20067,"TUBO PVC, SERIE R, DN 40 MM, PARA ESGOTO OU AGUAS PLUVIAIS PREDIAL (NBR 5688)                                                                                                                                                                                                                                                                                                                                                                                                                             ","M     ","9,61",null,null,"CR"]
[{"$f":"CONCATENAR","v":"SINAPI-I 9873"},"SINAPI-I",9873,"TUBO PVC, SOLDAVEL, DE 60 MM, AGUA FRIA (NBR-5648)                                                                                                                                                                                                                                                                                                                                                                                                                                                        ","M     ","26,60",null,null,"CR"]
[{"$f":"CONCATENAR","v":"SINAPI-I 12428"},"SINAPI-I",12428,"UNIAO COM ASSENTO CONICO DE BRONZE, DIAMETRO 2'                                                                                                                                                                                                                                                                                                                                                                                                                                                           ","UN    ","153,34",null,null,"CR"]
[{"$f":"CONCATENAR","v":"SINAPI-I 12431"},"SINAPI-I",12431,"UNIAO COM ASSENTO CONICO DE BRONZE, DIAMETRO 4\"                                                                                                                                                                                                                                                                                                                                                                                                                                                           ","UN    ","657,42",null,null,"CR"]
[{"$f":"CONCATENAR","v":"SINAPI-I 12436"},"SINAPI-I",12436,"UNIAO COM ASSENTO CONICO DE FERRO LONGO (MACHO-FEMEA), DIAMETRO 4\"                                                                                                                                                                                                                                                                                                                                                                                                                                        ","UN    ","491,82",null,null,"CR"]
[{"$f":"CONCATENAR","v":"SINAPI-I 9887"},"SINAPI-I",9887,"UNIAO DE FERRO GALVANIZADO, COM ROSCA BSP, COM ASSENTO PLANO, DE 2\"                                                                                                                                                                                                                                                                                                                                                                                                                                       ","UN    ","93,95",null,null,"CR"]
[{"$f":"CONCATENAR","v":"SINAPI-I 9901"},"SINAPI-I",9901,"UNIAO PVC, ROSCAVEL, 1 1/2\", AGUA FRIA PREDIAL                                                                                                                                                                                                                                                                                                                                                                                                                                                            ","UN    ","34,16",null,null,"CR"]
[{"$f":"CONCATENAR","v":"SINAPI-I 9910"},"SINAPI-I",9910,"UNIAO PVC, SOLDAVEL, 60 MM, PARA AGUA FRIA PREDIAL                                                                                                                                                                                                                                                                                                                                                                                                                                                        ","UN    ","75,31",null,null,"CR"]
[{"$f":"CONCATENAR","v":"SINAPI-I 37995"},"SINAPI-I",37995,"UNIAO, CPVC, SOLDAVEL, 73 MM, PARA AGUA QUENTE PREDIAL                                                                                                                                                                                                                                                                                                                                                                                                                                                    ","UN    ","157,45",null,null,"CR"]
[{"$f":"CONCATENAR","v":"SINAPI-I 13892"},"SINAPI-I",13892,"USINA DE CONCRETO FIXA, CAPACIDADE NOMINAL DE 80 M3/H, SEM SILO                                                                                                                                                                                                                                                                                                                                                                                                                                           ","UN    ","658.491,12",null,null,"AS"]
[{"$f":"CONCATENAR","v":"SINAPI-I 11751"},"SINAPI-I",11751,"VALVULA DE ESFERA BRUTA EM BRONZE, BITOLA 1 1/2\" (REF 1552-B)                                                                                                                                                                                                                                                                                                                                                                                                                                             ","UN    ","165,83",null,null,"CR"]
[{"$f":"CONCATENAR","v":"SINAPI-I 11750"},"SINAPI-I",11750,"VALVULA DE ESFERA BRUTA EM BRONZE, BITOLA 1 1/4\" (REF 1552-B)                                                                                                                                                                                                                                                                                                                                                                                                                                             ","UN    ","137,61",null,null,"CR"]
[{"$f":"CONCATENAR","v":"SINAPI-I 10232"},"SINAPI-I",10232,"VALVULA DE RETENCAO DE BRONZE, PE COM CRIVOS, EXTREMIDADE COM ROSCA, DE 2\", PARA FUNDO DE POCO                                                                                                                                                                                                                                                                                                                                                                                                            ","UN    ","203,18",null,null,"CR"]
[{"$f":"CONCATENAR","v":"SINAPI-I 10412"},"SINAPI-I",10412,"VALVULA DE RETENCAO HORIZONTAL, DE BRONZE (PN-25), 3/4\", 400 PSI, TAMPA DE PORCA DE UNIAO, EXTREMIDADES COM ROSCA                                                                                                                                                                                                                                                                                                                                                                                         ","UN    ","114,46",null,null,"CR"]
[{"$f":"CONCATENAR","v":"SINAPI-I 10413"},"SINAPI-I",10413,"VALVULA DE RETENCAO VERTICAL, DE BRONZE (PN-16), 3/4\", 200 PSI, EXTREMIDADES COM ROSCA                                                                                                                                                                                                                                                                                                                                                                                                                    ","UN    ","73,37",null,null,"CR"]
[{"$f":"CONCATENAR","v":"SINAPI-I 6155"},"SINAPI-I",6155,"VALVULA EM PLASTICO CROMADO TIPO AMERICANA PARA PIA DE COZINHA 3.1/2\" X 1.1/2 \", SEM ADAPTADOR                                                                                                                                                                                                                                                                                                                                                                                                            ","UN    ","23,07",null,null,"CR"]
[{"$f":"CONCATENAR","v":"SINAPI-I 38111"},"SINAPI-I",38111,"VARIADOR DE VELOCIDADE PARA VENTILADOR 220 V, 250 W (APENAS MODULO)                                                                                                                                                                                                                                                                                                                                                                                                                                       ","UN    ","39,39",null,null,"CR"]
[{"$f":"CONCATENAR","v":"SINAPI-I 4030"},"SINAPI-I",4030,"VEU DE POLIESTER PARA IMPERMEABILIZACAO                                                                                                                                                                                                                                                                                                                                                                                                                                                                   ","M2    ","8,52",null,null,"CR"]
[{"$f":"CONCATENAR","v":"SINAPI-I 13476"},"SINAPI-I",13476,"VIBROACABADORA DE ASFALTO SOBRE ESTEIRAS, LARG. PAVIM. 2,60 M A 5,75 M, POT. 110 HP, CAP. 450 T/ H                                                                                                                                                                                                                                                                                                                                                                                                        ","UN    ","1.857.432,94",null,null,"AS"]
[{"$f":"CONCATENAR","v":"SINAPI-I 10488"},"SINAPI-I",10488,"VIBROACABADORA DE ASFALTO SOBRE ESTEIRAS, LARG. PAVIMENT. 1,90 A 5,3 M, POT. 78 KW/105 HP, CAP. 450 T/H                                                                                                                                                                                                                                                                                                                                                                                                   ","UN    ","2.250.300,00",null,null,"AS"]
[{"$f":"CONCATENAR","v":"SINAPI-I 34389"},"SINAPI-I",34389,"VIDRO CRISTAL COLORIDO, 4 MM, PINTADO NA COR BRANCA                                                                                                                                                                                                                                                                                                                                                                                                                                                       ","M2    ","116,66",null,null,"CR"]
[{"$f":"CONCATENAR","v":"SINAPI-I 10493"},"SINAPI-I",10493,"VIDRO LISO INCOLOR 5MM - SEM COLOCACAO                                                                                                                                                                                                                                                                                                                                                                                                                                                                    ","M2    ","116,66",null,null,"CR"]
[{"$f":"CONCATENAR","v":"SINAPI-I 5031"},"SINAPI-I",5031,"VIDRO TEMPERADO INCOLOR PARA PORTA DE ABRIR, E = 10 MM (SEM FERRAGENS E SEM COLOCACAO)                                                                                                                                                                                                                                                                                                                                                                                                                    ","M2    ","322,50",null,null,"C "]
[{"$f":"CONCATENAR","v":"SINAPI-I 4425"},"SINAPI-I",4425,"VIGA NAO APARELHADA *6 X 12* CM, EM MACARANDUBA/MASSARANDUBA, ANGELIM OU EQUIVALENTE DA REGIAO - BRUTA                                                                                                                                                                                                                                                                                                                                                                                                    ","M     ","16,81",null,null,"CR"]
[{"$f":"CONCATENAR","v":"SINAPI 97145"},"SINAPI","97145","ASSENTAMENTO DE TUBO DE FERRO FUNDIDO PARA REDE DE ÁGUA, DN 250 MM, JUNTA ELÁSTICA, INSTALADO EM LOCAL COM NÍVEL ALTO DE INTERFERÊNCIAS (NÃO INCLUI FORNECIMENTO). AF_05/2024","M","10,22",null,null,"AS",{"$f":"IF($B4858=\"SINAPI\",IF(ISNUMBER(MATCH(Banco!$C4858,Analitico!$A:$A,0)),INDEX(Analitico!E:E,MATCH(Banco!$C4858,Analitico!$A:$A,0))&\"%\",\"\"),\"\")","v":"54,1293533%"},{"$f":"IF($B4858=\"SINAPI\",IF(ISNUMBER(MATCH(Banco!$C4858,Analitico!$A:$A,0)),INDEX(Analitico!F:F,MATCH(Banco!$C4858,Analitico!$A:$A,0))&\"%\",\"\"),\"\")","v":"%"}]
[{"$f":"CONCATENAR","v":"SINAPI 97154"},"SINAPI","97154","ASSENTAMENTO DE TUBO DE FERRO FUNDIDO PARA REDE DE ÁGUA, DN 900 MM, JUNTA ELÁSTICA, INSTALADO EM LOCAL COM NÍVEL ALTO DE INTERFERÊNCIAS (NÃO INCLUI FORNECIMENTO). AF_05/2024","M","37,24",null,null,"AS",{"$f":"IF($B4867=\"SINAPI\",IF(ISNUMBER(MATCH(Banco!$C4867,Analitico!$A:$A,0)),INDEX(Analitico!E:E,MATCH(Banco!$C4867,Analitico!$A:$A,0))&\"%\",\"\"),\"\")","v":"48,7989205%"},{"$f":"IF($B4867=\"SINAPI\",IF(ISNUMBER(MATCH(Banco!$C4867,Analitico!$A:$A,0)),INDEX(Analitico!F:F,MATCH(Banco!$C4867,Analitico!$A:$A,0))&\"%\",\"\"),\"\")","v":"%"}]
[{"$f":"CONCATENAR","v":"SINAPI 97163"},"SINAPI","97163","ASSENTAMENTO DE TUBO DE FERRO FUNDIDO PARA REDE DE ÁGUA, DN 350 MM, JUNTA ELÁSTICA, INSTALADO EM LOCAL COM NÍVEL BAIXO DE INTERFERÊNCIAS (NÃO INCLUI FORNECIMENTO). AF_05/2024","M","10,89",null,null,"AS",{"$f":"IF($B4876=\"SINAPI\",IF(ISNUMBER(MATCH(Banco!$C4876,Analitico!$A:$A,0)),INDEX(Analitico!E:E,MATCH(Banco!$C4876,Analitico!$A:$A,0))&\"%\",\"\"),\"\")","v":"56,0111837%"},{"$f":"IF($B4876=\"SINAPI\",IF(ISNUMBER(MATCH(Banco!$C4876,Analitico!$A:$A,0)),INDEX(Analitico!F:F,MATCH(Banco!$C4876,Analitico!$A:$A,0))&\"%\",\"\"),\"\")","v":"%"}]
[{"$f":"CONCATENAR","v":"SINAPI 97164"},"SINAPI","97164","ASSENTAMENTO DE TUBO DE FERRO FUNDIDO PARA REDE DE ÁGUA, DN 400 MM, JUNTA ELÁSTICA, INSTALADO EM LOCAL COM NÍVEL BAIXO DE INTERFERÊNCIAS (NÃO INCLUI FORNECIMENTO). AF_05/2024","M","12,28",null,null,"AS",{"$f":"IF($B4877=\"SINAPI\",IF(ISNUMBER(MATCH(Banco!$C4877,Analitico!$A:$A,0)),INDEX(Analitico!E:E,MATCH(Banco!$C4877,Analitico!$A:$A,0))&\"%\",\"\"),\"\")","v":"56,1881189%"},{"$f":"IF($B4877=\"SINAPI\",IF(ISNUMBER(MATCH(Banco!$C4877,Analitico!$A:$A,0)),INDEX(Analitico!F:F,MATCH(Banco!$C4877,Analitico!$A:$A,0))&\"%\",\"\"),\"\")","v":"%"}]
[{"$f":"CONCATENAR","v":"SINAPI 97172"},"SINAPI","97172","ASSENTAMENTO DE TUBO DE FERRO FUNDIDO PARA REDE DE ÁGUA, DN 1200 MM, JUNTA ELÁSTICA, INSTALADO EM LOCAL COM NÍVEL BAIXO DE INTERFERÊNCIAS (NÃO INCLUI FORNECIMENTO). AF_05/2024","M","39,31",null,null,"AS",{"$f":"IF($B4885=\"SINAPI\",IF(ISNUMBER(MATCH(Banco!$C4885,Analitico!$A:$A,0)),INDEX(Analitico!E:E,MATCH(Banco!$C4885,Analitico!$A:$A,0))&\"%\",\"\"),\"\")","v":"50,5488895%"},{"$f":"IF($B4885=\"SINAPI\",IF(ISNUMBER(MATCH(Banco!$C4885,Analitico!$A:$A,0)),INDEX(Analitico!F:F,MATCH(Banco!$C4885,Analitico!$A:$A,0))&\"%\",\"\"),\"\")","v":"%"}]
[{"$f":"CONCATENAR","v":"SINAPI 105259"},"SINAPI","105259","ASSENTAMENTO DE CONEXÃO 3 ACESSOS DE FERRO FUNDIDO PARA REDE DE ÁGUA, DN 100, JUNTA ELÁSTICA, INSTALADO EM LOCAL COM NÍVEL BAIXO DE INTERFERÊNCIAS (NÃO INCLUI FORNECIMENTO). AF_05/2024","UN","17,66",null,null,"AS",{"$f":"IF($B4896=\"SINAPI\",IF(ISNUMBER(MATCH(Banco!$C4896,Analitico!$A:$A,0)),INDEX(Analitico!E:E,MATCH(Banco!$C4896,Analitico!$A:$A,0))&\"%\",\"\"),\"\")","v":"46,2328768%"},{"$f":"IF($B4896=\"SINAPI\",IF(ISNUMBER(MATCH(Banco!$C4896,Analitico!$A:$A,0)),INDEX(Analitico!F:F,MATCH(Banco!$C4896,Analitico!$A:$A,0))&\"%\",\"\"),\"\")","v":"%"}]
[{"$f":"CONCATENAR","v":"SINAPI 105269"},"SINAPI","105269","ASSENTAMENTO DE CONEXÃO 2 ACESSOS INCLINADOS DE FERRO FUNDIDO PARA REDE DE ÁGUA, DN 80, JUNTA ELÁSTICA, INSTALADO EM LOCAL COM NÍVEL BAIXO DE INTERFERÊNCIAS (NÃO INCLUI FORNECIMENTO). AF_05/2024","UN","10,98",null,null,"AS",{"$f":"IF($B4905=\"SINAPI\",IF(ISNUMBER(MATCH(Banco!$C4905,Analitico!$A:$A,0)),INDEX(Analitico!E:E,MATCH(Banco!$C4905,Analitico!$A:$A,0))&\"%\",\"\"),\"\")","v":"46,7592594%"},{"$f":"IF($B4905=\"SINAPI\",IF(ISNUMBER(MATCH(Banco!$C4905,Analitico!$A:$A,0)),INDEX(Analitico!F:F,MATCH(Banco!$C4905,Analitico!$A:$A,0))&\"%\",\"\"),\"\")","v":"%"}]
[{"$f":"CONCATENAR","v":"SINAPI 105278"},"SINAPI","105278","ASSENTAMENTO DE CONEXÃO 3 ACESSOS DE FERRO FUNDIDO PARA REDE DE ÁGUA, DN 80, JUNTA ELÁSTICA, INSTALADO EM LOCAL COM NÍVEL ALTO DE INTERFERÊNCIAS (NÃO INCLUI FORNECIMENTO). AF_05/2024","UN","19,74",null,null,"AS",{"$f":"IF($B4914=\"SINAPI\",IF(ISNUMBER(MATCH(Banco!$C4914,Analitico!$A:$A,0)),INDEX(Analitico!E:E,MATCH(Banco!$C4914,Analitico!$A:$A,0))&\"%\",\"\"),\"\")","v":"45,7055216%"},{"$f":"IF($B4914=\"SINAPI\",IF(ISNUMBER(MATCH(Banco!$C4914,Analitico!$A:$A,0)),INDEX(Analitico!F:F,MATCH(Banco!$C4914,Analitico!$A:$A,0))&\"%\",\"\"),\"\")","v":"%"}]
[{"$f":"CONCATENAR","v":"SINAPI 105299"},"SINAPI","105299","ASSENTAMENTO DE CONEXÃO 2 ACESSOS INCLINADOS DE FERRO FUNDIDO PARA REDE DE ÁGUA, DN 200, JUNTA ELÁSTICA, INSTALADO EM LOCAL COM NÍVEL BAIXO DE INTERFERÊNCIAS (NÃO INCLUI FORNECIMENTO). AF_05/2024","UN","21,43",null,null,"AS",{"$f":"IF($B4923=\"SINAPI\",IF(ISNUMBER(MATCH(Banco!$C4923,Analitico!$A:$A,0)),INDEX(Analitico!E:E,MATCH(Banco!$C4923,Analitico!$A:$A,0))&\"%\",\"\"),\"\")","v":"51,9023017%"},{"$f":"IF($B4923=\"SINAPI\",IF(ISNUMBER(MATCH(Banco!$C4923,Analitico!$A:$A,0)),INDEX(Analitico!F:F,MATCH(Banco!$C4923,Analitico!$A:$A,0))&\"%\",\"\"),\"\")","v":"%"}]
[{"$f":"CONCATENAR","v":"SINAPI 105317"},"SINAPI","105317","ASSENTAMENTO DE CONEXÃO 2 ACESSOS ALINHADOS DE FERRO FUNDIDO PARA REDE DE ÁGUA, DN 300, JUNTA ELÁSTICA, INSTALADO EM LOCAL COM NÍVEL BAIXO DE INTERFERÊNCIAS (NÃO INCLUI FORNECIMENTO). AF_05/2024","UN","21,12",null,null,"AS",{"$f":"IF($B4932=\"SINAPI\",IF(ISNUMBER(MATCH(Banco!$C4932,Analitico!$A:$A,0)),INDEX(Analitico!E:E,MATCH(Banco!$C4932,Analitico!$A:$A,0))&\"%\",\"\"),\"\")","v":"50,9056245%"},{"$f":"IF($B4932=\"SINAPI\",IF(ISNUMBER(MATCH(Banco!$C4932,Analitico!$A:$A,0)),INDEX(Analitico!F:F,MATCH(Banco!$C4932,Analitico!$A:$A,0))&\"%\",\"\"),\"\")","v":"%"}]
[{"$f":"CONCATENAR","v":"SINAPI 105340"},"SINAPI","105340","ASSENTAMENTO DE CONEXÃO 2 ACESSOS INCLINADOS DE FERRO FUNDIDO PARA REDE DE ÁGUA, DN 800, JUNTA ELÁSTICA, INSTALADO EM LOCAL COM NÍVEL BAIXO DE INTERFERÊNCIAS (NÃO INCLUI FORNECIMENTO). AF_05/2024","UN","85,07",null,null,"AS",{"$f":"IF($B4942=\"SINAPI\",IF(ISNUMBER(MATCH(Banco!$C4942,Analitico!$A:$A,0)),INDEX(Analitico!E:E,MATCH(Banco!$C4942,Analitico!$A:$A,0))&\"%\",\"\"),\"\")","v":"48,3042865%"},{"$f":"IF($B4942=\"SINAPI\",IF(ISNUMBER(MATCH(Banco!$C4942,Analitico!$A:$A,0)),INDEX(Analitico!F:F,MATCH(Banco!$C4942,Analitico!$A:$A,0))&\"%\",\"\"),\"\")","v":"%"}]
[{"$f":"CONCATENAR","v":"SINAPI 105341"},"SINAPI","105341","ASSENTAMENTO DE CONEXÃO 2 ACESSOS INCLINADOS DE FERRO FUNDIDO PARA REDE DE ÁGUA, DN 1000, JUNTA ELÁSTICA, INSTALADO EM LOCAL COM NÍVEL BAIXO DE INTERFERÊNCIAS (NÃO INCLUI FORNECIMENTO). AF_05/2024","UN","105,19",null,null,"AS",{"$f":"IF($B4943=\"SINAPI\",IF(ISNUMBER(MATCH(Banco!$C4943,Analitico!$A:$A,0)),INDEX(Analitico!E:E,MATCH(Banco!$C4943,Analitico!$A:$A,0))&\"%\",\"\"),\"\")","v":"48,5717007%"},{"$f":"IF($B4943=\"SINAPI\",IF(ISNUMBER(MATCH(Banco!$C4943,Analitico!$A:$A,0)),INDEX(Analitico!F:F,MATCH(Banco!$C4943,Analitico!$A:$A,0))&\"%\",\"\"),\"\")","v":"%"}]
[{"$f":"CONCATENAR","v":"SINAPI 105350"},"SINAPI","105350","ASSENTAMENTO DE CONEXÃO 3 ACESSOS DE FERRO FUNDIDO PARA REDE DE ÁGUA, DN 400, JUNTA ELÁSTICA, INSTALADO EM LOCAL COM NÍVEL ALTO DE INTERFERÊNCIAS (NÃO INCLUI FORNECIMENTO). AF_05/2024","UN","67,15",null,null,"AS",{"$f":"IF($B4952=\"SINAPI\",IF(ISNUMBER(MATCH(Banco!$C4952,Analitico!$A:$A,0)),INDEX(Analitico!E:E,MATCH(Banco!$C4952,Analitico!$A:$A,0))&\"%\",\"\"),\"\")","v":"51,4174875%"},{"$f":"IF($B4952=\"SINAPI\",IF(ISNUMBER(MATCH(Banco!$C4952,Analitico!$A:$A,0)),INDEX(Analitico!F:F,MATCH(Banco!$C4952,Analitico!$A:$A,0))&\"%\",\"\"),\"\")","v":"%"}]
[{"$f":"CONCATENAR","v":"SINAPI 105369"},"SINAPI","105369","FORNECIMENTO E ASSENTAMENTO DE TE RANHURADO EM FERRO FUNDIDO, DN 80 (3\") PARA REDE DE ÁGUA, INSTALADO EM LOCAL COM NÍVEL ALTO DE INTERFERÊNCIAS (INCLUI FORNECIMENTO). AF_05/2024","UN","66,17",null,null,"AS",{"$f":"IF($B4961=\"SINAPI\",IF(ISNUMBER(MATCH(Banco!$C4961,Analitico!$A:$A,0)),INDEX(Analitico!E:E,MATCH(Banco!$C4961,Analitico!$A:$A,0))&\"%\",\"\"),\"\")","v":"13,5475071%"},{"$f":"IF($B4961=\"SINAPI\",IF(ISNUMBER(MATCH(Banco!$C4961,Analitico!$A:$A,0)),INDEX(Analitico!F:F,MATCH(Banco!$C4961,Analitico!$A:$A,0))&\"%\",\"\"),\"\")","v":"%"}]
[{"$f":"CONCATENAR","v":"SINAPI 105392"},"SINAPI","105392","ASSENTAMENTO DE CONEXÃO 2 ACESSOS ALINHADOS DE FERRO FUNDIDO PARA REDE DE ÁGUA, DN 200, JUNTA ELÁSTICA, INSTALADO EM LOCAL COM NÍVEL ALTO DE INTERFERÊNCIAS (NÃO INCLUI FORNECIMENTO). AF_05/2024","UN","18,53",null,null,"AS",{"$f":"IF($B4970=\"SINAPI\",IF(ISNUMBER(MATCH(Banco!$C4970,Analitico!$A:$A,0)),INDEX(Analitico!E:E,MATCH(Banco!$C4970,Analitico!$A:$A,0))&\"%\",\"\"),\"\")","v":"50,1903210%"},{"$f":"IF($B4970=\"SINAPI\",IF(ISNUMBER(MATCH(Banco!$C4970,Analitico!$A:$A,0)),INDEX(Analitico!F:F,MATCH(Banco!$C4970,Analitico!$A:$A,0))&\"%\",\"\"),\"\")","v":"%"}]
[{"$f":"CONCATENAR","v":"SINAPI 105401"},"SINAPI","105401","ASSENTAMENTO DE CONEXÃO 2 ACESSOS ALINHADOS DE FERRO FUNDIDO PARA REDE DE ÁGUA, DN 800, JUNTA ELÁSTICA, INSTALADO EM LOCAL COM NÍVEL ALTO DE INTERFERÊNCIAS (NÃO INCLUI FORNECIMENTO). AF_05/2024","UN","73,15",null,null,"AS",{"$f":"IF($B4979=\"SINAPI\",IF(ISNUMBER(MATCH(Banco!$C4979,Analitico!$A:$A,0)),INDEX(Analitico!E:E,MATCH(Banco!$C4979,Analitico!$A:$A,0))&\"%\",\"\"),\"\")","v":"45,4296288%"},{"$f":"IF($B4979=\"SINAPI\",IF(ISNUMBER(MATCH(Banco!$C4979,Analitico!$A:$A,0)),INDEX(Analitico!F:F,MATCH(Banco!$C4979,Analitico!$A:$A,0))&\"%\",\"\"),\"\")","v":"%"}]
[{"$f":"CONCATENAR","v":"SINAPI 97181"},"SINAPI","97181","ASSENTAMENTO DE TUBO DE AÇO CARBONO PARA REDE DE ÁGUA, DN 1800 MM (72\") OU DN 1900 MM (76\"), JUNTA SOLDADA, INSTALADO EM LOCAL COM NÍVEL ALTO DE INTERFERÊNCIAS (NÃO INCLUI FORNECIMENTO). AF_05/2024","M","142,76",null,null,"AS",{"$f":"IF($B4989=\"SINAPI\",IF(ISNUMBER(MATCH(Banco!$C4989,Analitico!$A:$A,0)),INDEX(Analitico!E:E,MATCH(Banco!$C4989,Analitico!$A:$A,0))&\"%\",\"\"),\"\")","v":"47,2148170%"},{"$f":"IF($B4989=\"SINAPI\",IF(ISNUMBER(MATCH(Banco!$C4989,Analitico!$A:$A,0)),INDEX(Analitico!F:F,MATCH(Banco!$C4989,Analitico!$A:$A,0))&\"%\",\"\"),\"\")","v":"%"}]
[{"$f":"CONCATENAR","v":"SINAPI 97190"},"SINAPI","97190","ASSENTAMENTO DE TUBO DE AÇO CARBONO PARA REDE DE ÁGUA, DN 1600 MM (64\") OU DN 1700 MM (68\"), JUNTA SOLDADA, INSTALADO EM LOCAL COM NÍVEL BAIXO DE INTERFERÊNCIAS (NÃO INCLUI FORNECIMENTO). AF_05/2024","M","114,32",null,null,"AS",{"$f":"IF($B4998=\"SINAPI\",IF(ISNUMBER(MATCH(Banco!$C4998,Analitico!$A:$A,0)),INDEX(Analitico!E:E,MATCH(Banco!$C4998,Analitico!$A:$A,0))&\"%\",\"\"),\"\")","v":"47,7438011%"},{"$f":"IF($B4998=\"SINAPI\",IF(ISNUMBER(MATCH(Banco!$C4998,Analitico!$A:$A,0)),INDEX(Analitico!F:F,MATCH(Banco!$C4998,Analitico!$A:$A,0))&\"%\",\"\"),\"\")","v":"%"}]
[{"$f":"CONCATENAR","v":"SINAPI 90700"},"SINAPI","90700","TUBO DE PVC PARA REDE COLETORA DE ESGOTO DE PAREDE MACIÇA, DN 400 MM, JUNTA ELÁSTICA  FORNECIMENTO E ASSENTAMENTO. AF_01/2021","M","597,85",null,null,"AS",{"$f":"IF($B5007=\"SINAPI\",IF(ISNUMBER(MATCH(Banco!$C5007,Analitico!$A:$A,0)),INDEX(Analitico!E:E,MATCH(Banco!$C5007,Analitico!$A:$A,0))&\"%\",\"\"),\"\")","v":"0,6374222%"},{"$f":"IF($B5007=\"SINAPI\",IF(ISNUMBER(MATCH(Banco!$C5007,Analitico!$A:$A,0)),INDEX(Analitico!F:F,MATCH(Banco!$C5007,Analitico!$A:$A,0))&\"%\",\"\"),\"\")","v":"%"}]
[{"$f":"CONCATENAR","v":"SINAPI 90701"},"SINAPI","90701","TUBO DE PVC CORRUGADO DE DUPLA PAREDE PARA REDE COLETORA DE ESGOTO, DN 150 MM, JUNTA ELÁSTICA - FORNECIMENTO E ASSENTAMENTO. AF_01/2021","M","71,42",null,null,"CR",{"$f":"IF($B5008=\"SINAPI\",IF(ISNUMBER(MATCH(Banco!$C5008,Analitico!$A:$A,0)),INDEX(Analitico!E:E,MATCH(Banco!$C5008,Analitico!$A:$A,0))&\"%\",\"\"),\"\")","v":"4,0218609%"},{"$f":"IF($B5008=\"SINAPI\",IF(ISNUMBER(MATCH(Banco!$C5008,Analitico!$A:$A,0)),INDEX(Analitico!F:F,MATCH(Banco!$C5008,Analitico!$A:$A,0))&\"%\",\"\"),\"\")","v":"%"}]
[{"$f":"CONCATENAR","v":"SINAPI 90725"},"SINAPI","90725","JUNTA ARGAMASSADA ENTRE TUBO DN 150 MM E O POÇO DE VISITA/ CAIXA DE CONCRETO OU ALVENARIA EM REDES DE ESGOTO. AF_01/2021","UN","26,32",null,null,"CR",{"$f":"IF($B5016=\"SINAPI\",IF(ISNUMBER(MATCH(Banco!$C5016,Analitico!$A:$A,0)),INDEX(Analitico!E:E,MATCH(Banco!$C5016,Analitico!$A:$A,0))&\"%\",\"\"),\"\")","v":"70,2403663%"},{"$f":"IF($B5016=\"SINAPI\",IF(ISNUMBER(MATCH(Banco!$C5016,Analitico!$A:$A,0)),INDEX(Analitico!F:F,MATCH(Banco!$C5016,Analitico!$A:$A,0))&\"%\",\"\"),\"\")","v":"%"}]
[{"$f":"CONCATENAR","v":"SINAPI 90736"},"SINAPI","90736","ASSENTAMENTO DE TUBO DE PVC PARA REDE COLETORA DE ESGOTO DE PAREDE MACIÇA, DN 250 MM, JUNTA ELÁSTICA (NÃO INCLUI FORNECIMENTO). AF_01/2021","M","4,61",null,null,"CR",{"$f":"IF($B5027=\"SINAPI\",IF(ISNUMBER(MATCH(Banco!$C5027,Analitico!$A:$A,0)),INDEX(Analitico!E:E,MATCH(Banco!$C5027,Analitico!$A:$A,0))&\"%\",\"\"),\"\")","v":"74,5054946%"},{"$f":"IF($B5027=\"SINAPI\",IF(ISNUMBER(MATCH(Banco!$C5027,Analitico!$A:$A,0)),INDEX(Analitico!F:F,MATCH(Banco!$C5027,Analitico!$A:$A,0))&\"%\",\"\"),\"\")","v":"%"}]
[{"$f":"CONCATENAR","v":"SINAPI 90745"},"SINAPI","90745","ASSENTAMENTO DE TUBO DE PVC CORRUGADO DE DUPLA PAREDE PARA REDE COLETORA DE ESGOTO, DN 400 MM, JUNTA ELÁSTICA  (NÃO INCLUI FORNECIMENTO). AF_01/2021","M","9,66",null,null,"AS",{"$f":"IF($B5036=\"SINAPI\",IF(ISNUMBER(MATCH(Banco!$C5036,Analitico!$A:$A,0)),INDEX(Analitico!E:E,MATCH(Banco!$C5036,Analitico!$A:$A,0))&\"%\",\"\"),\"\")","v":"44,6428572%"},{"$f":"IF($B5036=\"SINAPI\",IF(ISNUMBER(MATCH(Banco!$C5036,Analitico!$A:$A,0)),INDEX(Analitico!F:F,MATCH(Banco!$C5036,Analitico!$A:$A,0))&\"%\",\"\"),\"\")","v":"%"}]
[{"$f":"CONCATENAR","v":"SINAPI 94878"},"SINAPI","94878","ASSENTAMENTO DE TUBO DE PEAD CORRUGADO DE DUPLA PAREDE PARA REDE COLETORA DE ESGOTO, DN 900 MM, JUNTA ELÁSTICA INTEGRADA (NÃO INCLUI FORNECIMENTO). AF_01/2021","M","32,23",null,null,"AS",{"$f":"IF($B5045=\"SINAPI\",IF(ISNUMBER(MATCH(Banco!$C5045,Analitico!$A:$A,0)),INDEX(Analitico!E:E,MATCH(Banco!$C5045,Analitico!$A:$A,0))&\"%\",\"\"),\"\")","v":"31,5034310%"},{"$f":"IF($B5045=\"SINAPI\",IF(ISNUMBER(MATCH(Banco!$C5045,Analitico!$A:$A,0)),INDEX(Analitico!F:F,MATCH(Banco!$C5045,Analitico!$A:$A,0))&\"%\",\"\"),\"\")","v":"%"}]
[{"$f":"CONCATENAR","v":"SINAPI 97124"},"SINAPI","97124","ASSENTAMENTO DE TUBO DE PVC PBA PARA REDE DE ÁGUA, DN 50 MM, JUNTA ELÁSTICA INTEGRADA, INSTALADO EM LOCAL COM NÍVEL BAIXO DE INTERFERÊNCIAS (NÃO INCLUI FORNECIMENTO). AF_05/2024","M","2,16",null,null,"CR",{"$f":"IF($B5054=\"SINAPI\",IF(ISNUMBER(MATCH(Banco!$C5054,Analitico!$A:$A,0)),INDEX(Analitico!E:E,MATCH(Banco!$C5054,Analitico!$A:$A,0))&\"%\",\"\"),\"\")","v":"70,9523810%"},{"$f":"IF($B5054=\"SINAPI\",IF(ISNUMBER(MATCH(Banco!$C5054,Analitico!$A:$A,0)),INDEX(Analitico!F:F,MATCH(Banco!$C5054,Analitico!$A:$A,0))&\"%\",\"\"),\"\")","v":"%"}]
[{"$f":"CONCATENAR","v":"SINAPI 102269"},"SINAPI","102269","JUNTA ARGAMASSADA ENTRE TUBO DN 1500 MM E O POÇO DE VISITA/ CAIXA DE CONCRETO OU ALVENARIA EM REDES DE ESGOTO. AF_01/2021","UN","160,43",null,null,"CR",{"$f":"IF($B5062=\"SINAPI\",IF(ISNUMBER(MATCH(Banco!$C5062,Analitico!$A:$A,0)),INDEX(Analitico!E:E,MATCH(Banco!$C5062,Analitico!$A:$A,0))&\"%\",\"\"),\"\")","v":"68,5152839%"},{"$f":"IF($B5062=\"SINAPI\",IF(ISNUMBER(MATCH(Banco!$C5062,Analitico!$A:$A,0)),INDEX(Analitico!F:F,MATCH(Banco!$C5062,Analitico!$A:$A,0))&\"%\",\"\"),\"\")","v":"%"}]
[{"$f":"CONCATENAR","v":"SINAPI 105294"},"SINAPI","105294","ASSENTAMENTO E FORNECIMENTO DE CURVA PVC PBA, JE, PB, 45 GRAUS, DN 75 / DE 85 MM, PARA REDE AGUA, JUNTA ELÁSTICA INTEGRADA, INSTALADO EM LOCAL COM NÍVEL ALTO DE INTERFERÊNCIAS (INCLUI FORNECIMENTO). AF_05/2024","UN","75,07",null,null,"AS",{"$f":"IF($B5073=\"SINAPI\",IF(ISNUMBER(MATCH(Banco!$C5073,Analitico!$A:$A,0)),INDEX(Analitico!E:E,MATCH(Banco!$C5073,Analitico!$A:$A,0))&\"%\",\"\"),\"\")","v":"17,7733333%"},{"$f":"IF($B5073=\"SINAPI\",IF(ISNUMBER(MATCH(Banco!$C5073,Analitico!$A:$A,0)),INDEX(Analitico!F:F,MATCH(Banco!$C5073,Analitico!$A:$A,0))&\"%\",\"\"),\"\")","v":"%"}]
[{"$f":"CONCATENAR","v":"SINAPI 105295"},"SINAPI","105295","ASSENTAMENTO E FORNECIMENTO DE CURVA PVC PBA, JE, PB, 45 GRAUS, DN 75 / DE 85 MM, PARA REDE AGUA, JUNTA ELÁSTICA INTEGRADA, INSTALADO EM LOCAL COM NÍVEL BAIXO DE INTERFERÊNCIAS (INCLUI FORNECIMENTO). AF_05/2024","UN","71,65",null,null,"AS",{"$f":"IF($B5074=\"SINAPI\",IF(ISNUMBER(MATCH(Banco!$C5074,Analitico!$A:$A,0)),INDEX(Analitico!E:E,MATCH(Banco!$C5074,Analitico!$A:$A,0))&\"%\",\"\"),\"\")","v":"15,1019837%"},{"$f":"IF($B5074=\"SINAPI\",IF(ISNUMBER(MATCH(Banco!$C5074,Analitico!$A:$A,0)),INDEX(Analitico!F:F,MATCH(Banco!$C5074,Analitico!$A:$A,0))&\"%\",\"\"),\"\")","v":"%"}]
[{"$f":"CONCATENAR","v":"SINAPI 105315"},"SINAPI","105315","ASSENTAMENTO DE CONEXÃO 2 ACESSOS ALINHADOS DE PVC PBA PARA REDE DE ÁGUA, DN 50, JUNTA ELÁSTICA INTEGRADA, INSTALADO EM LOCAL COM NÍVEL BAIXO DE INTERFERÊNCIAS (NÃO INCLUI FORNECIMENTO). AF_05/2024","UN","9,02",null,null,"CR",{"$f":"IF($B5083=\"SINAPI\",IF(ISNUMBER(MATCH(Banco!$C5083,Analitico!$A:$A,0)),INDEX(Analitico!E:E,MATCH(Banco!$C5083,Analitico!$A:$A,0))&\"%\",\"\"),\"\")","v":"67,9687500%"},{"$f":"IF($B5083=\"SINAPI\",IF(ISNUMBER(MATCH(Banco!$C5083,Analitico!$A:$A,0)),INDEX(Analitico!F:F,MATCH(Banco!$C5083,Analitico!$A:$A,0))&\"%\",\"\"),\"\")","v":"%"}]
[{"$f":"CONCATENAR","v":"SINAPI 105334"},"SINAPI","105334","ASSENTAMENTO E FORNECIMENTO DE TUBO DE PVC DEFOFO PARA REDE DE ÁGUA, DN 200, JUNTA ELÁSTICA INTEGRADA, INSTALADO EM LOCAL COM NÍVEL BAIXO DE INTERFERÊNCIAS (INCLUI FORNECIMENTO). AF_05/2024","M","173,81",null,null,"AS",{"$f":"IF($B5092=\"SINAPI\",IF(ISNUMBER(MATCH(Banco!$C5092,Analitico!$A:$A,0)),INDEX(Analitico!E:E,MATCH(Banco!$C5092,Analitico!$A:$A,0))&\"%\",\"\"),\"\")","v":"2,1479988%"},{"$f":"IF($B5092=\"SINAPI\",IF(ISNUMBER(MATCH(Banco!$C5092,Analitico!$A:$A,0)),INDEX(Analitico!F:F,MATCH(Banco!$C5092,Analitico!$A:$A,0))&\"%\",\"\"),\"\")","v":"%"}]
[{"$f":"CONCATENAR","v":"SINAPI 105360"},"SINAPI","105360","ASSENTAMENTO DE CONEXÃO 2 ACESSOS ALINHADOS DE PVC PBA PARA REDE DE ÁGUA, DN 75, JUNTA ELÁSTICA INTEGRADA, INSTALADO EM LOCAL COM NÍVEL ALTO DE INTERFERÊNCIAS (NÃO INCLUI FORNECIMENTO). AF_05/2024","UN","13,36",null,null,"CR",{"$f":"IF($B5099=\"SINAPI\",IF(ISNUMBER(MATCH(Banco!$C5099,Analitico!$A:$A,0)),INDEX(Analitico!E:E,MATCH(Banco!$C5099,Analitico!$A:$A,0))&\"%\",\"\"),\"\")","v":"66,8674699%"},{"$f":"IF($B5099=\"SINAPI\",IF(ISNUMBER(MATCH(Banco!$C5099,Analitico!$A:$A,0)),INDEX(Analitico!F:F,MATCH(Banco!$C5099,Analitico!$A:$A,0))&\"%\",\"\"),\"\")","v":"%"}]
[{"$f":"CONCATENAR","v":"SINAPI 105373"},"SINAPI","105373","ASSENTAMENTO DE CONEXÃO 2 ACESSOS ALINHADOS DE FERRO FUNDIDO PARA REDE DE ÁGUA, DN 100, JUNTA ELÁSTICA, INSTALADO EM LOCAL COM NÍVEL BAIXO DE INTERFERÊNCIAS (NÃO INCLUI FORNECIMENTO). AF_05/2024","UN","8,81",null,null,"AS",{"$f":"IF($B5111=\"SINAPI\",IF(ISNUMBER(MATCH(Banco!$C5111,Analitico!$A:$A,0)),INDEX(Analitico!E:E,MATCH(Banco!$C5111,Analitico!$A:$A,0))&\"%\",\"\"),\"\")","v":"46,4285715%"},{"$f":"IF($B5111=\"SINAPI\",IF(ISNUMBER(MATCH(Banco!$C5111,Analitico!$A:$A,0)),INDEX(Analitico!F:F,MATCH(Banco!$C5111,Analitico!$A:$A,0))&\"%\",\"\"),\"\")","v":"%"}]
[{"$f":"CONCATENAR","v":"SINAPI 105386"},"SINAPI","105386","ASSENTAMENTO DE CONEXÃO 3 ACESSOS DE PVC PBA PARA REDE DE ÁGUA, DN 50, JUNTA ELÁSTICA INTEGRADA, INSTALADO EM LOCAL COM NÍVEL BAIXO DE INTERFERÊNCIAS (NÃO INCLUI FORNECIMENTO). AF_05/2024","UN","18,05",null,null,"CR",{"$f":"IF($B5120=\"SINAPI\",IF(ISNUMBER(MATCH(Banco!$C5120,Analitico!$A:$A,0)),INDEX(Analitico!E:E,MATCH(Banco!$C5120,Analitico!$A:$A,0))&\"%\",\"\"),\"\")","v":"67,8531702%"},{"$f":"IF($B5120=\"SINAPI\",IF(ISNUMBER(MATCH(Banco!$C5120,Analitico!$A:$A,0)),INDEX(Analitico!F:F,MATCH(Banco!$C5120,Analitico!$A:$A,0))&\"%\",\"\"),\"\")","v":"%"}]
[{"$f":"CONCATENAR","v":"SINAPI 92840"},"SINAPI","92840","ASSENTAMENTO DE TUBO DE CONCRETO PARA REDES COLETORAS DE ESGOTO SANITÁRIO, DIÂMETRO DE 600 MM, JUNTA ELÁSTICA, INSTALADO EM LOCAL COM BAIXO NÍVEL DE INTERFERÊNCIAS (NÃO INCLUI FORNECIMENTO). AF_03/2024","M","39,12",null,null,"AS",{"$f":"IF($B5129=\"SINAPI\",IF(ISNUMBER(MATCH(Banco!$C5129,Analitico!$A:$A,0)),INDEX(Analitico!E:E,MATCH(Banco!$C5129,Analitico!$A:$A,0))&\"%\",\"\"),\"\")","v":"26,0780287%"},{"$f":"IF($B5129=\"SINAPI\",IF(ISNUMBER(MATCH(Banco!$C5129,Analitico!$A:$A,0)),INDEX(Analitico!F:F,MATCH(Banco!$C5129,Analitico!$A:$A,0))&\"%\",\"\"),\"\")","v":"%"}]
[{"$f":"CONCATENAR","v":"SINAPI 92849"},"SINAPI","92849","TUBO DE CONCRETO PARA REDES COLETORAS DE ESGOTO SANITÁRIO, DIÂMETRO DE 300 MM, JUNTA ELÁSTICA, INSTALADO EM LOCAL COM ALTO NÍVEL DE INTERFERÊNCIAS - FORNECIMENTO E ASSENTAMENTO. AF_03/2024","M","215,94",null,null,"AS",{"$f":"IF($B5138=\"SINAPI\",IF(ISNUMBER(MATCH(Banco!$C5138,Analitico!$A:$A,0)),INDEX(Analitico!E:E,MATCH(Banco!$C5138,Analitico!$A:$A,0))&\"%\",\"\"),\"\")","v":"2,5256035%"},{"$f":"IF($B5138=\"SINAPI\",IF(ISNUMBER(MATCH(Banco!$C5138,Analitico!$A:$A,0)),INDEX(Analitico!F:F,MATCH(Banco!$C5138,Analitico!$A:$A,0))&\"%\",\"\"),\"\")","v":"%"}]
[{"$f":"CONCATENAR","v":"SINAPI 92856"},"SINAPI","92856","ASSENTAMENTO DE TUBO DE CONCRETO PARA REDES COLETORAS DE ESGOTO SANITÁRIO, DIÂMETRO DE 600 MM, JUNTA ELÁSTICA, INSTALADO EM LOCAL COM ALTO NÍVEL DE INTERFERÊNCIAS (NÃO INCLUI FORNECIMENTO). AF_03/2024","M","44,45",null,null,"AS",{"$f":"IF($B5145=\"SINAPI\",IF(ISNUMBER(MATCH(Banco!$C5145,Analitico!$A:$A,0)),INDEX(Analitico!E:E,MATCH(Banco!$C5145,Analitico!$A:$A,0))&\"%\",\"\"),\"\")","v":"28,0551163%"},{"$f":"IF($B5145=\"SINAPI\",IF(ISNUMBER(MATCH(Banco!$C5145,Analitico!$A:$A,0)),INDEX(Analitico!F:F,MATCH(Banco!$C5145,Analitico!$A:$A,0))&\"%\",\"\"),\"\")","v":"%"}]
[{"$f":"CONCATENAR","v":"SINAPI 92860"},"SINAPI","92860","ASSENTAMENTO DE TUBO DE CONCRETO PARA REDES COLETORAS DE ESGOTO SANITÁRIO, DIÂMETRO DE 800 MM, JUNTA ELÁSTICA, INSTALADO EM LOCAL COM ALTO NÍVEL DE INTERFERÊNCIAS (NÃO INCLUI FORNECIMENTO). AF_03/2024","M","65,76",null,null,"AS",{"$f":"IF($B5149=\"SINAPI\",IF(ISNUMBER(MATCH(Banco!$C5149,Analitico!$A:$A,0)),INDEX(Analitico!E:E,MATCH(Banco!$C5149,Analitico!$A:$A,0))&\"%\",\"\"),\"\")","v":"26,0703946%"},{"$f":"IF($B5149=\"SINAPI\",IF(ISNUMBER(MATCH(Banco!$C5149,Analitico!$A:$A,0)),INDEX(Analitico!F:F,MATCH(Banco!$C5149,Analitico!$A:$A,0))&\"%\",\"\"),\"\")","v":"%"}]
[{"$f":"CONCATENAR","v":"SINAPI 92214"},"SINAPI","92214","TUBO DE CONCRETO PARA REDES COLETORAS DE ÁGUAS PLUVIAIS, DIÂMETRO DE 800 MM, JUNTA RÍGIDA, INSTALADO EM LOCAL COM BAIXO NÍVEL DE INTERFERÊNCIAS - FORNECIMENTO E ASSENTAMENTO. AF_03/2024","M","466,48",null,null,"AS",{"$f":"IF($B5158=\"SINAPI\",IF(ISNUMBER(MATCH(Banco!$C5158,Analitico!$A:$A,0)),INDEX(Analitico!E:E,MATCH(Banco!$C5158,Analitico!$A:$A,0))&\"%\",\"\"),\"\")","v":"6,2667553%"},{"$f":"IF($B5158=\"SINAPI\",IF(ISNUMBER(MATCH(Banco!$C5158,Analitico!$A:$A,0)),INDEX(Analitico!F:F,MATCH(Banco!$C5158,Analitico!$A:$A,0))&\"%\",\"\"),\"\")","v":"%"}]
[{"$f":"CONCATENAR","v":"SINAPI 92226"},"SINAPI","92226","TUBO DE CONCRETO PARA REDES COLETORAS DE ÁGUAS PLUVIAIS, DIÂMETRO DE 1000 MM, JUNTA RÍGIDA, INSTALADO EM LOCAL COM ALTO NÍVEL DE INTERFERÊNCIAS - FORNECIMENTO E ASSENTAMENTO. AF_03/2024","M","564,90",null,null,"AS",{"$f":"IF($B5167=\"SINAPI\",IF(ISNUMBER(MATCH(Banco!$C5167,Analitico!$A:$A,0)),INDEX(Analitico!E:E,MATCH(Banco!$C5167,Analitico!$A:$A,0))&\"%\",\"\"),\"\")","v":"7,3115880%"},{"$f":"IF($B5167=\"SINAPI\",IF(ISNUMBER(MATCH(Banco!$C5167,Analitico!$A:$A,0)),INDEX(Analitico!F:F,MATCH(Banco!$C5167,Analitico!$A:$A,0))&\"%\",\"\"),\"\")","v":"%"}]
[{"$f":"CONCATENAR","v":"SINAPI 92816"},"SINAPI","92816","TUBO DE CONCRETO PARA REDES COLETORAS DE ÁGUAS PLUVIAIS, DIÂMETRO DE 1200 MM, JUNTA RÍGIDA, INSTALADO EM LOCAL COM BAIXO NÍVEL DE INTERFERÊNCIAS - FORNECIMENTO E ASSENTAMENTO. AF_03/2024","M","805,98",null,null,"AS",{"$f":"IF($B5176=\"SINAPI\",IF(ISNUMBER(MATCH(Banco!$C5176,Analitico!$A:$A,0)),INDEX(Analitico!E:E,MATCH(Banco!$C5176,Analitico!$A:$A,0))&\"%\",\"\"),\"\")","v":"5,6556003%"},{"$f":"IF($B5176=\"SINAPI\",IF(ISNUMBER(MATCH(Banco!$C5176,Analitico!$A:$A,0)),INDEX(Analitico!F:F,MATCH(Banco!$C5176,Analitico!$A:$A,0))&\"%\",\"\"),\"\")","v":"%"}]
[{"$f":"CONCATENAR","v":"SINAPI 92822"},"SINAPI","92822","ASSENTAMENTO DE TUBO DE CONCRETO PARA REDES COLETORAS DE ÁGUAS PLUVIAIS, DIÂMETRO DE 500 MM, JUNTA RÍGIDA, INSTALADO EM LOCAL COM ALTO NÍVEL DE INTERFERÊNCIAS (NÃO INCLUI FORNECIMENTO). AF_03/2024","M","46,50",null,null,"AS",{"$f":"IF($B5182=\"SINAPI\",IF(ISNUMBER(MATCH(Banco!$C5182,Analitico!$A:$A,0)),INDEX(Analitico!E:E,MATCH(Banco!$C5182,Analitico!$A:$A,0))&\"%\",\"\"),\"\")","v":"41,6198705%"},{"$f":"IF($B5182=\"SINAPI\",IF(ISNUMBER(MATCH(Banco!$C5182,Analitico!$A:$A,0)),INDEX(Analitico!F:F,MATCH(Banco!$C5182,Analitico!$A:$A,0))&\"%\",\"\"),\"\")","v":"%"}]
[{"$f":"CONCATENAR","v":"SINAPI 95568"},"SINAPI","95568","TUBO DE CONCRETO (SIMPLES) PARA REDES COLETORAS DE ÁGUAS PLUVIAIS, DIÂMETRO DE 400 MM, JUNTA RÍGIDA, INSTALADO EM LOCAL COM BAIXO NÍVEL DE INTERFERÊNCIAS - FORNECIMENTO E ASSENTAMENTO. AF_03/2024","M","103,20",null,null,"AS",{"$f":"IF($B5195=\"SINAPI\",IF(ISNUMBER(MATCH(Banco!$C5195,Analitico!$A:$A,0)),INDEX(Analitico!E:E,MATCH(Banco!$C5195,Analitico!$A:$A,0))&\"%\",\"\"),\"\")","v":"13,2038834%"},{"$f":"IF($B5195=\"SINAPI\",IF(ISNUMBER(MATCH(Banco!$C5195,Analitico!$A:$A,0)),INDEX(Analitico!F:F,MATCH(Banco!$C5195,Analitico!$A:$A,0))&\"%\",\"\"),\"\")","v":"%"}]
[{"$f":"CONCATENAR","v":"SINAPI 97131"},"SINAPI","97131","ASSENTAMENTO DE TUBO DE PVC DEFOFO OU PRFV OU RPVC PARA REDE DE ÁGUA, DN 350 MM, JUNTA ELÁSTICA INTEGRADA, INSTALADO EM LOCAL COM NÍVEL ALTO DE INTERFERÊNCIAS (NÃO INCLUI FORNECIMENTO). AF_05/2024","M","14,29",null,null,"AS",{"$f":"IF($B5204=\"SINAPI\",IF(ISNUMBER(MATCH(Banco!$C5204,Analitico!$A:$A,0)),INDEX(Analitico!E:E,MATCH(Banco!$C5204,Analitico!$A:$A,0))&\"%\",\"\"),\"\")","v":"54,5261670%"},{"$f":"IF($B5204=\"SINAPI\",IF(ISNUMBER(MATCH(Banco!$C5204,Analitico!$A:$A,0)),INDEX(Analitico!F:F,MATCH(Banco!$C5204,Analitico!$A:$A,0))&\"%\",\"\"),\"\")","v":"%"}]
[{"$f":"CONCATENAR","v":"SINAPI 97132"},"SINAPI","97132","ASSENTAMENTO DE TUBO DE PVC DEFOFO OU PRFV OU RPVC PARA REDE DE ÁGUA, DN 400 MM, JUNTA ELÁSTICA INTEGRADA, INSTALADO EM LOCAL COM NÍVEL ALTO DE INTERFERÊNCIAS (NÃO INCLUI FORNECIMENTO). AF_05/2024","M","16,01",null,null,"AS",{"$f":"IF($B5205=\"SINAPI\",IF(ISNUMBER(MATCH(Banco!$C5205,Analitico!$A:$A,0)),INDEX(Analitico!E:E,MATCH(Banco!$C5205,Analitico!$A:$A,0))&\"%\",\"\"),\"\")","v":"54,5110411%"},{"$f":"IF($B5205=\"SINAPI\",IF(ISNUMBER(MATCH(Banco!$C5205,Analitico!$A:$A,0)),INDEX(Analitico!F:F,MATCH(Banco!$C5205,Analitico!$A:$A,0))&\"%\",\"\"),\"\")","v":"%"}]
[{"$f":"CONCATENAR","v":"SINAPI 103089"},"SINAPI","103089","ASSENTAMENTO DE TUBO DE FERRO FUNDIDO PARA REDE DE ÁGUA, DN 80 MM, JUNTA FLANGEADA (NÃO INCLUI O FORNECIMENTO). AF_09/2021","M","11,38",null,null,"CR",{"$f":"IF($B5214=\"SINAPI\",IF(ISNUMBER(MATCH(Banco!$C5214,Analitico!$A:$A,0)),INDEX(Analitico!E:E,MATCH(Banco!$C5214,Analitico!$A:$A,0))&\"%\",\"\"),\"\")","v":"38,8046388%"},{"$f":"IF($B5214=\"SINAPI\",IF(ISNUMBER(MATCH(Banco!$C5214,Analitico!$A:$A,0)),INDEX(Analitico!F:F,MATCH(Banco!$C5214,Analitico!$A:$A,0))&\"%\",\"\"),\"\")","v":"%"}]
[{"$f":"CONCATENAR","v":"SINAPI 103103"},"SINAPI","103103","ASSENTAMENTO DE TUBO DE FERRO FUNDIDO PARA REDE DE ÁGUA, DN 1000 MM, JUNTA FLANGEADA (NÃO INCLUI O FORNECIMENTO). AF_09/2021","M","133,35",null,null,"CR",{"$f":"IF($B5228=\"SINAPI\",IF(ISNUMBER(MATCH(Banco!$C5228,Analitico!$A:$A,0)),INDEX(Analitico!E:E,MATCH(Banco!$C5228,Analitico!$A:$A,0))&\"%\",\"\"),\"\")","v":"41,7035981%"},{"$f":"IF($B5228=\"SINAPI\",IF(ISNUMBER(MATCH(Banco!$C5228,Analitico!$A:$A,0)),INDEX(Analitico!F:F,MATCH(Banco!$C5228,Analitico!$A:$A,0))&\"%\",\"\"),\"\")","v":"%"}]
[{"$f":"CONCATENAR","v":"SINAPI 103108"},"SINAPI","103108","ASSENTAMENTO DE CONEXÃO COM 2 ACESSOS, FERRO FUNDIDO PARA REDE DE ÁGUA, DN  200 MM, JUNTA FLANGEADA (NÃO INCLUI O FORNECIMENTO). AF_09/2021","UN","103,72",null,null,"CR",{"$f":"IF($B5233=\"SINAPI\",IF(ISNUMBER(MATCH(Banco!$C5233,Analitico!$A:$A,0)),INDEX(Analitico!E:E,MATCH(Banco!$C5233,Analitico!$A:$A,0))&\"%\",\"\"),\"\")","v":"35,8198861%"},{"$f":"IF($B5233=\"SINAPI\",IF(ISNUMBER(MATCH(Banco!$C5233,Analitico!$A:$A,0)),INDEX(Analitico!F:F,MATCH(Banco!$C5233,Analitico!$A:$A,0))&\"%\",\"\"),\"\")","v":"%"}]
[{"$f":"CONCATENAR","v":"SINAPI 103117"},"SINAPI","103117","ASSENTAMENTO DE CONEXÃO COM 2 ACESSOS, FERRO FUNDIDO PARA REDE DE ÁGUA, DN  800 MM, JUNTA FLANGEADA (NÃO INCLUI O FORNECIMENTO). AF_09/2021","UN","555,24",null,null,"CR",{"$f":"IF($B5242=\"SINAPI\",IF(ISNUMBER(MATCH(Banco!$C5242,Analitico!$A:$A,0)),INDEX(Analitico!E:E,MATCH(Banco!$C5242,Analitico!$A:$A,0))&\"%\",\"\"),\"\")","v":"39,0629787%"},{"$f":"IF($B5242=\"SINAPI\",IF(ISNUMBER(MATCH(Banco!$C5242,Analitico!$A:$A,0)),INDEX(Analitico!F:F,MATCH(Banco!$C5242,Analitico!$A:$A,0))&\"%\",\"\"),\"\")","v":"%"}]
[{"$f":"CONCATENAR","v":"SINAPI 103126"},"SINAPI","103126","ASSENTAMENTO DE CONEXÃO COM 3 ACESSOS, FERRO FUNDIDO PARA REDE DE ÁGUA, DN  300 MM, JUNTA FLANGEADA (NÃO INCLUI O FORNECIMENTO). AF_09/2021","UN","281,07",null,null,"CR",{"$f":"IF($B5251=\"SINAPI\",IF(ISNUMBER(MATCH(Banco!$C5251,Analitico!$A:$A,0)),INDEX(Analitico!E:E,MATCH(Banco!$C5251,Analitico!$A:$A,0))&\"%\",\"\"),\"\")","v":"38,3358258%"},{"$f":"IF($B5251=\"SINAPI\",IF(ISNUMBER(MATCH(Banco!$C5251,Analitico!$A:$A,0)),INDEX(Analitico!F:F,MATCH(Banco!$C5251,Analitico!$A:$A,0))&\"%\",\"\"),\"\")","v":"%"}]
[{"$f":"CONCATENAR","v":"SINAPI 103135"},"SINAPI","103135","ASSENTAMENTO DE CONEXÃO COM 3 ACESSOS, FERRO FUNDIDO PARA REDE DE ÁGUA, DN  1000 MM, JUNTA FLANGEADA (NÃO INCLUI O FORNECIMENTO). AF_09/2021","UN","1.027,77",null,null,"CR",{"$f":"IF($B5260=\"SINAPI\",IF(ISNUMBER(MATCH(Banco!$C5260,Analitico!$A:$A,0)),INDEX(Analitico!E:E,MATCH(Banco!$C5260,Analitico!$A:$A,0))&\"%\",\"\"),\"\")","v":"39,4032293%"},{"$f":"IF($B5260=\"SINAPI\",IF(ISNUMBER(MATCH(Banco!$C5260,Analitico!$A:$A,0)),INDEX(Analitico!F:F,MATCH(Banco!$C5260,Analitico!$A:$A,0))&\"%\",\"\"),\"\")","v":"%"}]
[{"$f":"CONCATENAR","v":"SINAPI 103140"},"SINAPI","103140","ASSENTAMENTO DE CONEXÃO COM 1 ACESSO, FERRO FUNDIDO PARA REDE DE ÁGUA, DN  200 MM, JUNTA FLANGEADA (NÃO INCLUI O FORNECIMENTO). AF_09/2021","UN","60,98",null,null,"CR",{"$f":"IF($B5265=\"SINAPI\",IF(ISNUMBER(MATCH(Banco!$C5265,Analitico!$A:$A,0)),INDEX(Analitico!E:E,MATCH(Banco!$C5265,Analitico!$A:$A,0))&\"%\",\"\"),\"\")","v":"33,0042777%"},{"$f":"IF($B5265=\"SINAPI\",IF(ISNUMBER(MATCH(Banco!$C5265,Analitico!$A:$A,0)),INDEX(Analitico!F:F,MATCH(Banco!$C5265,Analitico!$A:$A,0))&\"%\",\"\"),\"\")","v":"%"}]
[{"$f":"CONCATENAR","v":"SINAPI 103146"},"SINAPI","103146","ASSENTAMENTO DE CONEXÃO COM 1 ACESSO, FERRO FUNDIDO PARA REDE DE ÁGUA, DN  500 MM, JUNTA FLANGEADA (NÃO INCLUI O FORNECIMENTO). AF_09/2021","UN","195,59",null,null,"CR",{"$f":"IF($B5271=\"SINAPI\",IF(ISNUMBER(MATCH(Banco!$C5271,Analitico!$A:$A,0)),INDEX(Analitico!E:E,MATCH(Banco!$C5271,Analitico!$A:$A,0))&\"%\",\"\"),\"\")","v":"37,6906543%"},{"$f":"IF($B5271=\"SINAPI\",IF(ISNUMBER(MATCH(Banco!$C5271,Analitico!$A:$A,0)),INDEX(Analitico!F:F,MATCH(Banco!$C5271,Analitico!$A:$A,0))&\"%\",\"\"),\"\")","v":"%"}]
[{"$f":"CONCATENAR","v":"SINAPI 103376"},"SINAPI","103376","TUBO PEAD LISO PARA REDE DE ÁGUA OU ESGOTO, DIÂMETRO DE 110 MM, JUNTA SOLDADA (NÃO INCLUI A EXECUÇÃO DE SOLDA) - FORNECIMENTO E ASSENTAMENTO. AF_12/2021","M","114,78",null,null,"CR",{"$f":"IF($B5280=\"SINAPI\",IF(ISNUMBER(MATCH(Banco!$C5280,Analitico!$A:$A,0)),INDEX(Analitico!E:E,MATCH(Banco!$C5280,Analitico!$A:$A,0))&\"%\",\"\"),\"\")","v":"0,7060669%"},{"$f":"IF($B5280=\"SINAPI\",IF(ISNUMBER(MATCH(Banco!$C5280,Analitico!$A:$A,0)),INDEX(Analitico!F:F,MATCH(Banco!$C5280,Analitico!$A:$A,0))&\"%\",\"\"),\"\")","v":"%"}]
[{"$f":"CONCATENAR","v":"SINAPI 103393"},"SINAPI","103393","TUBO PEAD LISO PARA REDE DE ÁGUA OU ESGOTO, DIÂMETRO DE 1000 MM, JUNTA SOLDADA (NÃO INCLUI A EXECUÇÃO DE SOLDA) - FORNECIMENTO E ASSENTAMENTO. AF_12/2021","M","4.688,86",null,null,"CR",{"$f":"IF($B5289=\"SINAPI\",IF(ISNUMBER(MATCH(Banco!$C5289,Analitico!$A:$A,0)),INDEX(Analitico!E:E,MATCH(Banco!$C5289,Analitico!$A:$A,0))&\"%\",\"\"),\"\")","v":"0,2776895%"},{"$f":"IF($B5289=\"SINAPI\",IF(ISNUMBER(MATCH(Banco!$C5289,Analitico!$A:$A,0)),INDEX(Analitico!F:F,MATCH(Banco!$C5289,Analitico!$A:$A,0))&\"%\",\"\"),\"\")","v":"%"}]
[{"$f":"CONCATENAR","v":"SINAPI 103405"},"SINAPI","103405","ASSENTAMENTO DE CONEXÃO COM 2 ACESSOS, EM PEAD LISO PARA REDE DE ÁGUA OU ESGOTO, DIÂMETRO DE 225 MM, JUNTA SOLDADA (NÃO INCLUI O FORNECIMENTO E EXECUÇÃO DE SOLDA). AF_12/2021","UN","39,08",null,null,"CR",{"$f":"IF($B5298=\"SINAPI\",IF(ISNUMBER(MATCH(Banco!$C5298,Analitico!$A:$A,0)),INDEX(Analitico!E:E,MATCH(Banco!$C5298,Analitico!$A:$A,0))&\"%\",\"\"),\"\")","v":"73,3213737%"},{"$f":"IF($B5298=\"SINAPI\",IF(ISNUMBER(MATCH(Banco!$C5298,Analitico!$A:$A,0)),INDEX(Analitico!F:F,MATCH(Banco!$C5298,Analitico!$A:$A,0))&\"%\",\"\"),\"\")","v":"%"}]
[{"$f":"CONCATENAR","v":"SINAPI 103414"},"SINAPI","103414","ASSENTAMENTO DE CONEXÃO COM 3 ACESSOS, EM PEAD LISO PARA REDE DE ÁGUA OU ESGOTO, DIÂMETRO DE 90 MM, JUNTA SOLDADA (NÃO INCLUI O FORNECIMENTO E EXECUÇÃO DE SOLDA). AF_12/2021","UN","31,27",null,null,"CR",{"$f":"IF($B5307=\"SINAPI\",IF(ISNUMBER(MATCH(Banco!$C5307,Analitico!$A:$A,0)),INDEX(Analitico!E:E,MATCH(Banco!$C5307,Analitico!$A:$A,0))&\"%\",\"\"),\"\")","v":"73,3333334%"},{"$f":"IF($B5307=\"SINAPI\",IF(ISNUMBER(MATCH(Banco!$C5307,Analitico!$A:$A,0)),INDEX(Analitico!F:F,MATCH(Banco!$C5307,Analitico!$A:$A,0))&\"%\",\"\"),\"\")","v":"%"}]
[{"$f":"CONCATENAR","v":"SINAPI 103420"},"SINAPI","103420","ASSENTAMENTO DE CONEXÃO COM 3 ACESSOS, EM PEAD LISO PARA REDE DE ÁGUA OU ESGOTO, DIÂMETRO DE 250 MM, JUNTA SOLDADA (NÃO INCLUI O FORNECIMENTO E EXECUÇÃO DE SOLDA). AF_12/2021","UN","86,87",null,null,"CR",{"$f":"IF($B5313=\"SINAPI\",IF(ISNUMBER(MATCH(Banco!$C5313,Analitico!$A:$A,0)),INDEX(Analitico!E:E,MATCH(Banco!$C5313,Analitico!$A:$A,0))&\"%\",\"\"),\"\")","v":"73,2603687%"},{"$f":"IF($B5313=\"SINAPI\",IF(ISNUMBER(MATCH(Banco!$C5313,Analitico!$A:$A,0)),INDEX(Analitico!F:F,MATCH(Banco!$C5313,Analitico!$A:$A,0))&\"%\",\"\"),\"\")","v":"%"}]
[{"$f":"CONCATENAR","v":"SINAPI 103433"},"SINAPI","103433","COTOVELO 90 GRAUS, EM PEAD LISO PARA REDE DE ÁGUA OU ESGOTO, DIÂMETRO DE 20 MM, JUNTA SOLDADA POR ELETROFUSÃO (NÃO INCLUI A EXECUÇÃO DE SOLDA). AF_12/2021","UN","29,87",null,null,"CR",{"$f":"IF($B5326=\"SINAPI\",IF(ISNUMBER(MATCH(Banco!$C5326,Analitico!$A:$A,0)),INDEX(Analitico!E:E,MATCH(Banco!$C5326,Analitico!$A:$A,0))&\"%\",\"\"),\"\")","v":"8,4842387%"},{"$f":"IF($B5326=\"SINAPI\",IF(ISNUMBER(MATCH(Banco!$C5326,Analitico!$A:$A,0)),INDEX(Analitico!F:F,MATCH(Banco!$C5326,Analitico!$A:$A,0))&\"%\",\"\"),\"\")","v":"%"}]
[{"$f":"CONCATENAR","v":"SINAPI 103442"},"SINAPI","103442","TÊ DE SERVIÇO, EM PEAD LISO PARA REDE DE ÁGUA OU ESGOTO, DIÂMETRO DE 200 X 63 MM, JUNTA SOLDADA POR ELETROFUSÃO (NÃO INCLUI A EXECUÇÃO DE SOLDA). AF_12/2021","UN","476,22",null,null,"CR",{"$f":"IF($B5335=\"SINAPI\",IF(ISNUMBER(MATCH(Banco!$C5335,Analitico!$A:$A,0)),INDEX(Analitico!E:E,MATCH(Banco!$C5335,Analitico!$A:$A,0))&\"%\",\"\"),\"\")","v":"10,6833837%"},{"$f":"IF($B5335=\"SINAPI\",IF(ISNUMBER(MATCH(Banco!$C5335,Analitico!$A:$A,0)),INDEX(Analitico!F:F,MATCH(Banco!$C5335,Analitico!$A:$A,0))&\"%\",\"\"),\"\")","v":"%"}]
[{"$f":"CONCATENAR","v":"SINAPI 98441"},"SINAPI","98441","PAREDE DE MADEIRA COMPENSADA PARA CONSTRUÇÃO TEMPORÁRIA EM CHAPA SIMPLES, EXTERNA, SEM VÃO. AF_03/2024","M2","99,23",null,null,"CR",{"$f":"IF($B5336=\"SINAPI\",IF(ISNUMBER(MATCH(Banco!$C5336,Analitico!$A:$A,0)),INDEX(Analitico!E:E,MATCH(Banco!$C5336,Analitico!$A:$A,0))&\"%\",\"\"),\"\")","v":"27,4131663%"},{"$f":"IF($B5336=\"SINAPI\",IF(ISNUMBER(MATCH(Banco!$C5336,Analitico!$A:$A,0)),INDEX(Analitico!F:F,MATCH(Banco!$C5336,Analitico!$A:$A,0))&\"%\",\"\"),\"\")","v":"%"}]
[{"$f":"CONCATENAR","v":"SINAPI 98454"},"SINAPI","98454","PAREDE DE MADEIRA COMPENSADA PARA CONSTRUÇÃO TEMPORÁRIA EM CHAPA DUPLA, EXTERNA, COM ÁREA LÍQUIDA MENOR QUE 6 M², COM VÃO. AF_03/2024","M2","200,91",null,null,"CR",{"$f":"IF($B5345=\"SINAPI\",IF(ISNUMBER(MATCH(Banco!$C5345,Analitico!$A:$A,0)),INDEX(Analitico!E:E,MATCH(Banco!$C5345,Analitico!$A:$A,0))&\"%\",\"\"),\"\")","v":"29,8704534%"},{"$f":"IF($B5345=\"SINAPI\",IF(ISNUMBER(MATCH(Banco!$C5345,Analitico!$A:$A,0)),INDEX(Analitico!F:F,MATCH(Banco!$C5345,Analitico!$A:$A,0))&\"%\",\"\"),\"\")","v":"%"}]
[{"$f":"CONCATENAR","v":"SINAPI 105128"},"SINAPI","105128","INSTALAÇÃO DE CONCERTINA FLAT, ESPIRAL DE 300 MM. AF_03/2024","M","82,03",null,null,"CR",{"$f":"IF($B5359=\"SINAPI\",IF(ISNUMBER(MATCH(Banco!$C5359,Analitico!$A:$A,0)),INDEX(Analitico!E:E,MATCH(Banco!$C5359,Analitico!$A:$A,0))&\"%\",\"\"),\"\")","v":"19,6095179%"},{"$f":"IF($B5359=\"SINAPI\",IF(ISNUMBER(MATCH(Banco!$C5359,Analitico!$A:$A,0)),INDEX(Analitico!F:F,MATCH(Banco!$C5359,Analitico!$A:$A,0))&\"%\",\"\"),\"\")","v":"%"}]
[{"$f":"CONCATENAR","v":"SINAPI 5684"},"SINAPI","5684","ROLO COMPACTADOR VIBRATÓRIO DE UM CILINDRO AÇO LISO, POTÊNCIA 80 HP, PESO OPERACIONAL MÁXIMO 8,1 T, IMPACTO DINÂMICO 16,15 / 9,5 T, LARGURA DE TRABALHO 1,68 M - CHP DIURNO. AF_06/2014","CHP","167,00",null,null,"AS",{"$f":"IF($B5364=\"SINAPI\",IF(ISNUMBER(MATCH(Banco!$C5364,Analitico!$A:$A,0)),INDEX(Analitico!E:E,MATCH(Banco!$C5364,Analitico!$A:$A,0))&\"%\",\"\"),\"\")","v":"15,1137724%"},{"$f":"IF($B5364=\"SINAPI\",IF(ISNUMBER(MATCH(Banco!$C5364,Analitico!$A:$A,0)),INDEX(Analitico!F:F,MATCH(Banco!$C5364,Analitico!$A:$A,0))&\"%\",\"\"),\"\")","v":"%"}]
[{"$f":"CONCATENAR","v":"SINAPI 5847"},"SINAPI","5847","TRATOR DE ESTEIRAS, POTÊNCIA 170 HP, PESO OPERACIONAL 19 T, CAÇAMBA 5,2 M3 - CHP DIURNO. AF_06/2014","CHP","271,89",null,null,"AS",{"$f":"IF($B5373=\"SINAPI\",IF(ISNUMBER(MATCH(Banco!$C5373,Analitico!$A:$A,0)),INDEX(Analitico!E:E,MATCH(Banco!$C5373,Analitico!$A:$A,0))&\"%\",\"\"),\"\")","v":"11,0853654%"},{"$f":"IF($B5373=\"SINAPI\",IF(ISNUMBER(MATCH(Banco!$C5373,Analitico!$A:$A,0)),INDEX(Analitico!F:F,MATCH(Banco!$C5373,Analitico!$A:$A,0))&\"%\",\"\"),\"\")","v":"%"}]
[{"$f":"CONCATENAR","v":"SINAPI 5894"},"SINAPI","5894","CAMINHÃO TOCO, PESO BRUTO TOTAL 16.000 KG, CARGA ÚTIL MÁXIMA DE 10.685 KG, DISTÂNCIA ENTRE EIXOS 4,80 M, POTÊNCIA 189 CV EXCLUSIVE CARROCERIA - CHP DIURNO. AF_06/2014","CHP","212,16",null,null,"CR",{"$f":"IF($B5382=\"SINAPI\",IF(ISNUMBER(MATCH(Banco!$C5382,Analitico!$A:$A,0)),INDEX(Analitico!E:E,MATCH(Banco!$C5382,Analitico!$A:$A,0))&\"%\",\"\"),\"\")","v":"9,1723227%"},{"$f":"IF($B5382=\"SINAPI\",IF(ISNUMBER(MATCH(Banco!$C5382,Analitico!$A:$A,0)),INDEX(Analitico!F:F,MATCH(Banco!$C5382,Analitico!$A:$A,0))&\"%\",\"\"),\"\")","v":"%"}]
[{"$f":"CONCATENAR","v":"SINAPI 6259"},"SINAPI","6259","CAMINHÃO PIPA 6.000 L, PESO BRUTO TOTAL 13.000 KG, DISTÂNCIA ENTRE EIXOS 4,80 M, POTÊNCIA 189 CV INCLUSIVE TANQUE DE AÇO PARA TRANSPORTE DE ÁGUA, CAPACIDADE 6 M3 - CHP DIURNO. AF_06/2014","CHP","255,69",null,null,"AS",{"$f":"IF($B5391=\"SINAPI\",IF(ISNUMBER(MATCH(Banco!$C5391,Analitico!$A:$A,0)),INDEX(Analitico!E:E,MATCH(Banco!$C5391,Analitico!$A:$A,0))&\"%\",\"\"),\"\")","v":"7,6107786%"},{"$f":"IF($B5391=\"SINAPI\",IF(ISNUMBER(MATCH(Banco!$C5391,Analitico!$A:$A,0)),INDEX(Analitico!F:F,MATCH(Banco!$C5391,Analitico!$A:$A,0))&\"%\",\"\"),\"\")","v":"%"}]
[{"$f":"CONCATENAR","v":"SINAPI 67826"},"SINAPI","67826","CAMINHÃO BASCULANTE 6 M3 TOCO, PESO BRUTO TOTAL 16.000 KG, CARGA ÚTIL MÁXIMA 11.130 KG, DISTÂNCIA ENTRE EIXOS 5,36 M, POTÊNCIA 185 CV, INCLUSIVE CAÇAMBA METÁLICA - CHP DIURNO. AF_06/2014","CHP","189,89",null,null,"CR",{"$f":"IF($B5396=\"SINAPI\",IF(ISNUMBER(MATCH(Banco!$C5396,Analitico!$A:$A,0)),INDEX(Analitico!E:E,MATCH(Banco!$C5396,Analitico!$A:$A,0))&\"%\",\"\"),\"\")","v":"10,6430038%"},{"$f":"IF($B5396=\"SINAPI\",IF(ISNUMBER(MATCH(Banco!$C5396,Analitico!$A:$A,0)),INDEX(Analitico!F:F,MATCH(Banco!$C5396,Analitico!$A:$A,0))&\"%\",\"\"),\"\")","v":"%"}]
[{"$f":"CONCATENAR","v":"SINAPI 83765"},"SINAPI","83765","GRUPO DE SOLDAGEM COM GERADOR A DIESEL 60 CV PARA SOLDA ELÉTRICA, SOBRE 04 RODAS, COM MOTOR 4 CILINDROS 600 A - CHP DIURNO. AF_02/2016","CHP","100,40",null,null,"AS",{"$f":"IF($B5402=\"SINAPI\",IF(ISNUMBER(MATCH(Banco!$C5402,Analitico!$A:$A,0)),INDEX(Analitico!E:E,MATCH(Banco!$C5402,Analitico!$A:$A,0))&\"%\",\"\"),\"\")","v":"21,8824701%"},{"$f":"IF($B5402=\"SINAPI\",IF(ISNUMBER(MATCH(Banco!$C5402,Analitico!$A:$A,0)),INDEX(Analitico!F:F,MATCH(Banco!$C5402,Analitico!$A:$A,0))&\"%\",\"\"),\"\")","v":"%"}]
[{"$f":"CONCATENAR","v":"SINAPI 88907"},"SINAPI","88907","ESCAVADEIRA HIDRÁULICA SOBRE ESTEIRAS, CAÇAMBA 1,20 M3, PESO OPERACIONAL 21 T, POTÊNCIA BRUTA 155 HP - CHP DIURNO. AF_06/2014","CHP","249,58",null,null,"AS",{"$f":"IF($B5411=\"SINAPI\",IF(ISNUMBER(MATCH(Banco!$C5411,Analitico!$A:$A,0)),INDEX(Analitico!E:E,MATCH(Banco!$C5411,Analitico!$A:$A,0))&\"%\",\"\"),\"\")","v":"11,2348745%"},{"$f":"IF($B5411=\"SINAPI\",IF(ISNUMBER(MATCH(Banco!$C5411,Analitico!$A:$A,0)),INDEX(Analitico!F:F,MATCH(Banco!$C5411,Analitico!$A:$A,0))&\"%\",\"\"),\"\")","v":"%"}]
[{"$f":"CONCATENAR","v":"SINAPI 89257"},"SINAPI","89257","VIBROACABADORA DE ASFALTO SOBRE ESTEIRAS, LARGURA DE PAVIMENTAÇÃO 2,13 M A 4,55 M, POTÊNCIA 100 HP CAPACIDADE 400 T/H - CHP DIURNO. AF_11/2014","CHP","338,78",null,null,"AS",{"$f":"IF($B5420=\"SINAPI\",IF(ISNUMBER(MATCH(Banco!$C5420,Analitico!$A:$A,0)),INDEX(Analitico!E:E,MATCH(Banco!$C5420,Analitico!$A:$A,0))&\"%\",\"\"),\"\")","v":"9,1268669%"},{"$f":"IF($B5420=\"SINAPI\",IF(ISNUMBER(MATCH(Banco!$C5420,Analitico!$A:$A,0)),INDEX(Analitico!F:F,MATCH(Banco!$C5420,Analitico!$A:$A,0))&\"%\",\"\"),\"\")","v":"%"}]
[{"$f":"CONCATENAR","v":"SINAPI 90637"},"SINAPI","90637","MISTURADOR DUPLO HORIZONTAL DE ALTA TURBULÊNCIA, CAPACIDADE / VOLUME 2 X 500 LITROS, MOTORES ELÉTRICOS MÍNIMO 5 CV CADA, PARA NATA CIMENTO, ARGAMASSA E OUTROS - CHP DIURNO. AF_06/2015","CHP","14,39",null,null,"CR",{"$f":"IF($B5429=\"SINAPI\",IF(ISNUMBER(MATCH(Banco!$C5429,Analitico!$A:$A,0)),INDEX(Analitico!E:E,MATCH(Banco!$C5429,Analitico!$A:$A,0))&\"%\",\"\"),\"\")","v":"0,0000000%"},{"$f":"IF($B5429=\"SINAPI\",IF(ISNUMBER(MATCH(Banco!$C5429,Analitico!$A:$A,0)),INDEX(Analitico!F:F,MATCH(Banco!$C5429,Analitico!$A:$A,0))&\"%\",\"\"),\"\")","v":"%"}]
[{"$f":"CONCATENAR","v":"SINAPI 90991"},"SINAPI","90991","ESCAVADEIRA HIDRÁULICA SOBRE ESTEIRAS, CAÇAMBA 0,80 M3, PESO OPERACIONAL 17,8 T, POTÊNCIA LÍQUIDA 110 HP - CHP DIURNO. AF_10/2014","CHP","205,40",null,null,"AS",{"$f":"IF($B5442=\"SINAPI\",IF(ISNUMBER(MATCH(Banco!$C5442,Analitico!$A:$A,0)),INDEX(Analitico!E:E,MATCH(Banco!$C5442,Analitico!$A:$A,0))&\"%\",\"\"),\"\")","v":"13,6514118%"},{"$f":"IF($B5442=\"SINAPI\",IF(ISNUMBER(MATCH(Banco!$C5442,Analitico!$A:$A,0)),INDEX(Analitico!F:F,MATCH(Banco!$C5442,Analitico!$A:$A,0))&\"%\",\"\"),\"\")","v":"%"}]
[{"$f":"CONCATENAR","v":"SINAPI 91533"},"SINAPI","91533","COMPACTADOR DE SOLOS DE PERCUSSÃO (SOQUETE) COM MOTOR A GASOLINA 4 TEMPOS, POTÊNCIA 4 CV - CHP DIURNO. AF_08/2015","CHP","43,30",null,null,"CR",{"$f":"IF($B5448=\"SINAPI\",IF(ISNUMBER(MATCH(Banco!$C5448,Analitico!$A:$A,0)),INDEX(Analitico!E:E,MATCH(Banco!$C5448,Analitico!$A:$A,0))&\"%\",\"\"),\"\")","v":"69,6073904%"},{"$f":"IF($B5448=\"SINAPI\",IF(ISNUMBER(MATCH(Banco!$C5448,Analitico!$A:$A,0)),INDEX(Analitico!F:F,MATCH(Banco!$C5448,Analitico!$A:$A,0))&\"%\",\"\"),\"\")","v":"%"}]
[{"$f":"CONCATENAR","v":"SINAPI 92145"},"SINAPI","92145","CAMINHONETE CABINE SIMPLES COM MOTOR 1.6 FLEX, CÂMBIO MANUAL, POTÊNCIA 101/104 CV, 2 PORTAS - CHP DIURNO. AF_11/2015","CHP","75,56",null,null,"CR",{"$f":"IF($B5457=\"SINAPI\",IF(ISNUMBER(MATCH(Banco!$C5457,Analitico!$A:$A,0)),INDEX(Analitico!E:E,MATCH(Banco!$C5457,Analitico!$A:$A,0))&\"%\",\"\"),\"\")","v":"22,8560084%"},{"$f":"IF($B5457=\"SINAPI\",IF(ISNUMBER(MATCH(Banco!$C5457,Analitico!$A:$A,0)),INDEX(Analitico!F:F,MATCH(Banco!$C5457,Analitico!$A:$A,0))&\"%\",\"\"),\"\")","v":"%"}]
[{"$f":"CONCATENAR","v":"SINAPI 93287"},"SINAPI","93287","GUINDASTE HIDRÁULICO AUTOPROPELIDO, COM LANÇA TELESCÓPICA 40 M, CAPACIDADE MÁXIMA 60 T, POTÊNCIA 260 KW - CHP DIURNO. AF_03/2016","CHP","359,83",null,null,"CR",{"$f":"IF($B5466=\"SINAPI\",IF(ISNUMBER(MATCH(Banco!$C5466,Analitico!$A:$A,0)),INDEX(Analitico!E:E,MATCH(Banco!$C5466,Analitico!$A:$A,0))&\"%\",\"\"),\"\")","v":"11,5054331%"},{"$f":"IF($B5466=\"SINAPI\",IF(ISNUMBER(MATCH(Banco!$C5466,Analitico!$A:$A,0)),INDEX(Analitico!F:F,MATCH(Banco!$C5466,Analitico!$A:$A,0))&\"%\",\"\"),\"\")","v":"%"}]
[{"$f":"CONCATENAR","v":"SINAPI 93402"},"SINAPI","93402","GUINDAUTO HIDRÁULICO, CAPACIDADE MÁXIMA DE CARGA 3300 KG, MOMENTO MÁXIMO DE CARGA 5,8 TM, ALCANCE MÁXIMO HORIZONTAL 7,60 M, INCLUSIVE CAMINHÃO TOCO PBT 16.000 KG, POTÊNCIA DE 189 CV - CHP DIURNO. AF_03/2016","CHP","272,54",null,null,"CR",{"$f":"IF($B5467=\"SINAPI\",IF(ISNUMBER(MATCH(Banco!$C5467,Analitico!$A:$A,0)),INDEX(Analitico!E:E,MATCH(Banco!$C5467,Analitico!$A:$A,0))&\"%\",\"\"),\"\")","v":"8,7216555%"},{"$f":"IF($B5467=\"SINAPI\",IF(ISNUMBER(MATCH(Banco!$C5467,Analitico!$A:$A,0)),INDEX(Analitico!F:F,MATCH(Banco!$C5467,Analitico!$A:$A,0))&\"%\",\"\"),\"\")","v":"%"}]
[{"$f":"CONCATENAR","v":"SINAPI 95127"},"SINAPI","95127","DISTRIBUIDOR DE AGREGADOS AUTOPROPELIDO, CAP 3 M3, A DIESEL, POTÊNCIA 176CV - CHP DIURNO. AF_07/2016","CHP","225,15",null,null,"AS",{"$f":"IF($B5475=\"SINAPI\",IF(ISNUMBER(MATCH(Banco!$C5475,Analitico!$A:$A,0)),INDEX(Analitico!E:E,MATCH(Banco!$C5475,Analitico!$A:$A,0))&\"%\",\"\"),\"\")","v":"13,3866311%"},{"$f":"IF($B5475=\"SINAPI\",IF(ISNUMBER(MATCH(Banco!$C5475,Analitico!$A:$A,0)),INDEX(Analitico!F:F,MATCH(Banco!$C5475,Analitico!$A:$A,0))&\"%\",\"\"),\"\")","v":"%"}]
[{"$f":"CONCATENAR","v":"SINAPI 95702"},"SINAPI","95702","PERFURATRIZ MANUAL, TORQUE MAXIMO 55 KGF.M, POTENCIA 5 CV, COM DIAMETRO MAXIMO 8 1/2\" - CHP DIURNO. AF_11/2016","CHP","51,05",null,null,"CR",{"$f":"IF($B5486=\"SINAPI\",IF(ISNUMBER(MATCH(Banco!$C5486,Analitico!$A:$A,0)),INDEX(Analitico!E:E,MATCH(Banco!$C5486,Analitico!$A:$A,0))&\"%\",\"\"),\"\")","v":"59,0401569%"},{"$f":"IF($B5486=\"SINAPI\",IF(ISNUMBER(MATCH(Banco!$C5486,Analitico!$A:$A,0)),INDEX(Analitico!F:F,MATCH(Banco!$C5486,Analitico!$A:$A,0))&\"%\",\"\"),\"\")","v":"%"}]
[{"$f":"CONCATENAR","v":"SINAPI 96157"},"SINAPI","96157","TRATOR DE PNEUS COM POTÊNCIA DE 85 CV, TRAÇÃO 4X4, COM VASSOURA MECÂNICA ACOPLADA - CHP DIURNO. AF_03/2017","CHP","146,16",null,null,"CR",{"$f":"IF($B5495=\"SINAPI\",IF(ISNUMBER(MATCH(Banco!$C5495,Analitico!$A:$A,0)),INDEX(Analitico!E:E,MATCH(Banco!$C5495,Analitico!$A:$A,0))&\"%\",\"\"),\"\")","v":"20,6212370%"},{"$f":"IF($B5495=\"SINAPI\",IF(ISNUMBER(MATCH(Banco!$C5495,Analitico!$A:$A,0)),INDEX(Analitico!F:F,MATCH(Banco!$C5495,Analitico!$A:$A,0))&\"%\",\"\"),\"\")","v":"%"}]
[{"$f":"CONCATENAR","v":"SINAPI 104091"},"SINAPI","104091","TERMOFUSORA PARA TUBOS E CONEXÕES EM PPR COM DIÂMETROS DE 20 A 63 MM, POTÊNCIA DE 800 W, TENSAO 220 V - CHP DIURNO. AF_05/2022","CHP","0,74",null,null,"CR",{"$f":"IF($B5504=\"SINAPI\",IF(ISNUMBER(MATCH(Banco!$C5504,Analitico!$A:$A,0)),INDEX(Analitico!E:E,MATCH(Banco!$C5504,Analitico!$A:$A,0))&\"%\",\"\"),\"\")","v":"0,0000000%"},{"$f":"IF($B5504=\"SINAPI\",IF(ISNUMBER(MATCH(Banco!$C5504,Analitico!$A:$A,0)),INDEX(Analitico!F:F,MATCH(Banco!$C5504,Analitico!$A:$A,0))&\"%\",\"\"),\"\")","v":"%"}]
[{"$f":"CONCATENAR","v":"SINAPI 5829"},"SINAPI","5829","USINA DE CONCRETO FIXA, CAPACIDADE NOMINAL DE 90 A 120 M3/H, SEM SILO - CHI DIURNO. AF_07/2016","CHI","171,85",null,null,"AS",{"$f":"IF($B5513=\"SINAPI\",IF(ISNUMBER(MATCH(Banco!$C5513,Analitico!$A:$A,0)),INDEX(Analitico!E:E,MATCH(Banco!$C5513,Analitico!$A:$A,0))&\"%\",\"\"),\"\")","v":"59,1678791%"},{"$f":"IF($B5513=\"SINAPI\",IF(ISNUMBER(MATCH(Banco!$C5513,Analitico!$A:$A,0)),INDEX(Analitico!F:F,MATCH(Banco!$C5513,Analitico!$A:$A,0))&\"%\",\"\"),\"\")","v":"%"}]
[{"$f":"CONCATENAR","v":"SINAPI 5869"},"SINAPI","5869","ROLO COMPACTADOR VIBRATÓRIO TANDEM AÇO LISO, POTÊNCIA 58 HP, PESO SEM/COM LASTRO 6,5 / 9,4 T, LARGURA DE TRABALHO 1,2 M - CHI DIURNO. AF_06/2014","CHI","79,28",null,null,"AS",{"$f":"IF($B5521=\"SINAPI\",IF(ISNUMBER(MATCH(Banco!$C5521,Analitico!$A:$A,0)),INDEX(Analitico!E:E,MATCH(Banco!$C5521,Analitico!$A:$A,0))&\"%\",\"\"),\"\")","v":"31,8365287%"},{"$f":"IF($B5521=\"SINAPI\",IF(ISNUMBER(MATCH(Banco!$C5521,Analitico!$A:$A,0)),INDEX(Analitico!F:F,MATCH(Banco!$C5521,Analitico!$A:$A,0))&\"%\",\"\"),\"\")","v":"%"}]
[{"$f":"CONCATENAR","v":"SINAPI 5942"},"SINAPI","5942","PÁ CARREGADEIRA SOBRE RODAS, POTÊNCIA LÍQUIDA 128 HP, CAPACIDADE DA CAÇAMBA 1,7 A 2,8 M3, PESO OPERACIONAL 11632 KG - CHI DIURNO. AF_06/2014","CHI","88,32",null,null,"CR",{"$f":"IF($B5532=\"SINAPI\",IF(ISNUMBER(MATCH(Banco!$C5532,Analitico!$A:$A,0)),INDEX(Analitico!E:E,MATCH(Banco!$C5532,Analitico!$A:$A,0))&\"%\",\"\"),\"\")","v":"35,0090579%"},{"$f":"IF($B5532=\"SINAPI\",IF(ISNUMBER(MATCH(Banco!$C5532,Analitico!$A:$A,0)),INDEX(Analitico!F:F,MATCH(Banco!$C5532,Analitico!$A:$A,0))&\"%\",\"\"),\"\")","v":"%"}]
[{"$f":"CONCATENAR","v":"SINAPI 5946"},"SINAPI","5946","PÁ CARREGADEIRA SOBRE RODAS, POTÊNCIA 197 HP, CAPACIDADE DA CAÇAMBA 2,5 A 3,5 M3, PESO OPERACIONAL 18338 KG - CHI DIURNO. AF_06/2014","CHI","108,71",null,null,"CR",{"$f":"IF($B5533=\"SINAPI\",IF(ISNUMBER(MATCH(Banco!$C5533,Analitico!$A:$A,0)),INDEX(Analitico!E:E,MATCH(Banco!$C5533,Analitico!$A:$A,0))&\"%\",\"\"),\"\")","v":"28,4426455%"},{"$f":"IF($B5533=\"SINAPI\",IF(ISNUMBER(MATCH(Banco!$C5533,Analitico!$A:$A,0)),INDEX(Analitico!F:F,MATCH(Banco!$C5533,Analitico!$A:$A,0))&\"%\",\"\"),\"\")","v":"%"}]
[{"$f":"CONCATENAR","v":"SINAPI 67827"},"SINAPI","67827","CAMINHÃO BASCULANTE 6 M3 TOCO, PESO BRUTO TOTAL 16.000 KG, CARGA ÚTIL MÁXIMA 11.130 KG, DISTÂNCIA ENTRE EIXOS 5,36 M, POTÊNCIA 185 CV, INCLUSIVE CAÇAMBA METÁLICA - CHI DIURNO. AF_06/2014","CHI","63,35",null,null,"CR",{"$f":"IF($B5542=\"SINAPI\",IF(ISNUMBER(MATCH(Banco!$C5542,Analitico!$A:$A,0)),INDEX(Analitico!E:E,MATCH(Banco!$C5542,Analitico!$A:$A,0))&\"%\",\"\"),\"\")","v":"31,9021310%"},{"$f":"IF($B5542=\"SINAPI\",IF(ISNUMBER(MATCH(Banco!$C5542,Analitico!$A:$A,0)),INDEX(Analitico!F:F,MATCH(Banco!$C5542,Analitico!$A:$A,0))&\"%\",\"\"),\"\")","v":"%"}]
[{"$f":"CONCATENAR","v":"SINAPI 88438"},"SINAPI","88438","PROJETOR DE ARGAMASSA, CAPACIDADE DE PROJEÇÃO 2 M3/H, ALCANCE ATÉ 50 M, MOTOR ELÉTRICO POTÊNCIA 7,5 HP - CHI DIURNO. AF_06/2014","CHI","8,16",null,null,"CR",{"$f":"IF($B5551=\"SINAPI\",IF(ISNUMBER(MATCH(Banco!$C5551,Analitico!$A:$A,0)),INDEX(Analitico!E:E,MATCH(Banco!$C5551,Analitico!$A:$A,0))&\"%\",\"\"),\"\")","v":"0,0000000%"},{"$f":"IF($B5551=\"SINAPI\",IF(ISNUMBER(MATCH(Banco!$C5551,Analitico!$A:$A,0)),INDEX(Analitico!F:F,MATCH(Banco!$C5551,Analitico!$A:$A,0))&\"%\",\"\"),\"\")","v":"%"}]
[{"$f":"CONCATENAR","v":"SINAPI 89036"},"SINAPI","89036","TRATOR DE PNEUS, POTÊNCIA 85 CV, TRAÇÃO 4X4, PESO COM LASTRO DE 4.675 KG - CHI DIURNO. AF_06/2014","CHI","53,45",null,null,"CR",{"$f":"IF($B5558=\"SINAPI\",IF(ISNUMBER(MATCH(Banco!$C5558,Analitico!$A:$A,0)),INDEX(Analitico!E:E,MATCH(Banco!$C5558,Analitico!$A:$A,0))&\"%\",\"\"),\"\")","v":"56,3891488%"},{"$f":"IF($B5558=\"SINAPI\",IF(ISNUMBER(MATCH(Banco!$C5558,Analitico!$A:$A,0)),INDEX(Analitico!F:F,MATCH(Banco!$C5558,Analitico!$A:$A,0))&\"%\",\"\"),\"\")","v":"%"}]
[{"$f":"CONCATENAR","v":"SINAPI 90626"},"SINAPI","90626","PERFURATRIZ MANUAL, TORQUE MÁXIMO 83 N.M, POTÊNCIA 5 CV, COM DIÂMETRO MÁXIMO 4\" - CHI DIURNO. AF_06/2015","CHI","3,02",null,null,"CR",{"$f":"IF($B5570=\"SINAPI\",IF(ISNUMBER(MATCH(Banco!$C5570,Analitico!$A:$A,0)),INDEX(Analitico!E:E,MATCH(Banco!$C5570,Analitico!$A:$A,0))&\"%\",\"\"),\"\")","v":"0,0000000%"},{"$f":"IF($B5570=\"SINAPI\",IF(ISNUMBER(MATCH(Banco!$C5570,Analitico!$A:$A,0)),INDEX(Analitico!F:F,MATCH(Banco!$C5570,Analitico!$A:$A,0))&\"%\",\"\"),\"\")","v":"%"}]
[{"$f":"CONCATENAR","v":"SINAPI 90681"},"SINAPI","90681","PERFURATRIZ HIDRÁULICA SOBRE CAMINHÃO COM TRADO CURTO ACOPLADO, PROFUNDIDADE MÁXIMA DE 20 M, DIÂMETRO MÁXIMO DE 1500 MM, POTÊNCIA INSTALADA DE 137 HP, MESA ROTATIVA COM TORQUE MÁXIMO DE 30 KNM - CHI DIURNO. AF_06/2015","CHI","184,80",null,null,"AS",{"$f":"IF($B5579=\"SINAPI\",IF(ISNUMBER(MATCH(Banco!$C5579,Analitico!$A:$A,0)),INDEX(Analitico!E:E,MATCH(Banco!$C5579,Analitico!$A:$A,0))&\"%\",\"\"),\"\")","v":"16,3095238%"},{"$f":"IF($B5579=\"SINAPI\",IF(ISNUMBER(MATCH(Banco!$C5579,Analitico!$A:$A,0)),INDEX(Analitico!F:F,MATCH(Banco!$C5579,Analitico!$A:$A,0))&\"%\",\"\"),\"\")","v":"%"}]
[{"$f":"CONCATENAR","v":"SINAPI 91285"},"SINAPI","91285","CORTADORA DE PISO COM MOTOR 4 TEMPOS A GASOLINA, POTÊNCIA DE 13 HP, COM DISCO DE CORTE DIAMANTADO SEGMENTADO PARA CONCRETO, DIÂMETRO DE 350 MM, FURO DE 1\" (14 X 1\") - CHI DIURNO. AF_08/2015","CHI","1,06",null,null,"CR",{"$f":"IF($B5588=\"SINAPI\",IF(ISNUMBER(MATCH(Banco!$C5588,Analitico!$A:$A,0)),INDEX(Analitico!E:E,MATCH(Banco!$C5588,Analitico!$A:$A,0))&\"%\",\"\"),\"\")","v":"0,0000000%"},{"$f":"IF($B5588=\"SINAPI\",IF(ISNUMBER(MATCH(Banco!$C5588,Analitico!$A:$A,0)),INDEX(Analitico!F:F,MATCH(Banco!$C5588,Analitico!$A:$A,0))&\"%\",\"\"),\"\")","v":"%"}]
[{"$f":"CONCATENAR","v":"SINAPI 92107"},"SINAPI","92107","CAMINHÃO PARA EQUIPAMENTO DE LIMPEZA A SUCÇÃO COM CAMINHÃO TRUCADO DE PESO BRUTO TOTAL 23000 KG, CARGA ÚTIL MÁXIMA 15935 KG, DISTÂNCIA ENTRE EIXOS 4,80 M, POTÊNCIA 230 CV, INCLUSIVE LIMPADORA A SUCÇÃO, TANQUE 12000 L - CHI DIURNO. AF_05/2023","CHI","91,86",null,null,"AS",{"$f":"IF($B5597=\"SINAPI\",IF(ISNUMBER(MATCH(Banco!$C5597,Analitico!$A:$A,0)),INDEX(Analitico!E:E,MATCH(Banco!$C5597,Analitico!$A:$A,0))&\"%\",\"\"),\"\")","v":"21,1844110%"},{"$f":"IF($B5597=\"SINAPI\",IF(ISNUMBER(MATCH(Banco!$C5597,Analitico!$A:$A,0)),INDEX(Analitico!F:F,MATCH(Banco!$C5597,Analitico!$A:$A,0))&\"%\",\"\"),\"\")","v":"%"}]
[{"$f":"CONCATENAR","v":"SINAPI 92961"},"SINAPI","92961","MÁQUINA EXTRUSORA DE CONCRETO PARA GUIAS E SARJETAS, MOTOR A DIESEL, POTÊNCIA 14 CV - CHI DIURNO. AF_12/2015","CHI","5,29",null,null,"AS",{"$f":"IF($B5604=\"SINAPI\",IF(ISNUMBER(MATCH(Banco!$C5604,Analitico!$A:$A,0)),INDEX(Analitico!E:E,MATCH(Banco!$C5604,Analitico!$A:$A,0))&\"%\",\"\"),\"\")","v":"0,0000000%"},{"$f":"IF($B5604=\"SINAPI\",IF(ISNUMBER(MATCH(Banco!$C5604,Analitico!$A:$A,0)),INDEX(Analitico!F:F,MATCH(Banco!$C5604,Analitico!$A:$A,0))&\"%\",\"\"),\"\")","v":"%"}]
[{"$f":"CONCATENAR","v":"SINAPI 93244"},"SINAPI","93244","ROLO COMPACTADOR VIBRATÓRIO PÉ DE CARNEIRO PARA SOLOS, POTÊNCIA 80 HP, PESO OPERACIONAL SEM/COM LASTRO 7,4 / 8,8 T, LARGURA DE TRABALHO 1,68 M - CHI DIURNO. AF_02/2016","CHI","71,77",null,null,"AS",{"$f":"IF($B5608=\"SINAPI\",IF(ISNUMBER(MATCH(Banco!$C5608,Analitico!$A:$A,0)),INDEX(Analitico!E:E,MATCH(Banco!$C5608,Analitico!$A:$A,0))&\"%\",\"\"),\"\")","v":"35,1678974%"},{"$f":"IF($B5608=\"SINAPI\",IF(ISNUMBER(MATCH(Banco!$C5608,Analitico!$A:$A,0)),INDEX(Analitico!F:F,MATCH(Banco!$C5608,Analitico!$A:$A,0))&\"%\",\"\"),\"\")","v":"%"}]
[{"$f":"CONCATENAR","v":"SINAPI 93434"},"SINAPI","93434","USINA DE MISTURA ASFÁLTICA À QUENTE, TIPO CONTRA FLUXO, PROD 40 A 80 TON/HORA - CHI DIURNO. AF_05/2023","CHI","352,98",null,null,"AS",{"$f":"IF($B5617=\"SINAPI\",IF(ISNUMBER(MATCH(Banco!$C5617,Analitico!$A:$A,0)),INDEX(Analitico!E:E,MATCH(Banco!$C5617,Analitico!$A:$A,0))&\"%\",\"\"),\"\")","v":"28,8061646%"},{"$f":"IF($B5617=\"SINAPI\",IF(ISNUMBER(MATCH(Banco!$C5617,Analitico!$A:$A,0)),INDEX(Analitico!F:F,MATCH(Banco!$C5617,Analitico!$A:$A,0))&\"%\",\"\"),\"\")","v":"%"}]
[{"$f":"CONCATENAR","v":"SINAPI 95277"},"SINAPI","95277","POLIDORA DE PISO (POLITRIZ), PESO DE 100KG, DIÂMETRO 450 MM, MOTOR ELÉTRICO, POTÊNCIA 4 HP - CHI DIURNO. AF_05/2023","CHI","0,52",null,null,"AS",{"$f":"IF($B5626=\"SINAPI\",IF(ISNUMBER(MATCH(Banco!$C5626,Analitico!$A:$A,0)),INDEX(Analitico!E:E,MATCH(Banco!$C5626,Analitico!$A:$A,0))&\"%\",\"\"),\"\")","v":"0,0000000%"},{"$f":"IF($B5626=\"SINAPI\",IF(ISNUMBER(MATCH(Banco!$C5626,Analitico!$A:$A,0)),INDEX(Analitico!F:F,MATCH(Banco!$C5626,Analitico!$A:$A,0))&\"%\",\"\"),\"\")","v":"%"}]
[{"$f":"CONCATENAR","v":"SINAPI 96014"},"SINAPI","96014","TRATOR DE PNEUS COM POTÊNCIA DE 122 CV, TRAÇÃO 4X4, COM VASSOURA MECÂNICA ACOPLADA - CHI DIURNO. AF_02/2017","CHI","65,18",null,null,"CR",{"$f":"IF($B5635=\"SINAPI\",IF(ISNUMBER(MATCH(Banco!$C5635,Analitico!$A:$A,0)),INDEX(Analitico!E:E,MATCH(Banco!$C5635,Analitico!$A:$A,0))&\"%\",\"\"),\"\")","v":"46,2411782%"},{"$f":"IF($B5635=\"SINAPI\",IF(ISNUMBER(MATCH(Banco!$C5635,Analitico!$A:$A,0)),INDEX(Analitico!F:F,MATCH(Banco!$C5635,Analitico!$A:$A,0))&\"%\",\"\"),\"\")","v":"%"}]
[{"$f":"CONCATENAR","v":"SINAPI 98765"},"SINAPI","98765","INVERSOR DE SOLDA MONOFÁSICO DE 160 A, POTÊNCIA DE 5400 W, TENSÃO DE 220 V, PARA SOLDA COM ELETRODOS DE 2,0 A 4,0 MM E PROCESSO TIG - CHI DIURNO. AF_06/2018","CHI","0,07",null,null,"C",{"$f":"IF($B5644=\"SINAPI\",IF(ISNUMBER(MATCH(Banco!$C5644,Analitico!$A:$A,0)),INDEX(Analitico!E:E,MATCH(Banco!$C5644,Analitico!$A:$A,0))&\"%\",\"\"),\"\")","v":"0,0000000%"},{"$f":"IF($B5644=\"SINAPI\",IF(ISNUMBER(MATCH(Banco!$C5644,Analitico!$A:$A,0)),INDEX(Analitico!F:F,MATCH(Banco!$C5644,Analitico!$A:$A,0))&\"%\",\"\"),\"\")","v":"%"}]
[{"$f":"CONCATENAR","v":"SINAPI 5627"},"SINAPI","5627","ESCAVADEIRA HIDRÁULICA SOBRE ESTEIRAS, CAÇAMBA 0,80 M3, PESO OPERACIONAL 17 T, POTENCIA BRUTA 111 HP - DEPRECIAÇÃO. AF_06/2014","H","45,36",null,null,"AS",{"$f":"IF($B5652=\"SINAPI\",IF(ISNUMBER(MATCH(Banco!$C5652,Analitico!$A:$A,0)),INDEX(Analitico!E:E,MATCH(Banco!$C5652,Analitico!$A:$A,0))&\"%\",\"\"),\"\")","v":"0,0000000%"},{"$f":"IF($B5652=\"SINAPI\",IF(ISNUMBER(MATCH(Banco!$C5652,Analitico!$A:$A,0)),INDEX(Analitico!F:F,MATCH(Banco!$C5652,Analitico!$A:$A,0))&\"%\",\"\"),\"\")","v":"%"}]
[{"$f":"CONCATENAR","v":"SINAPI 5695"},"SINAPI","5695","CAMINHÃO BASCULANTE 6 M3, PESO BRUTO TOTAL 16.000 KG, CARGA ÚTIL MÁXIMA 13.071 KG, DISTÂNCIA ENTRE EIXOS 4,80 M, POTÊNCIA 230 CV INCLUSIVE CAÇAMBA METÁLICA - MANUTENÇÃO. AF_06/2014","H","43,48",null,null,"CR",{"$f":"IF($B5663=\"SINAPI\",IF(ISNUMBER(MATCH(Banco!$C5663,Analitico!$A:$A,0)),INDEX(Analitico!E:E,MATCH(Banco!$C5663,Analitico!$A:$A,0))&\"%\",\"\"),\"\")","v":"0,0000000%"},{"$f":"IF($B5663=\"SINAPI\",IF(ISNUMBER(MATCH(Banco!$C5663,Analitico!$A:$A,0)),INDEX(Analitico!F:F,MATCH(Banco!$C5663,Analitico!$A:$A,0))&\"%\",\"\"),\"\")","v":"%"}]
[{"$f":"CONCATENAR","v":"SINAPI 5703"},"SINAPI","5703","USINA DE CONCRETO FIXA, CAPACIDADE NOMINAL DE 90 A 120 M3/H, SEM SILO - MATERIAIS NA OPERAÇÃO. AF_07/2016","H","20,70",null,null,"CR",{"$f":"IF($B5664=\"SINAPI\",IF(ISNUMBER(MATCH(Banco!$C5664,Analitico!$A:$A,0)),INDEX(Analitico!E:E,MATCH(Banco!$C5664,Analitico!$A:$A,0))&\"%\",\"\"),\"\")","v":"0,0000000%"},{"$f":"IF($B5664=\"SINAPI\",IF(ISNUMBER(MATCH(Banco!$C5664,Analitico!$A:$A,0)),INDEX(Analitico!F:F,MATCH(Banco!$C5664,Analitico!$A:$A,0))&\"%\",\"\"),\"\")","v":"%"}]
[{"$f":"CONCATENAR","v":"SINAPI 5722"},"SINAPI","5722","TRATOR DE ESTEIRAS, POTÊNCIA 347 HP, PESO OPERACIONAL 38,5 T, COM LÂMINA 8,70 M3 - MATERIAIS NA OPERAÇÃO. AF_06/2014","H","217,07",null,null,"C",{"$f":"IF($B5673=\"SINAPI\",IF(ISNUMBER(MATCH(Banco!$C5673,Analitico!$A:$A,0)),INDEX(Analitico!E:E,MATCH(Banco!$C5673,Analitico!$A:$A,0))&\"%\",\"\"),\"\")","v":"0,0000000%"},{"$f":"IF($B5673=\"SINAPI\",IF(ISNUMBER(MATCH(Banco!$C5673,Analitico!$A:$A,0)),INDEX(Analitico!F:F,MATCH(Banco!$C5673,Analitico!$A:$A,0))&\"%\",\"\"),\"\")","v":"%"}]
[{"$f":"CONCATENAR","v":"SINAPI 5741"},"SINAPI","5741","USINA DE LAMA ASFÁLTICA, PROD 30 A 50 T/H, SILO DE AGREGADO 7 M3, RESERVATÓRIOS PARA EMULSÃO E ÁGUA DE 2,3 M3 CADA, MISTURADOR TIPO PUG MILL A SER MONTADO SOBRE CAMINHÃO - MANUTENÇÃO. AF_10/2014","H","42,78",null,null,"AS",{"$f":"IF($B5682=\"SINAPI\",IF(ISNUMBER(MATCH(Banco!$C5682,Analitico!$A:$A,0)),INDEX(Analitico!E:E,MATCH(Banco!$C5682,Analitico!$A:$A,0))&\"%\",\"\"),\"\")","v":"0,0000000%"},{"$f":"IF($B5682=\"SINAPI\",IF(ISNUMBER(MATCH(Banco!$C5682,Analitico!$A:$A,0)),INDEX(Analitico!F:F,MATCH(Banco!$C5682,Analitico!$A:$A,0))&\"%\",\"\"),\"\")","v":"%"}]
[{"$f":"CONCATENAR","v":"SINAPI 5766"},"SINAPI","5766","ESPARGIDOR DE ASFALTO PRESSURIZADO COM TANQUE DE 2500 L, REBOCÁVEL COM MOTOR A GASOLINA POTÊNCIA 3,4 HP - MATERIAIS NA OPERAÇÃO. AF_07/2014","H","2,94",null,null,"C",{"$f":"IF($B5689=\"SINAPI\",IF(ISNUMBER(MATCH(Banco!$C5689,Analitico!$A:$A,0)),INDEX(Analitico!E:E,MATCH(Banco!$C5689,Analitico!$A:$A,0))&\"%\",\"\"),\"\")","v":"0,0000000%"},{"$f":"IF($B5689=\"SINAPI\",IF(ISNUMBER(MATCH(Banco!$C5689,Analitico!$A:$A,0)),INDEX(Analitico!F:F,MATCH(Banco!$C5689,Analitico!$A:$A,0))&\"%\",\"\"),\"\")","v":"%"}]
[{"$f":"CONCATENAR","v":"SINAPI 7044"},"SINAPI","7044","MOTOBOMBA TRASH (PARA ÁGUA SUJA) AUTO ESCORVANTE, MOTOR GASOLINA DE 6,41 HP, DIÂMETROS DE SUCÇÃO X RECALQUE: 3\" X 3\", HM/Q = 10 MCA / 60 M3/H A 23 MCA / 0 M3/H - DEPRECIAÇÃO. AF_10/2014","H","0,30",null,null,"CR",{"$f":"IF($B5701=\"SINAPI\",IF(ISNUMBER(MATCH(Banco!$C5701,Analitico!$A:$A,0)),INDEX(Analitico!E:E,MATCH(Banco!$C5701,Analitico!$A:$A,0))&\"%\",\"\"),\"\")","v":"0,0000000%"},{"$f":"IF($B5701=\"SINAPI\",IF(ISNUMBER(MATCH(Banco!$C5701,Analitico!$A:$A,0)),INDEX(Analitico!F:F,MATCH(Banco!$C5701,Analitico!$A:$A,0))&\"%\",\"\"),\"\")","v":"%"}]
[{"$f":"CONCATENAR","v":"SINAPI 7059"},"SINAPI","7059","CAMINHÃO BASCULANTE 6 M3 TOCO, PESO BRUTO TOTAL 16.000 KG, CARGA ÚTIL MÁXIMA 11.130 KG, DISTÂNCIA ENTRE EIXOS 5,36 M, POTÊNCIA 185 CV, INCLUSIVE CAÇAMBA METÁLICA - JUROS. AF_06/2014","H","9,57",null,null,"CR",{"$f":"IF($B5710=\"SINAPI\",IF(ISNUMBER(MATCH(Banco!$C5710,Analitico!$A:$A,0)),INDEX(Analitico!E:E,MATCH(Banco!$C5710,Analitico!$A:$A,0))&\"%\",\"\"),\"\")","v":"0,0000000%"},{"$f":"IF($B5710=\"SINAPI\",IF(ISNUMBER(MATCH(Banco!$C5710,Analitico!$A:$A,0)),INDEX(Analitico!F:F,MATCH(Banco!$C5710,Analitico!$A:$A,0))&\"%\",\"\"),\"\")","v":"%"}]
[{"$f":"CONCATENAR","v":"SINAPI 53792"},"SINAPI","53792","CAMINHÃO BASCULANTE 6 M3, PESO BRUTO TOTAL 16.000 KG, CARGA ÚTIL MÁXIMA 13.071 KG, DISTÂNCIA ENTRE EIXOS 4,80 M, POTÊNCIA 230 CV INCLUSIVE CAÇAMBA METÁLICA - MATERIAIS NA OPERAÇÃO. AF_06/2014","H","101,41",null,null,"C",{"$f":"IF($B5719=\"SINAPI\",IF(ISNUMBER(MATCH(Banco!$C5719,Analitico!$A:$A,0)),INDEX(Analitico!E:E,MATCH(Banco!$C5719,Analitico!$A:$A,0))&\"%\",\"\"),\"\")","v":"0,0000000%"},{"$f":"IF($B5719=\"SINAPI\",IF(ISNUMBER(MATCH(Banco!$C5719,Analitico!$A:$A,0)),INDEX(Analitico!F:F,MATCH(Banco!$C5719,Analitico!$A:$A,0))&\"%\",\"\"),\"\")","v":"%"}]
[{"$f":"CONCATENAR","v":"SINAPI 53827"},"SINAPI","53827","CAMINHÃO TOCO, PESO BRUTO TOTAL 14.300 KG, CARGA ÚTIL MÁXIMA 9590 KG, DISTÂNCIA ENTRE EIXOS 4,76 M, POTÊNCIA 185 CV (NÃO INCLUI CARROCERIA) - MATERIAIS NA OPERAÇÃO. AF_06/2014","H","114,16",null,null,"C",{"$f":"IF($B5728=\"SINAPI\",IF(ISNUMBER(MATCH(Banco!$C5728,Analitico!$A:$A,0)),INDEX(Analitico!E:E,MATCH(Banco!$C5728,Analitico!$A:$A,0))&\"%\",\"\"),\"\")","v":"0,0000000%"},{"$f":"IF($B5728=\"SINAPI\",IF(ISNUMBER(MATCH(Banco!$C5728,Analitico!$A:$A,0)),INDEX(Analitico!F:F,MATCH(Banco!$C5728,Analitico!$A:$A,0))&\"%\",\"\"),\"\")","v":"%"}]
[{"$f":"CONCATENAR","v":"SINAPI 53858"},"SINAPI","53858","PÁ CARREGADEIRA SOBRE RODAS, POTÊNCIA LÍQUIDA 128 HP, CAPACIDADE DA CAÇAMBA 1,7 A 2,8 M3, PESO OPERACIONAL 11632 KG - MATERIAIS NA OPERAÇÃO. AF_06/2014","H","45,76",null,null,"C",{"$f":"IF($B5735=\"SINAPI\",IF(ISNUMBER(MATCH(Banco!$C5735,Analitico!$A:$A,0)),INDEX(Analitico!E:E,MATCH(Banco!$C5735,Analitico!$A:$A,0))&\"%\",\"\"),\"\")","v":"0,0000000%"},{"$f":"IF($B5735=\"SINAPI\",IF(ISNUMBER(MATCH(Banco!$C5735,Analitico!$A:$A,0)),INDEX(Analitico!F:F,MATCH(Banco!$C5735,Analitico!$A:$A,0))&\"%\",\"\"),\"\")","v":"%"}]
[{"$f":"CONCATENAR","v":"SINAPI 53866"},"SINAPI","53866","BOMBA SUBMERSÍVEL ELÉTRICA TRIFÁSICA, POTÊNCIA 2,96 HP, Ø ROTOR 144 MM SEMI-ABERTO, BOCAL DE SAÍDA Ø 2\", HM/Q = 2 MCA / 38,8 M3/H A 28 MCA / 5 M3/H - MATERIAIS NA OPERAÇÃO. AF_06/2014","H","1,67",null,null,"C",{"$f":"IF($B5739=\"SINAPI\",IF(ISNUMBER(MATCH(Banco!$C5739,Analitico!$A:$A,0)),INDEX(Analitico!E:E,MATCH(Banco!$C5739,Analitico!$A:$A,0))&\"%\",\"\"),\"\")","v":"0,0000000%"},{"$f":"IF($B5739=\"SINAPI\",IF(ISNUMBER(MATCH(Banco!$C5739,Analitico!$A:$A,0)),INDEX(Analitico!F:F,MATCH(Banco!$C5739,Analitico!$A:$A,0))&\"%\",\"\"),\"\")","v":"%"}]
[{"$f":"CONCATENAR","v":"SINAPI 73335"},"SINAPI","73335","CAMINHÃO TOCO, PBT 14.300 KG, CARGA ÚTIL MÁX. 9.710 KG, DIST. ENTRE EIXOS 3,56 M, POTÊNCIA 185 CV, INCLUSIVE CARROCERIA FIXA ABERTA DE MADEIRA P/ TRANSPORTE GERAL DE CARGA SECA, DIMEN. APROX. 2,50 X 6,50 X 0,50 M - MANUTENÇÃO. AF_06/2014","H","37,81",null,null,"CR",{"$f":"IF($B5748=\"SINAPI\",IF(ISNUMBER(MATCH(Banco!$C5748,Analitico!$A:$A,0)),INDEX(Analitico!E:E,MATCH(Banco!$C5748,Analitico!$A:$A,0))&\"%\",\"\"),\"\")","v":"0,0000000%"},{"$f":"IF($B5748=\"SINAPI\",IF(ISNUMBER(MATCH(Banco!$C5748,Analitico!$A:$A,0)),INDEX(Analitico!F:F,MATCH(Banco!$C5748,Analitico!$A:$A,0))&\"%\",\"\"),\"\")","v":"%"}]
[{"$f":"CONCATENAR","v":"SINAPI 87442"},"SINAPI","87442","BETONEIRA CAPACIDADE NOMINAL 400 L, CAPACIDADE DE MISTURA 310 L, MOTOR A DIESEL POTÊNCIA 5,0 CV, SEM CARREGADOR - JUROS. AF_05/2023","H","0,09",null,null,"CR",{"$f":"IF($B5757=\"SINAPI\",IF(ISNUMBER(MATCH(Banco!$C5757,Analitico!$A:$A,0)),INDEX(Analitico!E:E,MATCH(Banco!$C5757,Analitico!$A:$A,0))&\"%\",\"\"),\"\")","v":"0,0000000%"},{"$f":"IF($B5757=\"SINAPI\",IF(ISNUMBER(MATCH(Banco!$C5757,Analitico!$A:$A,0)),INDEX(Analitico!F:F,MATCH(Banco!$C5757,Analitico!$A:$A,0))&\"%\",\"\"),\"\")","v":"%"}]
[{"$f":"CONCATENAR","v":"SINAPI 88396"},"SINAPI","88396","MISTURADOR DE ARGAMASSA, EIXO HORIZONTAL, CAPACIDADE DE MISTURA 600 KG, MOTOR ELÉTRICO POTÊNCIA 7,5 CV - MANUTENÇÃO. AF_05/2023","H","1,05",null,null,"CR",{"$f":"IF($B5766=\"SINAPI\",IF(ISNUMBER(MATCH(Banco!$C5766,Analitico!$A:$A,0)),INDEX(Analitico!E:E,MATCH(Banco!$C5766,Analitico!$A:$A,0))&\"%\",\"\"),\"\")","v":"0,0000000%"},{"$f":"IF($B5766=\"SINAPI\",IF(ISNUMBER(MATCH(Banco!$C5766,Analitico!$A:$A,0)),INDEX(Analitico!F:F,MATCH(Banco!$C5766,Analitico!$A:$A,0))&\"%\",\"\"),\"\")","v":"%"}]
[{"$f":"CONCATENAR","v":"SINAPI 88419"},"SINAPI","88419","PROJETOR DE ARGAMASSA, CAPACIDADE DE PROJEÇÃO 1,5 M3/H, ALCANCE DE 30 ATÉ 60 M, MOTOR ELÉTRICO POTÊNCIA 7,5 HP - DEPRECIAÇÃO. AF_06/2014","H","5,00",null,null,"CR",{"$f":"IF($B5772=\"SINAPI\",IF(ISNUMBER(MATCH(Banco!$C5772,Analitico!$A:$A,0)),INDEX(Analitico!E:E,MATCH(Banco!$C5772,Analitico!$A:$A,0))&\"%\",\"\"),\"\")","v":"0,0000000%"},{"$f":"IF($B5772=\"SINAPI\",IF(ISNUMBER(MATCH(Banco!$C5772,Analitico!$A:$A,0)),INDEX(Analitico!F:F,MATCH(Banco!$C5772,Analitico!$A:$A,0))&\"%\",\"\"),\"\")","v":"%"}]
[{"$f":"CONCATENAR","v":"SINAPI 88829"},"SINAPI","88829","BETONEIRA CAPACIDADE NOMINAL DE 400 L, CAPACIDADE DE MISTURA 280 L, MOTOR ELÉTRICO TRIFÁSICO POTÊNCIA DE 2 CV, SEM CARREGADOR - MATERIAIS NA OPERAÇÃO. AF_05/2023","H","1,08",null,null,"CR",{"$f":"IF($B5785=\"SINAPI\",IF(ISNUMBER(MATCH(Banco!$C5785,Analitico!$A:$A,0)),INDEX(Analitico!E:E,MATCH(Banco!$C5785,Analitico!$A:$A,0))&\"%\",\"\"),\"\")","v":"0,0000000%"},{"$f":"IF($B5785=\"SINAPI\",IF(ISNUMBER(MATCH(Banco!$C5785,Analitico!$A:$A,0)),INDEX(Analitico!F:F,MATCH(Banco!$C5785,Analitico!$A:$A,0))&\"%\",\"\"),\"\")","v":"%"}]
[{"$f":"CONCATENAR","v":"SINAPI 88847"},"SINAPI","88847","USINA DE LAMA ASFÁLTICA, PROD 30 A 50 T/H, SILO DE AGREGADO 7 M3, RESERVATÓRIOS PARA EMULSÃO E ÁGUA DE 2,3 M3 CADA, MISTURADOR TIPO PUG MILL A SER MONTADO SOBRE CAMINHÃO - DEPRECIAÇÃO. AF_10/2014","H","22,82",null,null,"AS",{"$f":"IF($B5794=\"SINAPI\",IF(ISNUMBER(MATCH(Banco!$C5794,Analitico!$A:$A,0)),INDEX(Analitico!E:E,MATCH(Banco!$C5794,Analitico!$A:$A,0))&\"%\",\"\"),\"\")","v":"0,0000000%"},{"$f":"IF($B5794=\"SINAPI\",IF(ISNUMBER(MATCH(Banco!$C5794,Analitico!$A:$A,0)),INDEX(Analitico!F:F,MATCH(Banco!$C5794,Analitico!$A:$A,0))&\"%\",\"\"),\"\")","v":"%"}]
[{"$f":"CONCATENAR","v":"SINAPI 88848"},"SINAPI","88848","USINA DE LAMA ASFÁLTICA, PROD 30 A 50 T/H, SILO DE AGREGADO 7 M3, RESERVATÓRIOS PARA EMULSÃO E ÁGUA DE 2,3 M3 CADA, MISTURADOR TIPO PUG MILL A SER MONTADO SOBRE CAMINHÃO - JUROS. AF_10/2014","H","9,38",null,null,"AS",{"$f":"IF($B5795=\"SINAPI\",IF(ISNUMBER(MATCH(Banco!$C5795,Analitico!$A:$A,0)),INDEX(Analitico!E:E,MATCH(Banco!$C5795,Analitico!$A:$A,0))&\"%\",\"\"),\"\")","v":"0,0000000%"},{"$f":"IF($B5795=\"SINAPI\",IF(ISNUMBER(MATCH(Banco!$C5795,Analitico!$A:$A,0)),INDEX(Analitico!F:F,MATCH(Banco!$C5795,Analitico!$A:$A,0))&\"%\",\"\"),\"\")","v":"%"}]
[{"$f":"CONCATENAR","v":"SINAPI 88900"},"SINAPI","88900","ESCAVADEIRA HIDRÁULICA SOBRE ESTEIRAS, CAÇAMBA 1,20 M3, PESO OPERACIONAL 21 T, POTÊNCIA BRUTA 155 HP - DEPRECIAÇÃO. AF_06/2014","H","50,46",null,null,"AS",{"$f":"IF($B5804=\"SINAPI\",IF(ISNUMBER(MATCH(Banco!$C5804,Analitico!$A:$A,0)),INDEX(Analitico!E:E,MATCH(Banco!$C5804,Analitico!$A:$A,0))&\"%\",\"\"),\"\")","v":"0,0000000%"},{"$f":"IF($B5804=\"SINAPI\",IF(ISNUMBER(MATCH(Banco!$C5804,Analitico!$A:$A,0)),INDEX(Analitico!F:F,MATCH(Banco!$C5804,Analitico!$A:$A,0))&\"%\",\"\"),\"\")","v":"%"}]
[{"$f":"CONCATENAR","v":"SINAPI 89019"},"SINAPI","89019","BOMBA SUBMERSÍVEL ELÉTRICA TRIFÁSICA, POTÊNCIA 2,96 HP, Ø ROTOR 144 MM SEMI-ABERTO, BOCAL DE SAÍDA Ø 2\", HM/Q = 2 MCA / 38,8 M3/H A 28 MCA / 5 M3/H - DEPRECIAÇÃO. AF_06/2014","H","0,48",null,null,"CR",{"$f":"IF($B5818=\"SINAPI\",IF(ISNUMBER(MATCH(Banco!$C5818,Analitico!$A:$A,0)),INDEX(Analitico!E:E,MATCH(Banco!$C5818,Analitico!$A:$A,0))&\"%\",\"\"),\"\")","v":"0,0000000%"},{"$f":"IF($B5818=\"SINAPI\",IF(ISNUMBER(MATCH(Banco!$C5818,Analitico!$A:$A,0)),INDEX(Analitico!F:F,MATCH(Banco!$C5818,Analitico!$A:$A,0))&\"%\",\"\"),\"\")","v":"%"}]
[{"$f":"CONCATENAR","v":"SINAPI 89026"},"SINAPI","89026","TANQUE DE ASFALTO ESTACIONÁRIO COM MAÇARICO, CAPACIDADE 20.000 L - MATERIAIS NA OPERAÇÃO. AF_05/2023","H","171,16",null,null,"C",{"$f":"IF($B5823=\"SINAPI\",IF(ISNUMBER(MATCH(Banco!$C5823,Analitico!$A:$A,0)),INDEX(Analitico!E:E,MATCH(Banco!$C5823,Analitico!$A:$A,0))&\"%\",\"\"),\"\")","v":"0,0000000%"},{"$f":"IF($B5823=\"SINAPI\",IF(ISNUMBER(MATCH(Banco!$C5823,Analitico!$A:$A,0)),INDEX(Analitico!F:F,MATCH(Banco!$C5823,Analitico!$A:$A,0))&\"%\",\"\"),\"\")","v":"%"}]
[{"$f":"CONCATENAR","v":"SINAPI 89210"},"SINAPI","89210","ROLO COMPACTADOR VIBRATÓRIO DE UM CILINDRO AÇO LISO, POTÊNCIA 80 HP, PESO OPERACIONAL MÁXIMO 8,1 T, IMPACTO DINÂMICO 16,15 / 9,5 T, LARGURA DE TRABALHO 1,68 M - DEPRECIAÇÃO. AF_06/2014","H","31,71",null,null,"AS",{"$f":"IF($B5832=\"SINAPI\",IF(ISNUMBER(MATCH(Banco!$C5832,Analitico!$A:$A,0)),INDEX(Analitico!E:E,MATCH(Banco!$C5832,Analitico!$A:$A,0))&\"%\",\"\"),\"\")","v":"0,0000000%"},{"$f":"IF($B5832=\"SINAPI\",IF(ISNUMBER(MATCH(Banco!$C5832,Analitico!$A:$A,0)),INDEX(Analitico!F:F,MATCH(Banco!$C5832,Analitico!$A:$A,0))&\"%\",\"\"),\"\")","v":"%"}]
[{"$f":"CONCATENAR","v":"SINAPI 89224"},"SINAPI","89224","BETONEIRA CAPACIDADE NOMINAL DE 600 L, CAPACIDADE DE MISTURA 360 L, MOTOR ELÉTRICO TRIFÁSICO POTÊNCIA DE 4 CV, SEM CARREGADOR - MATERIAIS NA OPERAÇÃO. AF_05/2023","H","2,17",null,null,"CR",{"$f":"IF($B5841=\"SINAPI\",IF(ISNUMBER(MATCH(Banco!$C5841,Analitico!$A:$A,0)),INDEX(Analitico!E:E,MATCH(Banco!$C5841,Analitico!$A:$A,0))&\"%\",\"\"),\"\")","v":"0,0000000%"},{"$f":"IF($B5841=\"SINAPI\",IF(ISNUMBER(MATCH(Banco!$C5841,Analitico!$A:$A,0)),INDEX(Analitico!F:F,MATCH(Banco!$C5841,Analitico!$A:$A,0))&\"%\",\"\"),\"\")","v":"%"}]
[{"$f":"CONCATENAR","v":"SINAPI 89238"},"SINAPI","89238","FRESADORA DE ASFALTO A FRIO SOBRE RODAS, LARGURA FRESAGEM DE 2,0 M, POTÊNCIA 550 HP - MANUTENÇÃO. AF_11/2014","H","523,16",null,null,"AS",{"$f":"IF($B5850=\"SINAPI\",IF(ISNUMBER(MATCH(Banco!$C5850,Analitico!$A:$A,0)),INDEX(Analitico!E:E,MATCH(Banco!$C5850,Analitico!$A:$A,0))&\"%\",\"\"),\"\")","v":"0,0000000%"},{"$f":"IF($B5850=\"SINAPI\",IF(ISNUMBER(MATCH(Banco!$C5850,Analitico!$A:$A,0)),INDEX(Analitico!F:F,MATCH(Banco!$C5850,Analitico!$A:$A,0))&\"%\",\"\"),\"\")","v":"%"}]
[{"$f":"CONCATENAR","v":"SINAPI 89247"},"SINAPI","89247","RECICLADORA DE ASFALTO A FRIO SOBRE RODAS, LARGURA FRESAGEM DE 2,0 M, POTÊNCIA 422 HP - JUROS. AF_11/2014","H","78,04",null,null,"AS",{"$f":"IF($B5855=\"SINAPI\",IF(ISNUMBER(MATCH(Banco!$C5855,Analitico!$A:$A,0)),INDEX(Analitico!E:E,MATCH(Banco!$C5855,Analitico!$A:$A,0))&\"%\",\"\"),\"\")","v":"0,0000000%"},{"$f":"IF($B5855=\"SINAPI\",IF(ISNUMBER(MATCH(Banco!$C5855,Analitico!$A:$A,0)),INDEX(Analitico!F:F,MATCH(Banco!$C5855,Analitico!$A:$A,0))&\"%\",\"\"),\"\")","v":"%"}]
[{"$f":"CONCATENAR","v":"SINAPI 89256"},"SINAPI","89256","VIBROACABADORA DE ASFALTO SOBRE ESTEIRAS, LARGURA DE PAVIMENTAÇÃO 2,13 M A 4,55 M, POTÊNCIA 100 HP, CAPACIDADE 400 T/H - MATERIAIS NA OPERAÇÃO. AF_11/2014","H","84,87",null,null,"C",{"$f":"IF($B5861=\"SINAPI\",IF(ISNUMBER(MATCH(Banco!$C5861,Analitico!$A:$A,0)),INDEX(Analitico!E:E,MATCH(Banco!$C5861,Analitico!$A:$A,0))&\"%\",\"\"),\"\")","v":"0,0000000%"},{"$f":"IF($B5861=\"SINAPI\",IF(ISNUMBER(MATCH(Banco!$C5861,Analitico!$A:$A,0)),INDEX(Analitico!F:F,MATCH(Banco!$C5861,Analitico!$A:$A,0))&\"%\",\"\"),\"\")","v":"%"}]
[{"$f":"CONCATENAR","v":"SINAPI 89269"},"SINAPI","89269","GUINDASTE HIDRÁULICO AUTOPROPELIDO, COM LANÇA TELESCÓPICA 28,80 M, CAPACIDADE MÁXIMA 30 T, POTÊNCIA 97 KW, TRAÇÃO 4 X 4 - IMPOSTOS E SEGUROS. AF_11/2014","H","7,22",null,null,"CR",{"$f":"IF($B5870=\"SINAPI\",IF(ISNUMBER(MATCH(Banco!$C5870,Analitico!$A:$A,0)),INDEX(Analitico!E:E,MATCH(Banco!$C5870,Analitico!$A:$A,0))&\"%\",\"\"),\"\")","v":"0,0000000%"},{"$f":"IF($B5870=\"SINAPI\",IF(ISNUMBER(MATCH(Banco!$C5870,Analitico!$A:$A,0)),INDEX(Analitico!F:F,MATCH(Banco!$C5870,Analitico!$A:$A,0))&\"%\",\"\"),\"\")","v":"%"}]
[{"$f":"CONCATENAR","v":"SINAPI 89870"},"SINAPI","89870","CAMINHÃO BASCULANTE 14 M3, COM CAVALO MECÂNICO DE CAPACIDADE MÁXIMA DE TRAÇÃO COMBINADO DE 36000 KG, POTÊNCIA 286 CV, INCLUSIVE SEMIREBOQUE COM CAÇAMBA METÁLICA - DEPRECIAÇÃO. AF_12/2014","H","45,73",null,null,"CR",{"$f":"IF($B5879=\"SINAPI\",IF(ISNUMBER(MATCH(Banco!$C5879,Analitico!$A:$A,0)),INDEX(Analitico!E:E,MATCH(Banco!$C5879,Analitico!$A:$A,0))&\"%\",\"\"),\"\")","v":"0,0000000%"},{"$f":"IF($B5879=\"SINAPI\",IF(ISNUMBER(MATCH(Banco!$C5879,Analitico!$A:$A,0)),INDEX(Analitico!F:F,MATCH(Banco!$C5879,Analitico!$A:$A,0))&\"%\",\"\"),\"\")","v":"%"}]
[{"$f":"CONCATENAR","v":"SINAPI 89882"},"SINAPI","89882","CAMINHÃO BASCULANTE 18 M3, COM CAVALO MECÂNICO DE CAPACIDADE MÁXIMA DE TRAÇÃO COMBINADO DE 45000 KG, POTÊNCIA 330 CV, INCLUSIVE SEMIREBOQUE COM CAÇAMBA METÁLICA - MATERIAIS NA OPERAÇÃO. AF_12/2014","H","203,66",null,null,"C",{"$f":"IF($B5888=\"SINAPI\",IF(ISNUMBER(MATCH(Banco!$C5888,Analitico!$A:$A,0)),INDEX(Analitico!E:E,MATCH(Banco!$C5888,Analitico!$A:$A,0))&\"%\",\"\"),\"\")","v":"0,0000000%"},{"$f":"IF($B5888=\"SINAPI\",IF(ISNUMBER(MATCH(Banco!$C5888,Analitico!$A:$A,0)),INDEX(Analitico!F:F,MATCH(Banco!$C5888,Analitico!$A:$A,0))&\"%\",\"\"),\"\")","v":"%"}]
[{"$f":"CONCATENAR","v":"SINAPI 90633"},"SINAPI","90633","MISTURADOR DUPLO HORIZONTAL DE ALTA TURBULÊNCIA, CAPACIDADE / VOLUME 2 X 500 LITROS, MOTORES ELÉTRICOS MÍNIMO 5 CV CADA, PARA NATA CIMENTO, ARGAMASSA E OUTROS - DEPRECIAÇÃO. AF_06/2015","H","3,85",null,null,"CR",{"$f":"IF($B5901=\"SINAPI\",IF(ISNUMBER(MATCH(Banco!$C5901,Analitico!$A:$A,0)),INDEX(Analitico!E:E,MATCH(Banco!$C5901,Analitico!$A:$A,0))&\"%\",\"\"),\"\")","v":"0,0000000%"},{"$f":"IF($B5901=\"SINAPI\",IF(ISNUMBER(MATCH(Banco!$C5901,Analitico!$A:$A,0)),INDEX(Analitico!F:F,MATCH(Banco!$C5901,Analitico!$A:$A,0))&\"%\",\"\"),\"\")","v":"%"}]
[{"$f":"CONCATENAR","v":"SINAPI 90641"},"SINAPI","90641","BOMBA TRIPLEX, PARA INJEÇÃO DE NATA DE CIMENTO, VAZÃO MÁXIMA DE 100 LITROS/MINUTO, PRESSÃO MÁXIMA DE 70 BAR - MANUTENÇÃO. AF_06/2015","H","6,29",null,null,"CR",{"$f":"IF($B5907=\"SINAPI\",IF(ISNUMBER(MATCH(Banco!$C5907,Analitico!$A:$A,0)),INDEX(Analitico!E:E,MATCH(Banco!$C5907,Analitico!$A:$A,0))&\"%\",\"\"),\"\")","v":"0,0000000%"},{"$f":"IF($B5907=\"SINAPI\",IF(ISNUMBER(MATCH(Banco!$C5907,Analitico!$A:$A,0)),INDEX(Analitico!F:F,MATCH(Banco!$C5907,Analitico!$A:$A,0))&\"%\",\"\"),\"\")","v":"%"}]
[{"$f":"CONCATENAR","v":"SINAPI 90655"},"SINAPI","90655","BOMBA DE PROJEÇÃO DE CONCRETO SECO, POTÊNCIA 10 CV, VAZÃO 3 M3/H - MATERIAIS NA OPERAÇÃO. AF_06/2015","H","5,57",null,null,"C",{"$f":"IF($B5916=\"SINAPI\",IF(ISNUMBER(MATCH(Banco!$C5916,Analitico!$A:$A,0)),INDEX(Analitico!E:E,MATCH(Banco!$C5916,Analitico!$A:$A,0))&\"%\",\"\"),\"\")","v":"0,0000000%"},{"$f":"IF($B5916=\"SINAPI\",IF(ISNUMBER(MATCH(Banco!$C5916,Analitico!$A:$A,0)),INDEX(Analitico!F:F,MATCH(Banco!$C5916,Analitico!$A:$A,0))&\"%\",\"\"),\"\")","v":"%"}]
[{"$f":"CONCATENAR","v":"SINAPI 90670"},"SINAPI","90670","PERFURATRIZ COM TORRE METÁLICA PARA EXECUÇÃO DE ESTACA HÉLICE CONTÍNUA, PROFUNDIDADE MÁXIMA DE 30 M, DIÂMETRO MÁXIMO DE 800 MM, POTÊNCIA INSTALADA DE 268 HP, MESA ROTATIVA COM TORQUE MÁXIMO DE 170 KNM - DEPRECIAÇÃO. AF_06/2015","H","211,88",null,null,"AS",{"$f":"IF($B5925=\"SINAPI\",IF(ISNUMBER(MATCH(Banco!$C5925,Analitico!$A:$A,0)),INDEX(Analitico!E:E,MATCH(Banco!$C5925,Analitico!$A:$A,0))&\"%\",\"\"),\"\")","v":"0,0000000%"},{"$f":"IF($B5925=\"SINAPI\",IF(ISNUMBER(MATCH(Banco!$C5925,Analitico!$A:$A,0)),INDEX(Analitico!F:F,MATCH(Banco!$C5925,Analitico!$A:$A,0))&\"%\",\"\"),\"\")","v":"%"}]
[{"$f":"CONCATENAR","v":"SINAPI 90671"},"SINAPI","90671","PERFURATRIZ COM TORRE METÁLICA PARA EXECUÇÃO DE ESTACA HÉLICE CONTÍNUA, PROFUNDIDADE MÁXIMA DE 30 M, DIÂMETRO MÁXIMO DE 800 MM, POTÊNCIA INSTALADA DE 268 HP, MESA ROTATIVA COM TORQUE MÁXIMO DE 170 KNM - JUROS. AF_06/2015","H","56,84",null,null,"AS",{"$f":"IF($B5926=\"SINAPI\",IF(ISNUMBER(MATCH(Banco!$C5926,Analitico!$A:$A,0)),INDEX(Analitico!E:E,MATCH(Banco!$C5926,Analitico!$A:$A,0))&\"%\",\"\"),\"\")","v":"0,0000000%"},{"$f":"IF($B5926=\"SINAPI\",IF(ISNUMBER(MATCH(Banco!$C5926,Analitico!$A:$A,0)),INDEX(Analitico!F:F,MATCH(Banco!$C5926,Analitico!$A:$A,0))&\"%\",\"\"),\"\")","v":"%"}]
[{"$f":"CONCATENAR","v":"SINAPI 90689"},"SINAPI","90689","MINICARREGADEIRA SOBRE RODAS, POTÊNCIA LÍQUIDA DE 47 HP, CAPACIDADE NOMINAL DE OPERAÇÃO DE 646 KG - JUROS. AF_06/2015","H","4,81",null,null,"AS",{"$f":"IF($B5938=\"SINAPI\",IF(ISNUMBER(MATCH(Banco!$C5938,Analitico!$A:$A,0)),INDEX(Analitico!E:E,MATCH(Banco!$C5938,Analitico!$A:$A,0))&\"%\",\"\"),\"\")","v":"0,0000000%"},{"$f":"IF($B5938=\"SINAPI\",IF(ISNUMBER(MATCH(Banco!$C5938,Analitico!$A:$A,0)),INDEX(Analitico!F:F,MATCH(Banco!$C5938,Analitico!$A:$A,0))&\"%\",\"\"),\"\")","v":"%"}]
[{"$f":"CONCATENAR","v":"SINAPI 90962"},"SINAPI","90962","COMPRESSOR DE AR REBOCÁVEL, VAZÃO 89 PCM, PRESSÃO EFETIVA DE TRABALHO 102 PSI, MOTOR DIESEL, POTÊNCIA 20 CV - MANUTENÇÃO. AF_06/2015","H","8,87",null,null,"AS",{"$f":"IF($B5945=\"SINAPI\",IF(ISNUMBER(MATCH(Banco!$C5945,Analitico!$A:$A,0)),INDEX(Analitico!E:E,MATCH(Banco!$C5945,Analitico!$A:$A,0))&\"%\",\"\"),\"\")","v":"0,0000000%"},{"$f":"IF($B5945=\"SINAPI\",IF(ISNUMBER(MATCH(Banco!$C5945,Analitico!$A:$A,0)),INDEX(Analitico!F:F,MATCH(Banco!$C5945,Analitico!$A:$A,0))&\"%\",\"\"),\"\")","v":"%"}]
[{"$f":"CONCATENAR","v":"SINAPI 90978"},"SINAPI","90978","COMPRESSOR DE AR REBOCÁVEL, VAZÃO 748 PCM, PRESSÃO EFETIVA DE TRABALHO 102 PSI, MOTOR DIESEL, POTÊNCIA 210 CV - MATERIAIS NA OPERAÇÃO. AF_06/2015","H","157,41",null,null,"C",{"$f":"IF($B5954=\"SINAPI\",IF(ISNUMBER(MATCH(Banco!$C5954,Analitico!$A:$A,0)),INDEX(Analitico!E:E,MATCH(Banco!$C5954,Analitico!$A:$A,0))&\"%\",\"\"),\"\")","v":"0,0000000%"},{"$f":"IF($B5954=\"SINAPI\",IF(ISNUMBER(MATCH(Banco!$C5954,Analitico!$A:$A,0)),INDEX(Analitico!F:F,MATCH(Banco!$C5954,Analitico!$A:$A,0))&\"%\",\"\"),\"\")","v":"%"}]
[{"$f":"CONCATENAR","v":"SINAPI 91029"},"SINAPI","91029","CAMINHÃO TRUCADO (C/ TERCEIRO EIXO) ELETRÔNICO - POTÊNCIA 231CV - PBT = 22000KG - DIST. ENTRE EIXOS 5170 MM - INCLUI CARROCERIA FIXA ABERTA DE MADEIRA - MANUTENÇÃO. AF_06/2015","H","48,85",null,null,"CR",{"$f":"IF($B5963=\"SINAPI\",IF(ISNUMBER(MATCH(Banco!$C5963,Analitico!$A:$A,0)),INDEX(Analitico!E:E,MATCH(Banco!$C5963,Analitico!$A:$A,0))&\"%\",\"\"),\"\")","v":"0,0000000%"},{"$f":"IF($B5963=\"SINAPI\",IF(ISNUMBER(MATCH(Banco!$C5963,Analitico!$A:$A,0)),INDEX(Analitico!F:F,MATCH(Banco!$C5963,Analitico!$A:$A,0))&\"%\",\"\"),\"\")","v":"%"}]
[{"$f":"CONCATENAR","v":"SINAPI 91282"},"SINAPI","91282","CORTADORA DE PISO COM MOTOR 4 TEMPOS A GASOLINA, POTÊNCIA DE 13 HP, COM DISCO DE CORTE DIAMANTADO SEGMENTADO PARA CONCRETO, DIÂMETRO DE 350 MM, FURO DE 1\" (14 X 1\") - MATERIAIS NA OPERAÇÃO. AF_08/2015","H","8,88",null,null,"C",{"$f":"IF($B5972=\"SINAPI\",IF(ISNUMBER(MATCH(Banco!$C5972,Analitico!$A:$A,0)),INDEX(Analitico!E:E,MATCH(Banco!$C5972,Analitico!$A:$A,0))&\"%\",\"\"),\"\")","v":"0,0000000%"},{"$f":"IF($B5972=\"SINAPI\",IF(ISNUMBER(MATCH(Banco!$C5972,Analitico!$A:$A,0)),INDEX(Analitico!F:F,MATCH(Banco!$C5972,Analitico!$A:$A,0))&\"%\",\"\"),\"\")","v":"%"}]
[{"$f":"CONCATENAR","v":"SINAPI 91356"},"SINAPI","91356","CAMINHÃO TOCO, PESO BRUTO TOTAL 14.300 KG, CARGA ÚTIL MÁXIMA 9590 KG, DISTÂNCIA ENTRE EIXOS 4,76 M, POTÊNCIA 185 CV (NÃO INCLUI CARROCERIA) - IMPOSTOS E SEGUROS. AF_06/2014","H","3,13",null,null,"CR",{"$f":"IF($B5975=\"SINAPI\",IF(ISNUMBER(MATCH(Banco!$C5975,Analitico!$A:$A,0)),INDEX(Analitico!E:E,MATCH(Banco!$C5975,Analitico!$A:$A,0))&\"%\",\"\"),\"\")","v":"0,0000000%"},{"$f":"IF($B5975=\"SINAPI\",IF(ISNUMBER(MATCH(Banco!$C5975,Analitico!$A:$A,0)),INDEX(Analitico!F:F,MATCH(Banco!$C5975,Analitico!$A:$A,0))&\"%\",\"\"),\"\")","v":"%"}]
[{"$f":"CONCATENAR","v":"SINAPI 91391"},"SINAPI","91391","CAMINHÃO TOCO, PBT 14.300 KG, CARGA ÚTIL MÁX. 9.710 KG, DIST. ENTRE EIXOS 3,56 M, POTÊNCIA 185 CV, INCLUSIVE CARROCERIA FIXA ABERTA DE MADEIRA P/ TRANSPORTE GERAL DE CARGA SECA, DIMEN. APROX. 2,50 X 6,50 X 0,50 M - JUROS. AF_06/2014","H","8,25",null,null,"CR",{"$f":"IF($B5991=\"SINAPI\",IF(ISNUMBER(MATCH(Banco!$C5991,Analitico!$A:$A,0)),INDEX(Analitico!E:E,MATCH(Banco!$C5991,Analitico!$A:$A,0))&\"%\",\"\"),\"\")","v":"0,0000000%"},{"$f":"IF($B5991=\"SINAPI\",IF(ISNUMBER(MATCH(Banco!$C5991,Analitico!$A:$A,0)),INDEX(Analitico!F:F,MATCH(Banco!$C5991,Analitico!$A:$A,0))&\"%\",\"\"),\"\")","v":"%"}]
[{"$f":"CONCATENAR","v":"SINAPI 91392"},"SINAPI","91392","CAMINHÃO TOCO, PBT 14.300 KG, CARGA ÚTIL MÁX. 9.710 KG, DIST. ENTRE EIXOS 3,56 M, POTÊNCIA 185 CV, INCLUSIVE CARROCERIA FIXA ABERTA DE MADEIRA P/ TRANSPORTE GERAL DE CARGA SECA, DIMEN. APROX. 2,50 X 6,50 X 0,50 M - IMPOSTOS E SEGUROS. AF_06/2014","H","3,33",null,null,"CR",{"$f":"IF($B5992=\"SINAPI\",IF(ISNUMBER(MATCH(Banco!$C5992,Analitico!$A:$A,0)),INDEX(Analitico!E:E,MATCH(Banco!$C5992,Analitico!$A:$A,0))&\"%\",\"\"),\"\")","v":"0,0000000%"},{"$f":"IF($B5992=\"SINAPI\",IF(ISNUMBER(MATCH(Banco!$C5992,Analitico!$A:$A,0)),INDEX(Analitico!F:F,MATCH(Banco!$C5992,Analitico!$A:$A,0))&\"%\",\"\"),\"\")","v":"%"}]
[{"$f":"CONCATENAR","v":"SINAPI 91484"},"SINAPI","91484","ESPARGIDOR DE ASFALTO PRESSURIZADO, TANQUE 6 M3 COM ISOLAÇÃO TÉRMICA, AQUECIDO COM 2 MAÇARICOS, COM BARRA ESPARGIDORA 3,60 M, MONTADO SOBRE CAMINHÃO  TOCO, PBT 14.300 KG, POTÊNCIA 185 CV - IMPOSTOS E SEGUROS. AF_05/2023","H","7,95",null,null,"AS",{"$f":"IF($B6001=\"SINAPI\",IF(ISNUMBER(MATCH(Banco!$C6001,Analitico!$A:$A,0)),INDEX(Analitico!E:E,MATCH(Banco!$C6001,Analitico!$A:$A,0))&\"%\",\"\"),\"\")","v":"0,0000000%"},{"$f":"IF($B6001=\"SINAPI\",IF(ISNUMBER(MATCH(Banco!$C6001,Analitico!$A:$A,0)),INDEX(Analitico!F:F,MATCH(Banco!$C6001,Analitico!$A:$A,0))&\"%\",\"\"),\"\")","v":"%"}]
[{"$f":"CONCATENAR","v":"SINAPI 91632"},"SINAPI","91632","GUINDAUTO HIDRÁULICO, CAPACIDADE MÁXIMA DE CARGA 6500 KG, MOMENTO MÁXIMO DE CARGA 5,8 TM, ALCANCE MÁXIMO HORIZONTAL 7,60 M, INCLUSIVE CAMINHÃO TOCO PBT 9.700 KG, POTÊNCIA DE 160 CV - MANUTENÇÃO. AF_08/2015","H","38,90",null,null,"CR",{"$f":"IF($B6010=\"SINAPI\",IF(ISNUMBER(MATCH(Banco!$C6010,Analitico!$A:$A,0)),INDEX(Analitico!E:E,MATCH(Banco!$C6010,Analitico!$A:$A,0))&\"%\",\"\"),\"\")","v":"0,0000000%"},{"$f":"IF($B6010=\"SINAPI\",IF(ISNUMBER(MATCH(Banco!$C6010,Analitico!$A:$A,0)),INDEX(Analitico!F:F,MATCH(Banco!$C6010,Analitico!$A:$A,0))&\"%\",\"\"),\"\")","v":"%"}]
[{"$f":"CONCATENAR","v":"SINAPI 91690"},"SINAPI","91690","SERRA CIRCULAR DE BANCADA COM MOTOR ELÉTRICO POTÊNCIA DE 5HP, COM COIFA PARA DISCO 10\" - MANUTENÇÃO. AF_08/2015","H","0,07",null,null,"CR",{"$f":"IF($B6019=\"SINAPI\",IF(ISNUMBER(MATCH(Banco!$C6019,Analitico!$A:$A,0)),INDEX(Analitico!E:E,MATCH(Banco!$C6019,Analitico!$A:$A,0))&\"%\",\"\"),\"\")","v":"0,0000000%"},{"$f":"IF($B6019=\"SINAPI\",IF(ISNUMBER(MATCH(Banco!$C6019,Analitico!$A:$A,0)),INDEX(Analitico!F:F,MATCH(Banco!$C6019,Analitico!$A:$A,0))&\"%\",\"\"),\"\")","v":"%"}]
[{"$f":"CONCATENAR","v":"SINAPI 92111"},"SINAPI","92111","PENEIRA ROTATIVA COM MOTOR ELÉTRICO TRIFÁSICO DE 2 CV, CILINDRO DE 1 M X 0,60 M, COM FUROS DE 3,17 MM - MATERIAIS NA OPERAÇÃO. AF_05/2023","H","1,08",null,null,"CR",{"$f":"IF($B6032=\"SINAPI\",IF(ISNUMBER(MATCH(Banco!$C6032,Analitico!$A:$A,0)),INDEX(Analitico!E:E,MATCH(Banco!$C6032,Analitico!$A:$A,0))&\"%\",\"\"),\"\")","v":"0,0000000%"},{"$f":"IF($B6032=\"SINAPI\",IF(ISNUMBER(MATCH(Banco!$C6032,Analitico!$A:$A,0)),INDEX(Analitico!F:F,MATCH(Banco!$C6032,Analitico!$A:$A,0))&\"%\",\"\"),\"\")","v":"%"}]
[{"$f":"CONCATENAR","v":"SINAPI 92135"},"SINAPI","92135","CAMINHONETE COM MOTOR A DIESEL, POTÊNCIA 180 CV, CABINE DUPLA, 4X4 - IMPOSTOS E SEGUROS. AF_11/2015","H","1,60",null,null,"C",{"$f":"IF($B6038=\"SINAPI\",IF(ISNUMBER(MATCH(Banco!$C6038,Analitico!$A:$A,0)),INDEX(Analitico!E:E,MATCH(Banco!$C6038,Analitico!$A:$A,0))&\"%\",\"\"),\"\")","v":"0,0000000%"},{"$f":"IF($B6038=\"SINAPI\",IF(ISNUMBER(MATCH(Banco!$C6038,Analitico!$A:$A,0)),INDEX(Analitico!F:F,MATCH(Banco!$C6038,Analitico!$A:$A,0))&\"%\",\"\"),\"\")","v":"%"}]
[{"$f":"CONCATENAR","v":"SINAPI 92238"},"SINAPI","92238","CAMINHÃO DE TRANSPORTE DE MATERIAL ASFÁLTICO 20.000 L, COM CAVALO MECÂNICO DE CAPACIDADE MÁXIMA DE TRAÇÃO COMBINADO DE 45.000 KG, POTÊNCIA 330 CV, INCLUSIVE TANQUE DE ASFALTO COM MAÇARICO - JUROS. AF_12/2015","H","13,23",null,null,"AS",{"$f":"IF($B6047=\"SINAPI\",IF(ISNUMBER(MATCH(Banco!$C6047,Analitico!$A:$A,0)),INDEX(Analitico!E:E,MATCH(Banco!$C6047,Analitico!$A:$A,0))&\"%\",\"\"),\"\")","v":"0,0000000%"},{"$f":"IF($B6047=\"SINAPI\",IF(ISNUMBER(MATCH(Banco!$C6047,Analitico!$A:$A,0)),INDEX(Analitico!F:F,MATCH(Banco!$C6047,Analitico!$A:$A,0))&\"%\",\"\"),\"\")","v":"%"}]
[{"$f":"CONCATENAR","v":"SINAPI 92957"},"SINAPI","92957","MÁQUINA EXTRUSORA DE CONCRETO PARA GUIAS E SARJETAS, MOTOR A DIESEL, POTÊNCIA 14 CV - JUROS. AF_12/2015","H","0,99",null,null,"AS",{"$f":"IF($B6056=\"SINAPI\",IF(ISNUMBER(MATCH(Banco!$C6056,Analitico!$A:$A,0)),INDEX(Analitico!E:E,MATCH(Banco!$C6056,Analitico!$A:$A,0))&\"%\",\"\"),\"\")","v":"0,0000000%"},{"$f":"IF($B6056=\"SINAPI\",IF(ISNUMBER(MATCH(Banco!$C6056,Analitico!$A:$A,0)),INDEX(Analitico!F:F,MATCH(Banco!$C6056,Analitico!$A:$A,0))&\"%\",\"\"),\"\")","v":"%"}]
[{"$f":"CONCATENAR","v":"SINAPI 92958"},"SINAPI","92958","MÁQUINA EXTRUSORA DE CONCRETO PARA GUIAS E SARJETAS, MOTOR A DIESEL, POTÊNCIA 14 CV - MANUTENÇÃO. AF_12/2015","H","4,70",null,null,"AS",{"$f":"IF($B6057=\"SINAPI\",IF(ISNUMBER(MATCH(Banco!$C6057,Analitico!$A:$A,0)),INDEX(Analitico!E:E,MATCH(Banco!$C6057,Analitico!$A:$A,0))&\"%\",\"\"),\"\")","v":"0,0000000%"},{"$f":"IF($B6057=\"SINAPI\",IF(ISNUMBER(MATCH(Banco!$C6057,Analitico!$A:$A,0)),INDEX(Analitico!F:F,MATCH(Banco!$C6057,Analitico!$A:$A,0))&\"%\",\"\"),\"\")","v":"%"}]
[{"$f":"CONCATENAR","v":"SINAPI 93232"},"SINAPI","93232","BETONEIRA CAPACIDADE NOMINAL 400 L, CAPACIDADE DE MISTURA 310 L, MOTOR A GASOLINA POTÊNCIA 5,5 CV, SEM CARREGADOR - MATERIAIS NA OPERAÇÃO. AF_02/2016","H","4,72",null,null,"C",{"$f":"IF($B6069=\"SINAPI\",IF(ISNUMBER(MATCH(Banco!$C6069,Analitico!$A:$A,0)),INDEX(Analitico!E:E,MATCH(Banco!$C6069,Analitico!$A:$A,0))&\"%\",\"\"),\"\")","v":"0,0000000%"},{"$f":"IF($B6069=\"SINAPI\",IF(ISNUMBER(MATCH(Banco!$C6069,Analitico!$A:$A,0)),INDEX(Analitico!F:F,MATCH(Banco!$C6069,Analitico!$A:$A,0))&\"%\",\"\"),\"\")","v":"%"}]
[{"$f":"CONCATENAR","v":"SINAPI 93270"},"SINAPI","93270","GRUA ASCENCIONAL, LANÇA DE 30 M, CAPACIDADE DE 1,0 T A 30 M, ALTURA ATÉ 39 M   MANUTENÇÃO. AF_05/2023","H","28,99",null,null,"CR",{"$f":"IF($B6076=\"SINAPI\",IF(ISNUMBER(MATCH(Banco!$C6076,Analitico!$A:$A,0)),INDEX(Analitico!E:E,MATCH(Banco!$C6076,Analitico!$A:$A,0))&\"%\",\"\"),\"\")","v":"0,0000000%"},{"$f":"IF($B6076=\"SINAPI\",IF(ISNUMBER(MATCH(Banco!$C6076,Analitico!$A:$A,0)),INDEX(Analitico!F:F,MATCH(Banco!$C6076,Analitico!$A:$A,0))&\"%\",\"\"),\"\")","v":"%"}]
[{"$f":"CONCATENAR","v":"SINAPI 93286"},"SINAPI","93286","GUINDASTE HIDRÁULICO AUTOPROPELIDO, COM LANÇA TELESCÓPICA 40 M, CAPACIDADE MÁXIMA 60 T, POTÊNCIA 260 KW - MATERIAIS NA OPERAÇÃO. AF_03/2016","H","11,31",null,null,"CR",{"$f":"IF($B6085=\"SINAPI\",IF(ISNUMBER(MATCH(Banco!$C6085,Analitico!$A:$A,0)),INDEX(Analitico!E:E,MATCH(Banco!$C6085,Analitico!$A:$A,0))&\"%\",\"\"),\"\")","v":"0,0000000%"},{"$f":"IF($B6085=\"SINAPI\",IF(ISNUMBER(MATCH(Banco!$C6085,Analitico!$A:$A,0)),INDEX(Analitico!F:F,MATCH(Banco!$C6085,Analitico!$A:$A,0))&\"%\",\"\"),\"\")","v":"%"}]
[{"$f":"CONCATENAR","v":"SINAPI 93406"},"SINAPI","93406","MÁQUINA JATO DE PRESSAO PORTÁTIL, CAMARA DE 1 SAIDA, CAPACIDADE 280 L, DIAMETRO 670 MM, BICO DE JATO CURTO VENTURI DE 5/16\" , MANGUEIRA DE 1\" COM COMPRESSOR DE AR REBOCÁVEL 189 PCM E MOTOR DIESEL 63 CV - MANUTENÇÃO. AF_05/2023","H","9,72",null,null,"AS",{"$f":"IF($B6094=\"SINAPI\",IF(ISNUMBER(MATCH(Banco!$C6094,Analitico!$A:$A,0)),INDEX(Analitico!E:E,MATCH(Banco!$C6094,Analitico!$A:$A,0))&\"%\",\"\"),\"\")","v":"0,0000000%"},{"$f":"IF($B6094=\"SINAPI\",IF(ISNUMBER(MATCH(Banco!$C6094,Analitico!$A:$A,0)),INDEX(Analitico!F:F,MATCH(Banco!$C6094,Analitico!$A:$A,0))&\"%\",\"\"),\"\")","v":"%"}]
[{"$f":"CONCATENAR","v":"SINAPI 93420"},"SINAPI","93420","GRUPO GERADOR REBOCÁVEL, POTÊNCIA 66 KVA, MOTOR A DIESEL - MATERIAIS NA OPERAÇÃO. AF_03/2016","H","67,14",null,null,"C",{"$f":"IF($B6103=\"SINAPI\",IF(ISNUMBER(MATCH(Banco!$C6103,Analitico!$A:$A,0)),INDEX(Analitico!E:E,MATCH(Banco!$C6103,Analitico!$A:$A,0))&\"%\",\"\"),\"\")","v":"0,0000000%"},{"$f":"IF($B6103=\"SINAPI\",IF(ISNUMBER(MATCH(Banco!$C6103,Analitico!$A:$A,0)),INDEX(Analitico!F:F,MATCH(Banco!$C6103,Analitico!$A:$A,0))&\"%\",\"\"),\"\")","v":"%"}]
[{"$f":"CONCATENAR","v":"SINAPI 93425"},"SINAPI","93425","GRUPO GERADOR ESTACIONÁRIO, POTÊNCIA 150 KVA, MOTOR A DIESEL- MANUTENÇÃO. AF_03/2016","H","5,68",null,null,"AS",{"$f":"IF($B6106=\"SINAPI\",IF(ISNUMBER(MATCH(Banco!$C6106,Analitico!$A:$A,0)),INDEX(Analitico!E:E,MATCH(Banco!$C6106,Analitico!$A:$A,0))&\"%\",\"\"),\"\")","v":"0,0000000%"},{"$f":"IF($B6106=\"SINAPI\",IF(ISNUMBER(MATCH(Banco!$C6106,Analitico!$A:$A,0)),INDEX(Analitico!F:F,MATCH(Banco!$C6106,Analitico!$A:$A,0))&\"%\",\"\"),\"\")","v":"%"}]
[{"$f":"CONCATENAR","v":"SINAPI 95120"},"SINAPI","95120","USINA MISTURADORA DE SOLOS, CAPACIDADE DE 200 A 500 TON/H, POTENCIA 75KW - MATERIAIS NA OPERAÇÃO. AF_07/2016","H","55,46",null,null,"CR",{"$f":"IF($B6122=\"SINAPI\",IF(ISNUMBER(MATCH(Banco!$C6122,Analitico!$A:$A,0)),INDEX(Analitico!E:E,MATCH(Banco!$C6122,Analitico!$A:$A,0))&\"%\",\"\"),\"\")","v":"0,0000000%"},{"$f":"IF($B6122=\"SINAPI\",IF(ISNUMBER(MATCH(Banco!$C6122,Analitico!$A:$A,0)),INDEX(Analitico!F:F,MATCH(Banco!$C6122,Analitico!$A:$A,0))&\"%\",\"\"),\"\")","v":"%"}]
[{"$f":"CONCATENAR","v":"SINAPI 95123"},"SINAPI","95123","DISTRIBUIDOR DE AGREGADOS AUTOPROPELIDO, CAP 3 M3, A DIESEL, POTÊNCIA 176CV - DEPRECIAÇÃO. AF_07/2016","H","17,87",null,null,"AS",{"$f":"IF($B6123=\"SINAPI\",IF(ISNUMBER(MATCH(Banco!$C6123,Analitico!$A:$A,0)),INDEX(Analitico!E:E,MATCH(Banco!$C6123,Analitico!$A:$A,0))&\"%\",\"\"),\"\")","v":"0,0000000%"},{"$f":"IF($B6123=\"SINAPI\",IF(ISNUMBER(MATCH(Banco!$C6123,Analitico!$A:$A,0)),INDEX(Analitico!F:F,MATCH(Banco!$C6123,Analitico!$A:$A,0))&\"%\",\"\"),\"\")","v":"%"}]
[{"$f":"CONCATENAR","v":"SINAPI 95137"},"SINAPI","95137","TALHA MANUAL DE CORRENTE, CAPACIDADE DE 2 TON. COM ELEVAÇÃO DE 3 M - JUROS. AF_07/2016","H","0,01",null,null,"C",{"$f":"IF($B6132=\"SINAPI\",IF(ISNUMBER(MATCH(Banco!$C6132,Analitico!$A:$A,0)),INDEX(Analitico!E:E,MATCH(Banco!$C6132,Analitico!$A:$A,0))&\"%\",\"\"),\"\")","v":"0,0000000%"},{"$f":"IF($B6132=\"SINAPI\",IF(ISNUMBER(MATCH(Banco!$C6132,Analitico!$A:$A,0)),INDEX(Analitico!F:F,MATCH(Banco!$C6132,Analitico!$A:$A,0))&\"%\",\"\"),\"\")","v":"%"}]
[{"$f":"CONCATENAR","v":"SINAPI 95257"},"SINAPI","95257","MARTELO DEMOLIDOR PNEUMÁTICO MANUAL, 32 KG - MANUTENÇÃO. AF_09/2016","H","2,05",null,null,"CR",{"$f":"IF($B6141=\"SINAPI\",IF(ISNUMBER(MATCH(Banco!$C6141,Analitico!$A:$A,0)),INDEX(Analitico!E:E,MATCH(Banco!$C6141,Analitico!$A:$A,0))&\"%\",\"\"),\"\")","v":"0,0000000%"},{"$f":"IF($B6141=\"SINAPI\",IF(ISNUMBER(MATCH(Banco!$C6141,Analitico!$A:$A,0)),INDEX(Analitico!F:F,MATCH(Banco!$C6141,Analitico!$A:$A,0))&\"%\",\"\"),\"\")","v":"%"}]
[{"$f":"CONCATENAR","v":"SINAPI 95274"},"SINAPI","95274","POLIDORA DE PISO (POLITRIZ), PESO DE 100KG, DIÂMETRO 450 MM, MOTOR ELÉTRICO, POTÊNCIA 4 HP - MANUTENÇÃO. AF_05/2023","H","0,35",null,null,"AS",{"$f":"IF($B6152=\"SINAPI\",IF(ISNUMBER(MATCH(Banco!$C6152,Analitico!$A:$A,0)),INDEX(Analitico!E:E,MATCH(Banco!$C6152,Analitico!$A:$A,0))&\"%\",\"\"),\"\")","v":"0,0000000%"},{"$f":"IF($B6152=\"SINAPI\",IF(ISNUMBER(MATCH(Banco!$C6152,Analitico!$A:$A,0)),INDEX(Analitico!F:F,MATCH(Banco!$C6152,Analitico!$A:$A,0))&\"%\",\"\"),\"\")","v":"%"}]
[{"$f":"CONCATENAR","v":"SINAPI 95619"},"SINAPI","95619","PERFURATRIZ PNEUMATICA MANUAL DE PESO MEDIO, MARTELETE, 18KG, COMPRIMENTO MÁXIMO DE CURSO DE 6 M, DIAMETRO DO PISTAO DE 5,5 CM - MANUTENÇÃO. AF_11/2016","H","1,68",null,null,"CR",{"$f":"IF($B6160=\"SINAPI\",IF(ISNUMBER(MATCH(Banco!$C6160,Analitico!$A:$A,0)),INDEX(Analitico!E:E,MATCH(Banco!$C6160,Analitico!$A:$A,0))&\"%\",\"\"),\"\")","v":"0,0000000%"},{"$f":"IF($B6160=\"SINAPI\",IF(ISNUMBER(MATCH(Banco!$C6160,Analitico!$A:$A,0)),INDEX(Analitico!F:F,MATCH(Banco!$C6160,Analitico!$A:$A,0))&\"%\",\"\"),\"\")","v":"%"}]
[{"$f":"CONCATENAR","v":"SINAPI 95704"},"SINAPI","95704","PERFURATRIZ SOBRE ESTEIRA, TORQUE MÁXIMO 600 KGF, POTÊNCIA ENTRE 50 E 60 HP, DIÂMETRO MÁXIMO 10\" - DEPRECIAÇÃO. AF_11/2016","H","44,25",null,null,"AS",{"$f":"IF($B6169=\"SINAPI\",IF(ISNUMBER(MATCH(Banco!$C6169,Analitico!$A:$A,0)),INDEX(Analitico!E:E,MATCH(Banco!$C6169,Analitico!$A:$A,0))&\"%\",\"\"),\"\")","v":"0,0000000%"},{"$f":"IF($B6169=\"SINAPI\",IF(ISNUMBER(MATCH(Banco!$C6169,Analitico!$A:$A,0)),INDEX(Analitico!F:F,MATCH(Banco!$C6169,Analitico!$A:$A,0))&\"%\",\"\"),\"\")","v":"%"}]
[{"$f":"CONCATENAR","v":"SINAPI 95717"},"SINAPI","95717","ESCAVADEIRA HIDRAULICA SOBRE ESTEIRA, EQUIPADA COM CLAMSHELL, COM CAPACIDADE DA CAÇAMBA ENTRE 1,20 E 1,50 M3, PESO OPERACIONAL ENTRE 20,00 E 22,00 TON, POTENCIA LIQUIDA ENTRE 150 E 160 HP - JUROS. AF_11/2016","H","13,53",null,null,"AS",{"$f":"IF($B6178=\"SINAPI\",IF(ISNUMBER(MATCH(Banco!$C6178,Analitico!$A:$A,0)),INDEX(Analitico!E:E,MATCH(Banco!$C6178,Analitico!$A:$A,0))&\"%\",\"\"),\"\")","v":"0,0000000%"},{"$f":"IF($B6178=\"SINAPI\",IF(ISNUMBER(MATCH(Banco!$C6178,Analitico!$A:$A,0)),INDEX(Analitico!F:F,MATCH(Banco!$C6178,Analitico!$A:$A,0))&\"%\",\"\"),\"\")","v":"%"}]
[{"$f":"CONCATENAR","v":"SINAPI 96011"},"SINAPI","96011","TRATOR DE PNEUS COM POTÊNCIA DE 122 CV, TRAÇÃO 4X4, COM VASSOURA MECÂNICA ACOPLADA - MANUTENÇÃO. AF_02/2017","H","26,20",null,null,"CR",{"$f":"IF($B6187=\"SINAPI\",IF(ISNUMBER(MATCH(Banco!$C6187,Analitico!$A:$A,0)),INDEX(Analitico!E:E,MATCH(Banco!$C6187,Analitico!$A:$A,0))&\"%\",\"\"),\"\")","v":"0,0000000%"},{"$f":"IF($B6187=\"SINAPI\",IF(ISNUMBER(MATCH(Banco!$C6187,Analitico!$A:$A,0)),INDEX(Analitico!F:F,MATCH(Banco!$C6187,Analitico!$A:$A,0))&\"%\",\"\"),\"\")","v":"%"}]
[{"$f":"CONCATENAR","v":"SINAPI 96015"},"SINAPI","96015","TRATOR DE PNEUS COM POTÊNCIA DE 122 CV, TRAÇÃO 4X4, COM GRADE DE DISCOS ACOPLADA - DEPRECIAÇÃO. AF_02/2017","H","23,74",null,null,"CR",{"$f":"IF($B6189=\"SINAPI\",IF(ISNUMBER(MATCH(Banco!$C6189,Analitico!$A:$A,0)),INDEX(Analitico!E:E,MATCH(Banco!$C6189,Analitico!$A:$A,0))&\"%\",\"\"),\"\")","v":"0,0000000%"},{"$f":"IF($B6189=\"SINAPI\",IF(ISNUMBER(MATCH(Banco!$C6189,Analitico!$A:$A,0)),INDEX(Analitico!F:F,MATCH(Banco!$C6189,Analitico!$A:$A,0))&\"%\",\"\"),\"\")","v":"%"}]
[{"$f":"CONCATENAR","v":"SINAPI 96031"},"SINAPI","96031","CAMINHÃO BASCULANTE 10 M3, TRUCADO, POTÊNCIA 230 CV, INCLUSIVE CAÇAMBA METÁLICA, COM DISTRIBUIDOR DE AGREGADOS ACOPLADO - JUROS. AF_02/2017","H","13,47",null,null,"AS",{"$f":"IF($B6198=\"SINAPI\",IF(ISNUMBER(MATCH(Banco!$C6198,Analitico!$A:$A,0)),INDEX(Analitico!E:E,MATCH(Banco!$C6198,Analitico!$A:$A,0))&\"%\",\"\"),\"\")","v":"0,0000000%"},{"$f":"IF($B6198=\"SINAPI\",IF(ISNUMBER(MATCH(Banco!$C6198,Analitico!$A:$A,0)),INDEX(Analitico!F:F,MATCH(Banco!$C6198,Analitico!$A:$A,0))&\"%\",\"\"),\"\")","v":"%"}]
[{"$f":"CONCATENAR","v":"SINAPI 96060"},"SINAPI","96060","MINICARREGADEIRA SOBRE RODAS POTENCIA 47HP CAPACIDADE OPERACAO 646 KG, COM VASSOURA MECÂNICA ACOPLADA - JUROS. AF_03/2017","H","5,89",null,null,"AS",{"$f":"IF($B6207=\"SINAPI\",IF(ISNUMBER(MATCH(Banco!$C6207,Analitico!$A:$A,0)),INDEX(Analitico!E:E,MATCH(Banco!$C6207,Analitico!$A:$A,0))&\"%\",\"\"),\"\")","v":"0,0000000%"},{"$f":"IF($B6207=\"SINAPI\",IF(ISNUMBER(MATCH(Banco!$C6207,Analitico!$A:$A,0)),INDEX(Analitico!F:F,MATCH(Banco!$C6207,Analitico!$A:$A,0))&\"%\",\"\"),\"\")","v":"%"}]
[{"$f":"CONCATENAR","v":"SINAPI 96458"},"SINAPI","96458","ROLO COMPACTADOR DE PNEUS, ESTATICO, PRESSAO VARIAVEL, POTENCIA 110 HP, PESO SEM/COM LASTRO 10,8/27 T, LARGURA DE ROLAGEM 2,30 M - MANUTENCAO. AF_06/2017","H","65,84",null,null,"AS",{"$f":"IF($B6216=\"SINAPI\",IF(ISNUMBER(MATCH(Banco!$C6216,Analitico!$A:$A,0)),INDEX(Analitico!E:E,MATCH(Banco!$C6216,Analitico!$A:$A,0))&\"%\",\"\"),\"\")","v":"0,0000000%"},{"$f":"IF($B6216=\"SINAPI\",IF(ISNUMBER(MATCH(Banco!$C6216,Analitico!$A:$A,0)),INDEX(Analitico!F:F,MATCH(Banco!$C6216,Analitico!$A:$A,0))&\"%\",\"\"),\"\")","v":"%"}]
[{"$f":"CONCATENAR","v":"SINAPI 99831"},"SINAPI","99831","LAVADORA DE ALTA PRESSAO (LAVA-JATO) PARA AGUA FRIA, PRESSAO DE OPERACAO ENTRE 1400 E 1900 LIB/POL2, VAZAO MAXIMA ENTRE 400 E 700 L/H - MANUTENÇÃO. AF_05/2023","H","0,14",null,null,"C",{"$f":"IF($B6225=\"SINAPI\",IF(ISNUMBER(MATCH(Banco!$C6225,Analitico!$A:$A,0)),INDEX(Analitico!E:E,MATCH(Banco!$C6225,Analitico!$A:$A,0))&\"%\",\"\"),\"\")","v":"0,0000000%"},{"$f":"IF($B6225=\"SINAPI\",IF(ISNUMBER(MATCH(Banco!$C6225,Analitico!$A:$A,0)),INDEX(Analitico!F:F,MATCH(Banco!$C6225,Analitico!$A:$A,0))&\"%\",\"\"),\"\")","v":"%"}]
[{"$f":"CONCATENAR","v":"SINAPI 102270"},"SINAPI","102270","MARTELO DEMOLIDOR ELÉTRICO, COM POTÊNCIA DE 2.000 W, 1.000 IMPACTOS POR MINUTO, PESO DE 30 KG - DEPRECIAÇÃO. AF_01/2021","H","0,81",null,null,"C",{"$f":"IF($B6235=\"SINAPI\",IF(ISNUMBER(MATCH(Banco!$C6235,Analitico!$A:$A,0)),INDEX(Analitico!E:E,MATCH(Banco!$C6235,Analitico!$A:$A,0))&\"%\",\"\"),\"\")","v":"0,0000000%"},{"$f":"IF($B6235=\"SINAPI\",IF(ISNUMBER(MATCH(Banco!$C6235,Analitico!$A:$A,0)),INDEX(Analitico!F:F,MATCH(Banco!$C6235,Analitico!$A:$A,0))&\"%\",\"\"),\"\")","v":"%"}]
[{"$f":"CONCATENAR","v":"SINAPI 102849"},"SINAPI","102849","GUINDASTE SOBRE ESTEIRAS, COM LANÇA TRELIÇADA 40 M, CAPACIDADE MÁXIMA 75 T - MATERIAIS NA OPERAÇÃO. AF_04/2019","H","65,89",null,null,"C",{"$f":"IF($B6244=\"SINAPI\",IF(ISNUMBER(MATCH(Banco!$C6244,Analitico!$A:$A,0)),INDEX(Analitico!E:E,MATCH(Banco!$C6244,Analitico!$A:$A,0))&\"%\",\"\"),\"\")","v":"0,0000000%"},{"$f":"IF($B6244=\"SINAPI\",IF(ISNUMBER(MATCH(Banco!$C6244,Analitico!$A:$A,0)),INDEX(Analitico!F:F,MATCH(Banco!$C6244,Analitico!$A:$A,0))&\"%\",\"\"),\"\")","v":"%"}]
[{"$f":"CONCATENAR","v":"SINAPI 102903"},"SINAPI","102903","TORRE, COMPOSTA POR GUINCHO MECÂNICO, GUINCHO MANUAL, CABOS DE AÇO, PITEIRA E SOQUETE  - MATERIAIS NA OPERAÇÃO. AF_05/2023","H","11,68",null,null,"C",{"$f":"IF($B6253=\"SINAPI\",IF(ISNUMBER(MATCH(Banco!$C6253,Analitico!$A:$A,0)),INDEX(Analitico!E:E,MATCH(Banco!$C6253,Analitico!$A:$A,0))&\"%\",\"\"),\"\")","v":"0,0000000%"},{"$f":"IF($B6253=\"SINAPI\",IF(ISNUMBER(MATCH(Banco!$C6253,Analitico!$A:$A,0)),INDEX(Analitico!F:F,MATCH(Banco!$C6253,Analitico!$A:$A,0))&\"%\",\"\"),\"\")","v":"%"}]
[{"$f":"CONCATENAR","v":"SINAPI 102909"},"SINAPI","102909","UNIDADE DOSADORA AIRLESS TIPO HOT SPRAY - MATERIAIS NA OPERAÇÃO. AF_05/2023","H","3,54",null,null,"CR",{"$f":"IF($B6254=\"SINAPI\",IF(ISNUMBER(MATCH(Banco!$C6254,Analitico!$A:$A,0)),INDEX(Analitico!E:E,MATCH(Banco!$C6254,Analitico!$A:$A,0))&\"%\",\"\"),\"\")","v":"0,0000000%"},{"$f":"IF($B6254=\"SINAPI\",IF(ISNUMBER(MATCH(Banco!$C6254,Analitico!$A:$A,0)),INDEX(Analitico!F:F,MATCH(Banco!$C6254,Analitico!$A:$A,0))&\"%\",\"\"),\"\")","v":"%"}]
[{"$f":"CONCATENAR","v":"SINAPI 102969"},"SINAPI","102969","COMPRESSOR DE AR, VAZAO DE 10 PCM, RESERVATORIO 100 L, PRESSAO DE TRABALHO ENTRE 6,9 E 9,7 BAR, POTENCIA 2 HP, TENSAO 110/220 V - MATERIAIS NA OPERAÇÃO. AF_05/2023","H","1,10",null,null,"CR",{"$f":"IF($B6263=\"SINAPI\",IF(ISNUMBER(MATCH(Banco!$C6263,Analitico!$A:$A,0)),INDEX(Analitico!E:E,MATCH(Banco!$C6263,Analitico!$A:$A,0))&\"%\",\"\"),\"\")","v":"0,0000000%"},{"$f":"IF($B6263=\"SINAPI\",IF(ISNUMBER(MATCH(Banco!$C6263,Analitico!$A:$A,0)),INDEX(Analitico!F:F,MATCH(Banco!$C6263,Analitico!$A:$A,0))&\"%\",\"\"),\"\")","v":"%"}]
[{"$f":"CONCATENAR","v":"SINAPI 103235"},"SINAPI","103235","PERFURATRIZ PARA FURO DIRECIONAL HORIZONTAL (HDD) COM CAPACIDADE DE 201 KN A 560 KN, POTÊNCIA 200 HP A 260 HP (INCLUSO FERRAMENTAS E LOCALIZADOR) - MATERIAIS NA OPERAÇÃO. AF_05/2023","H","102,77",null,null,"C",{"$f":"IF($B6272=\"SINAPI\",IF(ISNUMBER(MATCH(Banco!$C6272,Analitico!$A:$A,0)),INDEX(Analitico!E:E,MATCH(Banco!$C6272,Analitico!$A:$A,0))&\"%\",\"\"),\"\")","v":"0,0000000%"},{"$f":"IF($B6272=\"SINAPI\",IF(ISNUMBER(MATCH(Banco!$C6272,Analitico!$A:$A,0)),INDEX(Analitico!F:F,MATCH(Banco!$C6272,Analitico!$A:$A,0))&\"%\",\"\"),\"\")","v":"%"}]
[{"$f":"CONCATENAR","v":"SINAPI 104090"},"SINAPI","104090","TERMOFUSORA PARA TUBOS E CONEXÕES EM PPR COM DIÂMETROS DE 20 A 63 MM, POTÊNCIA DE 800 W, TENSAO 220 V - MATERIAIS NA OPERAÇÃO. AF_05/2022","H","0,59",null,null,"CR",{"$f":"IF($B6282=\"SINAPI\",IF(ISNUMBER(MATCH(Banco!$C6282,Analitico!$A:$A,0)),INDEX(Analitico!E:E,MATCH(Banco!$C6282,Analitico!$A:$A,0))&\"%\",\"\"),\"\")","v":"0,0000000%"},{"$f":"IF($B6282=\"SINAPI\",IF(ISNUMBER(MATCH(Banco!$C6282,Analitico!$A:$A,0)),INDEX(Analitico!F:F,MATCH(Banco!$C6282,Analitico!$A:$A,0))&\"%\",\"\"),\"\")","v":"%"}]
[{"$f":"CONCATENAR","v":"SINAPI 104703"},"SINAPI","104703","CAMINHÃO TANQUE PARA HIDROSSEMEADURA, COM CAPACIDADE DE 8.000 LITROS, INCLUINDO BOMBA PARA LANÇAMENTO COM MOTOR DIESEL COM POTÊNCIA DE 105 CV - MATERIAIS NA OPERAÇÃO. AF_06/2023","H","92,60",null,null,"C",{"$f":"IF($B6291=\"SINAPI\",IF(ISNUMBER(MATCH(Banco!$C6291,Analitico!$A:$A,0)),INDEX(Analitico!E:E,MATCH(Banco!$C6291,Analitico!$A:$A,0))&\"%\",\"\"),\"\")","v":"0,0000000%"},{"$f":"IF($B6291=\"SINAPI\",IF(ISNUMBER(MATCH(Banco!$C6291,Analitico!$A:$A,0)),INDEX(Analitico!F:F,MATCH(Banco!$C6291,Analitico!$A:$A,0))&\"%\",\"\"),\"\")","v":"%"}]
[{"$f":"CONCATENAR","v":"SINAPI 92539"},"SINAPI","92539","TRAMA DE MADEIRA COMPOSTA POR RIPAS, CAIBROS E TERÇAS PARA TELHADOS DE ATÉ 2 ÁGUAS PARA TELHA DE ENCAIXE DE CERÂMICA OU DE CONCRETO, INCLUSO TRANSPORTE VERTICAL. AF_07/2019","M2","54,86",null,null,"CR",{"$f":"IF($B6300=\"SINAPI\",IF(ISNUMBER(MATCH(Banco!$C6300,Analitico!$A:$A,0)),INDEX(Analitico!E:E,MATCH(Banco!$C6300,Analitico!$A:$A,0))&\"%\",\"\"),\"\")","v":"29,2580409%"},{"$f":"IF($B6300=\"SINAPI\",IF(ISNUMBER(MATCH(Banco!$C6300,Analitico!$A:$A,0)),INDEX(Analitico!F:F,MATCH(Banco!$C6300,Analitico!$A:$A,0))&\"%\",\"\"),\"\")","v":"%"}]
[{"$f":"CONCATENAR","v":"SINAPI 92548"},"SINAPI","92548","FABRICAÇÃO E INSTALAÇÃO DE TESOURA INTEIRA EM MADEIRA NÃO APARELHADA, VÃO DE 6 M, PARA TELHA CERÂMICA OU DE CONCRETO, INCLUSO IÇAMENTO. AF_07/2019","UN","1.117,99",null,null,"AS",{"$f":"IF($B6309=\"SINAPI\",IF(ISNUMBER(MATCH(Banco!$C6309,Analitico!$A:$A,0)),INDEX(Analitico!E:E,MATCH(Banco!$C6309,Analitico!$A:$A,0))&\"%\",\"\"),\"\")","v":"35,5034667%"},{"$f":"IF($B6309=\"SINAPI\",IF(ISNUMBER(MATCH(Banco!$C6309,Analitico!$A:$A,0)),INDEX(Analitico!F:F,MATCH(Banco!$C6309,Analitico!$A:$A,0))&\"%\",\"\"),\"\")","v":"%"}]
[{"$f":"CONCATENAR","v":"SINAPI 92553"},"SINAPI","92553","FABRICAÇÃO E INSTALAÇÃO DE TESOURA INTEIRA EM MADEIRA NÃO APARELHADA, VÃO DE 11 M, PARA TELHA CERÂMICA OU DE CONCRETO, INCLUSO IÇAMENTO. AF_07/2019","UN","2.289,79",null,null,"AS",{"$f":"IF($B6314=\"SINAPI\",IF(ISNUMBER(MATCH(Banco!$C6314,Analitico!$A:$A,0)),INDEX(Analitico!E:E,MATCH(Banco!$C6314,Analitico!$A:$A,0))&\"%\",\"\"),\"\")","v":"37,0133386%"},{"$f":"IF($B6314=\"SINAPI\",IF(ISNUMBER(MATCH(Banco!$C6314,Analitico!$A:$A,0)),INDEX(Analitico!F:F,MATCH(Banco!$C6314,Analitico!$A:$A,0))&\"%\",\"\"),\"\")","v":"%"}]
[{"$f":"CONCATENAR","v":"SINAPI 92559"},"SINAPI","92559","FABRICAÇÃO E INSTALAÇÃO DE TESOURA INTEIRA EM MADEIRA NÃO APARELHADA, VÃO DE 7 M, PARA TELHA ONDULADA DE FIBROCIMENTO, METÁLICA, PLÁSTICA OU TERMOACÚSTICA, INCLUSO IÇAMENTO. AF_07/2019","UN","1.403,20",null,null,"AS",{"$f":"IF($B6320=\"SINAPI\",IF(ISNUMBER(MATCH(Banco!$C6320,Analitico!$A:$A,0)),INDEX(Analitico!E:E,MATCH(Banco!$C6320,Analitico!$A:$A,0))&\"%\",\"\"),\"\")","v":"40,2920925%"},{"$f":"IF($B6320=\"SINAPI\",IF(ISNUMBER(MATCH(Banco!$C6320,Analitico!$A:$A,0)),INDEX(Analitico!F:F,MATCH(Banco!$C6320,Analitico!$A:$A,0))&\"%\",\"\"),\"\")","v":"%"}]
[{"$f":"CONCATENAR","v":"SINAPI 100383"},"SINAPI","100383","FABRICAÇÃO E INSTALAÇÃO DE PONTALETES DE MADEIRA NÃO APARELHADA PARA TELHADOS COM ATÉ 2 ÁGUAS E COM TELHA ONDULADA DE FIBROCIMENTO, ALUMÍNIO OU PLÁSTICA EM EDIFÍCIO RESIDENCIAL DE MÚLTIPLOS PAVIMENTOS, INCLUSO TRANSPORTE VERTICAL. AF_07/2019","M2","17,88",null,null,"CR",{"$f":"IF($B6329=\"SINAPI\",IF(ISNUMBER(MATCH(Banco!$C6329,Analitico!$A:$A,0)),INDEX(Analitico!E:E,MATCH(Banco!$C6329,Analitico!$A:$A,0))&\"%\",\"\"),\"\")","v":"23,7584650%"},{"$f":"IF($B6329=\"SINAPI\",IF(ISNUMBER(MATCH(Banco!$C6329,Analitico!$A:$A,0)),INDEX(Analitico!F:F,MATCH(Banco!$C6329,Analitico!$A:$A,0))&\"%\",\"\"),\"\")","v":"%"}]
[{"$f":"CONCATENAR","v":"SINAPI 100392"},"SINAPI","100392","RETIRADA E RECOLOCAÇÃO DE RIPA EM TELHADOS DE ATÉ 2 ÁGUAS COM TELHA CERÂMICA CAPA-CANAL, INCLUSO TRANSPORTE VERTICAL. AF_07/2019","M2","12,47",null,null,"CR",{"$f":"IF($B6338=\"SINAPI\",IF(ISNUMBER(MATCH(Banco!$C6338,Analitico!$A:$A,0)),INDEX(Analitico!E:E,MATCH(Banco!$C6338,Analitico!$A:$A,0))&\"%\",\"\"),\"\")","v":"49,8781478%"},{"$f":"IF($B6338=\"SINAPI\",IF(ISNUMBER(MATCH(Banco!$C6338,Analitico!$A:$A,0)),INDEX(Analitico!F:F,MATCH(Banco!$C6338,Analitico!$A:$A,0))&\"%\",\"\"),\"\")","v":"%"}]
[{"$f":"CONCATENAR","v":"SINAPI 94204"},"SINAPI","94204","TELHAMENTO COM TELHA CERÂMICA CAPA-CANAL, TIPO COLONIAL, COM MAIS DE 2 ÁGUAS, INCLUSO TRANSPORTE VERTICAL. AF_07/2019","M2","103,54",null,null,"CR",{"$f":"IF($B6347=\"SINAPI\",IF(ISNUMBER(MATCH(Banco!$C6347,Analitico!$A:$A,0)),INDEX(Analitico!E:E,MATCH(Banco!$C6347,Analitico!$A:$A,0))&\"%\",\"\"),\"\")","v":"14,2649903%"},{"$f":"IF($B6347=\"SINAPI\",IF(ISNUMBER(MATCH(Banco!$C6347,Analitico!$A:$A,0)),INDEX(Analitico!F:F,MATCH(Banco!$C6347,Analitico!$A:$A,0))&\"%\",\"\"),\"\")","v":"%"}]
[{"$f":"CONCATENAR","v":"SINAPI 94210"},"SINAPI","94210","TELHAMENTO COM TELHA ONDULADA DE FIBROCIMENTO E = 6 MM, COM RECOBRIMENTO LATERAL DE 1 1/4 DE ONDA PARA TELHADO COM INCLINAÇÃO MÁXIMA DE 10°, COM ATÉ 2 ÁGUAS, INCLUSO IÇAMENTO. AF_07/2019","M2","50,72",null,null,"CR",{"$f":"IF($B6360=\"SINAPI\",IF(ISNUMBER(MATCH(Banco!$C6360,Analitico!$A:$A,0)),INDEX(Analitico!E:E,MATCH(Banco!$C6360,Analitico!$A:$A,0))&\"%\",\"\"),\"\")","v":"10,1758545%"},{"$f":"IF($B6360=\"SINAPI\",IF(ISNUMBER(MATCH(Banco!$C6360,Analitico!$A:$A,0)),INDEX(Analitico!F:F,MATCH(Banco!$C6360,Analitico!$A:$A,0))&\"%\",\"\"),\"\")","v":"%"}]
[{"$f":"CONCATENAR","v":"SINAPI 94221"},"SINAPI","94221","CUMEEIRA PARA TELHA CERÂMICA EMBOÇADA COM ARGAMASSA TRAÇO 1:2:9 (CIMENTO, CAL E AREIA) PARA TELHADOS COM ATÉ 2 ÁGUAS, INCLUSO TRANSPORTE VERTICAL. AF_07/2019","M","39,07",null,null,"CR",{"$f":"IF($B6366=\"SINAPI\",IF(ISNUMBER(MATCH(Banco!$C6366,Analitico!$A:$A,0)),INDEX(Analitico!E:E,MATCH(Banco!$C6366,Analitico!$A:$A,0))&\"%\",\"\"),\"\")","v":"20,4890604%"},{"$f":"IF($B6366=\"SINAPI\",IF(ISNUMBER(MATCH(Banco!$C6366,Analitico!$A:$A,0)),INDEX(Analitico!F:F,MATCH(Banco!$C6366,Analitico!$A:$A,0))&\"%\",\"\"),\"\")","v":"%"}]
[{"$f":"CONCATENAR","v":"SINAPI 100331"},"SINAPI","100331","RETIRADA E RECOLOCAÇÃO DE  TELHA CERÂMICA CAPA-CANAL, COM MAIS DE DUAS ÁGUAS, INCLUSO IÇAMENTO. AF_07/2019","M2","33,11",null,null,"CR",{"$f":"IF($B6375=\"SINAPI\",IF(ISNUMBER(MATCH(Banco!$C6375,Analitico!$A:$A,0)),INDEX(Analitico!E:E,MATCH(Banco!$C6375,Analitico!$A:$A,0))&\"%\",\"\"),\"\")","v":"36,8820139%"},{"$f":"IF($B6375=\"SINAPI\",IF(ISNUMBER(MATCH(Banco!$C6375,Analitico!$A:$A,0)),INDEX(Analitico!F:F,MATCH(Banco!$C6375,Analitico!$A:$A,0))&\"%\",\"\"),\"\")","v":"%"}]
[{"$f":"CONCATENAR","v":"SINAPI 92256"},"SINAPI","92256","INSTALAÇÃO DE TESOURA (INTEIRA OU MEIA), EM AÇO, PARA VÃOS MAIORES OU IGUAIS A 6,0 M E MENORES QUE 8,0 M, INCLUSO IÇAMENTO. AF_07/2019","UN","252,45",null,null,"AS",{"$f":"IF($B6384=\"SINAPI\",IF(ISNUMBER(MATCH(Banco!$C6384,Analitico!$A:$A,0)),INDEX(Analitico!E:E,MATCH(Banco!$C6384,Analitico!$A:$A,0))&\"%\",\"\"),\"\")","v":"52,8975743%"},{"$f":"IF($B6384=\"SINAPI\",IF(ISNUMBER(MATCH(Banco!$C6384,Analitico!$A:$A,0)),INDEX(Analitico!F:F,MATCH(Banco!$C6384,Analitico!$A:$A,0))&\"%\",\"\"),\"\")","v":"%"}]
[{"$f":"CONCATENAR","v":"SINAPI 92257"},"SINAPI","92257","INSTALAÇÃO DE TESOURA (INTEIRA OU MEIA), EM AÇO, PARA VÃOS MAIORES OU IGUAIS A 8,0 M E MENORES QUE 10,0 M, INCLUSO IÇAMENTO. AF_07/2019","UN","301,30",null,null,"AS",{"$f":"IF($B6385=\"SINAPI\",IF(ISNUMBER(MATCH(Banco!$C6385,Analitico!$A:$A,0)),INDEX(Analitico!E:E,MATCH(Banco!$C6385,Analitico!$A:$A,0))&\"%\",\"\"),\"\")","v":"57,5963872%"},{"$f":"IF($B6385=\"SINAPI\",IF(ISNUMBER(MATCH(Banco!$C6385,Analitico!$A:$A,0)),INDEX(Analitico!F:F,MATCH(Banco!$C6385,Analitico!$A:$A,0))&\"%\",\"\"),\"\")","v":"%"}]
[{"$f":"CONCATENAR","v":"SINAPI 92575"},"SINAPI","92575","TRAMA DE AÇO COMPOSTA POR RIPAS E CAIBROS PARA TELHADOS DE ATÉ 2 ÁGUAS PARA TELHA CERÂMICA CAPA-CANAL, INCLUSO TRANSPORTE VERTICAL. AF_07/2019","M2","86,82",null,null,"AS",{"$f":"IF($B6394=\"SINAPI\",IF(ISNUMBER(MATCH(Banco!$C6394,Analitico!$A:$A,0)),INDEX(Analitico!E:E,MATCH(Banco!$C6394,Analitico!$A:$A,0))&\"%\",\"\"),\"\")","v":"5,7785467%"},{"$f":"IF($B6394=\"SINAPI\",IF(ISNUMBER(MATCH(Banco!$C6394,Analitico!$A:$A,0)),INDEX(Analitico!F:F,MATCH(Banco!$C6394,Analitico!$A:$A,0))&\"%\",\"\"),\"\")","v":"%"}]
[{"$f":"CONCATENAR","v":"SINAPI 92586"},"SINAPI","92586","FABRICAÇÃO E INSTALAÇÃO DE TESOURA INTEIRA EM AÇO, VÃO DE 5 M, PARA TELHA CERÂMICA OU DE CONCRETO, INCLUSO IÇAMENTO. AF_07/2019","UN","1.243,04",null,null,"AS",{"$f":"IF($B6403=\"SINAPI\",IF(ISNUMBER(MATCH(Banco!$C6403,Analitico!$A:$A,0)),INDEX(Analitico!E:E,MATCH(Banco!$C6403,Analitico!$A:$A,0))&\"%\",\"\"),\"\")","v":"10,5577817%"},{"$f":"IF($B6403=\"SINAPI\",IF(ISNUMBER(MATCH(Banco!$C6403,Analitico!$A:$A,0)),INDEX(Analitico!F:F,MATCH(Banco!$C6403,Analitico!$A:$A,0))&\"%\",\"\"),\"\")","v":"%"}]
[{"$f":"CONCATENAR","v":"SINAPI 92606"},"SINAPI","92606","FABRICAÇÃO E INSTALAÇÃO DE TESOURA INTEIRA EM AÇO, VÃO DE 5 M, PARA TELHA ONDULADA DE FIBROCIMENTO, METÁLICA, PLÁSTICA OU TERMOACÚSTICA, INCLUSO IÇAMENTO. AF_07/2019","UN","1.200,91",null,null,"AS",{"$f":"IF($B6413=\"SINAPI\",IF(ISNUMBER(MATCH(Banco!$C6413,Analitico!$A:$A,0)),INDEX(Analitico!E:E,MATCH(Banco!$C6413,Analitico!$A:$A,0))&\"%\",\"\"),\"\")","v":"10,9282471%"},{"$f":"IF($B6413=\"SINAPI\",IF(ISNUMBER(MATCH(Banco!$C6413,Analitico!$A:$A,0)),INDEX(Analitico!F:F,MATCH(Banco!$C6413,Analitico!$A:$A,0))&\"%\",\"\"),\"\")","v":"%"}]
[{"$f":"CONCATENAR","v":"SINAPI 100358"},"SINAPI","100358","FABRICAÇÃO E INSTALAÇÃO DE MEIA TESOURA DE MADEIRA NÃO APARELHADA, COM VÃO DE 4 M, PARA TELHA CERÂMICA OU DE CONCRETO, INCLUSO IÇAMENTO. AF_07/2019","UN","1.109,74",null,null,"AS",{"$f":"IF($B6422=\"SINAPI\",IF(ISNUMBER(MATCH(Banco!$C6422,Analitico!$A:$A,0)),INDEX(Analitico!E:E,MATCH(Banco!$C6422,Analitico!$A:$A,0))&\"%\",\"\"),\"\")","v":"39,3095989%"},{"$f":"IF($B6422=\"SINAPI\",IF(ISNUMBER(MATCH(Banco!$C6422,Analitico!$A:$A,0)),INDEX(Analitico!F:F,MATCH(Banco!$C6422,Analitico!$A:$A,0))&\"%\",\"\"),\"\")","v":"%"}]
[{"$f":"CONCATENAR","v":"SINAPI 100367"},"SINAPI","100367","FABRICAÇÃO E INSTALAÇÃO DE MEIA TESOURA DE MADEIRA NÃO APARELHADA, COM VÃO DE 3 M, PARA TELHA ONDULADA DE FIBROCIMENTO, ALUMÍNIO, PLÁSTICA OU TERMOACÚSTICA, INCLUSO IÇAMENTO. AF_07/2019","UN","789,19",null,null,"AS",{"$f":"IF($B6431=\"SINAPI\",IF(ISNUMBER(MATCH(Banco!$C6431,Analitico!$A:$A,0)),INDEX(Analitico!E:E,MATCH(Banco!$C6431,Analitico!$A:$A,0))&\"%\",\"\"),\"\")","v":"33,9286393%"},{"$f":"IF($B6431=\"SINAPI\",IF(ISNUMBER(MATCH(Banco!$C6431,Analitico!$A:$A,0)),INDEX(Analitico!F:F,MATCH(Banco!$C6431,Analitico!$A:$A,0))&\"%\",\"\"),\"\")","v":"%"}]
[{"$f":"CONCATENAR","v":"SINAPI 100376"},"SINAPI","100376","FABRICAÇÃO E INSTALAÇÃO DE MEIA TESOURA DE MADEIRA NÃO APARELHADA, COM VÃO DE 12 M, PARA TELHA ONDULADA DE FIBROCIMENTO, ALUMÍNIO, PLÁSTICA OU TERMOACÚSTICA, INCLUSO IÇAMENTO. AF_07/2019","UN","2.542,88",null,null,"AS",{"$f":"IF($B6440=\"SINAPI\",IF(ISNUMBER(MATCH(Banco!$C6440,Analitico!$A:$A,0)),INDEX(Analitico!E:E,MATCH(Banco!$C6440,Analitico!$A:$A,0))&\"%\",\"\"),\"\")","v":"36,6419809%"},{"$f":"IF($B6440=\"SINAPI\",IF(ISNUMBER(MATCH(Banco!$C6440,Analitico!$A:$A,0)),INDEX(Analitico!F:F,MATCH(Banco!$C6440,Analitico!$A:$A,0))&\"%\",\"\"),\"\")","v":"%"}]
[{"$f":"CONCATENAR","v":"SINAPI 104189"},"SINAPI","104189","INSTALAÇÃO DE MATERIAL GRANULAR FILTRANTE PARA SISTEMA DE REBAIXAMENTO DE LENÇOL FREÁTICO POR POÇOS PROFUNDOSA, DIÂMETRO DO POÇO DE 400 MM. AF_12/2022","M3","144,60",null,null,"CR",{"$f":"IF($B6449=\"SINAPI\",IF(ISNUMBER(MATCH(Banco!$C6449,Analitico!$A:$A,0)),INDEX(Analitico!E:E,MATCH(Banco!$C6449,Analitico!$A:$A,0))&\"%\",\"\"),\"\")","v":"19,1876556%"},{"$f":"IF($B6449=\"SINAPI\",IF(ISNUMBER(MATCH(Banco!$C6449,Analitico!$A:$A,0)),INDEX(Analitico!F:F,MATCH(Banco!$C6449,Analitico!$A:$A,0))&\"%\",\"\"),\"\")","v":"%"}]
[{"$f":"CONCATENAR","v":"SINAPI 102661"},"SINAPI","102661","DRENO SUBSUPERFICIAL (SEÇÃO 0,40 X 0,40 M), COM TUBO DE PEAD CORRUGADO PERFURADO, DN 100 MM, ENCHIMENTO COM AREIA. AF_07/2021","M","36,05",null,null,"AS",{"$f":"IF($B6451=\"SINAPI\",IF(ISNUMBER(MATCH(Banco!$C6451,Analitico!$A:$A,0)),INDEX(Analitico!E:E,MATCH(Banco!$C6451,Analitico!$A:$A,0))&\"%\",\"\"),\"\")","v":"12,6603457%"},{"$f":"IF($B6451=\"SINAPI\",IF(ISNUMBER(MATCH(Banco!$C6451,Analitico!$A:$A,0)),INDEX(Analitico!F:F,MATCH(Banco!$C6451,Analitico!$A:$A,0))&\"%\",\"\"),\"\")","v":"%"}]
[{"$f":"CONCATENAR","v":"SINAPI 102672"},"SINAPI","102672","DRENO PROFUNDO (SEÇÃO 0,50 X 1,50 M), COM TUBO DE PVC CORRUGADO RÍGIDO PERFURADO, DN 100 MM, ENCHIMENTO COM AREIA, COM SELO DE ARGILA. AF_07/2021","M","172,88",null,null,"AS",{"$f":"IF($B6460=\"SINAPI\",IF(ISNUMBER(MATCH(Banco!$C6460,Analitico!$A:$A,0)),INDEX(Analitico!E:E,MATCH(Banco!$C6460,Analitico!$A:$A,0))&\"%\",\"\"),\"\")","v":"10,2662258%"},{"$f":"IF($B6460=\"SINAPI\",IF(ISNUMBER(MATCH(Banco!$C6460,Analitico!$A:$A,0)),INDEX(Analitico!F:F,MATCH(Banco!$C6460,Analitico!$A:$A,0))&\"%\",\"\"),\"\")","v":"%"}]
[{"$f":"CONCATENAR","v":"SINAPI 102683"},"SINAPI","102683","DRENO PROFUNDO (SEÇÃO 0,50 X 1,50 M), COM TUBO DE CONCRETO SIMPLES POROSO, DN 200 MM, ENCHIMENTO COM BRITA, ENVOLVIDO COM MANTA GEOTÊXTIL, COM SELO DE ARGILA. AF_07/2021","M","183,61",null,null,"AS",{"$f":"IF($B6469=\"SINAPI\",IF(ISNUMBER(MATCH(Banco!$C6469,Analitico!$A:$A,0)),INDEX(Analitico!E:E,MATCH(Banco!$C6469,Analitico!$A:$A,0))&\"%\",\"\"),\"\")","v":"9,3103259%"},{"$f":"IF($B6469=\"SINAPI\",IF(ISNUMBER(MATCH(Banco!$C6469,Analitico!$A:$A,0)),INDEX(Analitico!F:F,MATCH(Banco!$C6469,Analitico!$A:$A,0))&\"%\",\"\"),\"\")","v":"%"}]
[{"$f":"CONCATENAR","v":"SINAPI 102696"},"SINAPI","102696","DRENO ESPINHA DE PEIXE (SEÇÃO 0,50 X 0,80 M), COM TUBO DE PVC CORRUGADO RÍGIDO PERFURADO, DN 100 MM, ENCHIMENTO COM AREIA, INCLUSIVE CONEXÕES. AF_07/2021","M","130,94",null,null,"AS",{"$f":"IF($B6478=\"SINAPI\",IF(ISNUMBER(MATCH(Banco!$C6478,Analitico!$A:$A,0)),INDEX(Analitico!E:E,MATCH(Banco!$C6478,Analitico!$A:$A,0))&\"%\",\"\"),\"\")","v":"8,2676261%"},{"$f":"IF($B6478=\"SINAPI\",IF(ISNUMBER(MATCH(Banco!$C6478,Analitico!$A:$A,0)),INDEX(Analitico!F:F,MATCH(Banco!$C6478,Analitico!$A:$A,0))&\"%\",\"\"),\"\")","v":"%"}]
[{"$f":"CONCATENAR","v":"SINAPI 102717"},"SINAPI","102717","ENCHIMENTO DE BRITA PARA DRENO, LANÇAMENTO MECANIZADO. AF_07/2021","M3","118,57",null,null,"AS",{"$f":"IF($B6491=\"SINAPI\",IF(ISNUMBER(MATCH(Banco!$C6491,Analitico!$A:$A,0)),INDEX(Analitico!E:E,MATCH(Banco!$C6491,Analitico!$A:$A,0))&\"%\",\"\"),\"\")","v":"9,2060810%"},{"$f":"IF($B6491=\"SINAPI\",IF(ISNUMBER(MATCH(Banco!$C6491,Analitico!$A:$A,0)),INDEX(Analitico!F:F,MATCH(Banco!$C6491,Analitico!$A:$A,0))&\"%\",\"\"),\"\")","v":"%"}]
[{"$f":"CONCATENAR","v":"SINAPI 102725"},"SINAPI","102725","DRENO BARBACÃ, DN 75 MM, COM MATERIAL DRENANTE. AF_07/2021","UN","29,43",null,null,"CR",{"$f":"IF($B6497=\"SINAPI\",IF(ISNUMBER(MATCH(Banco!$C6497,Analitico!$A:$A,0)),INDEX(Analitico!E:E,MATCH(Banco!$C6497,Analitico!$A:$A,0))&\"%\",\"\"),\"\")","v":"25,9183673%"},{"$f":"IF($B6497=\"SINAPI\",IF(ISNUMBER(MATCH(Banco!$C6497,Analitico!$A:$A,0)),INDEX(Analitico!F:F,MATCH(Banco!$C6497,Analitico!$A:$A,0))&\"%\",\"\"),\"\")","v":"%"}]
[{"$f":"CONCATENAR","v":"SINAPI 92749"},"SINAPI","92749","MURO DE GABIÃO, ENCHIMENTO COM PEDRA DE MÃO TIPO RACHÃO, COM SOLO REFORÇADO, PARA MUROS COM ALTURA MENOR OU IGUAL A 4 M - FORNECIMENTO E EXECUÇÃO. AF_03/2024","M3","843,49",null,null,"AS",{"$f":"IF($B6506=\"SINAPI\",IF(ISNUMBER(MATCH(Banco!$C6506,Analitico!$A:$A,0)),INDEX(Analitico!E:E,MATCH(Banco!$C6506,Analitico!$A:$A,0))&\"%\",\"\"),\"\")","v":"17,0158775%"},{"$f":"IF($B6506=\"SINAPI\",IF(ISNUMBER(MATCH(Banco!$C6506,Analitico!$A:$A,0)),INDEX(Analitico!F:F,MATCH(Banco!$C6506,Analitico!$A:$A,0))&\"%\",\"\"),\"\")","v":"%"}]
[{"$f":"CONCATENAR","v":"SINAPI 92758"},"SINAPI","92758","PROTEÇÃO SUPERFICIAL DE CANAL EM GABIÃO TIPO SACO, DIÂMETRO DE 65 CENTÍMETROS, ENCHIMENTO MANUAL COM PEDRA DE MÃO TIPO RACHÃO - FORNECIMENTO E EXECUÇÃO. AF_03/2024","M3","601,66",null,null,"AS",{"$f":"IF($B6515=\"SINAPI\",IF(ISNUMBER(MATCH(Banco!$C6515,Analitico!$A:$A,0)),INDEX(Analitico!E:E,MATCH(Banco!$C6515,Analitico!$A:$A,0))&\"%\",\"\"),\"\")","v":"10,1494571%"},{"$f":"IF($B6515=\"SINAPI\",IF(ISNUMBER(MATCH(Banco!$C6515,Analitico!$A:$A,0)),INDEX(Analitico!F:F,MATCH(Banco!$C6515,Analitico!$A:$A,0))&\"%\",\"\"),\"\")","v":"%"}]
[{"$f":"CONCATENAR","v":"SINAPI 91069"},"SINAPI","91069","EXECUÇÃO DE REVESTIMENTO DE CONCRETO PROJETADO COM ESPESSURA DE 7 CM, ARMADO COM TELA, INCLINAÇÃO MENOR QUE 90°, APLICAÇÃO CONTÍNUA, UTILIZANDO EQUIPAMENTO DE PROJEÇÃO COM 6 M³/H DE CAPACIDADE. AF_07/2024","M2","205,02",null,null,"AS",{"$f":"IF($B6516=\"SINAPI\",IF(ISNUMBER(MATCH(Banco!$C6516,Analitico!$A:$A,0)),INDEX(Analitico!E:E,MATCH(Banco!$C6516,Analitico!$A:$A,0))&\"%\",\"\"),\"\")","v":"45,2334440%"},{"$f":"IF($B6516=\"SINAPI\",IF(ISNUMBER(MATCH(Banco!$C6516,Analitico!$A:$A,0)),INDEX(Analitico!F:F,MATCH(Banco!$C6516,Analitico!$A:$A,0))&\"%\",\"\"),\"\")","v":"%"}]
[{"$f":"CONCATENAR","v":"SINAPI 91081"},"SINAPI","91081","EXECUÇÃO DE REVESTIMENTO DE CONCRETO PROJETADO COM ESPESSURA DE 7 CM, ARMADO COM FIBRAS DE AÇO, INCLINAÇÃO MENOR QUE 90°, APLICAÇÃO CONTÍNUA, UTILIZANDO EQUIPAMENTO DE PROJEÇÃO COM 3 M³/H DE CAPACIDADE. AF_07/2024","M2","259,07",null,null,"AS",{"$f":"IF($B6528=\"SINAPI\",IF(ISNUMBER(MATCH(Banco!$C6528,Analitico!$A:$A,0)),INDEX(Analitico!E:E,MATCH(Banco!$C6528,Analitico!$A:$A,0))&\"%\",\"\"),\"\")","v":"42,8124278%"},{"$f":"IF($B6528=\"SINAPI\",IF(ISNUMBER(MATCH(Banco!$C6528,Analitico!$A:$A,0)),INDEX(Analitico!F:F,MATCH(Banco!$C6528,Analitico!$A:$A,0))&\"%\",\"\"),\"\")","v":"%"}]
[{"$f":"CONCATENAR","v":"SINAPI 91089"},"SINAPI","91089","EXECUÇÃO DE REVESTIMENTO DE CONCRETO PROJETADO COM ESPESSURA DE 10 CM, ARMADO COM TELA, INCLINAÇÃO DE 90°, APLICAÇÃO DESCONTÍNUA, UTILIZANDO EQUIPAMENTO DE PROJEÇÃO COM 6 M³/H DE CAPACIDADE. AF_07/2024","M2","363,77",null,null,"AS",{"$f":"IF($B6535=\"SINAPI\",IF(ISNUMBER(MATCH(Banco!$C6535,Analitico!$A:$A,0)),INDEX(Analitico!E:E,MATCH(Banco!$C6535,Analitico!$A:$A,0))&\"%\",\"\"),\"\")","v":"61,0541085%"},{"$f":"IF($B6535=\"SINAPI\",IF(ISNUMBER(MATCH(Banco!$C6535,Analitico!$A:$A,0)),INDEX(Analitico!F:F,MATCH(Banco!$C6535,Analitico!$A:$A,0))&\"%\",\"\"),\"\")","v":"%"}]
[{"$f":"CONCATENAR","v":"SINAPI 91098"},"SINAPI","91098","EXECUÇÃO DE REVESTIMENTO DE CONCRETO PROJETADO COM ESPESSURA DE 7 CM, ARMADO COM FIBRAS DE AÇO, INCLINAÇÃO MENOR QUE 90°, APLICAÇÃO DESCONTÍNUA, UTILIZANDO EQUIPAMENTO DE PROJEÇÃO COM 3 M³/H DE CAPACIDADE. AF_07/2024","M2","225,39",null,null,"AS",{"$f":"IF($B6544=\"SINAPI\",IF(ISNUMBER(MATCH(Banco!$C6544,Analitico!$A:$A,0)),INDEX(Analitico!E:E,MATCH(Banco!$C6544,Analitico!$A:$A,0))&\"%\",\"\"),\"\")","v":"39,5700071%"},{"$f":"IF($B6544=\"SINAPI\",IF(ISNUMBER(MATCH(Banco!$C6544,Analitico!$A:$A,0)),INDEX(Analitico!F:F,MATCH(Banco!$C6544,Analitico!$A:$A,0))&\"%\",\"\"),\"\")","v":"%"}]
[{"$f":"CONCATENAR","v":"SINAPI 93971"},"SINAPI","93971","EXECUÇÃO DE GRAMPO PARA SOLO GRAMPEADO COM COMPRIMENTO MAIOR QUE 7 M, DIÂMETRO DE 10 CM, PERFURAÇÃO COM EQUIPAMENTO MANUAL E ARMADURA COM DIÂMETRO DE 20 MM. AF_07/2024","M","212,52",null,null,"AS",{"$f":"IF($B6553=\"SINAPI\",IF(ISNUMBER(MATCH(Banco!$C6553,Analitico!$A:$A,0)),INDEX(Analitico!E:E,MATCH(Banco!$C6553,Analitico!$A:$A,0))&\"%\",\"\"),\"\")","v":"55,9947176%"},{"$f":"IF($B6553=\"SINAPI\",IF(ISNUMBER(MATCH(Banco!$C6553,Analitico!$A:$A,0)),INDEX(Analitico!F:F,MATCH(Banco!$C6553,Analitico!$A:$A,0))&\"%\",\"\"),\"\")","v":"%"}]
[{"$f":"CONCATENAR","v":"SINAPI 100344"},"SINAPI","100344","ARMAÇÃO DE CORTINA DE CONTENÇÃO EM CONCRETO ARMADO, COM AÇO CA-50 DE 10 MM - MONTAGEM. AF_07/2019","KG","11,99",null,null,"CR",{"$f":"IF($B6562=\"SINAPI\",IF(ISNUMBER(MATCH(Banco!$C6562,Analitico!$A:$A,0)),INDEX(Analitico!E:E,MATCH(Banco!$C6562,Analitico!$A:$A,0))&\"%\",\"\"),\"\")","v":"12,0704107%"},{"$f":"IF($B6562=\"SINAPI\",IF(ISNUMBER(MATCH(Banco!$C6562,Analitico!$A:$A,0)),INDEX(Analitico!F:F,MATCH(Banco!$C6562,Analitico!$A:$A,0))&\"%\",\"\"),\"\")","v":"%"}]
[{"$f":"CONCATENAR","v":"SINAPI 100347"},"SINAPI","100347","ARMAÇÃO DE CORTINA DE CONTENÇÃO EM CONCRETO ARMADO, COM AÇO CA-50 DE 20 MM - MONTAGEM. AF_07/2019","KG","10,84",null,null,"CR",{"$f":"IF($B6565=\"SINAPI\",IF(ISNUMBER(MATCH(Banco!$C6565,Analitico!$A:$A,0)),INDEX(Analitico!E:E,MATCH(Banco!$C6565,Analitico!$A:$A,0))&\"%\",\"\"),\"\")","v":"3,9814814%"},{"$f":"IF($B6565=\"SINAPI\",IF(ISNUMBER(MATCH(Banco!$C6565,Analitico!$A:$A,0)),INDEX(Analitico!F:F,MATCH(Banco!$C6565,Analitico!$A:$A,0))&\"%\",\"\"),\"\")","v":"%"}]
[{"$f":"CONCATENAR","v":"SINAPI 104854"},"SINAPI","104854","EXECUÇÃO DE PERFURAÇÃO PARA TIRANTE, COMPRIMENTO MAIOR OU IGUAL A 14 M E MENOR QUE 22 M, COM DIÂMETRO DE FURO DE 200 MM EXECUTADO COM HASTE UTILIZANDO PERFURATRIZ MANUAL SOBRE BASE DE MONTAGEM. AF_11/2023","M","73,05",null,null,"AS",{"$f":"IF($B6581=\"SINAPI\",IF(ISNUMBER(MATCH(Banco!$C6581,Analitico!$A:$A,0)),INDEX(Analitico!E:E,MATCH(Banco!$C6581,Analitico!$A:$A,0))&\"%\",\"\"),\"\")","v":"28,1920748%"},{"$f":"IF($B6581=\"SINAPI\",IF(ISNUMBER(MATCH(Banco!$C6581,Analitico!$A:$A,0)),INDEX(Analitico!F:F,MATCH(Banco!$C6581,Analitico!$A:$A,0))&\"%\",\"\"),\"\")","v":"%"}]
[{"$f":"CONCATENAR","v":"SINAPI 104855"},"SINAPI","104855","EXECUÇÃO DE PERFURAÇÃO PARA TIRANTE, COMPRIMENTO MAIOR OU IGUAL A 22 M E MENOR QUE 30 M, COM DIÂMETRO DE FURO DE 200 MM EXECUTADO COM HASTE UTILIZANDO PERFURATRIZ MANUAL SOBRE BASE DE MONTAGEM. AF_11/2023","M","63,98",null,null,"AS",{"$f":"IF($B6582=\"SINAPI\",IF(ISNUMBER(MATCH(Banco!$C6582,Analitico!$A:$A,0)),INDEX(Analitico!E:E,MATCH(Banco!$C6582,Analitico!$A:$A,0))&\"%\",\"\"),\"\")","v":"26,8928683%"},{"$f":"IF($B6582=\"SINAPI\",IF(ISNUMBER(MATCH(Banco!$C6582,Analitico!$A:$A,0)),INDEX(Analitico!F:F,MATCH(Banco!$C6582,Analitico!$A:$A,0))&\"%\",\"\"),\"\")","v":"%"}]
[{"$f":"CONCATENAR","v":"SINAPI 104889"},"SINAPI","104889","EXECUÇÃO DE PERFURAÇÃO PARA TIRANTE, COMPRIMENTO MAIOR OU IGUAL A 6 M E MENOR QUE 14 M, COM DIÂMETRO DE FURO DE 200 MM EXECUTADO COM HASTE UTILIZANDO PERFURATRIZ SOBRE ESTEIRA. AF_11/2023","M","58,34",null,null,"AS",{"$f":"IF($B6591=\"SINAPI\",IF(ISNUMBER(MATCH(Banco!$C6591,Analitico!$A:$A,0)),INDEX(Analitico!E:E,MATCH(Banco!$C6591,Analitico!$A:$A,0))&\"%\",\"\"),\"\")","v":"23,6787564%"},{"$f":"IF($B6591=\"SINAPI\",IF(ISNUMBER(MATCH(Banco!$C6591,Analitico!$A:$A,0)),INDEX(Analitico!F:F,MATCH(Banco!$C6591,Analitico!$A:$A,0))&\"%\",\"\"),\"\")","v":"%"}]
[{"$f":"CONCATENAR","v":"SINAPI 102994"},"SINAPI","102994","CANALETA MEIA CANA PRÉ-MOLDADA DE CONCRETO (D = 80 CM) - FORNECIMENTO E INSTALAÇÃO. AF_08/2021","M","185,05",null,null,"CR",{"$f":"IF($B6600=\"SINAPI\",IF(ISNUMBER(MATCH(Banco!$C6600,Analitico!$A:$A,0)),INDEX(Analitico!E:E,MATCH(Banco!$C6600,Analitico!$A:$A,0))&\"%\",\"\"),\"\")","v":"11,8260963%"},{"$f":"IF($B6600=\"SINAPI\",IF(ISNUMBER(MATCH(Banco!$C6600,Analitico!$A:$A,0)),INDEX(Analitico!F:F,MATCH(Banco!$C6600,Analitico!$A:$A,0))&\"%\",\"\"),\"\")","v":"%"}]
[{"$f":"CONCATENAR","v":"SINAPI 103006"},"SINAPI","103006","CAIXA COM GRELHA RETANGULAR DE FERRO FUNDIDO, EM ALVENARIA COM TIJOLOS CERÂMICOS MACIÇOS, DIMENSÕES INTERNAS: 0,20 X 1,00 X 0,4 M. AF_08/2021","UN","811,56",null,null,"AS",{"$f":"IF($B6611=\"SINAPI\",IF(ISNUMBER(MATCH(Banco!$C6611,Analitico!$A:$A,0)),INDEX(Analitico!E:E,MATCH(Banco!$C6611,Analitico!$A:$A,0))&\"%\",\"\"),\"\")","v":"23,0857523%"},{"$f":"IF($B6611=\"SINAPI\",IF(ISNUMBER(MATCH(Banco!$C6611,Analitico!$A:$A,0)),INDEX(Analitico!F:F,MATCH(Banco!$C6611,Analitico!$A:$A,0))&\"%\",\"\"),\"\")","v":"%"}]
[{"$f":"CONCATENAR","v":"SINAPI 97949"},"SINAPI","97949","CAIXA PARA BOCA DE LOBO SIMPLES RETANGULAR, EM ALVENARIA COM TIJOLOS CERÂMICOS MACIÇOS, DIMENSÕES INTERNAS: 0,6X1X1,2 M. AF_12/2020","UN","1.785,30",null,null,"AS",{"$f":"IF($B6619=\"SINAPI\",IF(ISNUMBER(MATCH(Banco!$C6619,Analitico!$A:$A,0)),INDEX(Analitico!E:E,MATCH(Banco!$C6619,Analitico!$A:$A,0))&\"%\",\"\"),\"\")","v":"33,4488637%"},{"$f":"IF($B6619=\"SINAPI\",IF(ISNUMBER(MATCH(Banco!$C6619,Analitico!$A:$A,0)),INDEX(Analitico!F:F,MATCH(Banco!$C6619,Analitico!$A:$A,0))&\"%\",\"\"),\"\")","v":"%"}]
[{"$f":"CONCATENAR","v":"SINAPI 97973"},"SINAPI","97973","CAIXA PARA BOCA DE LOBO DUPLA COMBINADA COM GRELHA RETANGULAR, EM ALVENARIA COM BLOCOS DE CONCRETO, DIMENSÕES INTERNAS: 1,3X2,2X1,2 M. AF_12/2020","UN","4.580,38",null,null,"AS",{"$f":"IF($B6628=\"SINAPI\",IF(ISNUMBER(MATCH(Banco!$C6628,Analitico!$A:$A,0)),INDEX(Analitico!E:E,MATCH(Banco!$C6628,Analitico!$A:$A,0))&\"%\",\"\"),\"\")","v":"24,8362214%"},{"$f":"IF($B6628=\"SINAPI\",IF(ISNUMBER(MATCH(Banco!$C6628,Analitico!$A:$A,0)),INDEX(Analitico!F:F,MATCH(Banco!$C6628,Analitico!$A:$A,0))&\"%\",\"\"),\"\")","v":"%"}]
[{"$f":"CONCATENAR","v":"SINAPI 97985"},"SINAPI","97985","ACRÉSCIMO PARA POÇO DE VISITA CIRCULAR PARA  ESGOTO, EM ALVENARIA COM TIJOLOS CERÂMICOS MACIÇOS, DIÂMETRO INTERNO = 1 M. AF_12/2020","M","1.444,79",null,null,"CR",{"$f":"IF($B6637=\"SINAPI\",IF(ISNUMBER(MATCH(Banco!$C6637,Analitico!$A:$A,0)),INDEX(Analitico!E:E,MATCH(Banco!$C6637,Analitico!$A:$A,0))&\"%\",\"\"),\"\")","v":"37,3481627%"},{"$f":"IF($B6637=\"SINAPI\",IF(ISNUMBER(MATCH(Banco!$C6637,Analitico!$A:$A,0)),INDEX(Analitico!F:F,MATCH(Banco!$C6637,Analitico!$A:$A,0))&\"%\",\"\"),\"\")","v":"%"}]
[{"$f":"CONCATENAR","v":"SINAPI 97996"},"SINAPI","97996","BASE PARA POÇO DE VISITA RETANGULAR PARA ESGOTO, EM ALVENARIA COM BLOCOS DE CONCRETO, DIMENSÕES INTERNAS = 1X1,5 M, PROFUNDIDADE = 1,40 M, EXCLUINDO TAMPÃO. AF_12/2020_PA","UN","3.333,61",null,null,"AS",{"$f":"IF($B6646=\"SINAPI\",IF(ISNUMBER(MATCH(Banco!$C6646,Analitico!$A:$A,0)),INDEX(Analitico!E:E,MATCH(Banco!$C6646,Analitico!$A:$A,0))&\"%\",\"\"),\"\")","v":"30,4627739%"},{"$f":"IF($B6646=\"SINAPI\",IF(ISNUMBER(MATCH(Banco!$C6646,Analitico!$A:$A,0)),INDEX(Analitico!F:F,MATCH(Banco!$C6646,Analitico!$A:$A,0))&\"%\",\"\"),\"\")","v":"%"}]
[{"$f":"CONCATENAR","v":"SINAPI 97999"},"SINAPI","97999","ACRÉSCIMO PARA POÇO DE VISITA RETANGULAR PARA ESGOTO, EM ALVENARIA COM BLOCOS DE CONCRETO, DIMENSÕES INTERNAS = 1X2 M. AF_12/2020","M","1.884,46",null,null,"CR",{"$f":"IF($B6648=\"SINAPI\",IF(ISNUMBER(MATCH(Banco!$C6648,Analitico!$A:$A,0)),INDEX(Analitico!E:E,MATCH(Banco!$C6648,Analitico!$A:$A,0))&\"%\",\"\"),\"\")","v":"35,5381642%"},{"$f":"IF($B6648=\"SINAPI\",IF(ISNUMBER(MATCH(Banco!$C6648,Analitico!$A:$A,0)),INDEX(Analitico!F:F,MATCH(Banco!$C6648,Analitico!$A:$A,0))&\"%\",\"\"),\"\")","v":"%"}]
[{"$f":"CONCATENAR","v":"SINAPI 98010"},"SINAPI","98010","BASE PARA POÇO DE VISITA RETANGULAR PARA ESGOTO, EM ALVENARIA COM BLOCOS DE CONCRETO, DIMENSÕES INTERNAS = 1,5X2 M, PROFUNDIDADE = 1,40 M, EXCLUINDO TAMPÃO. AF_12/2020_PA","UN","5.069,24",null,null,"AS",{"$f":"IF($B6657=\"SINAPI\",IF(ISNUMBER(MATCH(Banco!$C6657,Analitico!$A:$A,0)),INDEX(Analitico!E:E,MATCH(Banco!$C6657,Analitico!$A:$A,0))&\"%\",\"\"),\"\")","v":"28,7981438%"},{"$f":"IF($B6657=\"SINAPI\",IF(ISNUMBER(MATCH(Banco!$C6657,Analitico!$A:$A,0)),INDEX(Analitico!F:F,MATCH(Banco!$C6657,Analitico!$A:$A,0))&\"%\",\"\"),\"\")","v":"%"}]
[{"$f":"CONCATENAR","v":"SINAPI 98019"},"SINAPI","98019","ACRÉSCIMO PARA POÇO DE VISITA RETANGULAR PARA ESGOTO, EM ALVENARIA COM BLOCOS DE CONCRETO, DIMENSÕES INTERNAS = 1,5X4 M. AF_12/2020","M","3.232,89",null,null,"CR",{"$f":"IF($B6666=\"SINAPI\",IF(ISNUMBER(MATCH(Banco!$C6666,Analitico!$A:$A,0)),INDEX(Analitico!E:E,MATCH(Banco!$C6666,Analitico!$A:$A,0))&\"%\",\"\"),\"\")","v":"35,6568854%"},{"$f":"IF($B6666=\"SINAPI\",IF(ISNUMBER(MATCH(Banco!$C6666,Analitico!$A:$A,0)),INDEX(Analitico!F:F,MATCH(Banco!$C6666,Analitico!$A:$A,0))&\"%\",\"\"),\"\")","v":"%"}]
[{"$f":"CONCATENAR","v":"SINAPI 98028"},"SINAPI","98028","BASE PARA POÇO DE VISITA RETANGULAR PARA ESGOTO, EM ALVENARIA COM BLOCOS DE CONCRETO, DIMENSÕES INTERNAS = 2X4 M, PROFUNDIDADE = 1,40 M, EXCLUINDO TAMPÃO. AF_12/2020_PA","UN","10.501,78",null,null,"AS",{"$f":"IF($B6675=\"SINAPI\",IF(ISNUMBER(MATCH(Banco!$C6675,Analitico!$A:$A,0)),INDEX(Analitico!E:E,MATCH(Banco!$C6675,Analitico!$A:$A,0))&\"%\",\"\"),\"\")","v":"27,3076376%"},{"$f":"IF($B6675=\"SINAPI\",IF(ISNUMBER(MATCH(Banco!$C6675,Analitico!$A:$A,0)),INDEX(Analitico!F:F,MATCH(Banco!$C6675,Analitico!$A:$A,0))&\"%\",\"\"),\"\")","v":"%"}]
[{"$f":"CONCATENAR","v":"SINAPI 98037"},"SINAPI","98037","ACRÉSCIMO PARA POÇO DE VISITA RETANGULAR PARA ESGOTO, EM ALVENARIA COM BLOCOS DE CONCRETO, DIMENSÕES INTERNAS = 2,5X4 M. AF_12/2020","M","3.772,59",null,null,"CR",{"$f":"IF($B6684=\"SINAPI\",IF(ISNUMBER(MATCH(Banco!$C6684,Analitico!$A:$A,0)),INDEX(Analitico!E:E,MATCH(Banco!$C6684,Analitico!$A:$A,0))&\"%\",\"\"),\"\")","v":"35,6797776%"},{"$f":"IF($B6684=\"SINAPI\",IF(ISNUMBER(MATCH(Banco!$C6684,Analitico!$A:$A,0)),INDEX(Analitico!F:F,MATCH(Banco!$C6684,Analitico!$A:$A,0))&\"%\",\"\"),\"\")","v":"%"}]
[{"$f":"CONCATENAR","v":"SINAPI 98047"},"SINAPI","98047","ACRÉSCIMO PARA POÇO DE VISITA RETANGULAR PARA ESGOTO, EM ALVENARIA COM BLOCOS DE CONCRETO, DIMENSÕES INTERNAS = 3,5X4 M. AF_12/2020","M","4.312,43",null,null,"CR",{"$f":"IF($B6694=\"SINAPI\",IF(ISNUMBER(MATCH(Banco!$C6694,Analitico!$A:$A,0)),INDEX(Analitico!E:E,MATCH(Banco!$C6694,Analitico!$A:$A,0))&\"%\",\"\"),\"\")","v":"35,6969718%"},{"$f":"IF($B6694=\"SINAPI\",IF(ISNUMBER(MATCH(Banco!$C6694,Analitico!$A:$A,0)),INDEX(Analitico!F:F,MATCH(Banco!$C6694,Analitico!$A:$A,0))&\"%\",\"\"),\"\")","v":"%"}]
[{"$f":"CONCATENAR","v":"SINAPI 98409"},"SINAPI","98409","ACRÉSCIMO PARA POÇO DE VISITA CIRCULAR PARA ESGOTO, EM CONCRETO PRÉ-MOLDADO, DIÂMETRO INTERNO = 0,8 M. AF_12/2020","M","394,45",null,null,"AS",{"$f":"IF($B6703=\"SINAPI\",IF(ISNUMBER(MATCH(Banco!$C6703,Analitico!$A:$A,0)),INDEX(Analitico!E:E,MATCH(Banco!$C6703,Analitico!$A:$A,0))&\"%\",\"\"),\"\")","v":"6,7601846%"},{"$f":"IF($B6703=\"SINAPI\",IF(ISNUMBER(MATCH(Banco!$C6703,Analitico!$A:$A,0)),INDEX(Analitico!F:F,MATCH(Banco!$C6703,Analitico!$A:$A,0))&\"%\",\"\"),\"\")","v":"%"}]
[{"$f":"CONCATENAR","v":"SINAPI 99248"},"SINAPI","99248","BASE PARA POÇO DE VISITA CIRCULAR PARA DRENAGEM, EM ALVENARIA COM TIJOLOS CERÂMICOS MACIÇOS, DIÂMETRO INTERNO = 1,50 M, PROFUNDIDADE = 1,40 M, EXCLUINDO TAMPÃO. AF_12/2020_PA","UN","3.796,97",null,null,"AS",{"$f":"IF($B6712=\"SINAPI\",IF(ISNUMBER(MATCH(Banco!$C6712,Analitico!$A:$A,0)),INDEX(Analitico!E:E,MATCH(Banco!$C6712,Analitico!$A:$A,0))&\"%\",\"\"),\"\")","v":"31,1408368%"},{"$f":"IF($B6712=\"SINAPI\",IF(ISNUMBER(MATCH(Banco!$C6712,Analitico!$A:$A,0)),INDEX(Analitico!F:F,MATCH(Banco!$C6712,Analitico!$A:$A,0))&\"%\",\"\"),\"\")","v":"%"}]
[{"$f":"CONCATENAR","v":"SINAPI 99249"},"SINAPI","99249","ACRÉSCIMO PARA POÇO DE VISITA CIRCULAR PARA DRENAGEM, EM ALVENARIA COM TIJOLOS CERÂMICOS MACIÇOS, DIÂMETRO INTERNO = 1,5 M. AF_12/2020","M","1.937,47",null,null,"CR",{"$f":"IF($B6713=\"SINAPI\",IF(ISNUMBER(MATCH(Banco!$C6713,Analitico!$A:$A,0)),INDEX(Analitico!E:E,MATCH(Banco!$C6713,Analitico!$A:$A,0))&\"%\",\"\"),\"\")","v":"40,0131158%"},{"$f":"IF($B6713=\"SINAPI\",IF(ISNUMBER(MATCH(Banco!$C6713,Analitico!$A:$A,0)),INDEX(Analitico!F:F,MATCH(Banco!$C6713,Analitico!$A:$A,0))&\"%\",\"\"),\"\")","v":"%"}]
[{"$f":"CONCATENAR","v":"SINAPI 99267"},"SINAPI","99267","BASE PARA POÇO DE VISITA RETANGULAR PARA DRENAGEM, EM ALVENARIA COM BLOCOS DE CONCRETO, DIMENSÕES INTERNAS = 1X2,5 M, PROFUNDIDADE = 1,40 M, EXCLUINDO TAMPÃO. AF_12/2020_PA","UN","4.625,49",null,null,"AS",{"$f":"IF($B6722=\"SINAPI\",IF(ISNUMBER(MATCH(Banco!$C6722,Analitico!$A:$A,0)),INDEX(Analitico!E:E,MATCH(Banco!$C6722,Analitico!$A:$A,0))&\"%\",\"\"),\"\")","v":"30,7043003%"},{"$f":"IF($B6722=\"SINAPI\",IF(ISNUMBER(MATCH(Banco!$C6722,Analitico!$A:$A,0)),INDEX(Analitico!F:F,MATCH(Banco!$C6722,Analitico!$A:$A,0))&\"%\",\"\"),\"\")","v":"%"}]
[{"$f":"CONCATENAR","v":"SINAPI 99276"},"SINAPI","99276","ACRÉSCIMO PARA POÇO DE VISITA RETANGULAR PARA DRENAGEM, EM ALVENARIA COM BLOCOS DE CONCRETO, DIMENSÕES INTERNAS = 1,5X3 M. AF_12/2020","M","2.568,11",null,null,"CR",{"$f":"IF($B6731=\"SINAPI\",IF(ISNUMBER(MATCH(Banco!$C6731,Analitico!$A:$A,0)),INDEX(Analitico!E:E,MATCH(Banco!$C6731,Analitico!$A:$A,0))&\"%\",\"\"),\"\")","v":"36,9509325%"},{"$f":"IF($B6731=\"SINAPI\",IF(ISNUMBER(MATCH(Banco!$C6731,Analitico!$A:$A,0)),INDEX(Analitico!F:F,MATCH(Banco!$C6731,Analitico!$A:$A,0))&\"%\",\"\"),\"\")","v":"%"}]
[{"$f":"CONCATENAR","v":"SINAPI 99287"},"SINAPI","99287","BASE PARA POÇO DE VISITA RETANGULAR PARA DRENAGEM, EM ALVENARIA COM BLOCOS DE CONCRETO, DIMENSÕES INTERNAS = 2,5X3 M, PROFUNDIDADE = 1,40 M, EXCLUINDO TAMPÃO. AF_12/2020_PA","UN","9.633,43",null,null,"AS",{"$f":"IF($B6742=\"SINAPI\",IF(ISNUMBER(MATCH(Banco!$C6742,Analitico!$A:$A,0)),INDEX(Analitico!E:E,MATCH(Banco!$C6742,Analitico!$A:$A,0))&\"%\",\"\"),\"\")","v":"26,9460299%"},{"$f":"IF($B6742=\"SINAPI\",IF(ISNUMBER(MATCH(Banco!$C6742,Analitico!$A:$A,0)),INDEX(Analitico!F:F,MATCH(Banco!$C6742,Analitico!$A:$A,0))&\"%\",\"\"),\"\")","v":"%"}]
[{"$f":"CONCATENAR","v":"SINAPI 99296"},"SINAPI","99296","ACRÉSCIMO PARA POÇO DE VISITA RETANGULAR PARA DRENAGEM, EM ALVENARIA COM BLOCOS DE CONCRETO, DIMENSÕES INTERNAS = 2,5X3 M. AF_12/2020","M","3.100,75",null,null,"CR",{"$f":"IF($B6750=\"SINAPI\",IF(ISNUMBER(MATCH(Banco!$C6750,Analitico!$A:$A,0)),INDEX(Analitico!E:E,MATCH(Banco!$C6750,Analitico!$A:$A,0))&\"%\",\"\"),\"\")","v":"36,9988837%"},{"$f":"IF($B6750=\"SINAPI\",IF(ISNUMBER(MATCH(Banco!$C6750,Analitico!$A:$A,0)),INDEX(Analitico!F:F,MATCH(Banco!$C6750,Analitico!$A:$A,0))&\"%\",\"\"),\"\")","v":"%"}]
[{"$f":"CONCATENAR","v":"SINAPI 99305"},"SINAPI","99305","BASE PARA POÇO DE VISITA RETANGULAR PARA DRENAGEM, EM ALVENARIA COM BLOCOS DE CONCRETO, DIMENSÕES INTERNAS = 3X3,5 M, PROFUNDIDADE = 1,40 M, EXCLUINDO TAMPÃO. AF_12/2020_PA","UN","12.622,60",null,null,"AS",{"$f":"IF($B6759=\"SINAPI\",IF(ISNUMBER(MATCH(Banco!$C6759,Analitico!$A:$A,0)),INDEX(Analitico!E:E,MATCH(Banco!$C6759,Analitico!$A:$A,0))&\"%\",\"\"),\"\")","v":"26,2060132%"},{"$f":"IF($B6759=\"SINAPI\",IF(ISNUMBER(MATCH(Banco!$C6759,Analitico!$A:$A,0)),INDEX(Analitico!F:F,MATCH(Banco!$C6759,Analitico!$A:$A,0))&\"%\",\"\"),\"\")","v":"%"}]
[{"$f":"CONCATENAR","v":"SINAPI 99314"},"SINAPI","99314","ACRÉSCIMO PARA POÇO DE VISITA RETANGULAR PARA DRENAGEM, EM ALVENARIA COM BLOCOS DE CONCRETO, DIMENSÕES INTERNAS = 3,5X4 M. AF_12/2020","M","4.127,87",null,null,"CR",{"$f":"IF($B6768=\"SINAPI\",IF(ISNUMBER(MATCH(Banco!$C6768,Analitico!$A:$A,0)),INDEX(Analitico!E:E,MATCH(Banco!$C6768,Analitico!$A:$A,0))&\"%\",\"\"),\"\")","v":"37,0591072%"},{"$f":"IF($B6768=\"SINAPI\",IF(ISNUMBER(MATCH(Banco!$C6768,Analitico!$A:$A,0)),INDEX(Analitico!F:F,MATCH(Banco!$C6768,Analitico!$A:$A,0))&\"%\",\"\"),\"\")","v":"%"}]
[{"$f":"CONCATENAR","v":"SINAPI 99324"},"SINAPI","99324","BASE PARA POÇO DE VISITA RETANGULAR PARA DRENAGEM, EM ALVENARIA COM BLOCOS DE CONCRETO, DIMENSÕES INTERNAS = 2X4 M, PROFUNDIDADE = 1,40 M, EXCLUINDO TAMPÃO. AF_12/2020_PA","UN","10.242,45",null,null,"AS",{"$f":"IF($B6777=\"SINAPI\",IF(ISNUMBER(MATCH(Banco!$C6777,Analitico!$A:$A,0)),INDEX(Analitico!E:E,MATCH(Banco!$C6777,Analitico!$A:$A,0))&\"%\",\"\"),\"\")","v":"27,8672507%"},{"$f":"IF($B6777=\"SINAPI\",IF(ISNUMBER(MATCH(Banco!$C6777,Analitico!$A:$A,0)),INDEX(Analitico!F:F,MATCH(Banco!$C6777,Analitico!$A:$A,0))&\"%\",\"\"),\"\")","v":"%"}]
[{"$f":"CONCATENAR","v":"SINAPI 99326"},"SINAPI","99326","BASE PARA POÇO DE VISITA RETANGULAR PARA DRENAGEM, EM ALVENARIA COM BLOCOS DE CONCRETO, DIMENSÕES INTERNAS = 2,5X2,5 M, PROFUNDIDADE = 1,40 M, EXCLUINDO TAMPÃO. AF_12/2020_PA","UN","8.357,81",null,null,"AS",{"$f":"IF($B6779=\"SINAPI\",IF(ISNUMBER(MATCH(Banco!$C6779,Analitico!$A:$A,0)),INDEX(Analitico!E:E,MATCH(Banco!$C6779,Analitico!$A:$A,0))&\"%\",\"\"),\"\")","v":"27,2547698%"},{"$f":"IF($B6779=\"SINAPI\",IF(ISNUMBER(MATCH(Banco!$C6779,Analitico!$A:$A,0)),INDEX(Analitico!F:F,MATCH(Banco!$C6779,Analitico!$A:$A,0))&\"%\",\"\"),\"\")","v":"%"}]
[{"$f":"CONCATENAR","v":"SINAPI 102141"},"SINAPI","102141","BASE PARA POÇO DE VISITA CIRCULAR PARA  ESGOTO, EM CONCRETO PRÉ-MOLDADO, DIÂMETRO INTERNO = 1,50 M, PROFUNDIDADE = 1,35 M, EXCLUINDO TAMPÃO. AF_12/2020_PA","UN","2.683,99",null,null,"AS",{"$f":"IF($B6788=\"SINAPI\",IF(ISNUMBER(MATCH(Banco!$C6788,Analitico!$A:$A,0)),INDEX(Analitico!E:E,MATCH(Banco!$C6788,Analitico!$A:$A,0))&\"%\",\"\"),\"\")","v":"14,6411611%"},{"$f":"IF($B6788=\"SINAPI\",IF(ISNUMBER(MATCH(Banco!$C6788,Analitico!$A:$A,0)),INDEX(Analitico!F:F,MATCH(Banco!$C6788,Analitico!$A:$A,0))&\"%\",\"\"),\"\")","v":"%"}]
[{"$f":"CONCATENAR","v":"SINAPI 94269"},"SINAPI","94269","GUIA (MEIO-FIO) E SARJETA CONJUGADOS DE CONCRETO, MOLDADA  IN LOCO  EM TRECHO RETO COM EXTRUSORA, 60 CM BASE (15 CM BASE DA GUIA + 45 CM BASE DA SARJETA) X 26 CM ALTURA. AF_01/2024","M","80,68",null,null,"AS",{"$f":"IF($B6797=\"SINAPI\",IF(ISNUMBER(MATCH(Banco!$C6797,Analitico!$A:$A,0)),INDEX(Analitico!E:E,MATCH(Banco!$C6797,Analitico!$A:$A,0))&\"%\",\"\"),\"\")","v":"19,9627560%"},{"$f":"IF($B6797=\"SINAPI\",IF(ISNUMBER(MATCH(Banco!$C6797,Analitico!$A:$A,0)),INDEX(Analitico!F:F,MATCH(Banco!$C6797,Analitico!$A:$A,0))&\"%\",\"\"),\"\")","v":"%"}]
[{"$f":"CONCATENAR","v":"SINAPI 94278"},"SINAPI","94278","ASSENTAMENTO DE GUIA (MEIO-FIO) EM TRECHO CURVO, CONFECCIONADA EM CONCRETO PRÉ-FABRICADO, DIMENSÕES 80X08X08X25 CM (COMPRIMENTO X BASE INFERIOR X BASE SUPERIOR X ALTURA). AF_01/2024","M","41,49",null,null,"CR",{"$f":"IF($B6806=\"SINAPI\",IF(ISNUMBER(MATCH(Banco!$C6806,Analitico!$A:$A,0)),INDEX(Analitico!E:E,MATCH(Banco!$C6806,Analitico!$A:$A,0))&\"%\",\"\"),\"\")","v":"21,4975845%"},{"$f":"IF($B6806=\"SINAPI\",IF(ISNUMBER(MATCH(Banco!$C6806,Analitico!$A:$A,0)),INDEX(Analitico!F:F,MATCH(Banco!$C6806,Analitico!$A:$A,0))&\"%\",\"\"),\"\")","v":"%"}]
[{"$f":"CONCATENAR","v":"SINAPI 94287"},"SINAPI","94287","EXECUÇÃO DE SARJETA DE CONCRETO USINADO, MOLDADA  IN LOCO  EM TRECHO RETO, 30 CM BASE X 10 CM ALTURA. AF_01/2024","M","32,08",null,null,"CR",{"$f":"IF($B6815=\"SINAPI\",IF(ISNUMBER(MATCH(Banco!$C6815,Analitico!$A:$A,0)),INDEX(Analitico!E:E,MATCH(Banco!$C6815,Analitico!$A:$A,0))&\"%\",\"\"),\"\")","v":"24,6173070%"},{"$f":"IF($B6815=\"SINAPI\",IF(ISNUMBER(MATCH(Banco!$C6815,Analitico!$A:$A,0)),INDEX(Analitico!F:F,MATCH(Banco!$C6815,Analitico!$A:$A,0))&\"%\",\"\"),\"\")","v":"%"}]
[{"$f":"CONCATENAR","v":"SINAPI 104494"},"SINAPI","104494","ADUELA/ GALERIA FECHADA PRE-MOLDADA DE CONCRETO ARMADO, SECAO QUADRANGULAR INTERNA DE 2,50 X 2,50 M (L X A), MISULA DE 20 X 20 CM, C = 1,00 M, ESPESSURA MIN = 15 CM, TB-45 E FCK DO CONCRETO = 30 MPA   FORNECIMENTO E ASSENTAMENTO. AF_01/2023","M","6.665,31",null,null,"AS",{"$f":"IF($B6825=\"SINAPI\",IF(ISNUMBER(MATCH(Banco!$C6825,Analitico!$A:$A,0)),INDEX(Analitico!E:E,MATCH(Banco!$C6825,Analitico!$A:$A,0))&\"%\",\"\"),\"\")","v":"1,0900159%"},{"$f":"IF($B6825=\"SINAPI\",IF(ISNUMBER(MATCH(Banco!$C6825,Analitico!$A:$A,0)),INDEX(Analitico!F:F,MATCH(Banco!$C6825,Analitico!$A:$A,0))&\"%\",\"\"),\"\")","v":"%"}]
[{"$f":"CONCATENAR","v":"SINAPI 102733"},"SINAPI","102733","ARMAÇÃO DE MURO ALA E MURO TESTA UTILIZANDO AÇO CA-50 DE 20 MM - MONTAGEM. AF_07/2021","KG","10,90",null,null,"CR",{"$f":"IF($B6834=\"SINAPI\",IF(ISNUMBER(MATCH(Banco!$C6834,Analitico!$A:$A,0)),INDEX(Analitico!E:E,MATCH(Banco!$C6834,Analitico!$A:$A,0))&\"%\",\"\"),\"\")","v":"4,3357933%"},{"$f":"IF($B6834=\"SINAPI\",IF(ISNUMBER(MATCH(Banco!$C6834,Analitico!$A:$A,0)),INDEX(Analitico!F:F,MATCH(Banco!$C6834,Analitico!$A:$A,0))&\"%\",\"\"),\"\")","v":"%"}]
[{"$f":"CONCATENAR","v":"SINAPI 102742"},"SINAPI","102742","BOCA PARA BUEIRO SIMPLES TUBULAR D = 150 CM EM CONCRETO, ALAS COM ESCONSIDADE DE 0°, INCLUINDO FÔRMAS E MATERIAIS. AF_07/2021","UN","13.588,61",null,null,"AS",{"$f":"IF($B6843=\"SINAPI\",IF(ISNUMBER(MATCH(Banco!$C6843,Analitico!$A:$A,0)),INDEX(Analitico!E:E,MATCH(Banco!$C6843,Analitico!$A:$A,0))&\"%\",\"\"),\"\")","v":"17,3705583%"},{"$f":"IF($B6843=\"SINAPI\",IF(ISNUMBER(MATCH(Banco!$C6843,Analitico!$A:$A,0)),INDEX(Analitico!F:F,MATCH(Banco!$C6843,Analitico!$A:$A,0))&\"%\",\"\"),\"\")","v":"%"}]
[{"$f":"CONCATENAR","v":"SINAPI 102743"},"SINAPI","102743","BOCA PARA BUEIRO DUPLO TUBULAR D = 80 CM EM CONCRETO, ALAS COM ESCONSIDADE DE 0°, INCLUINDO FÔRMAS E MATERIAIS. AF_07/2021","UN","4.537,85",null,null,"AS",{"$f":"IF($B6844=\"SINAPI\",IF(ISNUMBER(MATCH(Banco!$C6844,Analitico!$A:$A,0)),INDEX(Analitico!E:E,MATCH(Banco!$C6844,Analitico!$A:$A,0))&\"%\",\"\"),\"\")","v":"18,6059536%"},{"$f":"IF($B6844=\"SINAPI\",IF(ISNUMBER(MATCH(Banco!$C6844,Analitico!$A:$A,0)),INDEX(Analitico!F:F,MATCH(Banco!$C6844,Analitico!$A:$A,0))&\"%\",\"\"),\"\")","v":"%"}]
[{"$f":"CONCATENAR","v":"SINAPI 102752"},"SINAPI","102752","BOCA PARA BUEIRO SIMPLES TUBULAR D = 100 CM EM CONCRETO, ALAS COM ESCONSIDADE DE 30°, INCLUINDO FÔRMAS E MATERIAIS. AF_07/2021","UN","7.520,91",null,null,"AS",{"$f":"IF($B6853=\"SINAPI\",IF(ISNUMBER(MATCH(Banco!$C6853,Analitico!$A:$A,0)),INDEX(Analitico!E:E,MATCH(Banco!$C6853,Analitico!$A:$A,0))&\"%\",\"\"),\"\")","v":"17,3668041%"},{"$f":"IF($B6853=\"SINAPI\",IF(ISNUMBER(MATCH(Banco!$C6853,Analitico!$A:$A,0)),INDEX(Analitico!F:F,MATCH(Banco!$C6853,Analitico!$A:$A,0))&\"%\",\"\"),\"\")","v":"%"}]
[{"$f":"CONCATENAR","v":"SINAPI 102761"},"SINAPI","102761","BOCA PARA BUEIRO SIMPLES CELULAR 150 X 150 CM EM CONCRETO, ALAS COM ESCONSIDADE DE 30°, INCLUINDO FÔRMAS E MATERIAIS. AF_07/2021","UN","12.978,06",null,null,"AS",{"$f":"IF($B6862=\"SINAPI\",IF(ISNUMBER(MATCH(Banco!$C6862,Analitico!$A:$A,0)),INDEX(Analitico!E:E,MATCH(Banco!$C6862,Analitico!$A:$A,0))&\"%\",\"\"),\"\")","v":"19,7746972%"},{"$f":"IF($B6862=\"SINAPI\",IF(ISNUMBER(MATCH(Banco!$C6862,Analitico!$A:$A,0)),INDEX(Analitico!F:F,MATCH(Banco!$C6862,Analitico!$A:$A,0))&\"%\",\"\"),\"\")","v":"%"}]
[{"$f":"CONCATENAR","v":"SINAPI 102771"},"SINAPI","102771","BOCA PARA BUEIRO TRIPLO CELULAR 250 X 250 CM EM CONCRETO, ALAS COM ESCONSIDADE DE 30°, INCLUINDO FÔRMAS E MATERIAIS. AF_07/2021","UN","40.272,13",null,null,"AS",{"$f":"IF($B6872=\"SINAPI\",IF(ISNUMBER(MATCH(Banco!$C6872,Analitico!$A:$A,0)),INDEX(Analitico!E:E,MATCH(Banco!$C6872,Analitico!$A:$A,0))&\"%\",\"\"),\"\")","v":"17,6177469%"},{"$f":"IF($B6872=\"SINAPI\",IF(ISNUMBER(MATCH(Banco!$C6872,Analitico!$A:$A,0)),INDEX(Analitico!F:F,MATCH(Banco!$C6872,Analitico!$A:$A,0))&\"%\",\"\"),\"\")","v":"%"}]
[{"$f":"CONCATENAR","v":"SINAPI 102780"},"SINAPI","102780","BOCA PARA BUEIRO DUPLO TUBULAR D = 60 CM EM GABIÃO, ALAS COM ESCONSIDADE DE 45°, INCLUINDO FÔRMAS E MATERIAIS. AF_07/2021","UN","8.375,88",null,null,"AS",{"$f":"IF($B6881=\"SINAPI\",IF(ISNUMBER(MATCH(Banco!$C6881,Analitico!$A:$A,0)),INDEX(Analitico!E:E,MATCH(Banco!$C6881,Analitico!$A:$A,0))&\"%\",\"\"),\"\")","v":"20,9977533%"},{"$f":"IF($B6881=\"SINAPI\",IF(ISNUMBER(MATCH(Banco!$C6881,Analitico!$A:$A,0)),INDEX(Analitico!F:F,MATCH(Banco!$C6881,Analitico!$A:$A,0))&\"%\",\"\"),\"\")","v":"%"}]
[{"$f":"CONCATENAR","v":"SINAPI 102789"},"SINAPI","102789","BOCA PARA BUEIRO TRIPLO TUBULAR D = 120 CM EM GABIÃO, ALAS COM ESCONSIDADE DE 45°, INCLUINDO FÔRMAS E MATERIAIS. AF_07/2021","UN","19.790,56",null,null,"AS",{"$f":"IF($B6890=\"SINAPI\",IF(ISNUMBER(MATCH(Banco!$C6890,Analitico!$A:$A,0)),INDEX(Analitico!E:E,MATCH(Banco!$C6890,Analitico!$A:$A,0))&\"%\",\"\"),\"\")","v":"18,1208718%"},{"$f":"IF($B6890=\"SINAPI\",IF(ISNUMBER(MATCH(Banco!$C6890,Analitico!$A:$A,0)),INDEX(Analitico!F:F,MATCH(Banco!$C6890,Analitico!$A:$A,0))&\"%\",\"\"),\"\")","v":"%"}]
[{"$f":"CONCATENAR","v":"SINAPI 102798"},"SINAPI","102798","BOCA PARA BUEIRO DUPLO CELULAR 300 X 300 CM EM GABIÃO, ALAS COM ESCONSIDADE DE 45°, INCLUINDO FÔRMAS E MATERIAIS. AF_07/2021","UN","78.527,85",null,null,"AS",{"$f":"IF($B6899=\"SINAPI\",IF(ISNUMBER(MATCH(Banco!$C6899,Analitico!$A:$A,0)),INDEX(Analitico!E:E,MATCH(Banco!$C6899,Analitico!$A:$A,0))&\"%\",\"\"),\"\")","v":"17,5417333%"},{"$f":"IF($B6899=\"SINAPI\",IF(ISNUMBER(MATCH(Banco!$C6899,Analitico!$A:$A,0)),INDEX(Analitico!F:F,MATCH(Banco!$C6899,Analitico!$A:$A,0))&\"%\",\"\"),\"\")","v":"%"}]
[{"$f":"CONCATENAR","v":"SINAPI 101574"},"SINAPI","101574","ESCORAMENTO DE VALA, TIPO PONTALETEAMENTO, COM PROFUNDIDADE DE 3,0 A 4,5 M, LARGURA MENOR QUE 1,5 M. AF_08/2020","M2","11,66",null,null,"CR",{"$f":"IF($B6908=\"SINAPI\",IF(ISNUMBER(MATCH(Banco!$C6908,Analitico!$A:$A,0)),INDEX(Analitico!E:E,MATCH(Banco!$C6908,Analitico!$A:$A,0))&\"%\",\"\"),\"\")","v":"48,4010371%"},{"$f":"IF($B6908=\"SINAPI\",IF(ISNUMBER(MATCH(Banco!$C6908,Analitico!$A:$A,0)),INDEX(Analitico!F:F,MATCH(Banco!$C6908,Analitico!$A:$A,0))&\"%\",\"\"),\"\")","v":"%"}]
[{"$f":"CONCATENAR","v":"SINAPI 101576"},"SINAPI","101576","ESCORAMENTO DE VALA, TIPO DESCONTÍNUO, COM PROFUNDIDADE DE 0 A 1,5 M, LARGURA MENOR QUE 1,5 M. AF_08/2020","M2","32,13",null,null,"CR",{"$f":"IF($B6910=\"SINAPI\",IF(ISNUMBER(MATCH(Banco!$C6910,Analitico!$A:$A,0)),INDEX(Analitico!E:E,MATCH(Banco!$C6910,Analitico!$A:$A,0))&\"%\",\"\"),\"\")","v":"46,7415029%"},{"$f":"IF($B6910=\"SINAPI\",IF(ISNUMBER(MATCH(Banco!$C6910,Analitico!$A:$A,0)),INDEX(Analitico!F:F,MATCH(Banco!$C6910,Analitico!$A:$A,0))&\"%\",\"\"),\"\")","v":"%"}]
[{"$f":"CONCATENAR","v":"SINAPI 101585"},"SINAPI","101585","ESCORAMENTO DE VALA, TIPO CONTÍNUO, COM PROFUNDIDADE DE 1,5 A 3,0 M, LARGURA MAIOR OU IGUAL A 1,5 M E MENOR QUE 2,5 M. AF_08/2020","M2","57,79",null,null,"CR",{"$f":"IF($B6919=\"SINAPI\",IF(ISNUMBER(MATCH(Banco!$C6919,Analitico!$A:$A,0)),INDEX(Analitico!E:E,MATCH(Banco!$C6919,Analitico!$A:$A,0))&\"%\",\"\"),\"\")","v":"50,2945253%"},{"$f":"IF($B6919=\"SINAPI\",IF(ISNUMBER(MATCH(Banco!$C6919,Analitico!$A:$A,0)),INDEX(Analitico!F:F,MATCH(Banco!$C6919,Analitico!$A:$A,0))&\"%\",\"\"),\"\")","v":"%"}]
[{"$f":"CONCATENAR","v":"SINAPI 101600"},"SINAPI","101600","ESCORAMENTO DE VALA, TIPO BLINDAGEM, COM PROFUNDIDADE DE 0 A 1,5 M, LARGURA MENOR QUE 1,5 M - EXECUÇÃO, NÃO INCLUI MATERIAL. AF_08/2020","M2","17,20",null,null,"AS",{"$f":"IF($B6928=\"SINAPI\",IF(ISNUMBER(MATCH(Banco!$C6928,Analitico!$A:$A,0)),INDEX(Analitico!E:E,MATCH(Banco!$C6928,Analitico!$A:$A,0))&\"%\",\"\"),\"\")","v":"37,5292741%"},{"$f":"IF($B6928=\"SINAPI\",IF(ISNUMBER(MATCH(Banco!$C6928,Analitico!$A:$A,0)),INDEX(Analitico!F:F,MATCH(Banco!$C6928,Analitico!$A:$A,0))&\"%\",\"\"),\"\")","v":"%"}]
[{"$f":"CONCATENAR","v":"SINAPI 90791"},"SINAPI","90791","KIT DE PORTA-PRONTA DE MADEIRA EM ACABAMENTO MELAMÍNICO BRANCO, FOLHA PESADA OU SUPERPESADA, 80X210CM, FIXAÇÃO COM PREENCHIMENTO PARCIAL DE ESPUMA EXPANSIVA - FORNECIMENTO E INSTALAÇÃO. AF_12/2019","UN","1.365,39",null,null,"CR",{"$f":"IF($B6937=\"SINAPI\",IF(ISNUMBER(MATCH(Banco!$C6937,Analitico!$A:$A,0)),INDEX(Analitico!E:E,MATCH(Banco!$C6937,Analitico!$A:$A,0))&\"%\",\"\"),\"\")","v":"1,3850232%"},{"$f":"IF($B6937=\"SINAPI\",IF(ISNUMBER(MATCH(Banco!$C6937,Analitico!$A:$A,0)),INDEX(Analitico!F:F,MATCH(Banco!$C6937,Analitico!$A:$A,0))&\"%\",\"\"),\"\")","v":"%"}]
[{"$f":"CONCATENAR","v":"SINAPI 90801"},"SINAPI","90801","BATENTE PARA PORTA DE MADEIRA, PADRÃO MÉDIO - FORNECIMENTO E MONTAGEM. AF_12/2019","UN","442,89",null,null,"CR",{"$f":"IF($B6945=\"SINAPI\",IF(ISNUMBER(MATCH(Banco!$C6945,Analitico!$A:$A,0)),INDEX(Analitico!E:E,MATCH(Banco!$C6945,Analitico!$A:$A,0))&\"%\",\"\"),\"\")","v":"15,5578139%"},{"$f":"IF($B6945=\"SINAPI\",IF(ISNUMBER(MATCH(Banco!$C6945,Analitico!$A:$A,0)),INDEX(Analitico!F:F,MATCH(Banco!$C6945,Analitico!$A:$A,0))&\"%\",\"\"),\"\")","v":"%"}]
[{"$f":"CONCATENAR","v":"SINAPI 90842"},"SINAPI","90842","KIT DE PORTA DE MADEIRA PARA PINTURA, SEMI-OCA (LEVE OU MÉDIA), PADRÃO MÉDIO, 70X210CM, ESPESSURA DE 3,5CM, ITENS INCLUSOS: DOBRADIÇAS, MONTAGEM E INSTALAÇÃO DO BATENTE, FECHADURA COM EXECUÇÃO DO FURO - FORNECIMENTO E INSTALAÇÃO. AF_12/2019","UN","1.313,91",null,null,"CR",{"$f":"IF($B6956=\"SINAPI\",IF(ISNUMBER(MATCH(Banco!$C6956,Analitico!$A:$A,0)),INDEX(Analitico!E:E,MATCH(Banco!$C6956,Analitico!$A:$A,0))&\"%\",\"\"),\"\")","v":"14,7155611%"},{"$f":"IF($B6956=\"SINAPI\",IF(ISNUMBER(MATCH(Banco!$C6956,Analitico!$A:$A,0)),INDEX(Analitico!F:F,MATCH(Banco!$C6956,Analitico!$A:$A,0))&\"%\",\"\"),\"\")","v":"%"}]
[{"$f":"CONCATENAR","v":"SINAPI 90851"},"SINAPI","90851","KIT DE PORTA DE MADEIRA PARA PINTURA, SEMI-OCA (PESADA OU SUPERPESADA), PADRÃO MÉDIO, 80X210CM, ESPESSURA DE 3,5CM, ITENS INCLUSOS: DOBRADIÇAS, MONTAGEM E INSTALAÇÃO DO BATENTE, SEM FECHADURA - FORNECIMENTO E INSTALAÇÃO. AF_12/2019","UN","1.528,66",null,null,"CR",{"$f":"IF($B6965=\"SINAPI\",IF(ISNUMBER(MATCH(Banco!$C6965,Analitico!$A:$A,0)),INDEX(Analitico!E:E,MATCH(Banco!$C6965,Analitico!$A:$A,0))&\"%\",\"\"),\"\")","v":"12,6116100%"},{"$f":"IF($B6965=\"SINAPI\",IF(ISNUMBER(MATCH(Banco!$C6965,Analitico!$A:$A,0)),INDEX(Analitico!F:F,MATCH(Banco!$C6965,Analitico!$A:$A,0))&\"%\",\"\"),\"\")","v":"%"}]
[{"$f":"CONCATENAR","v":"SINAPI 91016"},"SINAPI","91016","KIT DE PORTA DE MADEIRA PARA VERNIZ, SEMI-OCA (LEVE OU MÉDIA), PADRÃO MÉDIO, 90X210CM, ESPESSURA DE 3,5CM, ITENS INCLUSOS: DOBRADIÇAS, MONTAGEM E INSTALAÇÃO DO BATENTE, SEM FECHADURA - FORNECIMENTO E INSTALAÇÃO. AF_12/2019","UN","1.298,65",null,null,"CR",{"$f":"IF($B6974=\"SINAPI\",IF(ISNUMBER(MATCH(Banco!$C6974,Analitico!$A:$A,0)),INDEX(Analitico!E:E,MATCH(Banco!$C6974,Analitico!$A:$A,0))&\"%\",\"\"),\"\")","v":"13,9644395%"},{"$f":"IF($B6974=\"SINAPI\",IF(ISNUMBER(MATCH(Banco!$C6974,Analitico!$A:$A,0)),INDEX(Analitico!F:F,MATCH(Banco!$C6974,Analitico!$A:$A,0))&\"%\",\"\"),\"\")","v":"%"}]
[{"$f":"CONCATENAR","v":"SINAPI 91287"},"SINAPI","91287","BATENTE PARA PORTA DE MADEIRA, PADRÃO POPULAR - FORNECIMENTO E MONTAGEM. AF_12/2019","UN","310,03",null,null,"CR",{"$f":"IF($B6975=\"SINAPI\",IF(ISNUMBER(MATCH(Banco!$C6975,Analitico!$A:$A,0)),INDEX(Analitico!E:E,MATCH(Banco!$C6975,Analitico!$A:$A,0))&\"%\",\"\"),\"\")","v":"22,3139962%"},{"$f":"IF($B6975=\"SINAPI\",IF(ISNUMBER(MATCH(Banco!$C6975,Analitico!$A:$A,0)),INDEX(Analitico!F:F,MATCH(Banco!$C6975,Analitico!$A:$A,0))&\"%\",\"\"),\"\")","v":"%"}]
[{"$f":"CONCATENAR","v":"SINAPI 91317"},"SINAPI","91317","KIT DE PORTA DE MADEIRA PARA PINTURA, SEMI-OCA (PESADA OU SUPERPESADA), PADRÃO POPULAR, 90X210CM, ESPESSURA DE 3,5CM, ITENS INCLUSOS: DOBRADIÇAS, MONTAGEM E INSTALAÇÃO DO BATENTE, FECHADURA COM EXECUÇÃO DO FURO - FORNECIMENTO E INSTALAÇÃO. AF_12/2019","UN","1.548,50",null,null,"CR",{"$f":"IF($B6991=\"SINAPI\",IF(ISNUMBER(MATCH(Banco!$C6991,Analitico!$A:$A,0)),INDEX(Analitico!E:E,MATCH(Banco!$C6991,Analitico!$A:$A,0))&\"%\",\"\"),\"\")","v":"14,4185715%"},{"$f":"IF($B6991=\"SINAPI\",IF(ISNUMBER(MATCH(Banco!$C6991,Analitico!$A:$A,0)),INDEX(Analitico!F:F,MATCH(Banco!$C6991,Analitico!$A:$A,0))&\"%\",\"\"),\"\")","v":"%"}]
[{"$f":"CONCATENAR","v":"SINAPI 91320"},"SINAPI","91320","KIT DE PORTA DE MADEIRA PARA PINTURA, SEMI-OCA (LEVE OU MÉDIA), PADRÃO POPULAR, 80X210CM, ESPESSURA DE 3,5CM, ITENS INCLUSOS: DOBRADIÇAS, MONTAGEM E INSTALAÇÃO DO BATENTE, SEM FECHADURA - FORNECIMENTO E INSTALAÇÃO. AF_12/2019","UN","980,55",null,null,"CR",{"$f":"IF($B6994=\"SINAPI\",IF(ISNUMBER(MATCH(Banco!$C6994,Analitico!$A:$A,0)),INDEX(Analitico!E:E,MATCH(Banco!$C6994,Analitico!$A:$A,0))&\"%\",\"\"),\"\")","v":"18,1532336%"},{"$f":"IF($B6994=\"SINAPI\",IF(ISNUMBER(MATCH(Banco!$C6994,Analitico!$A:$A,0)),INDEX(Analitico!F:F,MATCH(Banco!$C6994,Analitico!$A:$A,0))&\"%\",\"\"),\"\")","v":"%"}]
[{"$f":"CONCATENAR","v":"SINAPI 91329"},"SINAPI","91329","KIT DE PORTA DE MADEIRA FRISADA, SEMI-OCA (LEVE OU MÉDIA), PADRÃO POPULAR, 60X210CM, ESPESSURA DE 3CM, ITENS INCLUSOS: DOBRADIÇAS, MONTAGEM E INSTALAÇÃO DO BATENTE, SEM FECHADURA - FORNECIMENTO E INSTALAÇÃO. AF_12/2019","UN","967,47",null,null,"CR",{"$f":"IF($B7003=\"SINAPI\",IF(ISNUMBER(MATCH(Banco!$C7003,Analitico!$A:$A,0)),INDEX(Analitico!E:E,MATCH(Banco!$C7003,Analitico!$A:$A,0))&\"%\",\"\"),\"\")","v":"17,6388414%"},{"$f":"IF($B7003=\"SINAPI\",IF(ISNUMBER(MATCH(Banco!$C7003,Analitico!$A:$A,0)),INDEX(Analitico!F:F,MATCH(Banco!$C7003,Analitico!$A:$A,0))&\"%\",\"\"),\"\")","v":"%"}]
[{"$f":"CONCATENAR","v":"SINAPI 100659"},"SINAPI","100659","ALIZAR DE 5X1,5CM PARA PORTA FIXADO COM PREGOS, PADRÃO MÉDIO - FORNECIMENTO E INSTALAÇÃO. AF_12/2019","M","17,18",null,null,"CR",{"$f":"IF($B7012=\"SINAPI\",IF(ISNUMBER(MATCH(Banco!$C7012,Analitico!$A:$A,0)),INDEX(Analitico!E:E,MATCH(Banco!$C7012,Analitico!$A:$A,0))&\"%\",\"\"),\"\")","v":"9,8772647%"},{"$f":"IF($B7012=\"SINAPI\",IF(ISNUMBER(MATCH(Banco!$C7012,Analitico!$A:$A,0)),INDEX(Analitico!F:F,MATCH(Banco!$C7012,Analitico!$A:$A,0))&\"%\",\"\"),\"\")","v":"%"}]
[{"$f":"CONCATENAR","v":"SINAPI 100683"},"SINAPI","100683","KIT DE PORTA DE MADEIRA PARA VERNIZ, SEMI-OCA (LEVE OU MÉDIA), PADRÃO MÉDIO, 80X210CM, ESPESSURA DE 3,5CM, ITENS INCLUSOS: DOBRADIÇAS, MONTAGEM E INSTALAÇÃO DE BATENTE, FECHADURA COM EXECUÇÃO DO FURO - FORNECIMENTO E INSTALAÇÃO. AF_12/2019","UN","1.434,39",null,null,"CR",{"$f":"IF($B7021=\"SINAPI\",IF(ISNUMBER(MATCH(Banco!$C7021,Analitico!$A:$A,0)),INDEX(Analitico!E:E,MATCH(Banco!$C7021,Analitico!$A:$A,0))&\"%\",\"\"),\"\")","v":"14,1486726%"},{"$f":"IF($B7021=\"SINAPI\",IF(ISNUMBER(MATCH(Banco!$C7021,Analitico!$A:$A,0)),INDEX(Analitico!F:F,MATCH(Banco!$C7021,Analitico!$A:$A,0))&\"%\",\"\"),\"\")","v":"%"}]
[{"$f":"CONCATENAR","v":"SINAPI 100690"},"SINAPI","100690","KIT DE PORTA DE MADEIRA FRISADA, SEMI-OCA (LEVE OU MÉDIA), PADRÃO POPULAR, 80X210CM, ESPESSURA DE 3,5CM, ITENS INCLUSOS: DOBRADIÇAS, MONTAGEM E INSTALAÇÃO DE BATENTE, FECHADURA COM EXECUÇÃO DO FURO - FORNECIMENTO E INSTALAÇÃO. AF_12/2019","UN","1.169,48",null,null,"CR",{"$f":"IF($B7028=\"SINAPI\",IF(ISNUMBER(MATCH(Banco!$C7028,Analitico!$A:$A,0)),INDEX(Analitico!E:E,MATCH(Banco!$C7028,Analitico!$A:$A,0))&\"%\",\"\"),\"\")","v":"17,3795830%"},{"$f":"IF($B7028=\"SINAPI\",IF(ISNUMBER(MATCH(Banco!$C7028,Analitico!$A:$A,0)),INDEX(Analitico!F:F,MATCH(Banco!$C7028,Analitico!$A:$A,0))&\"%\",\"\"),\"\")","v":"%"}]
[{"$f":"CONCATENAR","v":"SINAPI 100665"},"SINAPI","100665","JANELA DE MADEIRA - CEDRINHO/ANGELIM OU EQUIVALENTE DA REGIÃO - DE ABRIR COM 4 FOLHAS (2 VENEZIANAS E 2 GUILHOTINAS PARA VIDRO), COM BATENTE, ALIZAR E FERRAGENS. EXCLUSIVE VIDROS, ACABAMENTO E CONTRAMARCO. FORNECIMENTO E INSTALAÇÃO. AF_12/2019","M2","1.017,88",null,null,"CR",{"$f":"IF($B7040=\"SINAPI\",IF(ISNUMBER(MATCH(Banco!$C7040,Analitico!$A:$A,0)),INDEX(Analitico!E:E,MATCH(Banco!$C7040,Analitico!$A:$A,0))&\"%\",\"\"),\"\")","v":"4,2915671%"},{"$f":"IF($B7040=\"SINAPI\",IF(ISNUMBER(MATCH(Banco!$C7040,Analitico!$A:$A,0)),INDEX(Analitico!F:F,MATCH(Banco!$C7040,Analitico!$A:$A,0))&\"%\",\"\"),\"\")","v":"%"}]
[{"$f":"CONCATENAR","v":"SINAPI 100666"},"SINAPI","100666","JANELA DE MADEIRA (PINUS/EUCALIPTO OU EQUIV.) DE ABRIR COM 4 FOLHAS (2 VENEZIANAS E 2 GUILHOTINAS PARA VIDRO), COM BATENTE, ALIZAR E FERRAGENS. EXCLUSIVE VIDROS, ACABAMENTO E CONTRAMARCO. FORNECIMENTO E INSTALAÇÃO. AF_12/2019","M2","801,03",null,null,"CR",{"$f":"IF($B7041=\"SINAPI\",IF(ISNUMBER(MATCH(Banco!$C7041,Analitico!$A:$A,0)),INDEX(Analitico!E:E,MATCH(Banco!$C7041,Analitico!$A:$A,0))&\"%\",\"\"),\"\")","v":"5,4534558%"},{"$f":"IF($B7041=\"SINAPI\",IF(ISNUMBER(MATCH(Banco!$C7041,Analitico!$A:$A,0)),INDEX(Analitico!F:F,MATCH(Banco!$C7041,Analitico!$A:$A,0))&\"%\",\"\"),\"\")","v":"%"}]
[{"$f":"CONCATENAR","v":"SINAPI 94562"},"SINAPI","94562","JANELA DE AÇO DE CORRER COM 4 FOLHAS PARA VIDRO, COM BATENTE, FERRAGENS E PINTURA ANTICORROSIVA. EXCLUSIVE VIDROS, ALIZAR E CONTRAMARCO. FORNECIMENTO E INSTALAÇÃO. AF_12/2019","M2","616,41",null,null,"AS",{"$f":"IF($B7050=\"SINAPI\",IF(ISNUMBER(MATCH(Banco!$C7050,Analitico!$A:$A,0)),INDEX(Analitico!E:E,MATCH(Banco!$C7050,Analitico!$A:$A,0))&\"%\",\"\"),\"\")","v":"9,1760238%"},{"$f":"IF($B7050=\"SINAPI\",IF(ISNUMBER(MATCH(Banco!$C7050,Analitico!$A:$A,0)),INDEX(Analitico!F:F,MATCH(Banco!$C7050,Analitico!$A:$A,0))&\"%\",\"\"),\"\")","v":"%"}]
[{"$f":"CONCATENAR","v":"SINAPI 99862"},"SINAPI","99862","GRADIL EM ALUMÍNIO FIXADO EM VÃOS DE JANELAS, FORMADO POR TUBOS DE 3/4\". AF_04/2019","M2","586,60",null,null,"CR",{"$f":"IF($B7059=\"SINAPI\",IF(ISNUMBER(MATCH(Banco!$C7059,Analitico!$A:$A,0)),INDEX(Analitico!E:E,MATCH(Banco!$C7059,Analitico!$A:$A,0))&\"%\",\"\"),\"\")","v":"47,9746317%"},{"$f":"IF($B7059=\"SINAPI\",IF(ISNUMBER(MATCH(Banco!$C7059,Analitico!$A:$A,0)),INDEX(Analitico!F:F,MATCH(Banco!$C7059,Analitico!$A:$A,0))&\"%\",\"\"),\"\")","v":"%"}]
[{"$f":"CONCATENAR","v":"SINAPI 94807"},"SINAPI","94807","PORTA EM AÇO DE ABRIR TIPO VENEZIANA SEM GUARNIÇÃO, 87X210CM, FIXAÇÃO COM PARAFUSOS - FORNECIMENTO E INSTALAÇÃO. AF_12/2019","UN","624,25",null,null,"CR",{"$f":"IF($B7065=\"SINAPI\",IF(ISNUMBER(MATCH(Banco!$C7065,Analitico!$A:$A,0)),INDEX(Analitico!E:E,MATCH(Banco!$C7065,Analitico!$A:$A,0))&\"%\",\"\"),\"\")","v":"4,1015124%"},{"$f":"IF($B7065=\"SINAPI\",IF(ISNUMBER(MATCH(Banco!$C7065,Analitico!$A:$A,0)),INDEX(Analitico!F:F,MATCH(Banco!$C7065,Analitico!$A:$A,0))&\"%\",\"\"),\"\")","v":"%"}]
[{"$f":"CONCATENAR","v":"SINAPI 102152"},"SINAPI","102152","INSTALAÇÃO DE VIDRO LISO, E = 4 MM, EM ESQUADRIA DE MADEIRA, FIXADO COM BAGUETE. AF_01/2021","M2","141,60",null,null,"CR",{"$f":"IF($B7078=\"SINAPI\",IF(ISNUMBER(MATCH(Banco!$C7078,Analitico!$A:$A,0)),INDEX(Analitico!E:E,MATCH(Banco!$C7078,Analitico!$A:$A,0))&\"%\",\"\"),\"\")","v":"14,1666077%"},{"$f":"IF($B7078=\"SINAPI\",IF(ISNUMBER(MATCH(Banco!$C7078,Analitico!$A:$A,0)),INDEX(Analitico!F:F,MATCH(Banco!$C7078,Analitico!$A:$A,0))&\"%\",\"\"),\"\")","v":"%"}]
[{"$f":"CONCATENAR","v":"SINAPI 102161"},"SINAPI","102161","INSTALAÇÃO DE VIDRO LISO INCOLOR, E = 3 MM, EM ESQUADRIA DE ALUMÍNIO OU PVC, FIXADO COM BAGUETE. AF_01/2021_PS","M2","235,37",null,null,"AS",{"$f":"IF($B7087=\"SINAPI\",IF(ISNUMBER(MATCH(Banco!$C7087,Analitico!$A:$A,0)),INDEX(Analitico!E:E,MATCH(Banco!$C7087,Analitico!$A:$A,0))&\"%\",\"\"),\"\")","v":"10,3310526%"},{"$f":"IF($B7087=\"SINAPI\",IF(ISNUMBER(MATCH(Banco!$C7087,Analitico!$A:$A,0)),INDEX(Analitico!F:F,MATCH(Banco!$C7087,Analitico!$A:$A,0))&\"%\",\"\"),\"\")","v":"%"}]
[{"$f":"CONCATENAR","v":"SINAPI 102170"},"SINAPI","102170","INSTALAÇÃO DE VIDRO IMPRESSO, E = 4 MM, EM ESQUADRIA DE ALUMÍNIO OU PVC, FIXADO COM BAGUETE. AF_01/2021_PS","M2","231,20",null,null,"AS",{"$f":"IF($B7096=\"SINAPI\",IF(ISNUMBER(MATCH(Banco!$C7096,Analitico!$A:$A,0)),INDEX(Analitico!E:E,MATCH(Banco!$C7096,Analitico!$A:$A,0))&\"%\",\"\"),\"\")","v":"10,5174353%"},{"$f":"IF($B7096=\"SINAPI\",IF(ISNUMBER(MATCH(Banco!$C7096,Analitico!$A:$A,0)),INDEX(Analitico!F:F,MATCH(Banco!$C7096,Analitico!$A:$A,0))&\"%\",\"\"),\"\")","v":"%"}]
[{"$f":"CONCATENAR","v":"SINAPI 102182"},"SINAPI","102182","PORTA PIVOTANTE DE VIDRO TEMPERADO, 90X210 CM, ESPESSURA 10 MM, INCLUSIVE ACESSÓRIOS. AF_01/2021","UN","882,43",null,null,"CR",{"$f":"IF($B7105=\"SINAPI\",IF(ISNUMBER(MATCH(Banco!$C7105,Analitico!$A:$A,0)),INDEX(Analitico!E:E,MATCH(Banco!$C7105,Analitico!$A:$A,0))&\"%\",\"\"),\"\")","v":"6,7602792%"},{"$f":"IF($B7105=\"SINAPI\",IF(ISNUMBER(MATCH(Banco!$C7105,Analitico!$A:$A,0)),INDEX(Analitico!F:F,MATCH(Banco!$C7105,Analitico!$A:$A,0))&\"%\",\"\"),\"\")","v":"%"}]
[{"$f":"CONCATENAR","v":"SINAPI 102183"},"SINAPI","102183","PORTA PIVOTANTE DE VIDRO TEMPERADO, 2 FOLHAS DE 90X210 CM, ESPESSURA DE 10MM, INCLUSIVE ACESSÓRIOS. AF_01/2021","UN","1.775,96",null,null,"CR",{"$f":"IF($B7106=\"SINAPI\",IF(ISNUMBER(MATCH(Banco!$C7106,Analitico!$A:$A,0)),INDEX(Analitico!E:E,MATCH(Banco!$C7106,Analitico!$A:$A,0))&\"%\",\"\"),\"\")","v":"7,1744308%"},{"$f":"IF($B7106=\"SINAPI\",IF(ISNUMBER(MATCH(Banco!$C7106,Analitico!$A:$A,0)),INDEX(Analitico!F:F,MATCH(Banco!$C7106,Analitico!$A:$A,0))&\"%\",\"\"),\"\")","v":"%"}]
[{"$f":"CONCATENAR","v":"SINAPI 101098"},"SINAPI","101098","TUBULÃO A CÉU ABERTO, DIÂMETRO DO FUSTE DE 100CM, ESCAVAÇÃO MANUAL, SEM ALARGAMENTO DE BASE, CONCRETO FEITO EM OBRA E LANÇADO COM JERICA. AF_05/2020_PA","M3","1.196,93",null,null,"CR",{"$f":"IF($B7122=\"SINAPI\",IF(ISNUMBER(MATCH(Banco!$C7122,Analitico!$A:$A,0)),INDEX(Analitico!E:E,MATCH(Banco!$C7122,Analitico!$A:$A,0))&\"%\",\"\"),\"\")","v":"36,2575203%"},{"$f":"IF($B7122=\"SINAPI\",IF(ISNUMBER(MATCH(Banco!$C7122,Analitico!$A:$A,0)),INDEX(Analitico!F:F,MATCH(Banco!$C7122,Analitico!$A:$A,0))&\"%\",\"\"),\"\")","v":"%"}]
[{"$f":"CONCATENAR","v":"SINAPI 101101"},"SINAPI","101101","TUBULÃO A CÉU ABERTO, DIÂMETRO DO FUSTE DE 80CM, ESCAVAÇÃO MECÂNICA, SEM ALARGAMENTO DE BASE, CONCRETO FEITO EM OBRA E LANÇADO COM JERICA (EXCLUSIVE MOBILIZAÇÃO E DESMOBILIZAÇÃO). AF_05/2020_PA","M3","967,80",null,null,"AS",{"$f":"IF($B7125=\"SINAPI\",IF(ISNUMBER(MATCH(Banco!$C7125,Analitico!$A:$A,0)),INDEX(Analitico!E:E,MATCH(Banco!$C7125,Analitico!$A:$A,0))&\"%\",\"\"),\"\")","v":"16,9714605%"},{"$f":"IF($B7125=\"SINAPI\",IF(ISNUMBER(MATCH(Banco!$C7125,Analitico!$A:$A,0)),INDEX(Analitico!F:F,MATCH(Banco!$C7125,Analitico!$A:$A,0))&\"%\",\"\"),\"\")","v":"%"}]
[{"$f":"CONCATENAR","v":"SINAPI 101110"},"SINAPI","101110","TUBULÃO A CÉU ABERTO, DIÂMETRO DO FUSTE DE 100CM, ESCAVAÇÃO MECÂNICA, SEM ALARGAMENTO DE BASE, CONCRETO USINADO E LANÇADO COM BOMBA OU DIRETAMENTE DO CAMINHÃO (EXCLUSIVE BOMBEAMENTO, MOBILIZAÇÃO E DESMOBILIZAÇÃO). AF_05/2020_PA","M3","933,15",null,null,"AS",{"$f":"IF($B7134=\"SINAPI\",IF(ISNUMBER(MATCH(Banco!$C7134,Analitico!$A:$A,0)),INDEX(Analitico!E:E,MATCH(Banco!$C7134,Analitico!$A:$A,0))&\"%\",\"\"),\"\")","v":"5,6414991%"},{"$f":"IF($B7134=\"SINAPI\",IF(ISNUMBER(MATCH(Banco!$C7134,Analitico!$A:$A,0)),INDEX(Analitico!F:F,MATCH(Banco!$C7134,Analitico!$A:$A,0))&\"%\",\"\"),\"\")","v":"%"}]
[{"$f":"CONCATENAR","v":"SINAPI 95607"},"SINAPI","95607","ARRASAMENTO DE ESTACA METÁLICA, PERFIL LAMINADO TIPO  I  FAMÍLIA 250. AF_05/2021","UN","22,54",null,null,"CR",{"$f":"IF($B7143=\"SINAPI\",IF(ISNUMBER(MATCH(Banco!$C7143,Analitico!$A:$A,0)),INDEX(Analitico!E:E,MATCH(Banco!$C7143,Analitico!$A:$A,0))&\"%\",\"\"),\"\")","v":"39,8395721%"},{"$f":"IF($B7143=\"SINAPI\",IF(ISNUMBER(MATCH(Banco!$C7143,Analitico!$A:$A,0)),INDEX(Analitico!F:F,MATCH(Banco!$C7143,Analitico!$A:$A,0))&\"%\",\"\"),\"\")","v":"%"}]
[{"$f":"CONCATENAR","v":"SINAPI 100657"},"SINAPI","100657","ESTACA PRÉ-MOLDADA DE CONCRETO SEÇÃO QUADRADA, CAPACIDADE DE 50 TONELADAS, INCLUSO EMENDA (EXCLUSIVE MOBILIZAÇÃO E DESMOBILIZAÇÃO). AF_12/2019","M","150,89",null,null,"AS",{"$f":"IF($B7152=\"SINAPI\",IF(ISNUMBER(MATCH(Banco!$C7152,Analitico!$A:$A,0)),INDEX(Analitico!E:E,MATCH(Banco!$C7152,Analitico!$A:$A,0))&\"%\",\"\"),\"\")","v":"10,2667905%"},{"$f":"IF($B7152=\"SINAPI\",IF(ISNUMBER(MATCH(Banco!$C7152,Analitico!$A:$A,0)),INDEX(Analitico!F:F,MATCH(Banco!$C7152,Analitico!$A:$A,0))&\"%\",\"\"),\"\")","v":"%"}]
[{"$f":"CONCATENAR","v":"SINAPI 100896"},"SINAPI","100896","ESTACA ESCAVADA MECANICAMENTE, SEM FLUIDO ESTABILIZANTE, COM 25CM DE DIÂMETRO, CONCRETO LANÇADO POR CAMINHÃO BETONEIRA (EXCLUSIVE MOBILIZAÇÃO E DESMOBILIZAÇÃO). AF_01/2020_PA","M","63,44",null,null,"AS",{"$f":"IF($B7159=\"SINAPI\",IF(ISNUMBER(MATCH(Banco!$C7159,Analitico!$A:$A,0)),INDEX(Analitico!E:E,MATCH(Banco!$C7159,Analitico!$A:$A,0))&\"%\",\"\"),\"\")","v":"10,3415409%"},{"$f":"IF($B7159=\"SINAPI\",IF(ISNUMBER(MATCH(Banco!$C7159,Analitico!$A:$A,0)),INDEX(Analitico!F:F,MATCH(Banco!$C7159,Analitico!$A:$A,0))&\"%\",\"\"),\"\")","v":"%"}]
[{"$f":"CONCATENAR","v":"SINAPI 95240"},"SINAPI","95240","LASTRO DE CONCRETO MAGRO, APLICADO EM PISOS, LAJES SOBRE SOLO OU RADIERS, ESPESSURA DE 3 CM. AF_01/2024","M2","18,67",null,null,"CR",{"$f":"IF($B7171=\"SINAPI\",IF(ISNUMBER(MATCH(Banco!$C7171,Analitico!$A:$A,0)),INDEX(Analitico!E:E,MATCH(Banco!$C7171,Analitico!$A:$A,0))&\"%\",\"\"),\"\")","v":"32,1621621%"},{"$f":"IF($B7171=\"SINAPI\",IF(ISNUMBER(MATCH(Banco!$C7171,Analitico!$A:$A,0)),INDEX(Analitico!F:F,MATCH(Banco!$C7171,Analitico!$A:$A,0))&\"%\",\"\"),\"\")","v":"%"}]
[{"$f":"CONCATENAR","v":"SINAPI 95241"},"SINAPI","95241","LASTRO DE CONCRETO MAGRO, APLICADO EM PISOS, LAJES SOBRE SOLO OU RADIERS, ESPESSURA DE 5 CM. AF_01/2024","M2","36,11",null,null,"CR",{"$f":"IF($B7172=\"SINAPI\",IF(ISNUMBER(MATCH(Banco!$C7172,Analitico!$A:$A,0)),INDEX(Analitico!E:E,MATCH(Banco!$C7172,Analitico!$A:$A,0))&\"%\",\"\"),\"\")","v":"29,7079276%"},{"$f":"IF($B7172=\"SINAPI\",IF(ISNUMBER(MATCH(Banco!$C7172,Analitico!$A:$A,0)),INDEX(Analitico!F:F,MATCH(Banco!$C7172,Analitico!$A:$A,0))&\"%\",\"\"),\"\")","v":"%"}]
[{"$f":"CONCATENAR","v":"SINAPI 97082"},"SINAPI","97082","ESCAVAÇÃO MANUAL DE VIGA DE BORDA PARA RADIER. AF_09/2021","M3","59,99",null,null,"C",{"$f":"IF($B7181=\"SINAPI\",IF(ISNUMBER(MATCH(Banco!$C7181,Analitico!$A:$A,0)),INDEX(Analitico!E:E,MATCH(Banco!$C7181,Analitico!$A:$A,0))&\"%\",\"\"),\"\")","v":"72,2861431%"},{"$f":"IF($B7181=\"SINAPI\",IF(ISNUMBER(MATCH(Banco!$C7181,Analitico!$A:$A,0)),INDEX(Analitico!F:F,MATCH(Banco!$C7181,Analitico!$A:$A,0))&\"%\",\"\"),\"\")","v":"%"}]
[{"$f":"CONCATENAR","v":"SINAPI 97092"},"SINAPI","97092","ARMAÇÃO PARA EXECUÇÃO DE RADIER, PISO DE CONCRETO OU LAJE SOBRE SOLO, COM USO DE TELA Q-196. AF_09/2021","KG","13,62",null,null,"CR",{"$f":"IF($B7190=\"SINAPI\",IF(ISNUMBER(MATCH(Banco!$C7190,Analitico!$A:$A,0)),INDEX(Analitico!E:E,MATCH(Banco!$C7190,Analitico!$A:$A,0))&\"%\",\"\"),\"\")","v":"4,1328413%"},{"$f":"IF($B7190=\"SINAPI\",IF(ISNUMBER(MATCH(Banco!$C7190,Analitico!$A:$A,0)),INDEX(Analitico!F:F,MATCH(Banco!$C7190,Analitico!$A:$A,0))&\"%\",\"\"),\"\")","v":"%"}]
[{"$f":"CONCATENAR","v":"SINAPI 97103"},"SINAPI","97103","EXECUÇÃO DE RADIER, ESPESSURA DE 20 CM, FCK = 30 MPA, COM USO DE FORMAS EM MADEIRA SERRADA. AF_09/2021","M2","258,59",null,null,"AS",{"$f":"IF($B7196=\"SINAPI\",IF(ISNUMBER(MATCH(Banco!$C7196,Analitico!$A:$A,0)),INDEX(Analitico!E:E,MATCH(Banco!$C7196,Analitico!$A:$A,0))&\"%\",\"\"),\"\")","v":"8,7867732%"},{"$f":"IF($B7196=\"SINAPI\",IF(ISNUMBER(MATCH(Banco!$C7196,Analitico!$A:$A,0)),INDEX(Analitico!F:F,MATCH(Banco!$C7196,Analitico!$A:$A,0))&\"%\",\"\"),\"\")","v":"%"}]
[{"$f":"CONCATENAR","v":"SINAPI 92263"},"SINAPI","92263","FABRICAÇÃO DE FÔRMA PARA PILARES E ESTRUTURAS SIMILARES, EM CHAPA DE MADEIRA COMPENSADA RESINADA, E = 17 MM. AF_09/2020","M2","177,83",null,null,"CR",{"$f":"IF($B7209=\"SINAPI\",IF(ISNUMBER(MATCH(Banco!$C7209,Analitico!$A:$A,0)),INDEX(Analitico!E:E,MATCH(Banco!$C7209,Analitico!$A:$A,0))&\"%\",\"\"),\"\")","v":"20,1024255%"},{"$f":"IF($B7209=\"SINAPI\",IF(ISNUMBER(MATCH(Banco!$C7209,Analitico!$A:$A,0)),INDEX(Analitico!F:F,MATCH(Banco!$C7209,Analitico!$A:$A,0))&\"%\",\"\"),\"\")","v":"%"}]
[{"$f":"CONCATENAR","v":"SINAPI 92272"},"SINAPI","92272","FABRICAÇÃO DE ESCORAS DE VIGA DO TIPO GARFO, EM MADEIRA. AF_09/2020","M","38,74",null,null,"CR",{"$f":"IF($B7218=\"SINAPI\",IF(ISNUMBER(MATCH(Banco!$C7218,Analitico!$A:$A,0)),INDEX(Analitico!E:E,MATCH(Banco!$C7218,Analitico!$A:$A,0))&\"%\",\"\"),\"\")","v":"13,8377818%"},{"$f":"IF($B7218=\"SINAPI\",IF(ISNUMBER(MATCH(Banco!$C7218,Analitico!$A:$A,0)),INDEX(Analitico!F:F,MATCH(Banco!$C7218,Analitico!$A:$A,0))&\"%\",\"\"),\"\")","v":"%"}]
[{"$f":"CONCATENAR","v":"SINAPI 92423"},"SINAPI","92423","MONTAGEM E DESMONTAGEM DE FÔRMA DE PILARES RETANGULARES E ESTRUTURAS SIMILARES, PÉ-DIREITO SIMPLES, EM CHAPA DE MADEIRA COMPENSADA RESINADA, 6 UTILIZAÇÕES. AF_09/2020","M2","72,62",null,null,"CR",{"$f":"IF($B7227=\"SINAPI\",IF(ISNUMBER(MATCH(Banco!$C7227,Analitico!$A:$A,0)),INDEX(Analitico!E:E,MATCH(Banco!$C7227,Analitico!$A:$A,0))&\"%\",\"\"),\"\")","v":"31,7899101%"},{"$f":"IF($B7227=\"SINAPI\",IF(ISNUMBER(MATCH(Banco!$C7227,Analitico!$A:$A,0)),INDEX(Analitico!F:F,MATCH(Banco!$C7227,Analitico!$A:$A,0))&\"%\",\"\"),\"\")","v":"%"}]
[{"$f":"CONCATENAR","v":"SINAPI 92441"},"SINAPI","92441","MONTAGEM E DESMONTAGEM DE FÔRMA DE PILARES RETANGULARES E ESTRUTURAS SIMILARES, PÉ-DIREITO DUPLO, EM CHAPA DE MADEIRA COMPENSADA PLASTIFICADA, 14 UTILIZAÇÕES. AF_09/2020","M2","67,59",null,null,"CR",{"$f":"IF($B7236=\"SINAPI\",IF(ISNUMBER(MATCH(Banco!$C7236,Analitico!$A:$A,0)),INDEX(Analitico!E:E,MATCH(Banco!$C7236,Analitico!$A:$A,0))&\"%\",\"\"),\"\")","v":"37,4944338%"},{"$f":"IF($B7236=\"SINAPI\",IF(ISNUMBER(MATCH(Banco!$C7236,Analitico!$A:$A,0)),INDEX(Analitico!F:F,MATCH(Banco!$C7236,Analitico!$A:$A,0))&\"%\",\"\"),\"\")","v":"%"}]
[{"$f":"CONCATENAR","v":"SINAPI 92449"},"SINAPI","92449","MONTAGEM E DESMONTAGEM DE FÔRMA DE VIGA, ESCORAMENTO COM GARFO DE MADEIRA, PÉ-DIREITO DUPLO, EM CHAPA DE MADEIRA RESINADA, 2 UTILIZAÇÕES. AF_09/2020","M2","281,11",null,null,"CR",{"$f":"IF($B7242=\"SINAPI\",IF(ISNUMBER(MATCH(Banco!$C7242,Analitico!$A:$A,0)),INDEX(Analitico!E:E,MATCH(Banco!$C7242,Analitico!$A:$A,0))&\"%\",\"\"),\"\")","v":"26,2050989%"},{"$f":"IF($B7242=\"SINAPI\",IF(ISNUMBER(MATCH(Banco!$C7242,Analitico!$A:$A,0)),INDEX(Analitico!F:F,MATCH(Banco!$C7242,Analitico!$A:$A,0))&\"%\",\"\"),\"\")","v":"%"}]
[{"$f":"CONCATENAR","v":"SINAPI 92454"},"SINAPI","92454","MONTAGEM E DESMONTAGEM DE FÔRMA DE VIGA, ESCORAMENTO METÁLICO, PÉ-DIREITO DUPLO, EM CHAPA DE MADEIRA RESINADA, 4 UTILIZAÇÕES. AF_09/2020","M2","280,59",null,null,"CR",{"$f":"IF($B7247=\"SINAPI\",IF(ISNUMBER(MATCH(Banco!$C7247,Analitico!$A:$A,0)),INDEX(Analitico!E:E,MATCH(Banco!$C7247,Analitico!$A:$A,0))&\"%\",\"\"),\"\")","v":"21,1444472%"},{"$f":"IF($B7247=\"SINAPI\",IF(ISNUMBER(MATCH(Banco!$C7247,Analitico!$A:$A,0)),INDEX(Analitico!F:F,MATCH(Banco!$C7247,Analitico!$A:$A,0))&\"%\",\"\"),\"\")","v":"%"}]
[{"$f":"CONCATENAR","v":"SINAPI 92463"},"SINAPI","92463","MONTAGEM E DESMONTAGEM DE FÔRMA DE VIGA, ESCORAMENTO COM GARFO DE MADEIRA, PÉ-DIREITO SIMPLES, EM CHAPA DE MADEIRA RESINADA, 8 UTILIZAÇÕES. AF_09/2020","M2","119,04",null,null,"CR",{"$f":"IF($B7256=\"SINAPI\",IF(ISNUMBER(MATCH(Banco!$C7256,Analitico!$A:$A,0)),INDEX(Analitico!E:E,MATCH(Banco!$C7256,Analitico!$A:$A,0))&\"%\",\"\"),\"\")","v":"28,6088352%"},{"$f":"IF($B7256=\"SINAPI\",IF(ISNUMBER(MATCH(Banco!$C7256,Analitico!$A:$A,0)),INDEX(Analitico!F:F,MATCH(Banco!$C7256,Analitico!$A:$A,0))&\"%\",\"\"),\"\")","v":"%"}]
[{"$f":"CONCATENAR","v":"SINAPI 92472"},"SINAPI","92472","MONTAGEM E DESMONTAGEM DE FÔRMA DE VIGA, ESCORAMENTO METÁLICO, PÉ-DIREITO SIMPLES, EM CHAPA DE MADEIRA PLASTIFICADA, 12 UTILIZAÇÕES. AF_09/2020","M2","108,69",null,null,"CR",{"$f":"IF($B7265=\"SINAPI\",IF(ISNUMBER(MATCH(Banco!$C7265,Analitico!$A:$A,0)),INDEX(Analitico!E:E,MATCH(Banco!$C7265,Analitico!$A:$A,0))&\"%\",\"\"),\"\")","v":"27,8059577%"},{"$f":"IF($B7265=\"SINAPI\",IF(ISNUMBER(MATCH(Banco!$C7265,Analitico!$A:$A,0)),INDEX(Analitico!F:F,MATCH(Banco!$C7265,Analitico!$A:$A,0))&\"%\",\"\"),\"\")","v":"%"}]
[{"$f":"CONCATENAR","v":"SINAPI 92482"},"SINAPI","92482","MONTAGEM E DESMONTAGEM DE FÔRMA DE LAJE MACIÇA, PÉ-DIREITO SIMPLES, EM MADEIRA SERRADA, 1 UTILIZAÇÃO. AF_09/2020","M2","241,02",null,null,"CR",{"$f":"IF($B7274=\"SINAPI\",IF(ISNUMBER(MATCH(Banco!$C7274,Analitico!$A:$A,0)),INDEX(Analitico!E:E,MATCH(Banco!$C7274,Analitico!$A:$A,0))&\"%\",\"\"),\"\")","v":"37,8517687%"},{"$f":"IF($B7274=\"SINAPI\",IF(ISNUMBER(MATCH(Banco!$C7274,Analitico!$A:$A,0)),INDEX(Analitico!F:F,MATCH(Banco!$C7274,Analitico!$A:$A,0))&\"%\",\"\"),\"\")","v":"%"}]
[{"$f":"CONCATENAR","v":"SINAPI 92502"},"SINAPI","92502","MONTAGEM E DESMONTAGEM DE FÔRMA DE LAJE NERVURADA COM CUBETA E ASSOALHO, PÉ-DIREITO SIMPLES, EM CHAPA DE MADEIRA COMPENSADA RESINADA, 14 UTILIZAÇÕES. AF_09/2020","M2","58,61",null,null,"AS",{"$f":"IF($B7284=\"SINAPI\",IF(ISNUMBER(MATCH(Banco!$C7284,Analitico!$A:$A,0)),INDEX(Analitico!E:E,MATCH(Banco!$C7284,Analitico!$A:$A,0))&\"%\",\"\"),\"\")","v":"32,4042407%"},{"$f":"IF($B7284=\"SINAPI\",IF(ISNUMBER(MATCH(Banco!$C7284,Analitico!$A:$A,0)),INDEX(Analitico!F:F,MATCH(Banco!$C7284,Analitico!$A:$A,0))&\"%\",\"\"),\"\")","v":"%"}]
[{"$f":"CONCATENAR","v":"SINAPI 92520"},"SINAPI","92520","MONTAGEM E DESMONTAGEM DE FÔRMA DE LAJE MACIÇA, PÉ-DIREITO DUPLO, EM CHAPA DE MADEIRA COMPENSADA RESINADA, 8 UTILIZAÇÕES. AF_09/2020","M2","76,77",null,null,"AS",{"$f":"IF($B7293=\"SINAPI\",IF(ISNUMBER(MATCH(Banco!$C7293,Analitico!$A:$A,0)),INDEX(Analitico!E:E,MATCH(Banco!$C7293,Analitico!$A:$A,0))&\"%\",\"\"),\"\")","v":"26,7875782%"},{"$f":"IF($B7293=\"SINAPI\",IF(ISNUMBER(MATCH(Banco!$C7293,Analitico!$A:$A,0)),INDEX(Analitico!F:F,MATCH(Banco!$C7293,Analitico!$A:$A,0))&\"%\",\"\"),\"\")","v":"%"}]
[{"$f":"CONCATENAR","v":"SINAPI 92538"},"SINAPI","92538","MONTAGEM E DESMONTAGEM DE FÔRMA DE LAJE MACIÇA, PÉ-DIREITO SIMPLES, EM CHAPA DE MADEIRA COMPENSADA PLASTIFICADA, 18 UTILIZAÇÕES. AF_09/2020","M2","34,44",null,null,"AS",{"$f":"IF($B7302=\"SINAPI\",IF(ISNUMBER(MATCH(Banco!$C7302,Analitico!$A:$A,0)),INDEX(Analitico!E:E,MATCH(Banco!$C7302,Analitico!$A:$A,0))&\"%\",\"\"),\"\")","v":"23,2808857%"},{"$f":"IF($B7302=\"SINAPI\",IF(ISNUMBER(MATCH(Banco!$C7302,Analitico!$A:$A,0)),INDEX(Analitico!F:F,MATCH(Banco!$C7302,Analitico!$A:$A,0))&\"%\",\"\"),\"\")","v":"%"}]
[{"$f":"CONCATENAR","v":"SINAPI 96252"},"SINAPI","96252","FABRICAÇÃO DE FÔRMA PARA PILARES CIRCULARES, EM CHAPA DE MADEIRA COMPENSADA RESINADA, PÉ-DIREITO SIMPLES. AF_05/2024","M2","165,32",null,null,"CR",{"$f":"IF($B7303=\"SINAPI\",IF(ISNUMBER(MATCH(Banco!$C7303,Analitico!$A:$A,0)),INDEX(Analitico!E:E,MATCH(Banco!$C7303,Analitico!$A:$A,0))&\"%\",\"\"),\"\")","v":"12,7452167%"},{"$f":"IF($B7303=\"SINAPI\",IF(ISNUMBER(MATCH(Banco!$C7303,Analitico!$A:$A,0)),INDEX(Analitico!F:F,MATCH(Banco!$C7303,Analitico!$A:$A,0))&\"%\",\"\"),\"\")","v":"%"}]
[{"$f":"CONCATENAR","v":"SINAPI 96536"},"SINAPI","96536","FABRICAÇÃO, MONTAGEM E DESMONTAGEM DE FÔRMA PARA VIGA BALDRAME, EM MADEIRA SERRADA, E=25 MM, 4 UTILIZAÇÕES. AF_01/2024","M2","59,45",null,null,"CR",{"$f":"IF($B7312=\"SINAPI\",IF(ISNUMBER(MATCH(Banco!$C7312,Analitico!$A:$A,0)),INDEX(Analitico!E:E,MATCH(Banco!$C7312,Analitico!$A:$A,0))&\"%\",\"\"),\"\")","v":"50,5985501%"},{"$f":"IF($B7312=\"SINAPI\",IF(ISNUMBER(MATCH(Banco!$C7312,Analitico!$A:$A,0)),INDEX(Analitico!F:F,MATCH(Banco!$C7312,Analitico!$A:$A,0))&\"%\",\"\"),\"\")","v":"%"}]
[{"$f":"CONCATENAR","v":"SINAPI 101792"},"SINAPI","101792","ESCORAMENTO DE FÔRMAS DE LAJE EM MADEIRA NÃO APARELHADA, PÉ-DIREITO SIMPLES, INCLUSO TRAVAMENTO, 4 UTILIZAÇÕES. AF_09/2020","M3","14,17",null,null,"CR",{"$f":"IF($B7321=\"SINAPI\",IF(ISNUMBER(MATCH(Banco!$C7321,Analitico!$A:$A,0)),INDEX(Analitico!E:E,MATCH(Banco!$C7321,Analitico!$A:$A,0))&\"%\",\"\"),\"\")","v":"39,2550143%"},{"$f":"IF($B7321=\"SINAPI\",IF(ISNUMBER(MATCH(Banco!$C7321,Analitico!$A:$A,0)),INDEX(Analitico!F:F,MATCH(Banco!$C7321,Analitico!$A:$A,0))&\"%\",\"\"),\"\")","v":"%"}]
[{"$f":"CONCATENAR","v":"SINAPI 101982"},"SINAPI","101982","MONTAGEM E DESMONTAGEM DE FÔRMA PARA ESCADAS, COM 2 LANCES EM \"U\" E LAJE PLANA, EM CHAPA DE MADEIRA COMPENSADA PLASTIFICADA, 8 UTILIZAÇÕES. AF_11/2020","M2","223,19",null,null,"CR",{"$f":"IF($B7331=\"SINAPI\",IF(ISNUMBER(MATCH(Banco!$C7331,Analitico!$A:$A,0)),INDEX(Analitico!E:E,MATCH(Banco!$C7331,Analitico!$A:$A,0))&\"%\",\"\"),\"\")","v":"32,8787402%"},{"$f":"IF($B7331=\"SINAPI\",IF(ISNUMBER(MATCH(Banco!$C7331,Analitico!$A:$A,0)),INDEX(Analitico!F:F,MATCH(Banco!$C7331,Analitico!$A:$A,0))&\"%\",\"\"),\"\")","v":"%"}]
[{"$f":"CONCATENAR","v":"SINAPI 101992"},"SINAPI","101992","FABRICAÇÃO DE FÔRMA PARA ESCADAS, COM 2 LANCES EM \"L\" E LAJE CASCATA, EM CHAPA DE MADEIRA COMPENSADA RESINADA, E= 17 MM. AF_11/2020","M2","167,55",null,null,"CR",{"$f":"IF($B7340=\"SINAPI\",IF(ISNUMBER(MATCH(Banco!$C7340,Analitico!$A:$A,0)),INDEX(Analitico!E:E,MATCH(Banco!$C7340,Analitico!$A:$A,0))&\"%\",\"\"),\"\")","v":"17,5476318%"},{"$f":"IF($B7340=\"SINAPI\",IF(ISNUMBER(MATCH(Banco!$C7340,Analitico!$A:$A,0)),INDEX(Analitico!F:F,MATCH(Banco!$C7340,Analitico!$A:$A,0))&\"%\",\"\"),\"\")","v":"%"}]
[{"$f":"CONCATENAR","v":"SINAPI 102001"},"SINAPI","102001","MONTAGEM E DESMONTAGEM DE FÔRMA PARA ESCADAS, COM 2 LANCES EM \"U\" E LAJE CASCATA, EM MADEIRA SERRADA, 2 UTILIZAÇÕES. AF_11/2020","M2","323,27",null,null,"CR",{"$f":"IF($B7349=\"SINAPI\",IF(ISNUMBER(MATCH(Banco!$C7349,Analitico!$A:$A,0)),INDEX(Analitico!E:E,MATCH(Banco!$C7349,Analitico!$A:$A,0))&\"%\",\"\"),\"\")","v":"41,3607045%"},{"$f":"IF($B7349=\"SINAPI\",IF(ISNUMBER(MATCH(Banco!$C7349,Analitico!$A:$A,0)),INDEX(Analitico!F:F,MATCH(Banco!$C7349,Analitico!$A:$A,0))&\"%\",\"\"),\"\")","v":"%"}]
[{"$f":"CONCATENAR","v":"SINAPI 102010"},"SINAPI","102010","MONTAGEM E DESMONTAGEM DE FÔRMA PARA ESCADAS, COM 2 LANCES EM \"L\" E LAJE PLANA, EM CHAPA DE MADEIRA COMPENSADA RESINADA, 4 UTILIZAÇÕES. AF_11/2020","M2","281,87",null,null,"CR",{"$f":"IF($B7358=\"SINAPI\",IF(ISNUMBER(MATCH(Banco!$C7358,Analitico!$A:$A,0)),INDEX(Analitico!E:E,MATCH(Banco!$C7358,Analitico!$A:$A,0))&\"%\",\"\"),\"\")","v":"34,6692247%"},{"$f":"IF($B7358=\"SINAPI\",IF(ISNUMBER(MATCH(Banco!$C7358,Analitico!$A:$A,0)),INDEX(Analitico!F:F,MATCH(Banco!$C7358,Analitico!$A:$A,0))&\"%\",\"\"),\"\")","v":"%"}]
[{"$f":"CONCATENAR","v":"SINAPI 102037"},"SINAPI","102037","MONTAGEM E DESMONTAGEM DE FÔRMA PARA ESCADAS, COM 2 LANCES EM \"L\" E LAJE CASCATA, EM CHAPA DE MADEIRA COMPENSADA PLASTIFICADA, 8 UTILIZAÇÕES. AF_11/2020","M2","216,02",null,null,"CR",{"$f":"IF($B7367=\"SINAPI\",IF(ISNUMBER(MATCH(Banco!$C7367,Analitico!$A:$A,0)),INDEX(Analitico!E:E,MATCH(Banco!$C7367,Analitico!$A:$A,0))&\"%\",\"\"),\"\")","v":"35,5504055%"},{"$f":"IF($B7367=\"SINAPI\",IF(ISNUMBER(MATCH(Banco!$C7367,Analitico!$A:$A,0)),INDEX(Analitico!F:F,MATCH(Banco!$C7367,Analitico!$A:$A,0))&\"%\",\"\"),\"\")","v":"%"}]
[{"$f":"CONCATENAR","v":"SINAPI 102039"},"SINAPI","102039","MONTAGEM E DESMONTAGEM DE FÔRMA PARA ESCADAS, COM 1 LANCE E LAJE PLANA, EM MADEIRA SERRADA, 1 UTILIZAÇÃO. AF_11/2020","M2","390,82",null,null,"CR",{"$f":"IF($B7369=\"SINAPI\",IF(ISNUMBER(MATCH(Banco!$C7369,Analitico!$A:$A,0)),INDEX(Analitico!E:E,MATCH(Banco!$C7369,Analitico!$A:$A,0))&\"%\",\"\"),\"\")","v":"43,8458382%"},{"$f":"IF($B7369=\"SINAPI\",IF(ISNUMBER(MATCH(Banco!$C7369,Analitico!$A:$A,0)),INDEX(Analitico!F:F,MATCH(Banco!$C7369,Analitico!$A:$A,0))&\"%\",\"\"),\"\")","v":"%"}]
[{"$f":"CONCATENAR","v":"SINAPI 102048"},"SINAPI","102048","MONTAGEM E DESMONTAGEM DE FÔRMA PARA ESCADAS, COM 1 LANCE E LAJE CASCATA, EM CHAPA DE MADEIRA COMPENSADA RESINADA, 2 UTILIZAÇÕES. AF_11/2020","M2","291,87",null,null,"CR",{"$f":"IF($B7378=\"SINAPI\",IF(ISNUMBER(MATCH(Banco!$C7378,Analitico!$A:$A,0)),INDEX(Analitico!E:E,MATCH(Banco!$C7378,Analitico!$A:$A,0))&\"%\",\"\"),\"\")","v":"42,3852644%"},{"$f":"IF($B7378=\"SINAPI\",IF(ISNUMBER(MATCH(Banco!$C7378,Analitico!$A:$A,0)),INDEX(Analitico!F:F,MATCH(Banco!$C7378,Analitico!$A:$A,0))&\"%\",\"\"),\"\")","v":"%"}]
[{"$f":"CONCATENAR","v":"SINAPI 102063"},"SINAPI","102063","MONTAGEM E DESMONTAGEM DE FÔRMA PARA ESCADA DUPLA COM 2 LANCES EM \"X\" E LAJE PLANA, EM CHAPA DE MADEIRA COMPENSADA PLASTIFICADA, 6 UTILIZAÇÕES. AF_11/2020","M2","235,43",null,null,"CR",{"$f":"IF($B7387=\"SINAPI\",IF(ISNUMBER(MATCH(Banco!$C7387,Analitico!$A:$A,0)),INDEX(Analitico!E:E,MATCH(Banco!$C7387,Analitico!$A:$A,0))&\"%\",\"\"),\"\")","v":"29,5691378%"},{"$f":"IF($B7387=\"SINAPI\",IF(ISNUMBER(MATCH(Banco!$C7387,Analitico!$A:$A,0)),INDEX(Analitico!F:F,MATCH(Banco!$C7387,Analitico!$A:$A,0))&\"%\",\"\"),\"\")","v":"%"}]
[{"$f":"CONCATENAR","v":"SINAPI 102072"},"SINAPI","102072","MONTAGEM E DESMONTAGEM DE FÔRMA PARA ESCADA DUPLA COM 2 LANCES EM \"X\" E LAJE CASCATA, EM CHAPA DE MADEIRA COMPENSADA PLASTIFICADA, 10 UTILIZAÇÕES. AF_11/2020","M2","182,43",null,null,"CR",{"$f":"IF($B7396=\"SINAPI\",IF(ISNUMBER(MATCH(Banco!$C7396,Analitico!$A:$A,0)),INDEX(Analitico!E:E,MATCH(Banco!$C7396,Analitico!$A:$A,0))&\"%\",\"\"),\"\")","v":"33,2802547%"},{"$f":"IF($B7396=\"SINAPI\",IF(ISNUMBER(MATCH(Banco!$C7396,Analitico!$A:$A,0)),INDEX(Analitico!F:F,MATCH(Banco!$C7396,Analitico!$A:$A,0))&\"%\",\"\"),\"\")","v":"%"}]
[{"$f":"CONCATENAR","v":"SINAPI 102080"},"SINAPI","102080","ESCADA EM CONCRETO ARMADO MOLDADO IN LOCO, FCK 25 MPA, COM 2 LANCES EM  X  E LAJE CASCATA, FÔRMA EM CHAPA DE MADEIRA COMPENSADA RESINADA. AF_11/2020_PA","M3","4.449,20",null,null,"AS",{"$f":"IF($B7404=\"SINAPI\",IF(ISNUMBER(MATCH(Banco!$C7404,Analitico!$A:$A,0)),INDEX(Analitico!E:E,MATCH(Banco!$C7404,Analitico!$A:$A,0))&\"%\",\"\"),\"\")","v":"24,3530560%"},{"$f":"IF($B7404=\"SINAPI\",IF(ISNUMBER(MATCH(Banco!$C7404,Analitico!$A:$A,0)),INDEX(Analitico!F:F,MATCH(Banco!$C7404,Analitico!$A:$A,0))&\"%\",\"\"),\"\")","v":"%"}]
[{"$f":"CONCATENAR","v":"SINAPI 104925"},"SINAPI","104925","FABRICAÇÃO, MONTAGEM E DESMONTAGEM DE FÔRMA PARA SAPATA CORRIDA, EM MADEIRA SERRADA, E=25 MM, 1 UTILIZAÇÃO. AF_01/2024","M2","142,07",null,null,"CR",{"$f":"IF($B7415=\"SINAPI\",IF(ISNUMBER(MATCH(Banco!$C7415,Analitico!$A:$A,0)),INDEX(Analitico!E:E,MATCH(Banco!$C7415,Analitico!$A:$A,0))&\"%\",\"\"),\"\")","v":"32,4314803%"},{"$f":"IF($B7415=\"SINAPI\",IF(ISNUMBER(MATCH(Banco!$C7415,Analitico!$A:$A,0)),INDEX(Analitico!F:F,MATCH(Banco!$C7415,Analitico!$A:$A,0))&\"%\",\"\"),\"\")","v":"%"}]
[{"$f":"CONCATENAR","v":"SINAPI 89998"},"SINAPI","89998","ARMAÇÃO DE CINTA DE ALVENARIA ESTRUTURAL; DIÂMETRO DE 10,0 MM. AF_09/2021","KG","10,49",null,null,"CR",{"$f":"IF($B7424=\"SINAPI\",IF(ISNUMBER(MATCH(Banco!$C7424,Analitico!$A:$A,0)),INDEX(Analitico!E:E,MATCH(Banco!$C7424,Analitico!$A:$A,0))&\"%\",\"\"),\"\")","v":"13,5186960%"},{"$f":"IF($B7424=\"SINAPI\",IF(ISNUMBER(MATCH(Banco!$C7424,Analitico!$A:$A,0)),INDEX(Analitico!F:F,MATCH(Banco!$C7424,Analitico!$A:$A,0))&\"%\",\"\"),\"\")","v":"%"}]
[{"$f":"CONCATENAR","v":"SINAPI 91599"},"SINAPI","91599","ARMAÇÃO DO SISTEMA DE PAREDES DE CONCRETO, EXECUTADA COMO ARMADURA NEGATIVA DE LAJES, TELA L-159. AF_06/2019","KG","7,81",null,null,"CR",{"$f":"IF($B7433=\"SINAPI\",IF(ISNUMBER(MATCH(Banco!$C7433,Analitico!$A:$A,0)),INDEX(Analitico!E:E,MATCH(Banco!$C7433,Analitico!$A:$A,0))&\"%\",\"\"),\"\")","v":"13,1782945%"},{"$f":"IF($B7433=\"SINAPI\",IF(ISNUMBER(MATCH(Banco!$C7433,Analitico!$A:$A,0)),INDEX(Analitico!F:F,MATCH(Banco!$C7433,Analitico!$A:$A,0))&\"%\",\"\"),\"\")","v":"%"}]
[{"$f":"CONCATENAR","v":"SINAPI 91600"},"SINAPI","91600","ARMAÇÃO DO SISTEMA DE PAREDES DE CONCRETO, EXECUTADA EM PLATIBANDAS, TELA Q-92. AF_06/2019","KG","12,82",null,null,"CR",{"$f":"IF($B7434=\"SINAPI\",IF(ISNUMBER(MATCH(Banco!$C7434,Analitico!$A:$A,0)),INDEX(Analitico!E:E,MATCH(Banco!$C7434,Analitico!$A:$A,0))&\"%\",\"\"),\"\")","v":"19,2941176%"},{"$f":"IF($B7434=\"SINAPI\",IF(ISNUMBER(MATCH(Banco!$C7434,Analitico!$A:$A,0)),INDEX(Analitico!F:F,MATCH(Banco!$C7434,Analitico!$A:$A,0))&\"%\",\"\"),\"\")","v":"%"}]
[{"$f":"CONCATENAR","v":"SINAPI 92771"},"SINAPI","92771","ARMAÇÃO DE LAJE DE ESTRUTURA CONVENCIONAL DE CONCRETO ARMADO UTILIZANDO AÇO CA-50 DE 10,0 MM - MONTAGEM. AF_06/2022","KG","11,02",null,null,"CR",{"$f":"IF($B7450=\"SINAPI\",IF(ISNUMBER(MATCH(Banco!$C7450,Analitico!$A:$A,0)),INDEX(Analitico!E:E,MATCH(Banco!$C7450,Analitico!$A:$A,0))&\"%\",\"\"),\"\")","v":"6,5813528%"},{"$f":"IF($B7450=\"SINAPI\",IF(ISNUMBER(MATCH(Banco!$C7450,Analitico!$A:$A,0)),INDEX(Analitico!F:F,MATCH(Banco!$C7450,Analitico!$A:$A,0))&\"%\",\"\"),\"\")","v":"%"}]
[{"$f":"CONCATENAR","v":"SINAPI 92774"},"SINAPI","92774","ARMAÇÃO DE LAJE DE ESTRUTURA CONVENCIONAL DE CONCRETO ARMADO UTILIZANDO AÇO CA-50 DE 20,0 MM - MONTAGEM. AF_06/2022","KG","10,58",null,null,"CR",{"$f":"IF($B7453=\"SINAPI\",IF(ISNUMBER(MATCH(Banco!$C7453,Analitico!$A:$A,0)),INDEX(Analitico!E:E,MATCH(Banco!$C7453,Analitico!$A:$A,0))&\"%\",\"\"),\"\")","v":"2,2770398%"},{"$f":"IF($B7453=\"SINAPI\",IF(ISNUMBER(MATCH(Banco!$C7453,Analitico!$A:$A,0)),INDEX(Analitico!F:F,MATCH(Banco!$C7453,Analitico!$A:$A,0))&\"%\",\"\"),\"\")","v":"%"}]
[{"$f":"CONCATENAR","v":"SINAPI 92806"},"SINAPI","92806","CORTE E DOBRA DE AÇO CA-50, DIÂMETRO DE 20,0 MM. AF_06/2022","KG","9,81",null,null,"CR",{"$f":"IF($B7462=\"SINAPI\",IF(ISNUMBER(MATCH(Banco!$C7462,Analitico!$A:$A,0)),INDEX(Analitico!E:E,MATCH(Banco!$C7462,Analitico!$A:$A,0))&\"%\",\"\"),\"\")","v":"0,2040816%"},{"$f":"IF($B7462=\"SINAPI\",IF(ISNUMBER(MATCH(Banco!$C7462,Analitico!$A:$A,0)),INDEX(Analitico!F:F,MATCH(Banco!$C7462,Analitico!$A:$A,0))&\"%\",\"\"),\"\")","v":"%"}]
[{"$f":"CONCATENAR","v":"SINAPI 92883"},"SINAPI","92883","ARMAÇÃO UTILIZANDO AÇO CA-25 DE 8,0 MM - MONTAGEM. AF_06/2022","KG","12,32",null,null,"CR",{"$f":"IF($B7471=\"SINAPI\",IF(ISNUMBER(MATCH(Banco!$C7471,Analitico!$A:$A,0)),INDEX(Analitico!E:E,MATCH(Banco!$C7471,Analitico!$A:$A,0))&\"%\",\"\"),\"\")","v":"16,0392798%"},{"$f":"IF($B7471=\"SINAPI\",IF(ISNUMBER(MATCH(Banco!$C7471,Analitico!$A:$A,0)),INDEX(Analitico!F:F,MATCH(Banco!$C7471,Analitico!$A:$A,0))&\"%\",\"\"),\"\")","v":"%"}]
[{"$f":"CONCATENAR","v":"SINAPI 92919"},"SINAPI","92919","ARMAÇÃO DE ESTRUTURAS DIVERSAS DE CONCRETO ARMADO, EXCETO VIGAS, PILARES, LAJES E FUNDAÇÕES, UTILIZANDO AÇO CA-50 DE 10,0 MM - MONTAGEM. AF_06/2022","KG","12,32",null,null,"CR",{"$f":"IF($B7480=\"SINAPI\",IF(ISNUMBER(MATCH(Banco!$C7480,Analitico!$A:$A,0)),INDEX(Analitico!E:E,MATCH(Banco!$C7480,Analitico!$A:$A,0))&\"%\",\"\"),\"\")","v":"13,7479541%"},{"$f":"IF($B7480=\"SINAPI\",IF(ISNUMBER(MATCH(Banco!$C7480,Analitico!$A:$A,0)),INDEX(Analitico!F:F,MATCH(Banco!$C7480,Analitico!$A:$A,0))&\"%\",\"\"),\"\")","v":"%"}]
[{"$f":"CONCATENAR","v":"SINAPI 95579"},"SINAPI","95579","MONTAGEM DE ARMADURA DE ESTACAS, DIÂMETRO = 16,0 MM. AF_09/2021_PS","KG","9,02",null,null,"CR",{"$f":"IF($B7489=\"SINAPI\",IF(ISNUMBER(MATCH(Banco!$C7489,Analitico!$A:$A,0)),INDEX(Analitico!E:E,MATCH(Banco!$C7489,Analitico!$A:$A,0))&\"%\",\"\"),\"\")","v":"2,9017857%"},{"$f":"IF($B7489=\"SINAPI\",IF(ISNUMBER(MATCH(Banco!$C7489,Analitico!$A:$A,0)),INDEX(Analitico!F:F,MATCH(Banco!$C7489,Analitico!$A:$A,0))&\"%\",\"\"),\"\")","v":"%"}]
[{"$f":"CONCATENAR","v":"SINAPI 95944"},"SINAPI","95944","ARMAÇÃO DE ESCADA, DE UMA ESTRUTURA CONVENCIONAL DE CONCRETO ARMADO UTILIZANDO AÇO CA-50 DE 6,3 MM - MONTAGEM. AF_11/2020","KG","19,51",null,null,"CR",{"$f":"IF($B7498=\"SINAPI\",IF(ISNUMBER(MATCH(Banco!$C7498,Analitico!$A:$A,0)),INDEX(Analitico!E:E,MATCH(Banco!$C7498,Analitico!$A:$A,0))&\"%\",\"\"),\"\")","v":"35,9173126%"},{"$f":"IF($B7498=\"SINAPI\",IF(ISNUMBER(MATCH(Banco!$C7498,Analitico!$A:$A,0)),INDEX(Analitico!F:F,MATCH(Banco!$C7498,Analitico!$A:$A,0))&\"%\",\"\"),\"\")","v":"%"}]
[{"$f":"CONCATENAR","v":"SINAPI 95946"},"SINAPI","95946","ARMAÇÃO DE ESCADA, DE UMA ESTRUTURA CONVENCIONAL DE CONCRETO ARMADO UTILIZANDO AÇO CA-50 DE 10,0 MM - MONTAGEM. AF_11/2020","KG","12,94",null,null,"CR",{"$f":"IF($B7500=\"SINAPI\",IF(ISNUMBER(MATCH(Banco!$C7500,Analitico!$A:$A,0)),INDEX(Analitico!E:E,MATCH(Banco!$C7500,Analitico!$A:$A,0))&\"%\",\"\"),\"\")","v":"16,8740279%"},{"$f":"IF($B7500=\"SINAPI\",IF(ISNUMBER(MATCH(Banco!$C7500,Analitico!$A:$A,0)),INDEX(Analitico!F:F,MATCH(Banco!$C7500,Analitico!$A:$A,0))&\"%\",\"\"),\"\")","v":"%"}]
[{"$f":"CONCATENAR","v":"SINAPI 100068"},"SINAPI","100068","ARMAÇÃO DO SISTEMA DE PAREDES DE CONCRETO, EXECUTADA COMO REFORÇO, VERGALHÃO DE 12,5 MM DE DIÂMETRO. AF_06/2019","KG","9,52",null,null,"CR",{"$f":"IF($B7509=\"SINAPI\",IF(ISNUMBER(MATCH(Banco!$C7509,Analitico!$A:$A,0)),INDEX(Analitico!E:E,MATCH(Banco!$C7509,Analitico!$A:$A,0))&\"%\",\"\"),\"\")","v":"8,3597883%"},{"$f":"IF($B7509=\"SINAPI\",IF(ISNUMBER(MATCH(Banco!$C7509,Analitico!$A:$A,0)),INDEX(Analitico!F:F,MATCH(Banco!$C7509,Analitico!$A:$A,0))&\"%\",\"\"),\"\")","v":"%"}]
[{"$f":"CONCATENAR","v":"SINAPI 104107"},"SINAPI","104107","ARMAÇÃO DE PILAR OU VIGA DE ESTRUTURA DE CONCRETO ARMADO EMBUTIDA EM ALVENARIA DE VEDAÇÃO UTILIZANDO AÇO CA-50 DE 12,5 MM - MONTAGEM. AF_06/2022","KG","10,99",null,null,"CR",{"$f":"IF($B7518=\"SINAPI\",IF(ISNUMBER(MATCH(Banco!$C7518,Analitico!$A:$A,0)),INDEX(Analitico!E:E,MATCH(Banco!$C7518,Analitico!$A:$A,0))&\"%\",\"\"),\"\")","v":"15,1654411%"},{"$f":"IF($B7518=\"SINAPI\",IF(ISNUMBER(MATCH(Banco!$C7518,Analitico!$A:$A,0)),INDEX(Analitico!F:F,MATCH(Banco!$C7518,Analitico!$A:$A,0))&\"%\",\"\"),\"\")","v":"%"}]
[{"$f":"CONCATENAR","v":"SINAPI 104920"},"SINAPI","104920","ARMAÇÃO DE BLOCO, SAPATA ISOLADA, VIGA BALDRAME E SAPATA CORRIDA UTILIZANDO AÇO CA-50 DE 12,5 MM - MONTAGEM. AF_01/2024","KG","11,01",null,null,"CR",{"$f":"IF($B7527=\"SINAPI\",IF(ISNUMBER(MATCH(Banco!$C7527,Analitico!$A:$A,0)),INDEX(Analitico!E:E,MATCH(Banco!$C7527,Analitico!$A:$A,0))&\"%\",\"\"),\"\")","v":"15,2930402%"},{"$f":"IF($B7527=\"SINAPI\",IF(ISNUMBER(MATCH(Banco!$C7527,Analitico!$A:$A,0)),INDEX(Analitico!F:F,MATCH(Banco!$C7527,Analitico!$A:$A,0))&\"%\",\"\"),\"\")","v":"%"}]
[{"$f":"CONCATENAR","v":"SINAPI 90280"},"SINAPI","90280","GRAUTE FGK=25 MPA; TRAÇO 1:0,02:1,3:1,6 (EM MASSA SECA DE CIMENTO/ CAL/ AREIA GROSSA/ BRITA 0) - PREPARO MECÂNICO COM BETONEIRA 400 L. AF_09/2021","M3","676,56",null,null,"CR",{"$f":"IF($B7535=\"SINAPI\",IF(ISNUMBER(MATCH(Banco!$C7535,Analitico!$A:$A,0)),INDEX(Analitico!E:E,MATCH(Banco!$C7535,Analitico!$A:$A,0))&\"%\",\"\"),\"\")","v":"11,7019232%"},{"$f":"IF($B7535=\"SINAPI\",IF(ISNUMBER(MATCH(Banco!$C7535,Analitico!$A:$A,0)),INDEX(Analitico!F:F,MATCH(Banco!$C7535,Analitico!$A:$A,0))&\"%\",\"\"),\"\")","v":"%"}]
[{"$f":"CONCATENAR","v":"SINAPI 94967"},"SINAPI","94967","CONCRETO FCK = 40MPA, TRAÇO 1:1,6:1,9 (EM MASSA SECA DE CIMENTO/ AREIA MÉDIA/ BRITA 1) - PREPARO MECÂNICO COM BETONEIRA 400 L. AF_05/2021","M3","635,76",null,null,"CR",{"$f":"IF($B7546=\"SINAPI\",IF(ISNUMBER(MATCH(Banco!$C7546,Analitico!$A:$A,0)),INDEX(Analitico!E:E,MATCH(Banco!$C7546,Analitico!$A:$A,0))&\"%\",\"\"),\"\")","v":"11,9291456%"},{"$f":"IF($B7546=\"SINAPI\",IF(ISNUMBER(MATCH(Banco!$C7546,Analitico!$A:$A,0)),INDEX(Analitico!F:F,MATCH(Banco!$C7546,Analitico!$A:$A,0))&\"%\",\"\"),\"\")","v":"%"}]
[{"$f":"CONCATENAR","v":"SINAPI 96555"},"SINAPI","96555","CONCRETAGEM DE BLOCO DE COROAMENTO OU VIGA BALDRAME, FCK 30 MPA, COM USO DE JERICA - LANÇAMENTO, ADENSAMENTO E ACABAMENTO. AF_01/2024","M3","749,82",null,null,"AS",{"$f":"IF($B7555=\"SINAPI\",IF(ISNUMBER(MATCH(Banco!$C7555,Analitico!$A:$A,0)),INDEX(Analitico!E:E,MATCH(Banco!$C7555,Analitico!$A:$A,0))&\"%\",\"\"),\"\")","v":"21,3270711%"},{"$f":"IF($B7555=\"SINAPI\",IF(ISNUMBER(MATCH(Banco!$C7555,Analitico!$A:$A,0)),INDEX(Analitico!F:F,MATCH(Banco!$C7555,Analitico!$A:$A,0))&\"%\",\"\"),\"\")","v":"%"}]
[{"$f":"CONCATENAR","v":"SINAPI 99435"},"SINAPI","99435","CONCRETAGEM DE PAREDES EM EDIFICAÇÕES MULTIFAMILIARES FEITAS COM SISTEMA DE FÔRMAS MANUSEÁVEIS, COM CONCRETO USINADO BOMBEÁVEL FCK 25 MPA - LANÇAMENTO, ADENSAMENTO E ACABAMENTO (EXCLUSIVE BOMBA LANÇA). AF_10/2021","M3","675,53",null,null,"AS",{"$f":"IF($B7564=\"SINAPI\",IF(ISNUMBER(MATCH(Banco!$C7564,Analitico!$A:$A,0)),INDEX(Analitico!E:E,MATCH(Banco!$C7564,Analitico!$A:$A,0))&\"%\",\"\"),\"\")","v":"2,9848978%"},{"$f":"IF($B7564=\"SINAPI\",IF(ISNUMBER(MATCH(Banco!$C7564,Analitico!$A:$A,0)),INDEX(Analitico!F:F,MATCH(Banco!$C7564,Analitico!$A:$A,0))&\"%\",\"\"),\"\")","v":"%"}]
[{"$f":"CONCATENAR","v":"SINAPI 99436"},"SINAPI","99436","CONCRETAGEM DE PLATIBANDA EM EDIFICAÇÕES MULTIFAMILIARES FEITAS COM SISTEMA DE FÔRMAS MANUSEÁVEIS, COM CONCRETO USINADO BOMBEÁVEL FCK 25 MPA - LANÇAMENTO, ADENSAMENTO E ACABAMENTO (EXCLUSIVE BOMBA LANÇA). AF_10/2021","M3","749,12",null,null,"AS",{"$f":"IF($B7565=\"SINAPI\",IF(ISNUMBER(MATCH(Banco!$C7565,Analitico!$A:$A,0)),INDEX(Analitico!E:E,MATCH(Banco!$C7565,Analitico!$A:$A,0))&\"%\",\"\"),\"\")","v":"5,8251001%"},{"$f":"IF($B7565=\"SINAPI\",IF(ISNUMBER(MATCH(Banco!$C7565,Analitico!$A:$A,0)),INDEX(Analitico!F:F,MATCH(Banco!$C7565,Analitico!$A:$A,0))&\"%\",\"\"),\"\")","v":"%"}]
[{"$f":"CONCATENAR","v":"SINAPI 102485"},"SINAPI","102485","CONCRETO MAGRO PARA LASTRO, TRAÇO 1:4,5:4,5 (EM MASSA SECA DE CIMENTO/ AREIA MÉDIA/ SEIXO ROLADO) - PREPARO MANUAL. AF_05/2021","M3","581,60",null,null,"CR",{"$f":"IF($B7581=\"SINAPI\",IF(ISNUMBER(MATCH(Banco!$C7581,Analitico!$A:$A,0)),INDEX(Analitico!E:E,MATCH(Banco!$C7581,Analitico!$A:$A,0))&\"%\",\"\"),\"\")","v":"16,1751809%"},{"$f":"IF($B7581=\"SINAPI\",IF(ISNUMBER(MATCH(Banco!$C7581,Analitico!$A:$A,0)),INDEX(Analitico!F:F,MATCH(Banco!$C7581,Analitico!$A:$A,0))&\"%\",\"\"),\"\")","v":"%"}]
[{"$f":"CONCATENAR","v":"SINAPI 103183"},"SINAPI","103183","CONCRETAGEM DE ESCADAS EM EDIFICAÇÕES MULTIFAMILIARES FEITAS COM SISTEMA DE FÔRMAS MANUSEÁVEIS - CONCRETO USINADO BOMBEÁVEL, FCK 25 MPA - LANÇAMENTO, ADENSAMENTO E ACABAMENTO (EXCLUSIVE BOMBA LANÇA). AF_10/2021","M3","720,53",null,null,"AS",{"$f":"IF($B7584=\"SINAPI\",IF(ISNUMBER(MATCH(Banco!$C7584,Analitico!$A:$A,0)),INDEX(Analitico!E:E,MATCH(Banco!$C7584,Analitico!$A:$A,0))&\"%\",\"\"),\"\")","v":"6,8241761%"},{"$f":"IF($B7584=\"SINAPI\",IF(ISNUMBER(MATCH(Banco!$C7584,Analitico!$A:$A,0)),INDEX(Analitico!F:F,MATCH(Banco!$C7584,Analitico!$A:$A,0))&\"%\",\"\"),\"\")","v":"%"}]
[{"$f":"CONCATENAR","v":"SINAPI 103676"},"SINAPI","103676","CONCRETAGEM DE VIGAS E LAJES, FCK=25 MPA, PARA LAJES PREMOLDADAS COM JERICAS EM ELEVADOR DE CABO EM EDIFICAÇÃO DE MULTIPAVIMENTOS ATÉ 16 ANDARES - LANÇAMENTO, ADENSAMENTO E ACABAMENTO. AF_02/2022","M3","991,84",null,null,"AS",{"$f":"IF($B7593=\"SINAPI\",IF(ISNUMBER(MATCH(Banco!$C7593,Analitico!$A:$A,0)),INDEX(Analitico!E:E,MATCH(Banco!$C7593,Analitico!$A:$A,0))&\"%\",\"\"),\"\")","v":"24,4260030%"},{"$f":"IF($B7593=\"SINAPI\",IF(ISNUMBER(MATCH(Banco!$C7593,Analitico!$A:$A,0)),INDEX(Analitico!F:F,MATCH(Banco!$C7593,Analitico!$A:$A,0))&\"%\",\"\"),\"\")","v":"%"}]
[{"$f":"CONCATENAR","v":"SINAPI 103685"},"SINAPI","103685","CONCRETAGEM DE MURETAS, FCK=25 MPA, COM USO DE BOMBA - LANÇAMENTO, ADENSAMENTO E ACABAMENTO. AF_02/2022_PS","M3","667,36",null,null,"AS",{"$f":"IF($B7602=\"SINAPI\",IF(ISNUMBER(MATCH(Banco!$C7602,Analitico!$A:$A,0)),INDEX(Analitico!E:E,MATCH(Banco!$C7602,Analitico!$A:$A,0))&\"%\",\"\"),\"\")","v":"4,8213536%"},{"$f":"IF($B7602=\"SINAPI\",IF(ISNUMBER(MATCH(Banco!$C7602,Analitico!$A:$A,0)),INDEX(Analitico!F:F,MATCH(Banco!$C7602,Analitico!$A:$A,0))&\"%\",\"\"),\"\")","v":"%"}]
[{"$f":"CONCATENAR","v":"SINAPI 101165"},"SINAPI","101165","ALVENARIA DE EMBASAMENTO COM BLOCO ESTRUTURAL DE CONCRETO, DE 14X19X29CM E ARGAMASSA DE ASSENTAMENTO COM PREPARO EM BETONEIRA. AF_05/2020","M3","996,36",null,null,"CR",{"$f":"IF($B7611=\"SINAPI\",IF(ISNUMBER(MATCH(Banco!$C7611,Analitico!$A:$A,0)),INDEX(Analitico!E:E,MATCH(Banco!$C7611,Analitico!$A:$A,0))&\"%\",\"\"),\"\")","v":"28,7744797%"},{"$f":"IF($B7611=\"SINAPI\",IF(ISNUMBER(MATCH(Banco!$C7611,Analitico!$A:$A,0)),INDEX(Analitico!F:F,MATCH(Banco!$C7611,Analitico!$A:$A,0))&\"%\",\"\"),\"\")","v":"%"}]
[{"$f":"CONCATENAR","v":"SINAPI 93191"},"SINAPI","93191","VERGA MOLDADA IN LOCO COM UTILIZAÇÃO DE BLOCOS CANALETA, ESPESSURA DE *20* CM. AF_03/2024","M","69,66",null,null,"CR",{"$f":"IF($B7618=\"SINAPI\",IF(ISNUMBER(MATCH(Banco!$C7618,Analitico!$A:$A,0)),INDEX(Analitico!E:E,MATCH(Banco!$C7618,Analitico!$A:$A,0))&\"%\",\"\"),\"\")","v":"22,5815766%"},{"$f":"IF($B7618=\"SINAPI\",IF(ISNUMBER(MATCH(Banco!$C7618,Analitico!$A:$A,0)),INDEX(Analitico!F:F,MATCH(Banco!$C7618,Analitico!$A:$A,0))&\"%\",\"\"),\"\")","v":"%"}]
[{"$f":"CONCATENAR","v":"SINAPI 105025"},"SINAPI","105025","VERGA MOLDADA IN LOCO COM UTILIZAÇÃO DE BLOCOS CANALETA, ESPESSURA DE *15* CM. AF_03/2024","M","57,46",null,null,"CR",{"$f":"IF($B7630=\"SINAPI\",IF(ISNUMBER(MATCH(Banco!$C7630,Analitico!$A:$A,0)),INDEX(Analitico!E:E,MATCH(Banco!$C7630,Analitico!$A:$A,0))&\"%\",\"\"),\"\")","v":"21,4022787%"},{"$f":"IF($B7630=\"SINAPI\",IF(ISNUMBER(MATCH(Banco!$C7630,Analitico!$A:$A,0)),INDEX(Analitico!F:F,MATCH(Banco!$C7630,Analitico!$A:$A,0))&\"%\",\"\"),\"\")","v":"%"}]
[{"$f":"CONCATENAR","v":"SINAPI 105026"},"SINAPI","105026","VERGA MOLDADA IN LOCO COM UTILIZAÇÃO DE BLOCOS CANALETA, ESPESSURA DE *10* CM. AF_03/2024","M","40,24",null,null,"CR",{"$f":"IF($B7631=\"SINAPI\",IF(ISNUMBER(MATCH(Banco!$C7631,Analitico!$A:$A,0)),INDEX(Analitico!E:E,MATCH(Banco!$C7631,Analitico!$A:$A,0))&\"%\",\"\"),\"\")","v":"19,8846539%"},{"$f":"IF($B7631=\"SINAPI\",IF(ISNUMBER(MATCH(Banco!$C7631,Analitico!$A:$A,0)),INDEX(Analitico!F:F,MATCH(Banco!$C7631,Analitico!$A:$A,0))&\"%\",\"\"),\"\")","v":"%"}]
[{"$f":"CONCATENAR","v":"SINAPI 105035"},"SINAPI","105035","VERGA PRÉ-FABRICADA COM ATÉ 1,5 M DE VÃO, ESPESSURA DE *20* CM. AF_03/2024","M","62,98",null,null,"AS",{"$f":"IF($B7640=\"SINAPI\",IF(ISNUMBER(MATCH(Banco!$C7640,Analitico!$A:$A,0)),INDEX(Analitico!E:E,MATCH(Banco!$C7640,Analitico!$A:$A,0))&\"%\",\"\"),\"\")","v":"50,2249359%"},{"$f":"IF($B7640=\"SINAPI\",IF(ISNUMBER(MATCH(Banco!$C7640,Analitico!$A:$A,0)),INDEX(Analitico!F:F,MATCH(Banco!$C7640,Analitico!$A:$A,0))&\"%\",\"\"),\"\")","v":"%"}]
[{"$f":"CONCATENAR","v":"SINAPI 97736"},"SINAPI","97736","PEÇA RETANGULAR PRÉ-MOLDADA, VOLUME DE CONCRETO ACIMA DE 100 LITROS, TAXA DE AÇO APROXIMADA DE 30KG/M³. AF_03/2024","M3","1.549,42",null,null,"AS",{"$f":"IF($B7649=\"SINAPI\",IF(ISNUMBER(MATCH(Banco!$C7649,Analitico!$A:$A,0)),INDEX(Analitico!E:E,MATCH(Banco!$C7649,Analitico!$A:$A,0))&\"%\",\"\"),\"\")","v":"26,0194866%"},{"$f":"IF($B7649=\"SINAPI\",IF(ISNUMBER(MATCH(Banco!$C7649,Analitico!$A:$A,0)),INDEX(Analitico!F:F,MATCH(Banco!$C7649,Analitico!$A:$A,0))&\"%\",\"\"),\"\")","v":"%"}]
[{"$f":"CONCATENAR","v":"SINAPI 98616"},"SINAPI","98616","CONTENÇÃO EM CORTINA COM ESTACAS ESPAÇADAS COM 30 CM DE DIÂMETRO E PROFUNDIDADE MAIOR QUE 10 M E MENOR OU IGUAL A 15 M. AF_06/2018","M2","119,93",null,null,"AS",{"$f":"IF($B7655=\"SINAPI\",IF(ISNUMBER(MATCH(Banco!$C7655,Analitico!$A:$A,0)),INDEX(Analitico!E:E,MATCH(Banco!$C7655,Analitico!$A:$A,0))&\"%\",\"\"),\"\")","v":"8,6027810%"},{"$f":"IF($B7655=\"SINAPI\",IF(ISNUMBER(MATCH(Banco!$C7655,Analitico!$A:$A,0)),INDEX(Analitico!F:F,MATCH(Banco!$C7655,Analitico!$A:$A,0))&\"%\",\"\"),\"\")","v":"%"}]
[{"$f":"CONCATENAR","v":"SINAPI 98657"},"SINAPI","98657","EXECUÇÃO DE MURETA GUIA PARA CONTENÇÃO/ FUNDAÇÃO COM 50 CM DE ESPESSURA. AF_06/2018","M","714,53",null,null,"AS",{"$f":"IF($B7668=\"SINAPI\",IF(ISNUMBER(MATCH(Banco!$C7668,Analitico!$A:$A,0)),INDEX(Analitico!E:E,MATCH(Banco!$C7668,Analitico!$A:$A,0))&\"%\",\"\"),\"\")","v":"26,1793646%"},{"$f":"IF($B7668=\"SINAPI\",IF(ISNUMBER(MATCH(Banco!$C7668,Analitico!$A:$A,0)),INDEX(Analitico!F:F,MATCH(Banco!$C7668,Analitico!$A:$A,0))&\"%\",\"\"),\"\")","v":"%"}]
[{"$f":"CONCATENAR","v":"SINAPI 100763"},"SINAPI","100763","VIGA METÁLICA EM PERFIL LAMINADO OU SOLDADO EM AÇO ESTRUTURAL, COM CONEXÕES PARAFUSADAS, INCLUSOS MÃO DE OBRA, TRANSPORTE E IÇAMENTO UTILIZANDO GUINDASTE - FORNECIMENTO E INSTALAÇÃO. AF_01/2020_PSA","KG","20,82",null,null,"AS",{"$f":"IF($B7677=\"SINAPI\",IF(ISNUMBER(MATCH(Banco!$C7677,Analitico!$A:$A,0)),INDEX(Analitico!E:E,MATCH(Banco!$C7677,Analitico!$A:$A,0))&\"%\",\"\"),\"\")","v":"5,7851239%"},{"$f":"IF($B7677=\"SINAPI\",IF(ISNUMBER(MATCH(Banco!$C7677,Analitico!$A:$A,0)),INDEX(Analitico!F:F,MATCH(Banco!$C7677,Analitico!$A:$A,0))&\"%\",\"\"),\"\")","v":"%"}]
[{"$f":"CONCATENAR","v":"SINAPI 100772"},"SINAPI","100772","CONTRAVENTAMENTO COM CANTONEIRAS DE AÇO, ABAS IGUAIS, COM CONEXÕES SOLDADAS, INCLUSOS MÃO DE OBRA, TRANSPORTE E IÇAMENTO UTILIZANDO GRUA, PARA EDIFÍCIOS DE 6 A 10 PAVIMENTOS - FORNECIMENTO E INSTALAÇÃO. AF_01/2020_PA","KG","19,92",null,null,"AS",{"$f":"IF($B7686=\"SINAPI\",IF(ISNUMBER(MATCH(Banco!$C7686,Analitico!$A:$A,0)),INDEX(Analitico!E:E,MATCH(Banco!$C7686,Analitico!$A:$A,0))&\"%\",\"\"),\"\")","v":"15,4979674%"},{"$f":"IF($B7686=\"SINAPI\",IF(ISNUMBER(MATCH(Banco!$C7686,Analitico!$A:$A,0)),INDEX(Analitico!F:F,MATCH(Banco!$C7686,Analitico!$A:$A,0))&\"%\",\"\"),\"\")","v":"%"}]
[{"$f":"CONCATENAR","v":"SINAPI 103797"},"SINAPI","103797","ARMAÇÃO DE DESCIDA D'ÁGUA UTILIZANDO AÇO CA-60 DE 5 MM - MONTAGEM. AF_08/2022","KG","15,98",null,null,"CR",{"$f":"IF($B7695=\"SINAPI\",IF(ISNUMBER(MATCH(Banco!$C7695,Analitico!$A:$A,0)),INDEX(Analitico!E:E,MATCH(Banco!$C7695,Analitico!$A:$A,0))&\"%\",\"\"),\"\")","v":"32,2601010%"},{"$f":"IF($B7695=\"SINAPI\",IF(ISNUMBER(MATCH(Banco!$C7695,Analitico!$A:$A,0)),INDEX(Analitico!F:F,MATCH(Banco!$C7695,Analitico!$A:$A,0))&\"%\",\"\"),\"\")","v":"%"}]
[{"$f":"CONCATENAR","v":"SINAPI 103926"},"SINAPI","103926","ESCADA HIDRÁULICA, LARGURA DE 1 A 4,1 M, TIPO DESCIDA D'ÁGUA DE ATERRO EM DEGRAUS (DAD 04, 06, 08, 10, 12, 14, 16, 18), EM CONCRETO USINADO, FCK = 20 MPA, LANÇADO COM BOMBA, INCLUINDO ARMAÇÃO, MATERIAIS E FÔRMAS (3 UTILIZAÇÕES). AF_08/2022","M3","1.378,95",null,null,"AS",{"$f":"IF($B7701=\"SINAPI\",IF(ISNUMBER(MATCH(Banco!$C7701,Analitico!$A:$A,0)),INDEX(Analitico!E:E,MATCH(Banco!$C7701,Analitico!$A:$A,0))&\"%\",\"\"),\"\")","v":"21,3390338%"},{"$f":"IF($B7701=\"SINAPI\",IF(ISNUMBER(MATCH(Banco!$C7701,Analitico!$A:$A,0)),INDEX(Analitico!F:F,MATCH(Banco!$C7701,Analitico!$A:$A,0))&\"%\",\"\"),\"\")","v":"%"}]
[{"$f":"CONCATENAR","v":"SINAPI 103932"},"SINAPI","103932","BACIA DE DISSIPAÇÃO, LARGURA DE 4 A 9,2 M, TIPO BACIA EM PEDRA DE MÃO FIXADA COM CONCRETO (DEB 07, 08, 09, 10, 11, 12, 13), COM PREPARO MANUAL, FCK = 20 MPA, LANÇADO MANUALMENTE, INCLUINDO MATERIAIS E FÔRMAS (2 UTILIZAÇÕES). AF_08/2022","M3","529,75",null,null,"AS",{"$f":"IF($B7706=\"SINAPI\",IF(ISNUMBER(MATCH(Banco!$C7706,Analitico!$A:$A,0)),INDEX(Analitico!E:E,MATCH(Banco!$C7706,Analitico!$A:$A,0))&\"%\",\"\"),\"\")","v":"26,3397753%"},{"$f":"IF($B7706=\"SINAPI\",IF(ISNUMBER(MATCH(Banco!$C7706,Analitico!$A:$A,0)),INDEX(Analitico!F:F,MATCH(Banco!$C7706,Analitico!$A:$A,0))&\"%\",\"\"),\"\")","v":"%"}]
[{"$f":"CONCATENAR","v":"SINAPI 105058"},"SINAPI","105058","PILAR DE MADEIRA ROLIÇA, EUCALIPTO OU EQUIVALENTE DA REGIÃO, FIXADO COM VERGALHÃO, DIÂMETRO DE 30 A 34 CM, APOIO ARTICULADO, COMPRIMENTO DE 6 M. AF_03/2024","M","386,44",null,null,"CR",{"$f":"IF($B7715=\"SINAPI\",IF(ISNUMBER(MATCH(Banco!$C7715,Analitico!$A:$A,0)),INDEX(Analitico!E:E,MATCH(Banco!$C7715,Analitico!$A:$A,0))&\"%\",\"\"),\"\")","v":"2,8107044%"},{"$f":"IF($B7715=\"SINAPI\",IF(ISNUMBER(MATCH(Banco!$C7715,Analitico!$A:$A,0)),INDEX(Analitico!F:F,MATCH(Banco!$C7715,Analitico!$A:$A,0))&\"%\",\"\"),\"\")","v":"%"}]
[{"$f":"CONCATENAR","v":"SINAPI 105082"},"SINAPI","105082","VIGA DE MADEIRA SERRADA, MAÇARANDUBA OU EQUIVALENTE DA REGIÃO, NÃO APARELHADA, SEÇÃO RETANGULAR 6 X 12 CM. AF_03/2024","M","51,36",null,null,"AS",{"$f":"IF($B7724=\"SINAPI\",IF(ISNUMBER(MATCH(Banco!$C7724,Analitico!$A:$A,0)),INDEX(Analitico!E:E,MATCH(Banco!$C7724,Analitico!$A:$A,0))&\"%\",\"\"),\"\")","v":"25,0000000%"},{"$f":"IF($B7724=\"SINAPI\",IF(ISNUMBER(MATCH(Banco!$C7724,Analitico!$A:$A,0)),INDEX(Analitico!F:F,MATCH(Banco!$C7724,Analitico!$A:$A,0))&\"%\",\"\"),\"\")","v":"%"}]
[{"$f":"CONCATENAR","v":"SINAPI 105091"},"SINAPI","105091","VIGA DE MADEIRA SERRADA, MAÇARANDUBA OU EQUIVALENTE DA REGIÃO, APARELHADA, SEÇÃO RETANGULAR 7,5 X 23 CM. AF_03/2024","M","88,78",null,null,"AS",{"$f":"IF($B7733=\"SINAPI\",IF(ISNUMBER(MATCH(Banco!$C7733,Analitico!$A:$A,0)),INDEX(Analitico!E:E,MATCH(Banco!$C7733,Analitico!$A:$A,0))&\"%\",\"\"),\"\")","v":"16,7624845%"},{"$f":"IF($B7733=\"SINAPI\",IF(ISNUMBER(MATCH(Banco!$C7733,Analitico!$A:$A,0)),INDEX(Analitico!F:F,MATCH(Banco!$C7733,Analitico!$A:$A,0))&\"%\",\"\"),\"\")","v":"%"}]
[{"$f":"CONCATENAR","v":"SINAPI 105099"},"SINAPI","105099","VIGA DE MADEIRA ROLIÇA, EUCALIPTO OU EQUIVALENTE DA REGIÃO, DIÂMETRO DE 12 A 15 CM. AF_03/2024","M","91,03",null,null,"AS",{"$f":"IF($B7738=\"SINAPI\",IF(ISNUMBER(MATCH(Banco!$C7738,Analitico!$A:$A,0)),INDEX(Analitico!E:E,MATCH(Banco!$C7738,Analitico!$A:$A,0))&\"%\",\"\"),\"\")","v":"23,9639441%"},{"$f":"IF($B7738=\"SINAPI\",IF(ISNUMBER(MATCH(Banco!$C7738,Analitico!$A:$A,0)),INDEX(Analitico!F:F,MATCH(Banco!$C7738,Analitico!$A:$A,0))&\"%\",\"\"),\"\")","v":"%"}]
[{"$f":"CONCATENAR","v":"SINAPI 98563"},"SINAPI","98563","PROTEÇÃO MECÂNICA DE SUPERFÍCIE HORIZONTAL COM ARGAMASSA DE CIMENTO E AREIA, TRAÇO 1:3, E=2CM. AF_09/2023","M2","37,33",null,null,"CR",{"$f":"IF($B7752=\"SINAPI\",IF(ISNUMBER(MATCH(Banco!$C7752,Analitico!$A:$A,0)),INDEX(Analitico!E:E,MATCH(Banco!$C7752,Analitico!$A:$A,0))&\"%\",\"\"),\"\")","v":"38,9142703%"},{"$f":"IF($B7752=\"SINAPI\",IF(ISNUMBER(MATCH(Banco!$C7752,Analitico!$A:$A,0)),INDEX(Analitico!F:F,MATCH(Banco!$C7752,Analitico!$A:$A,0))&\"%\",\"\"),\"\")","v":"%"}]
[{"$f":"CONCATENAR","v":"SINAPI 98572"},"SINAPI","98572","PROTEÇÃO MECÂNICA DE SUPERFICIE HORIZONTAL COM CONCRETO 15 MPA, E=5CM. AF_09/2023","M2","53,49",null,null,"CR",{"$f":"IF($B7761=\"SINAPI\",IF(ISNUMBER(MATCH(Banco!$C7761,Analitico!$A:$A,0)),INDEX(Analitico!E:E,MATCH(Banco!$C7761,Analitico!$A:$A,0))&\"%\",\"\"),\"\")","v":"34,8119034%"},{"$f":"IF($B7761=\"SINAPI\",IF(ISNUMBER(MATCH(Banco!$C7761,Analitico!$A:$A,0)),INDEX(Analitico!F:F,MATCH(Banco!$C7761,Analitico!$A:$A,0))&\"%\",\"\"),\"\")","v":"%"}]
[{"$f":"CONCATENAR","v":"SINAPI 98573"},"SINAPI","98573","PROTEÇÃO MECÂNICA DE SUPERFÍCIE VERTICAL COM CONCRETO 15 MPA, E=5CM. AF_09/2023","M2","60,62",null,null,"CR",{"$f":"IF($B7762=\"SINAPI\",IF(ISNUMBER(MATCH(Banco!$C7762,Analitico!$A:$A,0)),INDEX(Analitico!E:E,MATCH(Banco!$C7762,Analitico!$A:$A,0))&\"%\",\"\"),\"\")","v":"32,3587710%"},{"$f":"IF($B7762=\"SINAPI\",IF(ISNUMBER(MATCH(Banco!$C7762,Analitico!$A:$A,0)),INDEX(Analitico!F:F,MATCH(Banco!$C7762,Analitico!$A:$A,0))&\"%\",\"\"),\"\")","v":"%"}]
[{"$f":"CONCATENAR","v":"SINAPI 91841"},"SINAPI","91841","ELETRODUTO FLEXÍVEL LISO, PEAD, DN 40 MM (1 1/4\"), PARA CIRCUITOS TERMINAIS, INSTALADO EM FORRO - FORNECIMENTO E INSTALAÇÃO. AF_03/2023_PA","M","22,26",null,null,"CR",{"$f":"IF($B7771=\"SINAPI\",IF(ISNUMBER(MATCH(Banco!$C7771,Analitico!$A:$A,0)),INDEX(Analitico!E:E,MATCH(Banco!$C7771,Analitico!$A:$A,0))&\"%\",\"\"),\"\")","v":"43,1283905%"},{"$f":"IF($B7771=\"SINAPI\",IF(ISNUMBER(MATCH(Banco!$C7771,Analitico!$A:$A,0)),INDEX(Analitico!F:F,MATCH(Banco!$C7771,Analitico!$A:$A,0))&\"%\",\"\"),\"\")","v":"%"}]
[{"$f":"CONCATENAR","v":"SINAPI 91859"},"SINAPI","91859","ELETRODUTO FLEXÍVEL LISO, PEAD, DN 32 MM (1\"), PARA CIRCUITOS TERMINAIS, INSTALADO EM PAREDE - FORNECIMENTO E INSTALAÇÃO. AF_03/2023","M","11,04",null,null,"CR",{"$f":"IF($B7784=\"SINAPI\",IF(ISNUMBER(MATCH(Banco!$C7784,Analitico!$A:$A,0)),INDEX(Analitico!E:E,MATCH(Banco!$C7784,Analitico!$A:$A,0))&\"%\",\"\"),\"\")","v":"49,1324200%"},{"$f":"IF($B7784=\"SINAPI\",IF(ISNUMBER(MATCH(Banco!$C7784,Analitico!$A:$A,0)),INDEX(Analitico!F:F,MATCH(Banco!$C7784,Analitico!$A:$A,0))&\"%\",\"\"),\"\")","v":"%"}]
[{"$f":"CONCATENAR","v":"SINAPI 91865"},"SINAPI","91865","ELETRODUTO RÍGIDO ROSCÁVEL, PVC, DN 40 MM (1 1/4\"), PARA CIRCUITOS TERMINAIS, INSTALADO EM FORRO - FORNECIMENTO E INSTALAÇÃO. AF_03/2023","M","21,79",null,null,"CR",{"$f":"IF($B7790=\"SINAPI\",IF(ISNUMBER(MATCH(Banco!$C7790,Analitico!$A:$A,0)),INDEX(Analitico!E:E,MATCH(Banco!$C7790,Analitico!$A:$A,0))&\"%\",\"\"),\"\")","v":"26,9461077%"},{"$f":"IF($B7790=\"SINAPI\",IF(ISNUMBER(MATCH(Banco!$C7790,Analitico!$A:$A,0)),INDEX(Analitico!F:F,MATCH(Banco!$C7790,Analitico!$A:$A,0))&\"%\",\"\"),\"\")","v":"%"}]
[{"$f":"CONCATENAR","v":"SINAPI 93008"},"SINAPI","93008","ELETRODUTO RÍGIDO ROSCÁVEL, PVC, DN 50 MM (1 1/2\"), PARA REDE ENTERRADA DE DISTRIBUIÇÃO DE ENERGIA ELÉTRICA - FORNECIMENTO E INSTALAÇÃO. AF_12/2021","M","22,05",null,null,"CR",{"$f":"IF($B7799=\"SINAPI\",IF(ISNUMBER(MATCH(Banco!$C7799,Analitico!$A:$A,0)),INDEX(Analitico!E:E,MATCH(Banco!$C7799,Analitico!$A:$A,0))&\"%\",\"\"),\"\")","v":"18,3719872%"},{"$f":"IF($B7799=\"SINAPI\",IF(ISNUMBER(MATCH(Banco!$C7799,Analitico!$A:$A,0)),INDEX(Analitico!F:F,MATCH(Banco!$C7799,Analitico!$A:$A,0))&\"%\",\"\"),\"\")","v":"%"}]
[{"$f":"CONCATENAR","v":"SINAPI 97668"},"SINAPI","97668","ELETRODUTO FLEXÍVEL CORRUGADO, PEAD, DN 63 (2\"), PARA REDE ENTERRADA DE DISTRIBUIÇÃO DE ENERGIA ELÉTRICA - FORNECIMENTO E INSTALAÇÃO. AF_12/2021","M","15,08",null,null,"CR",{"$f":"IF($B7808=\"SINAPI\",IF(ISNUMBER(MATCH(Banco!$C7808,Analitico!$A:$A,0)),INDEX(Analitico!E:E,MATCH(Banco!$C7808,Analitico!$A:$A,0))&\"%\",\"\"),\"\")","v":"22,6879574%"},{"$f":"IF($B7808=\"SINAPI\",IF(ISNUMBER(MATCH(Banco!$C7808,Analitico!$A:$A,0)),INDEX(Analitico!F:F,MATCH(Banco!$C7808,Analitico!$A:$A,0))&\"%\",\"\"),\"\")","v":"%"}]
[{"$f":"CONCATENAR","v":"SINAPI 91880"},"SINAPI","91880","LUVA PARA ELETRODUTO, PVC, ROSCÁVEL, DN 32 MM (1\"), PARA CIRCUITOS TERMINAIS, INSTALADA EM LAJE - FORNECIMENTO E INSTALAÇÃO. AF_03/2023","UN","8,28",null,null,"CR",{"$f":"IF($B7817=\"SINAPI\",IF(ISNUMBER(MATCH(Banco!$C7817,Analitico!$A:$A,0)),INDEX(Analitico!E:E,MATCH(Banco!$C7817,Analitico!$A:$A,0))&\"%\",\"\"),\"\")","v":"57,4209246%"},{"$f":"IF($B7817=\"SINAPI\",IF(ISNUMBER(MATCH(Banco!$C7817,Analitico!$A:$A,0)),INDEX(Analitico!F:F,MATCH(Banco!$C7817,Analitico!$A:$A,0))&\"%\",\"\"),\"\")","v":"%"}]
[{"$f":"CONCATENAR","v":"SINAPI 91885"},"SINAPI","91885","LUVA PARA ELETRODUTO, PVC, ROSCÁVEL, DN 32 MM (1\"), PARA CIRCUITOS TERMINAIS, INSTALADA EM PAREDE - FORNECIMENTO E INSTALAÇÃO. AF_03/2023","UN","12,50",null,null,"CR",{"$f":"IF($B7821=\"SINAPI\",IF(ISNUMBER(MATCH(Banco!$C7821,Analitico!$A:$A,0)),INDEX(Analitico!E:E,MATCH(Banco!$C7821,Analitico!$A:$A,0))&\"%\",\"\"),\"\")","v":"63,6363637%"},{"$f":"IF($B7821=\"SINAPI\",IF(ISNUMBER(MATCH(Banco!$C7821,Analitico!$A:$A,0)),INDEX(Analitico!F:F,MATCH(Banco!$C7821,Analitico!$A:$A,0))&\"%\",\"\"),\"\")","v":"%"}]
[{"$f":"CONCATENAR","v":"SINAPI 91895"},"SINAPI","91895","CURVA 180 GRAUS PARA ELETRODUTO, PVC, ROSCÁVEL, DN 32 MM (1\"), PARA CIRCUITOS TERMINAIS, INSTALADA EM FORRO - FORNECIMENTO E INSTALAÇÃO. AF_03/2023","UN","18,96",null,null,"CR",{"$f":"IF($B7828=\"SINAPI\",IF(ISNUMBER(MATCH(Banco!$C7828,Analitico!$A:$A,0)),INDEX(Analitico!E:E,MATCH(Banco!$C7828,Analitico!$A:$A,0))&\"%\",\"\"),\"\")","v":"45,9502382%"},{"$f":"IF($B7828=\"SINAPI\",IF(ISNUMBER(MATCH(Banco!$C7828,Analitico!$A:$A,0)),INDEX(Analitico!F:F,MATCH(Banco!$C7828,Analitico!$A:$A,0))&\"%\",\"\"),\"\")","v":"%"}]
[{"$f":"CONCATENAR","v":"SINAPI 91908"},"SINAPI","91908","CURVA 90 GRAUS PARA ELETRODUTO, PVC, ROSCÁVEL, DN 40 MM (1 1/4\"), PARA CIRCUITOS TERMINAIS, INSTALADA EM LAJE - FORNECIMENTO E INSTALAÇÃO. AF_03/2023","UN","16,95",null,null,"CR",{"$f":"IF($B7837=\"SINAPI\",IF(ISNUMBER(MATCH(Banco!$C7837,Analitico!$A:$A,0)),INDEX(Analitico!E:E,MATCH(Banco!$C7837,Analitico!$A:$A,0))&\"%\",\"\"),\"\")","v":"50,4151839%"},{"$f":"IF($B7837=\"SINAPI\",IF(ISNUMBER(MATCH(Banco!$C7837,Analitico!$A:$A,0)),INDEX(Analitico!F:F,MATCH(Banco!$C7837,Analitico!$A:$A,0))&\"%\",\"\"),\"\")","v":"%"}]
[{"$f":"CONCATENAR","v":"SINAPI 91922"},"SINAPI","91922","CURVA 180 GRAUS PARA ELETRODUTO, PVC, ROSCÁVEL, DN 40 MM (1 1/4\"), PARA CIRCUITOS TERMINAIS, INSTALADA EM PAREDE - FORNECIMENTO E INSTALAÇÃO. AF_03/2023","UN","25,76",null,null,"CR",{"$f":"IF($B7846=\"SINAPI\",IF(ISNUMBER(MATCH(Banco!$C7846,Analitico!$A:$A,0)),INDEX(Analitico!E:E,MATCH(Banco!$C7846,Analitico!$A:$A,0))&\"%\",\"\"),\"\")","v":"51,4007783%"},{"$f":"IF($B7846=\"SINAPI\",IF(ISNUMBER(MATCH(Banco!$C7846,Analitico!$A:$A,0)),INDEX(Analitico!F:F,MATCH(Banco!$C7846,Analitico!$A:$A,0))&\"%\",\"\"),\"\")","v":"%"}]
[{"$f":"CONCATENAR","v":"SINAPI 93024"},"SINAPI","93024","CURVA 90 GRAUS PARA ELETRODUTO, PVC, ROSCÁVEL, DN 85 MM (3\"), PARA REDE ENTERRADA DE DISTRIBUIÇÃO DE ENERGIA ELÉTRICA - FORNECIMENTO E INSTALAÇÃO. AF_12/2021","UN","53,21",null,null,"CR",{"$f":"IF($B7855=\"SINAPI\",IF(ISNUMBER(MATCH(Banco!$C7855,Analitico!$A:$A,0)),INDEX(Analitico!E:E,MATCH(Banco!$C7855,Analitico!$A:$A,0))&\"%\",\"\"),\"\")","v":"34,9520045%"},{"$f":"IF($B7855=\"SINAPI\",IF(ISNUMBER(MATCH(Banco!$C7855,Analitico!$A:$A,0)),INDEX(Analitico!F:F,MATCH(Banco!$C7855,Analitico!$A:$A,0))&\"%\",\"\"),\"\")","v":"%"}]
[{"$f":"CONCATENAR","v":"SINAPI 91927"},"SINAPI","91927","CABO DE COBRE FLEXÍVEL ISOLADO, 2,5 MM², ANTI-CHAMA 0,6/1,0 KV, PARA CIRCUITOS TERMINAIS - FORNECIMENTO E INSTALAÇÃO. AF_03/2023","M","4,57",null,null,"CR",{"$f":"IF($B7864=\"SINAPI\",IF(ISNUMBER(MATCH(Banco!$C7864,Analitico!$A:$A,0)),INDEX(Analitico!E:E,MATCH(Banco!$C7864,Analitico!$A:$A,0))&\"%\",\"\"),\"\")","v":"22,8888888%"},{"$f":"IF($B7864=\"SINAPI\",IF(ISNUMBER(MATCH(Banco!$C7864,Analitico!$A:$A,0)),INDEX(Analitico!F:F,MATCH(Banco!$C7864,Analitico!$A:$A,0))&\"%\",\"\"),\"\")","v":"%"}]
[{"$f":"CONCATENAR","v":"SINAPI 91932"},"SINAPI","91932","CABO DE COBRE FLEXÍVEL ISOLADO, 10 MM², ANTI-CHAMA 450/750 V, PARA CIRCUITOS TERMINAIS - FORNECIMENTO E INSTALAÇÃO. AF_03/2023","M","15,81",null,null,"CR",{"$f":"IF($B7869=\"SINAPI\",IF(ISNUMBER(MATCH(Banco!$C7869,Analitico!$A:$A,0)),INDEX(Analitico!E:E,MATCH(Banco!$C7869,Analitico!$A:$A,0))&\"%\",\"\"),\"\")","v":"17,3857868%"},{"$f":"IF($B7869=\"SINAPI\",IF(ISNUMBER(MATCH(Banco!$C7869,Analitico!$A:$A,0)),INDEX(Analitico!F:F,MATCH(Banco!$C7869,Analitico!$A:$A,0))&\"%\",\"\"),\"\")","v":"%"}]
[{"$f":"CONCATENAR","v":"SINAPI 92996"},"SINAPI","92996","CABO DE COBRE FLEXÍVEL ISOLADO, 150 MM², ANTI-CHAMA 0,6/1,0 KV, PARA REDE ENTERRADA DE DISTRIBUIÇÃO DE ENERGIA ELÉTRICA - FORNECIMENTO E INSTALAÇÃO. AF_12/2021","M","148,76",null,null,"CR",{"$f":"IF($B7883=\"SINAPI\",IF(ISNUMBER(MATCH(Banco!$C7883,Analitico!$A:$A,0)),INDEX(Analitico!E:E,MATCH(Banco!$C7883,Analitico!$A:$A,0))&\"%\",\"\"),\"\")","v":"4,1633037%"},{"$f":"IF($B7883=\"SINAPI\",IF(ISNUMBER(MATCH(Banco!$C7883,Analitico!$A:$A,0)),INDEX(Analitico!F:F,MATCH(Banco!$C7883,Analitico!$A:$A,0))&\"%\",\"\"),\"\")","v":"%"}]
[{"$f":"CONCATENAR","v":"SINAPI 101889"},"SINAPI","101889","CABO DE COBRE ISOLADO, 25 MM², ANTI-CHAMA 0,6/1 KV, INSTALADO EM ELETROCALHA OU PERFILADO - FORNECIMENTO E INSTALAÇÃO. AF_10/2020","M","24,24",null,null,"CR",{"$f":"IF($B7892=\"SINAPI\",IF(ISNUMBER(MATCH(Banco!$C7892,Analitico!$A:$A,0)),INDEX(Analitico!E:E,MATCH(Banco!$C7892,Analitico!$A:$A,0))&\"%\",\"\"),\"\")","v":"1,6542597%"},{"$f":"IF($B7892=\"SINAPI\",IF(ISNUMBER(MATCH(Banco!$C7892,Analitico!$A:$A,0)),INDEX(Analitico!F:F,MATCH(Banco!$C7892,Analitico!$A:$A,0))&\"%\",\"\"),\"\")","v":"%"}]
[{"$f":"CONCATENAR","v":"SINAPI 91936"},"SINAPI","91936","CAIXA OCTOGONAL 4\" X 4\", PVC, INSTALADA EM LAJE - FORNECIMENTO E INSTALAÇÃO. AF_03/2023","UN","18,05",null,null,"CR",{"$f":"IF($B7893=\"SINAPI\",IF(ISNUMBER(MATCH(Banco!$C7893,Analitico!$A:$A,0)),INDEX(Analitico!E:E,MATCH(Banco!$C7893,Analitico!$A:$A,0))&\"%\",\"\"),\"\")","v":"44,6299387%"},{"$f":"IF($B7893=\"SINAPI\",IF(ISNUMBER(MATCH(Banco!$C7893,Analitico!$A:$A,0)),INDEX(Analitico!F:F,MATCH(Banco!$C7893,Analitico!$A:$A,0))&\"%\",\"\"),\"\")","v":"%"}]
[{"$f":"CONCATENAR","v":"SINAPI 92866"},"SINAPI","92866","CAIXA SEXTAVADA 3\" X 3\", METÁLICA, INSTALADA EM LAJE - FORNECIMENTO E INSTALAÇÃO. AF_03/2023","UN","12,22",null,null,"CR",{"$f":"IF($B7902=\"SINAPI\",IF(ISNUMBER(MATCH(Banco!$C7902,Analitico!$A:$A,0)),INDEX(Analitico!E:E,MATCH(Banco!$C7902,Analitico!$A:$A,0))&\"%\",\"\"),\"\")","v":"66,0626030%"},{"$f":"IF($B7902=\"SINAPI\",IF(ISNUMBER(MATCH(Banco!$C7902,Analitico!$A:$A,0)),INDEX(Analitico!F:F,MATCH(Banco!$C7902,Analitico!$A:$A,0))&\"%\",\"\"),\"\")","v":"%"}]
[{"$f":"CONCATENAR","v":"SINAPI 95785"},"SINAPI","95785","CONDULETE DE ALUMÍNIO, TIPO E, PARA ELETRODUTO DE AÇO GALVANIZADO DN 32 MM (1 1/4''), APARENTE - FORNECIMENTO E INSTALAÇÃO. AF_10/2022","UN","42,93",null,null,"CR",{"$f":"IF($B7915=\"SINAPI\",IF(ISNUMBER(MATCH(Banco!$C7915,Analitico!$A:$A,0)),INDEX(Analitico!E:E,MATCH(Banco!$C7915,Analitico!$A:$A,0))&\"%\",\"\"),\"\")","v":"24,4574095%"},{"$f":"IF($B7915=\"SINAPI\",IF(ISNUMBER(MATCH(Banco!$C7915,Analitico!$A:$A,0)),INDEX(Analitico!F:F,MATCH(Banco!$C7915,Analitico!$A:$A,0))&\"%\",\"\"),\"\")","v":"%"}]
[{"$f":"CONCATENAR","v":"SINAPI 95797"},"SINAPI","95797","CONDULETE DE ALUMÍNIO, TIPO T, PARA ELETRODUTO DE AÇO GALVANIZADO DN 32 MM (1 1/4''), APARENTE - FORNECIMENTO E INSTALAÇÃO. AF_10/2022","UN","68,50",null,null,"CR",{"$f":"IF($B7921=\"SINAPI\",IF(ISNUMBER(MATCH(Banco!$C7921,Analitico!$A:$A,0)),INDEX(Analitico!E:E,MATCH(Banco!$C7921,Analitico!$A:$A,0))&\"%\",\"\"),\"\")","v":"31,6043249%"},{"$f":"IF($B7921=\"SINAPI\",IF(ISNUMBER(MATCH(Banco!$C7921,Analitico!$A:$A,0)),INDEX(Analitico!F:F,MATCH(Banco!$C7921,Analitico!$A:$A,0))&\"%\",\"\"),\"\")","v":"%"}]
[{"$f":"CONCATENAR","v":"SINAPI 95809"},"SINAPI","95809","CONDULETE DE PVC, TIPO LL, PARA ELETRODUTO DE PVC SOLDÁVEL DN 32 MM (1''), APARENTE - FORNECIMENTO E INSTALAÇÃO. AF_10/2022","UN","37,86",null,null,"CR",{"$f":"IF($B7930=\"SINAPI\",IF(ISNUMBER(MATCH(Banco!$C7930,Analitico!$A:$A,0)),INDEX(Analitico!E:E,MATCH(Banco!$C7930,Analitico!$A:$A,0))&\"%\",\"\"),\"\")","v":"43,0158730%"},{"$f":"IF($B7930=\"SINAPI\",IF(ISNUMBER(MATCH(Banco!$C7930,Analitico!$A:$A,0)),INDEX(Analitico!F:F,MATCH(Banco!$C7930,Analitico!$A:$A,0))&\"%\",\"\"),\"\")","v":"%"}]
[{"$f":"CONCATENAR","v":"SINAPI 95818"},"SINAPI","95818","CONDULETE DE PVC, TIPO X, PARA ELETRODUTO DE PVC SOLDÁVEL DN 32 MM (1''), APARENTE - FORNECIMENTO E INSTALAÇÃO. AF_10/2022","UN","52,86",null,null,"CR",{"$f":"IF($B7939=\"SINAPI\",IF(ISNUMBER(MATCH(Banco!$C7939,Analitico!$A:$A,0)),INDEX(Analitico!E:E,MATCH(Banco!$C7939,Analitico!$A:$A,0))&\"%\",\"\"),\"\")","v":"42,7596664%"},{"$f":"IF($B7939=\"SINAPI\",IF(ISNUMBER(MATCH(Banco!$C7939,Analitico!$A:$A,0)),INDEX(Analitico!F:F,MATCH(Banco!$C7939,Analitico!$A:$A,0))&\"%\",\"\"),\"\")","v":"%"}]
[{"$f":"CONCATENAR","v":"SINAPI 97889"},"SINAPI","97889","CAIXA ENTERRADA ELÉTRICA RETANGULAR, EM ALVENARIA COM TIJOLOS CERÂMICOS MACIÇOS, FUNDO COM BRITA, DIMENSÕES INTERNAS: 0,8X0,8X0,6 M. AF_12/2020","UN","665,94",null,null,"AS",{"$f":"IF($B7948=\"SINAPI\",IF(ISNUMBER(MATCH(Banco!$C7948,Analitico!$A:$A,0)),INDEX(Analitico!E:E,MATCH(Banco!$C7948,Analitico!$A:$A,0))&\"%\",\"\"),\"\")","v":"42,4687010%"},{"$f":"IF($B7948=\"SINAPI\",IF(ISNUMBER(MATCH(Banco!$C7948,Analitico!$A:$A,0)),INDEX(Analitico!F:F,MATCH(Banco!$C7948,Analitico!$A:$A,0))&\"%\",\"\"),\"\")","v":"%"}]
[{"$f":"CONCATENAR","v":"SINAPI 97893"},"SINAPI","97893","CAIXA ENTERRADA ELÉTRICA RETANGULAR, EM ALVENARIA COM BLOCOS DE CONCRETO, FUNDO COM BRITA, DIMENSÕES INTERNAS: 0,8X0,8X0,6 M. AF_12/2020","UN","517,81",null,null,"AS",{"$f":"IF($B7952=\"SINAPI\",IF(ISNUMBER(MATCH(Banco!$C7952,Analitico!$A:$A,0)),INDEX(Analitico!E:E,MATCH(Banco!$C7952,Analitico!$A:$A,0))&\"%\",\"\"),\"\")","v":"41,7733284%"},{"$f":"IF($B7952=\"SINAPI\",IF(ISNUMBER(MATCH(Banco!$C7952,Analitico!$A:$A,0)),INDEX(Analitico!F:F,MATCH(Banco!$C7952,Analitico!$A:$A,0))&\"%\",\"\"),\"\")","v":"%"}]
[{"$f":"CONCATENAR","v":"SINAPI 104401"},"SINAPI","104401","CONDULETE DE PVC, TIPO C, PARA ELETRODUTO DE PVC SOLDÁVEL DN 20 MM (1/2''), APARENTE - FORNECIMENTO E INSTALAÇÃO. AF_10/2022","UN","25,75",null,null,"CR",{"$f":"IF($B7959=\"SINAPI\",IF(ISNUMBER(MATCH(Banco!$C7959,Analitico!$A:$A,0)),INDEX(Analitico!E:E,MATCH(Banco!$C7959,Analitico!$A:$A,0))&\"%\",\"\"),\"\")","v":"34,0864822%"},{"$f":"IF($B7959=\"SINAPI\",IF(ISNUMBER(MATCH(Banco!$C7959,Analitico!$A:$A,0)),INDEX(Analitico!F:F,MATCH(Banco!$C7959,Analitico!$A:$A,0))&\"%\",\"\"),\"\")","v":"%"}]
[{"$f":"CONCATENAR","v":"SINAPI 93657"},"SINAPI","93657","DISJUNTOR MONOPOLAR TIPO DIN, CORRENTE NOMINAL DE 32A - FORNECIMENTO E INSTALAÇÃO. AF_10/2020","UN","14,00",null,null,"CR",{"$f":"IF($B7968=\"SINAPI\",IF(ISNUMBER(MATCH(Banco!$C7968,Analitico!$A:$A,0)),INDEX(Analitico!E:E,MATCH(Banco!$C7968,Analitico!$A:$A,0))&\"%\",\"\"),\"\")","v":"23,5632183%"},{"$f":"IF($B7968=\"SINAPI\",IF(ISNUMBER(MATCH(Banco!$C7968,Analitico!$A:$A,0)),INDEX(Analitico!F:F,MATCH(Banco!$C7968,Analitico!$A:$A,0))&\"%\",\"\"),\"\")","v":"%"}]
[{"$f":"CONCATENAR","v":"SINAPI 93666"},"SINAPI","93666","DISJUNTOR BIPOLAR TIPO DIN, CORRENTE NOMINAL DE 50A - FORNECIMENTO E INSTALAÇÃO. AF_10/2020","UN","67,08",null,null,"CR",{"$f":"IF($B7977=\"SINAPI\",IF(ISNUMBER(MATCH(Banco!$C7977,Analitico!$A:$A,0)),INDEX(Analitico!E:E,MATCH(Banco!$C7977,Analitico!$A:$A,0))&\"%\",\"\"),\"\")","v":"20,4297865%"},{"$f":"IF($B7977=\"SINAPI\",IF(ISNUMBER(MATCH(Banco!$C7977,Analitico!$A:$A,0)),INDEX(Analitico!F:F,MATCH(Banco!$C7977,Analitico!$A:$A,0))&\"%\",\"\"),\"\")","v":"%"}]
[{"$f":"CONCATENAR","v":"SINAPI 97360"},"SINAPI","97360","QUADRO DE MEDIÇÃO GERAL DE ENERGIA COM 12 MEDIDORES - FORNECIMENTO E INSTALAÇÃO. AF_10/2020","UN","6.413,25",null,null,"CR",{"$f":"IF($B7986=\"SINAPI\",IF(ISNUMBER(MATCH(Banco!$C7986,Analitico!$A:$A,0)),INDEX(Analitico!E:E,MATCH(Banco!$C7986,Analitico!$A:$A,0))&\"%\",\"\"),\"\")","v":"3,1012889%"},{"$f":"IF($B7986=\"SINAPI\",IF(ISNUMBER(MATCH(Banco!$C7986,Analitico!$A:$A,0)),INDEX(Analitico!F:F,MATCH(Banco!$C7986,Analitico!$A:$A,0))&\"%\",\"\"),\"\")","v":"%"}]
[{"$f":"CONCATENAR","v":"SINAPI 101890"},"SINAPI","101890","DISJUNTOR MONOPOLAR TIPO NEMA, CORRENTE NOMINAL DE 10 ATÉ 30A - FORNECIMENTO E INSTALAÇÃO. AF_10/2020","UN","14,85",null,null,"CR",{"$f":"IF($B7998=\"SINAPI\",IF(ISNUMBER(MATCH(Banco!$C7998,Analitico!$A:$A,0)),INDEX(Analitico!E:E,MATCH(Banco!$C7998,Analitico!$A:$A,0))&\"%\",\"\"),\"\")","v":"16,1246612%"},{"$f":"IF($B7998=\"SINAPI\",IF(ISNUMBER(MATCH(Banco!$C7998,Analitico!$A:$A,0)),INDEX(Analitico!F:F,MATCH(Banco!$C7998,Analitico!$A:$A,0))&\"%\",\"\"),\"\")","v":"%"}]
[{"$f":"CONCATENAR","v":"SINAPI 101897"},"SINAPI","101897","DISJUNTOR TERMOMAGNÉTICO TRIPOLAR , CORRENTE NOMINAL DE 250A - FORNECIMENTO E INSTALAÇÃO. AF_10/2020","UN","906,96",null,null,"CR",{"$f":"IF($B8005=\"SINAPI\",IF(ISNUMBER(MATCH(Banco!$C8005,Analitico!$A:$A,0)),INDEX(Analitico!E:E,MATCH(Banco!$C8005,Analitico!$A:$A,0))&\"%\",\"\"),\"\")","v":"5,2839925%"},{"$f":"IF($B8005=\"SINAPI\",IF(ISNUMBER(MATCH(Banco!$C8005,Analitico!$A:$A,0)),INDEX(Analitico!F:F,MATCH(Banco!$C8005,Analitico!$A:$A,0))&\"%\",\"\"),\"\")","v":"%"}]
[{"$f":"CONCATENAR","v":"SINAPI 101946"},"SINAPI","101946","QUADRO DE MEDIÇÃO GERAL DE ENERGIA PARA 1 MEDIDOR DE SOBREPOR - FORNECIMENTO E INSTALAÇÃO. AF_10/2020","UN","151,56",null,null,"CR",{"$f":"IF($B8014=\"SINAPI\",IF(ISNUMBER(MATCH(Banco!$C8014,Analitico!$A:$A,0)),INDEX(Analitico!E:E,MATCH(Banco!$C8014,Analitico!$A:$A,0))&\"%\",\"\"),\"\")","v":"36,4158415%"},{"$f":"IF($B8014=\"SINAPI\",IF(ISNUMBER(MATCH(Banco!$C8014,Analitico!$A:$A,0)),INDEX(Analitico!F:F,MATCH(Banco!$C8014,Analitico!$A:$A,0))&\"%\",\"\"),\"\")","v":"%"}]
[{"$f":"CONCATENAR","v":"SINAPI 91954"},"SINAPI","91954","INTERRUPTOR PARALELO (1 MÓDULO), 10A/250V, SEM SUPORTE E SEM PLACA - FORNECIMENTO E INSTALAÇÃO. AF_03/2023","UN","25,89",null,null,"CR",{"$f":"IF($B8023=\"SINAPI\",IF(ISNUMBER(MATCH(Banco!$C8023,Analitico!$A:$A,0)),INDEX(Analitico!E:E,MATCH(Banco!$C8023,Analitico!$A:$A,0))&\"%\",\"\"),\"\")","v":"44,3885448%"},{"$f":"IF($B8023=\"SINAPI\",IF(ISNUMBER(MATCH(Banco!$C8023,Analitico!$A:$A,0)),INDEX(Analitico!F:F,MATCH(Banco!$C8023,Analitico!$A:$A,0))&\"%\",\"\"),\"\")","v":"%"}]
[{"$f":"CONCATENAR","v":"SINAPI 91955"},"SINAPI","91955","INTERRUPTOR PARALELO (1 MÓDULO), 10A/250V, INCLUINDO SUPORTE E PLACA - FORNECIMENTO E INSTALAÇÃO. AF_03/2023","UN","37,31",null,null,"CR",{"$f":"IF($B8024=\"SINAPI\",IF(ISNUMBER(MATCH(Banco!$C8024,Analitico!$A:$A,0)),INDEX(Analitico!E:E,MATCH(Banco!$C8024,Analitico!$A:$A,0))&\"%\",\"\"),\"\")","v":"43,2875975%"},{"$f":"IF($B8024=\"SINAPI\",IF(ISNUMBER(MATCH(Banco!$C8024,Analitico!$A:$A,0)),INDEX(Analitico!F:F,MATCH(Banco!$C8024,Analitico!$A:$A,0))&\"%\",\"\"),\"\")","v":"%"}]
[{"$f":"CONCATENAR","v":"SINAPI 91966"},"SINAPI","91966","INTERRUPTOR SIMPLES (3 MÓDULOS), 10A/250V, SEM SUPORTE E SEM PLACA - FORNECIMENTO E INSTALAÇÃO. AF_03/2023","UN","52,06",null,null,"CR",{"$f":"IF($B8035=\"SINAPI\",IF(ISNUMBER(MATCH(Banco!$C8035,Analitico!$A:$A,0)),INDEX(Analitico!E:E,MATCH(Banco!$C8035,Analitico!$A:$A,0))&\"%\",\"\"),\"\")","v":"39,8230088%"},{"$f":"IF($B8035=\"SINAPI\",IF(ISNUMBER(MATCH(Banco!$C8035,Analitico!$A:$A,0)),INDEX(Analitico!F:F,MATCH(Banco!$C8035,Analitico!$A:$A,0))&\"%\",\"\"),\"\")","v":"%"}]
[{"$f":"CONCATENAR","v":"SINAPI 91974"},"SINAPI","91974","INTERRUPTOR SIMPLES (4 MÓDULOS), 10A/250V, SEM SUPORTE E SEM PLACA - FORNECIMENTO E INSTALAÇÃO. AF_03/2023","UN","68,70",null,null,"CR",{"$f":"IF($B8043=\"SINAPI\",IF(ISNUMBER(MATCH(Banco!$C8043,Analitico!$A:$A,0)),INDEX(Analitico!E:E,MATCH(Banco!$C8043,Analitico!$A:$A,0))&\"%\",\"\"),\"\")","v":"39,4637132%"},{"$f":"IF($B8043=\"SINAPI\",IF(ISNUMBER(MATCH(Banco!$C8043,Analitico!$A:$A,0)),INDEX(Analitico!F:F,MATCH(Banco!$C8043,Analitico!$A:$A,0))&\"%\",\"\"),\"\")","v":"%"}]
[{"$f":"CONCATENAR","v":"SINAPI 91983"},"SINAPI","91983","DIMMER ROTATIVO (1 MÓDULO), 220V/600W, INCLUINDO SUPORTE E PLACA - FORNECIMENTO E INSTALAÇÃO. AF_03/2023","UN","114,08",null,null,"CR",{"$f":"IF($B8052=\"SINAPI\",IF(ISNUMBER(MATCH(Banco!$C8052,Analitico!$A:$A,0)),INDEX(Analitico!E:E,MATCH(Banco!$C8052,Analitico!$A:$A,0))&\"%\",\"\"),\"\")","v":"11,4125186%"},{"$f":"IF($B8052=\"SINAPI\",IF(ISNUMBER(MATCH(Banco!$C8052,Analitico!$A:$A,0)),INDEX(Analitico!F:F,MATCH(Banco!$C8052,Analitico!$A:$A,0))&\"%\",\"\"),\"\")","v":"%"}]
[{"$f":"CONCATENAR","v":"SINAPI 91992"},"SINAPI","91992","TOMADA ALTA DE EMBUTIR (1 MÓDULO), 2P+T 10 A, INCLUINDO SUPORTE E PLACA - FORNECIMENTO E INSTALAÇÃO. AF_03/2023","UN","45,25",null,null,"CR",{"$f":"IF($B8061=\"SINAPI\",IF(ISNUMBER(MATCH(Banco!$C8061,Analitico!$A:$A,0)),INDEX(Analitico!E:E,MATCH(Banco!$C8061,Analitico!$A:$A,0))&\"%\",\"\"),\"\")","v":"51,2524940%"},{"$f":"IF($B8061=\"SINAPI\",IF(ISNUMBER(MATCH(Banco!$C8061,Analitico!$A:$A,0)),INDEX(Analitico!F:F,MATCH(Banco!$C8061,Analitico!$A:$A,0))&\"%\",\"\"),\"\")","v":"%"}]
[{"$f":"CONCATENAR","v":"SINAPI 92001"},"SINAPI","92001","TOMADA BAIXA DE EMBUTIR (1 MÓDULO), 2P+T 20 A, INCLUINDO SUPORTE E PLACA - FORNECIMENTO E INSTALAÇÃO. AF_03/2023","UN","34,97",null,null,"CR",{"$f":"IF($B8070=\"SINAPI\",IF(ISNUMBER(MATCH(Banco!$C8070,Analitico!$A:$A,0)),INDEX(Analitico!E:E,MATCH(Banco!$C8070,Analitico!$A:$A,0))&\"%\",\"\"),\"\")","v":"38,4085033%"},{"$f":"IF($B8070=\"SINAPI\",IF(ISNUMBER(MATCH(Banco!$C8070,Analitico!$A:$A,0)),INDEX(Analitico!F:F,MATCH(Banco!$C8070,Analitico!$A:$A,0))&\"%\",\"\"),\"\")","v":"%"}]
[{"$f":"CONCATENAR","v":"SINAPI 92012"},"SINAPI","92012","TOMADA MÉDIA DE EMBUTIR (3 MÓDULOS), 2P+T 10 A, INCLUINDO SUPORTE E PLACA - FORNECIMENTO E INSTALAÇÃO. AF_03/2023","UN","79,06",null,null,"CR",{"$f":"IF($B8081=\"SINAPI\",IF(ISNUMBER(MATCH(Banco!$C8081,Analitico!$A:$A,0)),INDEX(Analitico!E:E,MATCH(Banco!$C8081,Analitico!$A:$A,0))&\"%\",\"\"),\"\")","v":"43,7531677%"},{"$f":"IF($B8081=\"SINAPI\",IF(ISNUMBER(MATCH(Banco!$C8081,Analitico!$A:$A,0)),INDEX(Analitico!F:F,MATCH(Banco!$C8081,Analitico!$A:$A,0))&\"%\",\"\"),\"\")","v":"%"}]
[{"$f":"CONCATENAR","v":"SINAPI 92020"},"SINAPI","92020","TOMADA BAIXA DE EMBUTIR (6 MÓDULOS), 2P+T 10 A, SEM SUPORTE E SEM PLACA - FORNECIMENTO E INSTALAÇÃO. AF_03/2023","UN","111,39",null,null,"CR",{"$f":"IF($B8089=\"SINAPI\",IF(ISNUMBER(MATCH(Banco!$C8089,Analitico!$A:$A,0)),INDEX(Analitico!E:E,MATCH(Banco!$C8089,Analitico!$A:$A,0))&\"%\",\"\"),\"\")","v":"37,5011227%"},{"$f":"IF($B8089=\"SINAPI\",IF(ISNUMBER(MATCH(Banco!$C8089,Analitico!$A:$A,0)),INDEX(Analitico!F:F,MATCH(Banco!$C8089,Analitico!$A:$A,0))&\"%\",\"\"),\"\")","v":"%"}]
[{"$f":"CONCATENAR","v":"SINAPI 92021"},"SINAPI","92021","TOMADA BAIXA DE EMBUTIR (6 MÓDULOS), 2P+T 10 A, INCLUINDO SUPORTE E PLACA - FORNECIMENTO E INSTALAÇÃO. AF_03/2023","UN","128,60",null,null,"CR",{"$f":"IF($B8090=\"SINAPI\",IF(ISNUMBER(MATCH(Banco!$C8090,Analitico!$A:$A,0)),INDEX(Analitico!E:E,MATCH(Banco!$C8090,Analitico!$A:$A,0))&\"%\",\"\"),\"\")","v":"36,7102396%"},{"$f":"IF($B8090=\"SINAPI\",IF(ISNUMBER(MATCH(Banco!$C8090,Analitico!$A:$A,0)),INDEX(Analitico!F:F,MATCH(Banco!$C8090,Analitico!$A:$A,0))&\"%\",\"\"),\"\")","v":"%"}]
[{"$f":"CONCATENAR","v":"SINAPI 92030"},"SINAPI","92030","INTERRUPTOR PARALELO (1 MÓDULO) COM 2 TOMADAS DE EMBUTIR 2P+T 10 A, SEM SUPORTE E SEM PLACA - FORNECIMENTO E INSTALAÇÃO. AF_03/2023","UN","68,99",null,null,"CR",{"$f":"IF($B8099=\"SINAPI\",IF(ISNUMBER(MATCH(Banco!$C8099,Analitico!$A:$A,0)),INDEX(Analitico!E:E,MATCH(Banco!$C8099,Analitico!$A:$A,0))&\"%\",\"\"),\"\")","v":"43,3855526%"},{"$f":"IF($B8099=\"SINAPI\",IF(ISNUMBER(MATCH(Banco!$C8099,Analitico!$A:$A,0)),INDEX(Analitico!F:F,MATCH(Banco!$C8099,Analitico!$A:$A,0))&\"%\",\"\"),\"\")","v":"%"}]
[{"$f":"CONCATENAR","v":"SINAPI 97597"},"SINAPI","97597","SENSOR DE PRESENÇA COM FOTOCÉLULA, FIXAÇÃO EM TETO - FORNECIMENTO E INSTALAÇÃO. AF_02/2020","UN","70,00",null,null,"AS",{"$f":"IF($B8108=\"SINAPI\",IF(ISNUMBER(MATCH(Banco!$C8108,Analitico!$A:$A,0)),INDEX(Analitico!E:E,MATCH(Banco!$C8108,Analitico!$A:$A,0))&\"%\",\"\"),\"\")","v":"14,3184093%"},{"$f":"IF($B8108=\"SINAPI\",IF(ISNUMBER(MATCH(Banco!$C8108,Analitico!$A:$A,0)),INDEX(Analitico!F:F,MATCH(Banco!$C8108,Analitico!$A:$A,0))&\"%\",\"\"),\"\")","v":"%"}]
[{"$f":"CONCATENAR","v":"SINAPI 100903"},"SINAPI","100903","LÂMPADA TUBULAR LED DE 18/20 W, BASE G13 - FORNECIMENTO E INSTALAÇÃO. AF_02/2020_PS","UN","26,67",null,null,"CR",{"$f":"IF($B8114=\"SINAPI\",IF(ISNUMBER(MATCH(Banco!$C8114,Analitico!$A:$A,0)),INDEX(Analitico!E:E,MATCH(Banco!$C8114,Analitico!$A:$A,0))&\"%\",\"\"),\"\")","v":"24,7837532%"},{"$f":"IF($B8114=\"SINAPI\",IF(ISNUMBER(MATCH(Banco!$C8114,Analitico!$A:$A,0)),INDEX(Analitico!F:F,MATCH(Banco!$C8114,Analitico!$A:$A,0))&\"%\",\"\"),\"\")","v":"%"}]
[{"$f":"CONCATENAR","v":"SINAPI 101500"},"SINAPI","101500","ENTRADA DE ENERGIA ELÉTRICA, AÉREA, BIFÁSICA, COM CAIXA DE SOBREPOR, CABO DE 35 MM2 E DISJUNTOR DIN 50A (NÃO INCLUSO O POSTE DE CONCRETO). AF_07/2020_PS","UN","2.041,53",null,null,"AS",{"$f":"IF($B8127=\"SINAPI\",IF(ISNUMBER(MATCH(Banco!$C8127,Analitico!$A:$A,0)),INDEX(Analitico!E:E,MATCH(Banco!$C8127,Analitico!$A:$A,0))&\"%\",\"\"),\"\")","v":"16,6343781%"},{"$f":"IF($B8127=\"SINAPI\",IF(ISNUMBER(MATCH(Banco!$C8127,Analitico!$A:$A,0)),INDEX(Analitico!F:F,MATCH(Banco!$C8127,Analitico!$A:$A,0))&\"%\",\"\"),\"\")","v":"%"}]
[{"$f":"CONCATENAR","v":"SINAPI 101509"},"SINAPI","101509","ENTRADA DE ENERGIA ELÉTRICA, AÉREA, TRIFÁSICA, COM CAIXA DE EMBUTIR, CABO DE 10 MM2 E DISJUNTOR DIN 50A (NÃO INCLUSO O POSTE DE CONCRETO). AF_07/2020","UN","1.854,88",null,null,"AS",{"$f":"IF($B8136=\"SINAPI\",IF(ISNUMBER(MATCH(Banco!$C8136,Analitico!$A:$A,0)),INDEX(Analitico!E:E,MATCH(Banco!$C8136,Analitico!$A:$A,0))&\"%\",\"\"),\"\")","v":"18,7376150%"},{"$f":"IF($B8136=\"SINAPI\",IF(ISNUMBER(MATCH(Banco!$C8136,Analitico!$A:$A,0)),INDEX(Analitico!F:F,MATCH(Banco!$C8136,Analitico!$A:$A,0))&\"%\",\"\"),\"\")","v":"%"}]
[{"$f":"CONCATENAR","v":"SINAPI 101518"},"SINAPI","101518","ENTRADA DE ENERGIA ELÉTRICA, SUBTERRÂNEA, MONOFÁSICA, COM CAIXA DE EMBUTIR, CABO DE 16 MM2 E DISJUNTOR DIN 50A (NÃO INCLUSA MURETA DE ALVENARIA). AF_07/2020_PS","UN","916,37",null,null,"CR",{"$f":"IF($B8145=\"SINAPI\",IF(ISNUMBER(MATCH(Banco!$C8145,Analitico!$A:$A,0)),INDEX(Analitico!E:E,MATCH(Banco!$C8145,Analitico!$A:$A,0))&\"%\",\"\"),\"\")","v":"15,7274606%"},{"$f":"IF($B8145=\"SINAPI\",IF(ISNUMBER(MATCH(Banco!$C8145,Analitico!$A:$A,0)),INDEX(Analitico!F:F,MATCH(Banco!$C8145,Analitico!$A:$A,0))&\"%\",\"\"),\"\")","v":"%"}]
[{"$f":"CONCATENAR","v":"SINAPI 101527"},"SINAPI","101527","ENTRADA DE ENERGIA ELÉTRICA, SUBTERRÂNEA, BIFÁSICA, COM CAIXA DE EMBUTIR, CABO DE 25 MM2 E DISJUNTOR DIN 50A (NÃO INCLUSA MURETA DE ALVENARIA). AF_07/2020_PS","UN","1.278,28",null,null,"CR",{"$f":"IF($B8154=\"SINAPI\",IF(ISNUMBER(MATCH(Banco!$C8154,Analitico!$A:$A,0)),INDEX(Analitico!E:E,MATCH(Banco!$C8154,Analitico!$A:$A,0))&\"%\",\"\"),\"\")","v":"11,1564711%"},{"$f":"IF($B8154=\"SINAPI\",IF(ISNUMBER(MATCH(Banco!$C8154,Analitico!$A:$A,0)),INDEX(Analitico!F:F,MATCH(Banco!$C8154,Analitico!$A:$A,0))&\"%\",\"\"),\"\")","v":"%"}]
[{"$f":"CONCATENAR","v":"SINAPI 101533"},"SINAPI","101533","ENTRADA DE ENERGIA ELÉTRICA, SUBTERRÂNEA, TRIFÁSICA, COM CAIXA DE EMBUTIR, CABO DE 10 MM2 E DISJUNTOR DIN 50A (NÃO INCLUSA MURETA DE ALVENARIA). AF_07/2020","UN","1.282,69",null,null,"CR",{"$f":"IF($B8160=\"SINAPI\",IF(ISNUMBER(MATCH(Banco!$C8160,Analitico!$A:$A,0)),INDEX(Analitico!E:E,MATCH(Banco!$C8160,Analitico!$A:$A,0))&\"%\",\"\"),\"\")","v":"13,9729087%"},{"$f":"IF($B8160=\"SINAPI\",IF(ISNUMBER(MATCH(Banco!$C8160,Analitico!$A:$A,0)),INDEX(Analitico!F:F,MATCH(Banco!$C8160,Analitico!$A:$A,0))&\"%\",\"\"),\"\")","v":"%"}]
[{"$f":"CONCATENAR","v":"SINAPI 101538"},"SINAPI","101538","ARMAÇÃO SECUNDÁRIA, COM 1 ESTRIBO E 1 ISOLADOR - FORNECIMENTO E INSTALAÇÃO. AF_07/2020","UN","40,75",null,null,"AS",{"$f":"IF($B8165=\"SINAPI\",IF(ISNUMBER(MATCH(Banco!$C8165,Analitico!$A:$A,0)),INDEX(Analitico!E:E,MATCH(Banco!$C8165,Analitico!$A:$A,0))&\"%\",\"\"),\"\")","v":"19,8869223%"},{"$f":"IF($B8165=\"SINAPI\",IF(ISNUMBER(MATCH(Banco!$C8165,Analitico!$A:$A,0)),INDEX(Analitico!F:F,MATCH(Banco!$C8165,Analitico!$A:$A,0))&\"%\",\"\"),\"\")","v":"%"}]
[{"$f":"CONCATENAR","v":"SINAPI 101547"},"SINAPI","101547","ISOLADOR, TIPO DISCO, PARA TENSÃO 15 KV - FORNECIMENTO E INSTALAÇÃO. AF_07/2020","UN","98,28",null,null,"AS",{"$f":"IF($B8174=\"SINAPI\",IF(ISNUMBER(MATCH(Banco!$C8174,Analitico!$A:$A,0)),INDEX(Analitico!E:E,MATCH(Banco!$C8174,Analitico!$A:$A,0))&\"%\",\"\"),\"\")","v":"1,3542409%"},{"$f":"IF($B8174=\"SINAPI\",IF(ISNUMBER(MATCH(Banco!$C8174,Analitico!$A:$A,0)),INDEX(Analitico!F:F,MATCH(Banco!$C8174,Analitico!$A:$A,0))&\"%\",\"\"),\"\")","v":"%"}]
[{"$f":"CONCATENAR","v":"SINAPI 101562"},"SINAPI","101562","CABO DE COBRE FLEXÍVEL ISOLADO, 25 MM², 0,6/1,0 KV, PARA REDE AÉREA DE DISTRIBUIÇÃO DE ENERGIA ELÉTRICA DE BAIXA TENSÃO - FORNECIMENTO E INSTALAÇÃO. AF_07/2020","M","24,02",null,null,"CR",{"$f":"IF($B8183=\"SINAPI\",IF(ISNUMBER(MATCH(Banco!$C8183,Analitico!$A:$A,0)),INDEX(Analitico!E:E,MATCH(Banco!$C8183,Analitico!$A:$A,0))&\"%\",\"\"),\"\")","v":"0,2083333%"},{"$f":"IF($B8183=\"SINAPI\",IF(ISNUMBER(MATCH(Banco!$C8183,Analitico!$A:$A,0)),INDEX(Analitico!F:F,MATCH(Banco!$C8183,Analitico!$A:$A,0))&\"%\",\"\"),\"\")","v":"%"}]
[{"$f":"CONCATENAR","v":"SINAPI 101636"},"SINAPI","101636","BRAÇO PARA ILUMINAÇÃO PÚBLICA, EM TUBO DE AÇO GALVANIZADO, COMPRIMENTO DE 1,50 M, PARA FIXAÇÃO EM POSTE DE CONCRETO - FORNECIMENTO E INSTALAÇÃO. AF_08/2020","UN","152,13",null,null,"AS",{"$f":"IF($B8192=\"SINAPI\",IF(ISNUMBER(MATCH(Banco!$C8192,Analitico!$A:$A,0)),INDEX(Analitico!E:E,MATCH(Banco!$C8192,Analitico!$A:$A,0))&\"%\",\"\"),\"\")","v":"19,7631578%"},{"$f":"IF($B8192=\"SINAPI\",IF(ISNUMBER(MATCH(Banco!$C8192,Analitico!$A:$A,0)),INDEX(Analitico!F:F,MATCH(Banco!$C8192,Analitico!$A:$A,0))&\"%\",\"\"),\"\")","v":"%"}]
[{"$f":"CONCATENAR","v":"SINAPI 101659"},"SINAPI","101659","LUMINÁRIA DE LED PARA ILUMINAÇÃO PÚBLICA, DE 181 W ATÉ 239 W - FORNECIMENTO E INSTALAÇÃO. AF_08/2020","UN","570,95",null,null,"CR",{"$f":"IF($B8201=\"SINAPI\",IF(ISNUMBER(MATCH(Banco!$C8201,Analitico!$A:$A,0)),INDEX(Analitico!E:E,MATCH(Banco!$C8201,Analitico!$A:$A,0))&\"%\",\"\"),\"\")","v":"2,5017080%"},{"$f":"IF($B8201=\"SINAPI\",IF(ISNUMBER(MATCH(Banco!$C8201,Analitico!$A:$A,0)),INDEX(Analitico!F:F,MATCH(Banco!$C8201,Analitico!$A:$A,0))&\"%\",\"\"),\"\")","v":"%"}]
[{"$f":"CONCATENAR","v":"SINAPI 100583"},"SINAPI","100583","ASSENTAMENTO DE POSTE DE CONCRETO COM COMPRIMENTO NOMINAL DE 11 M, CARGA NOMINAL MENOR OU IGUAL A 1000 DAN, ENGASTAMENTO SIMPLES COM 1,7 M DE SOLO (NÃO INCLUI FORNECIMENTO). AF_11/2019","UN","563,94",null,null,"CR",{"$f":"IF($B8212=\"SINAPI\",IF(ISNUMBER(MATCH(Banco!$C8212,Analitico!$A:$A,0)),INDEX(Analitico!E:E,MATCH(Banco!$C8212,Analitico!$A:$A,0))&\"%\",\"\"),\"\")","v":"20,8726498%"},{"$f":"IF($B8212=\"SINAPI\",IF(ISNUMBER(MATCH(Banco!$C8212,Analitico!$A:$A,0)),INDEX(Analitico!F:F,MATCH(Banco!$C8212,Analitico!$A:$A,0))&\"%\",\"\"),\"\")","v":"%"}]
[{"$f":"CONCATENAR","v":"SINAPI 100591"},"SINAPI","100591","ASSENTAMENTO DE POSTE DE CONCRETO COM COMPRIMENTO NOMINAL DE 14 M, CARGA NOMINAL MENOR OU IGUAL A 1000 DAN, ENGASTAMENTO SIMPLES COM 2 M DE SOLO (NÃO INCLUI FORNECIMENTO). AF_11/2019","UN","724,28",null,null,"CR",{"$f":"IF($B8220=\"SINAPI\",IF(ISNUMBER(MATCH(Banco!$C8220,Analitico!$A:$A,0)),INDEX(Analitico!E:E,MATCH(Banco!$C8220,Analitico!$A:$A,0))&\"%\",\"\"),\"\")","v":"21,7032853%"},{"$f":"IF($B8220=\"SINAPI\",IF(ISNUMBER(MATCH(Banco!$C8220,Analitico!$A:$A,0)),INDEX(Analitico!F:F,MATCH(Banco!$C8220,Analitico!$A:$A,0))&\"%\",\"\"),\"\")","v":"%"}]
[{"$f":"CONCATENAR","v":"SINAPI 100592"},"SINAPI","100592","ASSENTAMENTO DE POSTE DE CONCRETO COM COMPRIMENTO NOMINAL DE 14 M, CARGA NOMINAL MAIOR QUE 1000 DAN, ENGASTAMENTO SIMPLES COM 2 M DE SOLO (NÃO INCLUI FORNECIMENTO). AF_11/2019","UN","774,50",null,null,"CR",{"$f":"IF($B8221=\"SINAPI\",IF(ISNUMBER(MATCH(Banco!$C8221,Analitico!$A:$A,0)),INDEX(Analitico!E:E,MATCH(Banco!$C8221,Analitico!$A:$A,0))&\"%\",\"\"),\"\")","v":"25,0164658%"},{"$f":"IF($B8221=\"SINAPI\",IF(ISNUMBER(MATCH(Banco!$C8221,Analitico!$A:$A,0)),INDEX(Analitico!F:F,MATCH(Banco!$C8221,Analitico!$A:$A,0))&\"%\",\"\"),\"\")","v":"%"}]
[{"$f":"CONCATENAR","v":"SINAPI 100601"},"SINAPI","100601","ASSENTAMENTO DE POSTE DE CONCRETO COM COMPRIMENTO NOMINAL DE 9 M, CARGA NOMINAL DE 400 DAN, ENGASTAMENTO BASE CONCRETADA COM 1 M DE CONCRETO E 0,5 M DE SOLO (NÃO INCLUI FORNECIMENTO). AF_11/2019","UN","751,17",null,null,"CR",{"$f":"IF($B8230=\"SINAPI\",IF(ISNUMBER(MATCH(Banco!$C8230,Analitico!$A:$A,0)),INDEX(Analitico!E:E,MATCH(Banco!$C8230,Analitico!$A:$A,0))&\"%\",\"\"),\"\")","v":"25,3679065%"},{"$f":"IF($B8230=\"SINAPI\",IF(ISNUMBER(MATCH(Banco!$C8230,Analitico!$A:$A,0)),INDEX(Analitico!F:F,MATCH(Banco!$C8230,Analitico!$A:$A,0))&\"%\",\"\"),\"\")","v":"%"}]
[{"$f":"CONCATENAR","v":"SINAPI 100610"},"SINAPI","100610","ASSENTAMENTO DE POSTE DE CONCRETO COM COMPRIMENTO NOMINAL DE 11 M, CARGA NOMINAL DE 300 DAN, ENGASTAMENTO BASE CONCRETADA COM 1 M DE CONCRETO E 0,7 M DE SOLO (NÃO INCLUI FORNECIMENTO). AF_11/2019","UN","660,85",null,null,"CR",{"$f":"IF($B8239=\"SINAPI\",IF(ISNUMBER(MATCH(Banco!$C8239,Analitico!$A:$A,0)),INDEX(Analitico!E:E,MATCH(Banco!$C8239,Analitico!$A:$A,0))&\"%\",\"\"),\"\")","v":"20,4220661%"},{"$f":"IF($B8239=\"SINAPI\",IF(ISNUMBER(MATCH(Banco!$C8239,Analitico!$A:$A,0)),INDEX(Analitico!F:F,MATCH(Banco!$C8239,Analitico!$A:$A,0))&\"%\",\"\"),\"\")","v":"%"}]
[{"$f":"CONCATENAR","v":"SINAPI 100620"},"SINAPI","100620","POSTE DE AÇO CONICO CONTÍNUO CURVO SIMPLES, FLANGEADO, H=9M, INCLUSIVE LUMINÁRIA, SEM LÂMPADA - FORNECIMENTO E INSTALACAO. AF_11/2019","UN","3.182,58",null,null,"AS",{"$f":"IF($B8249=\"SINAPI\",IF(ISNUMBER(MATCH(Banco!$C8249,Analitico!$A:$A,0)),INDEX(Analitico!E:E,MATCH(Banco!$C8249,Analitico!$A:$A,0))&\"%\",\"\"),\"\")","v":"1,7646837%"},{"$f":"IF($B8249=\"SINAPI\",IF(ISNUMBER(MATCH(Banco!$C8249,Analitico!$A:$A,0)),INDEX(Analitico!F:F,MATCH(Banco!$C8249,Analitico!$A:$A,0))&\"%\",\"\"),\"\")","v":"%"}]
[{"$f":"CONCATENAR","v":"SINAPI 102105"},"SINAPI","102105","TRANSFORMADOR DE DISTRIBUIÇÃO, 112,5 KVA, TRIFÁSICO, 60 HZ, CLASSE 15 KV, IMERSO EM ÓLEO MINERAL, INSTALAÇÃO EM POSTE (NÃO INCLUSO SUPORTE) - FORNECIMENTO E INSTALAÇÃO. AF_12/2020","UN","19.251,03",null,null,"AS",{"$f":"IF($B8258=\"SINAPI\",IF(ISNUMBER(MATCH(Banco!$C8258,Analitico!$A:$A,0)),INDEX(Analitico!E:E,MATCH(Banco!$C8258,Analitico!$A:$A,0))&\"%\",\"\"),\"\")","v":"1,7876585%"},{"$f":"IF($B8258=\"SINAPI\",IF(ISNUMBER(MATCH(Banco!$C8258,Analitico!$A:$A,0)),INDEX(Analitico!F:F,MATCH(Banco!$C8258,Analitico!$A:$A,0))&\"%\",\"\"),\"\")","v":"%"}]
[{"$f":"CONCATENAR","v":"SINAPI 96973"},"SINAPI","96973","CORDOALHA DE COBRE NU 35 MM², NÃO ENTERRADA, COM ISOLADOR - FORNECIMENTO E INSTALAÇÃO. AF_08/2023","M","66,21",null,null,"AS",{"$f":"IF($B8267=\"SINAPI\",IF(ISNUMBER(MATCH(Banco!$C8267,Analitico!$A:$A,0)),INDEX(Analitico!E:E,MATCH(Banco!$C8267,Analitico!$A:$A,0))&\"%\",\"\"),\"\")","v":"24,9166919%"},{"$f":"IF($B8267=\"SINAPI\",IF(ISNUMBER(MATCH(Banco!$C8267,Analitico!$A:$A,0)),INDEX(Analitico!F:F,MATCH(Banco!$C8267,Analitico!$A:$A,0))&\"%\",\"\"),\"\")","v":"%"}]
[{"$f":"CONCATENAR","v":"SINAPI 96986"},"SINAPI","96986","HASTE DE ATERRAMENTO, DIÂMETRO 3/4\", COM 3 METROS - FORNECIMENTO E INSTALAÇÃO. AF_08/2023","UN","167,73",null,null,"CR",{"$f":"IF($B8276=\"SINAPI\",IF(ISNUMBER(MATCH(Banco!$C8276,Analitico!$A:$A,0)),INDEX(Analitico!E:E,MATCH(Banco!$C8276,Analitico!$A:$A,0))&\"%\",\"\"),\"\")","v":"8,3795550%"},{"$f":"IF($B8276=\"SINAPI\",IF(ISNUMBER(MATCH(Banco!$C8276,Analitico!$A:$A,0)),INDEX(Analitico!F:F,MATCH(Banco!$C8276,Analitico!$A:$A,0))&\"%\",\"\"),\"\")","v":"%"}]
[{"$f":"CONCATENAR","v":"SINAPI 104752"},"SINAPI","104752","CONECTOR SPLIT-BOLT, PARA SPDA, PARA CABOS ATÉ 35 MM2 - FORNECIMENTO E INSTALAÇÃO. AF_08/2023","UN","20,58",null,null,"CR",{"$f":"IF($B8285=\"SINAPI\",IF(ISNUMBER(MATCH(Banco!$C8285,Analitico!$A:$A,0)),INDEX(Analitico!E:E,MATCH(Banco!$C8285,Analitico!$A:$A,0))&\"%\",\"\"),\"\")","v":"32,8780487%"},{"$f":"IF($B8285=\"SINAPI\",IF(ISNUMBER(MATCH(Banco!$C8285,Analitico!$A:$A,0)),INDEX(Analitico!F:F,MATCH(Banco!$C8285,Analitico!$A:$A,0))&\"%\",\"\"),\"\")","v":"%"}]
[{"$f":"CONCATENAR","v":"SINAPI 104758"},"SINAPI","104758","FURO MANUAL EM ALVENARIA, PARA INSTALAÇÕES ELÉTRICAS, DIÂMETROS MENORES OU IGUAIS A 40 MM. AF_09/2023","UN","13,95",null,null,"CR",{"$f":"IF($B8291=\"SINAPI\",IF(ISNUMBER(MATCH(Banco!$C8291,Analitico!$A:$A,0)),INDEX(Analitico!E:E,MATCH(Banco!$C8291,Analitico!$A:$A,0))&\"%\",\"\"),\"\")","v":"76,8345324%"},{"$f":"IF($B8291=\"SINAPI\",IF(ISNUMBER(MATCH(Banco!$C8291,Analitico!$A:$A,0)),INDEX(Analitico!F:F,MATCH(Banco!$C8291,Analitico!$A:$A,0))&\"%\",\"\"),\"\")","v":"%"}]
[{"$f":"CONCATENAR","v":"SINAPI 104763"},"SINAPI","104763","FURO MECANIZADO EM CONCRETO, COM MARTELO DEMOLIDOR, PARA INSTALAÇÕES ELÉTRICAS, DIÂMETROS MAIORES QUE 75 MM E MENORES OU IGUAIS A 150 MM. AF_09/2023","UN","42,72",null,null,"CR",{"$f":"IF($B8296=\"SINAPI\",IF(ISNUMBER(MATCH(Banco!$C8296,Analitico!$A:$A,0)),INDEX(Analitico!E:E,MATCH(Banco!$C8296,Analitico!$A:$A,0))&\"%\",\"\"),\"\")","v":"78,8063911%"},{"$f":"IF($B8296=\"SINAPI\",IF(ISNUMBER(MATCH(Banco!$C8296,Analitico!$A:$A,0)),INDEX(Analitico!F:F,MATCH(Banco!$C8296,Analitico!$A:$A,0))&\"%\",\"\"),\"\")","v":"%"}]
[{"$f":"CONCATENAR","v":"SINAPI 104778"},"SINAPI","104778","FURO MECANIZADO EM CONCRETO, COM PERFURATRIZ, PARA INSTALAÇÕES ELÉTRICAS, DIÂMETROS MAIORES QUE 75 MM E MENORES OU IGUAIS A 150 MM. AF_09/2023","UN","8,18",null,null,"CR",{"$f":"IF($B8305=\"SINAPI\",IF(ISNUMBER(MATCH(Banco!$C8305,Analitico!$A:$A,0)),INDEX(Analitico!E:E,MATCH(Banco!$C8305,Analitico!$A:$A,0))&\"%\",\"\"),\"\")","v":"67,5742576%"},{"$f":"IF($B8305=\"SINAPI\",IF(ISNUMBER(MATCH(Banco!$C8305,Analitico!$A:$A,0)),INDEX(Analitico!F:F,MATCH(Banco!$C8305,Analitico!$A:$A,0))&\"%\",\"\"),\"\")","v":"%"}]
[{"$f":"CONCATENAR","v":"SINAPI 101910"},"SINAPI","101910","EXTINTOR DE INCÊNDIO PORTÁTIL COM CARGA DE PQS DE 8 KG, CLASSE BC - FORNECIMENTO E INSTALAÇÃO. AF_10/2020_PE","UN","304,98",null,null,"AS",{"$f":"IF($B8314=\"SINAPI\",IF(ISNUMBER(MATCH(Banco!$C8314,Analitico!$A:$A,0)),INDEX(Analitico!E:E,MATCH(Banco!$C8314,Analitico!$A:$A,0))&\"%\",\"\"),\"\")","v":"5,4897845%"},{"$f":"IF($B8314=\"SINAPI\",IF(ISNUMBER(MATCH(Banco!$C8314,Analitico!$A:$A,0)),INDEX(Analitico!F:F,MATCH(Banco!$C8314,Analitico!$A:$A,0))&\"%\",\"\"),\"\")","v":"%"}]
[{"$f":"CONCATENAR","v":"SINAPI 98262"},"SINAPI","98262","CABO TELEFÔNICO CCI-50 2 PARES, SEM BLINDAGEM, INSTALADO EM ENTRADA DE EDIFICAÇÃO - FORNECIMENTO E INSTALAÇÃO. AF_11/2019","M","4,65",null,null,"CR",{"$f":"IF($B8323=\"SINAPI\",IF(ISNUMBER(MATCH(Banco!$C8323,Analitico!$A:$A,0)),INDEX(Analitico!E:E,MATCH(Banco!$C8323,Analitico!$A:$A,0))&\"%\",\"\"),\"\")","v":"50,4366813%"},{"$f":"IF($B8323=\"SINAPI\",IF(ISNUMBER(MATCH(Banco!$C8323,Analitico!$A:$A,0)),INDEX(Analitico!F:F,MATCH(Banco!$C8323,Analitico!$A:$A,0))&\"%\",\"\"),\"\")","v":"%"}]
[{"$f":"CONCATENAR","v":"SINAPI 98267"},"SINAPI","98267","CABO TELEFÔNICO CI-50 10 PARES INSTALADO EM ENTRADA DE EDIFICAÇÃO - FORNECIMENTO E INSTALAÇÃO. AF_11/2019","M","11,65",null,null,"CR",{"$f":"IF($B8328=\"SINAPI\",IF(ISNUMBER(MATCH(Banco!$C8328,Analitico!$A:$A,0)),INDEX(Analitico!E:E,MATCH(Banco!$C8328,Analitico!$A:$A,0))&\"%\",\"\"),\"\")","v":"28,6206896%"},{"$f":"IF($B8328=\"SINAPI\",IF(ISNUMBER(MATCH(Banco!$C8328,Analitico!$A:$A,0)),INDEX(Analitico!F:F,MATCH(Banco!$C8328,Analitico!$A:$A,0))&\"%\",\"\"),\"\")","v":"%"}]
[{"$f":"CONCATENAR","v":"SINAPI 98281"},"SINAPI","98281","CABO TELEFÔNICO CCI-50 2 PARES, SEM BLINDAGEM, INSTALADO EM DISTRIBUIÇÃO DE EDIFICAÇÃO RESIDENCIAL - FORNECIMENTO E INSTALAÇÃO. AF_11/2019","M","8,37",null,null,"CR",{"$f":"IF($B8342=\"SINAPI\",IF(ISNUMBER(MATCH(Banco!$C8342,Analitico!$A:$A,0)),INDEX(Analitico!E:E,MATCH(Banco!$C8342,Analitico!$A:$A,0))&\"%\",\"\"),\"\")","v":"61,7611581%"},{"$f":"IF($B8342=\"SINAPI\",IF(ISNUMBER(MATCH(Banco!$C8342,Analitico!$A:$A,0)),INDEX(Analitico!F:F,MATCH(Banco!$C8342,Analitico!$A:$A,0))&\"%\",\"\"),\"\")","v":"%"}]
[{"$f":"CONCATENAR","v":"SINAPI 98290"},"SINAPI","98290","CABO TELEFÔNICO CCI-50 4 PARES, SEM BLINDAGEM, INSTALADO EM DISTRIBUIÇÃO DE EDIFICAÇÃO INSTITUCIONAL - FORNECIMENTO E INSTALAÇÃO. AF_11/2019","M","3,60",null,null,"CR",{"$f":"IF($B8351=\"SINAPI\",IF(ISNUMBER(MATCH(Banco!$C8351,Analitico!$A:$A,0)),INDEX(Analitico!E:E,MATCH(Banco!$C8351,Analitico!$A:$A,0))&\"%\",\"\"),\"\")","v":"22,0963172%"},{"$f":"IF($B8351=\"SINAPI\",IF(ISNUMBER(MATCH(Banco!$C8351,Analitico!$A:$A,0)),INDEX(Analitico!F:F,MATCH(Banco!$C8351,Analitico!$A:$A,0))&\"%\",\"\"),\"\")","v":"%"}]
[{"$f":"CONCATENAR","v":"SINAPI 98291"},"SINAPI","98291","CABO TELEFÔNICO CCI-50 5 PARES, SEM BLINDAGEM, INSTALADO EM DISTRIBUIÇÃO DE EDIFICAÇÃO INSTITUCIONAL - FORNECIMENTO E INSTALAÇÃO. AF_11/2019","M","4,24",null,null,"CR",{"$f":"IF($B8352=\"SINAPI\",IF(ISNUMBER(MATCH(Banco!$C8352,Analitico!$A:$A,0)),INDEX(Analitico!E:E,MATCH(Banco!$C8352,Analitico!$A:$A,0))&\"%\",\"\"),\"\")","v":"20,0477326%"},{"$f":"IF($B8352=\"SINAPI\",IF(ISNUMBER(MATCH(Banco!$C8352,Analitico!$A:$A,0)),INDEX(Analitico!F:F,MATCH(Banco!$C8352,Analitico!$A:$A,0))&\"%\",\"\"),\"\")","v":"%"}]
[{"$f":"CONCATENAR","v":"SINAPI 100561"},"SINAPI","100561","QUADRO DE DISTRIBUICAO PARA TELEFONE N.3, 40X40X12CM EM CHAPA METALICA, DE EMBUTIR, SEM ACESSORIOS, PADRAO TELEBRAS, FORNECIMENTO E INSTALAÇÃO. AF_11/2019","UN","198,01",null,null,"CR",{"$f":"IF($B8361=\"SINAPI\",IF(ISNUMBER(MATCH(Banco!$C8361,Analitico!$A:$A,0)),INDEX(Analitico!E:E,MATCH(Banco!$C8361,Analitico!$A:$A,0))&\"%\",\"\"),\"\")","v":"18,8418978%"},{"$f":"IF($B8361=\"SINAPI\",IF(ISNUMBER(MATCH(Banco!$C8361,Analitico!$A:$A,0)),INDEX(Analitico!F:F,MATCH(Banco!$C8361,Analitico!$A:$A,0))&\"%\",\"\"),\"\")","v":"%"}]
[{"$f":"CONCATENAR","v":"SINAPI 103250"},"SINAPI","103250","AR CONDICIONADO SPLIT INVERTER, HI-WALL (PAREDE), 18000 BTU/H, CICLO FRIO - FORNECIMENTO E INSTALAÇÃO. AF_11/2021_PE","UN","4.038,49",null,null,"AS",{"$f":"IF($B8374=\"SINAPI\",IF(ISNUMBER(MATCH(Banco!$C8374,Analitico!$A:$A,0)),INDEX(Analitico!E:E,MATCH(Banco!$C8374,Analitico!$A:$A,0))&\"%\",\"\"),\"\")","v":"2,2766273%"},{"$f":"IF($B8374=\"SINAPI\",IF(ISNUMBER(MATCH(Banco!$C8374,Analitico!$A:$A,0)),INDEX(Analitico!F:F,MATCH(Banco!$C8374,Analitico!$A:$A,0))&\"%\",\"\"),\"\")","v":"%"}]
[{"$f":"CONCATENAR","v":"SINAPI 103256"},"SINAPI","103256","AR CONDICIONADO SPLIT INVERTER, PISO TETO, 18000 BTU/H, CICLO FRIO - FORNECIMENTO E INSTALAÇÃO. AF_11/2021_PSE","UN","10.214,89",null,null,"AS",{"$f":"IF($B8380=\"SINAPI\",IF(ISNUMBER(MATCH(Banco!$C8380,Analitico!$A:$A,0)),INDEX(Analitico!E:E,MATCH(Banco!$C8380,Analitico!$A:$A,0))&\"%\",\"\"),\"\")","v":"1,3807403%"},{"$f":"IF($B8380=\"SINAPI\",IF(ISNUMBER(MATCH(Banco!$C8380,Analitico!$A:$A,0)),INDEX(Analitico!F:F,MATCH(Banco!$C8380,Analitico!$A:$A,0))&\"%\",\"\"),\"\")","v":"%"}]
[{"$f":"CONCATENAR","v":"SINAPI 103265"},"SINAPI","103265","AR CONDICIONADO SPLIT INVERTER, PISO TETO, APRESENTANDO ENTRE 54000 E 58000 BTU/H, CICLO FRIO - FORNECIMENTO E INSTALAÇÃO. AF_11/2021_PE","UN","21.582,53",null,null,"AS",{"$f":"IF($B8389=\"SINAPI\",IF(ISNUMBER(MATCH(Banco!$C8389,Analitico!$A:$A,0)),INDEX(Analitico!E:E,MATCH(Banco!$C8389,Analitico!$A:$A,0))&\"%\",\"\"),\"\")","v":"1,1028909%"},{"$f":"IF($B8389=\"SINAPI\",IF(ISNUMBER(MATCH(Banco!$C8389,Analitico!$A:$A,0)),INDEX(Analitico!F:F,MATCH(Banco!$C8389,Analitico!$A:$A,0))&\"%\",\"\"),\"\")","v":"%"}]
[{"$f":"CONCATENAR","v":"SINAPI 103274"},"SINAPI","103274","AR CONDICIONADO SPLIT ON/OFF, CASSETE (TETO), 48000 BTU/H, CICLO QUENTE/FRIO - FORNECIMENTO E INSTALAÇÃO. AF_11/2021_PE","UN","14.036,66",null,null,"AS",{"$f":"IF($B8398=\"SINAPI\",IF(ISNUMBER(MATCH(Banco!$C8398,Analitico!$A:$A,0)),INDEX(Analitico!E:E,MATCH(Banco!$C8398,Analitico!$A:$A,0))&\"%\",\"\"),\"\")","v":"1,8085705%"},{"$f":"IF($B8398=\"SINAPI\",IF(ISNUMBER(MATCH(Banco!$C8398,Analitico!$A:$A,0)),INDEX(Analitico!F:F,MATCH(Banco!$C8398,Analitico!$A:$A,0))&\"%\",\"\"),\"\")","v":"%"}]
[{"$f":"CONCATENAR","v":"SINAPI 103292"},"SINAPI","103292","TUBO EM COBRE FLEXÍVEL, DN 5/8\", COM ISOLAMENTO, INSTALADO EM FORRO, PARA RAMAL DE ALIMENTAÇÃO DE AR CONDICIONADO, INCLUSO FIXADOR. AF_11/2021_PA","M","74,08",null,null,"AS",{"$f":"IF($B8407=\"SINAPI\",IF(ISNUMBER(MATCH(Banco!$C8407,Analitico!$A:$A,0)),INDEX(Analitico!E:E,MATCH(Banco!$C8407,Analitico!$A:$A,0))&\"%\",\"\"),\"\")","v":"5,5435370%"},{"$f":"IF($B8407=\"SINAPI\",IF(ISNUMBER(MATCH(Banco!$C8407,Analitico!$A:$A,0)),INDEX(Analitico!F:F,MATCH(Banco!$C8407,Analitico!$A:$A,0))&\"%\",\"\"),\"\")","v":"%"}]
[{"$f":"CONCATENAR","v":"SINAPI 98295"},"SINAPI","98295","CABO ELETRÔNICO CATEGORIA 5E, INSTALADO EM EDIFICAÇÃO INSTITUCIONAL - FORNECIMENTO E INSTALAÇÃO. AF_11/2019","M","6,55",null,null,"CR",{"$f":"IF($B8411=\"SINAPI\",IF(ISNUMBER(MATCH(Banco!$C8411,Analitico!$A:$A,0)),INDEX(Analitico!E:E,MATCH(Banco!$C8411,Analitico!$A:$A,0))&\"%\",\"\"),\"\")","v":"1,3824884%"},{"$f":"IF($B8411=\"SINAPI\",IF(ISNUMBER(MATCH(Banco!$C8411,Analitico!$A:$A,0)),INDEX(Analitico!F:F,MATCH(Banco!$C8411,Analitico!$A:$A,0))&\"%\",\"\"),\"\")","v":"%"}]
[{"$f":"CONCATENAR","v":"SINAPI 98302"},"SINAPI","98302","PATCH PANEL 24 PORTAS, CATEGORIA 6 - FORNECIMENTO E INSTALAÇÃO. AF_11/2019","UN","1.018,38",null,null,"AS",{"$f":"IF($B8418=\"SINAPI\",IF(ISNUMBER(MATCH(Banco!$C8418,Analitico!$A:$A,0)),INDEX(Analitico!E:E,MATCH(Banco!$C8418,Analitico!$A:$A,0))&\"%\",\"\"),\"\")","v":"22,0588812%"},{"$f":"IF($B8418=\"SINAPI\",IF(ISNUMBER(MATCH(Banco!$C8418,Analitico!$A:$A,0)),INDEX(Analitico!F:F,MATCH(Banco!$C8418,Analitico!$A:$A,0))&\"%\",\"\"),\"\")","v":"%"}]
[{"$f":"CONCATENAR","v":"SINAPI 100555"},"SINAPI","100555","RACK ABERTO EM COLUNA 44U PARA SERVIDOR - FORNECIMENTO E INSTALAÇÃO. AF_11/2019","UN","1.126,30",null,null,"AS",{"$f":"IF($B8427=\"SINAPI\",IF(ISNUMBER(MATCH(Banco!$C8427,Analitico!$A:$A,0)),INDEX(Analitico!E:E,MATCH(Banco!$C8427,Analitico!$A:$A,0))&\"%\",\"\"),\"\")","v":"3,2985571%"},{"$f":"IF($B8427=\"SINAPI\",IF(ISNUMBER(MATCH(Banco!$C8427,Analitico!$A:$A,0)),INDEX(Analitico!F:F,MATCH(Banco!$C8427,Analitico!$A:$A,0))&\"%\",\"\"),\"\")","v":"%"}]
[{"$f":"CONCATENAR","v":"SINAPI 89448"},"SINAPI","89448","TUBO, PVC, SOLDÁVEL, DE 40MM, INSTALADO EM PRUMADA DE ÁGUA - FORNECIMENTO E INSTALAÇÃO. AF_06/2022","M","16,78",null,null,"CR",{"$f":"IF($B8436=\"SINAPI\",IF(ISNUMBER(MATCH(Banco!$C8436,Analitico!$A:$A,0)),INDEX(Analitico!E:E,MATCH(Banco!$C8436,Analitico!$A:$A,0))&\"%\",\"\"),\"\")","v":"6,1114439%"},{"$f":"IF($B8436=\"SINAPI\",IF(ISNUMBER(MATCH(Banco!$C8436,Analitico!$A:$A,0)),INDEX(Analitico!F:F,MATCH(Banco!$C8436,Analitico!$A:$A,0))&\"%\",\"\"),\"\")","v":"%"}]
[{"$f":"CONCATENAR","v":"SINAPI 89576"},"SINAPI","89576","TUBO PVC, SÉRIE R, ÁGUA PLUVIAL, DN 75 MM, FORNECIDO E INSTALADO EM CONDUTORES VERTICAIS DE ÁGUAS PLUVIAIS. AF_06/2022","M","27,73",null,null,"CR",{"$f":"IF($B8445=\"SINAPI\",IF(ISNUMBER(MATCH(Banco!$C8445,Analitico!$A:$A,0)),INDEX(Analitico!E:E,MATCH(Banco!$C8445,Analitico!$A:$A,0))&\"%\",\"\"),\"\")","v":"6,2906724%"},{"$f":"IF($B8445=\"SINAPI\",IF(ISNUMBER(MATCH(Banco!$C8445,Analitico!$A:$A,0)),INDEX(Analitico!F:F,MATCH(Banco!$C8445,Analitico!$A:$A,0))&\"%\",\"\"),\"\")","v":"%"}]
[{"$f":"CONCATENAR","v":"SINAPI 89717"},"SINAPI","89717","TUBO, CPVC, SOLDÁVEL, DN 28MM, INSTALADO EM RAMAL DE DISTRIBUIÇÃO DE ÁGUA - FORNECIMENTO E INSTALAÇÃO. AF_06/2022","M","41,88",null,null,"CR",{"$f":"IF($B8457=\"SINAPI\",IF(ISNUMBER(MATCH(Banco!$C8457,Analitico!$A:$A,0)),INDEX(Analitico!E:E,MATCH(Banco!$C8457,Analitico!$A:$A,0))&\"%\",\"\"),\"\")","v":"15,0131484%"},{"$f":"IF($B8457=\"SINAPI\",IF(ISNUMBER(MATCH(Banco!$C8457,Analitico!$A:$A,0)),INDEX(Analitico!F:F,MATCH(Banco!$C8457,Analitico!$A:$A,0))&\"%\",\"\"),\"\")","v":"%"}]
[{"$f":"CONCATENAR","v":"SINAPI 89800"},"SINAPI","89800","TUBO PVC, SERIE NORMAL, ESGOTO PREDIAL, DN 100 MM, FORNECIDO E INSTALADO EM PRUMADA DE ESGOTO SANITÁRIO OU VENTILAÇÃO. AF_08/2022","M","28,98",null,null,"CR",{"$f":"IF($B8464=\"SINAPI\",IF(ISNUMBER(MATCH(Banco!$C8464,Analitico!$A:$A,0)),INDEX(Analitico!E:E,MATCH(Banco!$C8464,Analitico!$A:$A,0))&\"%\",\"\"),\"\")","v":"33,2756831%"},{"$f":"IF($B8464=\"SINAPI\",IF(ISNUMBER(MATCH(Banco!$C8464,Analitico!$A:$A,0)),INDEX(Analitico!F:F,MATCH(Banco!$C8464,Analitico!$A:$A,0))&\"%\",\"\"),\"\")","v":"%"}]
[{"$f":"CONCATENAR","v":"SINAPI 92280"},"SINAPI","92280","TUBO EM COBRE RÍGIDO, DN 66 MM, CLASSE E, SEM ISOLAMENTO, INSTALADO EM PRUMADA DE HIDRÁULICA PREDIAL - FORNECIMENTO E INSTALAÇÃO. AF_04/2022","M","278,69",null,null,"AS",{"$f":"IF($B8473=\"SINAPI\",IF(ISNUMBER(MATCH(Banco!$C8473,Analitico!$A:$A,0)),INDEX(Analitico!E:E,MATCH(Banco!$C8473,Analitico!$A:$A,0))&\"%\",\"\"),\"\")","v":"1,7981480%"},{"$f":"IF($B8473=\"SINAPI\",IF(ISNUMBER(MATCH(Banco!$C8473,Analitico!$A:$A,0)),INDEX(Analitico!F:F,MATCH(Banco!$C8473,Analitico!$A:$A,0))&\"%\",\"\"),\"\")","v":"%"}]
[{"$f":"CONCATENAR","v":"SINAPI 92307"},"SINAPI","92307","TUBO EM COBRE RÍGIDO, DN 28 MM, CLASSE E, SEM ISOLAMENTO, INSTALADO EM RAMAL DE DISTRIBUIÇÃO DE HIDRÁULICA PREDIAL - FORNECIMENTO E INSTALAÇÃO. AF_04/2022","M","76,14",null,null,"AS",{"$f":"IF($B8482=\"SINAPI\",IF(ISNUMBER(MATCH(Banco!$C8482,Analitico!$A:$A,0)),INDEX(Analitico!E:E,MATCH(Banco!$C8482,Analitico!$A:$A,0))&\"%\",\"\"),\"\")","v":"8,3870119%"},{"$f":"IF($B8482=\"SINAPI\",IF(ISNUMBER(MATCH(Banco!$C8482,Analitico!$A:$A,0)),INDEX(Analitico!F:F,MATCH(Banco!$C8482,Analitico!$A:$A,0))&\"%\",\"\"),\"\")","v":"%"}]
[{"$f":"CONCATENAR","v":"SINAPI 92308"},"SINAPI","92308","TUBO EM COBRE RÍGIDO, DN 15 MM, CLASSE E, COM ISOLAMENTO, INSTALADO EM RAMAL DE DISTRIBUIÇÃO DE HIDRÁULICA PREDIAL - FORNECIMENTO E INSTALAÇÃO. AF_04/2022","M","54,24",null,null,"AS",{"$f":"IF($B8483=\"SINAPI\",IF(ISNUMBER(MATCH(Banco!$C8483,Analitico!$A:$A,0)),INDEX(Analitico!E:E,MATCH(Banco!$C8483,Analitico!$A:$A,0))&\"%\",\"\"),\"\")","v":"14,3516808%"},{"$f":"IF($B8483=\"SINAPI\",IF(ISNUMBER(MATCH(Banco!$C8483,Analitico!$A:$A,0)),INDEX(Analitico!F:F,MATCH(Banco!$C8483,Analitico!$A:$A,0))&\"%\",\"\"),\"\")","v":"%"}]
[{"$f":"CONCATENAR","v":"SINAPI 92337"},"SINAPI","92337","TUBO DE AÇO GALVANIZADO COM COSTURA, CLASSE MÉDIA, CONEXÃO RANHURADA, DN 80 (3\"), INSTALADO EM PRUMADAS - FORNECIMENTO E INSTALAÇÃO. AF_10/2020","M","137,47",null,null,"CR",{"$f":"IF($B8494=\"SINAPI\",IF(ISNUMBER(MATCH(Banco!$C8494,Analitico!$A:$A,0)),INDEX(Analitico!E:E,MATCH(Banco!$C8494,Analitico!$A:$A,0))&\"%\",\"\"),\"\")","v":"9,2219229%"},{"$f":"IF($B8494=\"SINAPI\",IF(ISNUMBER(MATCH(Banco!$C8494,Analitico!$A:$A,0)),INDEX(Analitico!F:F,MATCH(Banco!$C8494,Analitico!$A:$A,0))&\"%\",\"\"),\"\")","v":"%"}]
[{"$f":"CONCATENAR","v":"SINAPI 92361"},"SINAPI","92361","TUBO DE AÇO PRETO SEM COSTURA, CONEXÃO SOLDADA, DN 50 (2\"), INSTALADO EM REDE DE ALIMENTAÇÃO PARA HIDRANTE - FORNECIMENTO E INSTALAÇÃO. AF_10/2020","M","94,38",null,null,"CR",{"$f":"IF($B8502=\"SINAPI\",IF(ISNUMBER(MATCH(Banco!$C8502,Analitico!$A:$A,0)),INDEX(Analitico!E:E,MATCH(Banco!$C8502,Analitico!$A:$A,0))&\"%\",\"\"),\"\")","v":"6,1817410%"},{"$f":"IF($B8502=\"SINAPI\",IF(ISNUMBER(MATCH(Banco!$C8502,Analitico!$A:$A,0)),INDEX(Analitico!F:F,MATCH(Banco!$C8502,Analitico!$A:$A,0))&\"%\",\"\"),\"\")","v":"%"}]
[{"$f":"CONCATENAR","v":"SINAPI 92648"},"SINAPI","92648","TUBO DE AÇO PRETO SEM COSTURA, CONEXÃO SOLDADA, DN 40 (1 1/2\"), INSTALADO EM REDE DE ALIMENTAÇÃO PARA SPRINKLER - FORNECIMENTO E INSTALAÇÃO. AF_10/2020","M","80,59",null,null,"CR",{"$f":"IF($B8511=\"SINAPI\",IF(ISNUMBER(MATCH(Banco!$C8511,Analitico!$A:$A,0)),INDEX(Analitico!E:E,MATCH(Banco!$C8511,Analitico!$A:$A,0))&\"%\",\"\"),\"\")","v":"9,4285714%"},{"$f":"IF($B8511=\"SINAPI\",IF(ISNUMBER(MATCH(Banco!$C8511,Analitico!$A:$A,0)),INDEX(Analitico!F:F,MATCH(Banco!$C8511,Analitico!$A:$A,0))&\"%\",\"\"),\"\")","v":"%"}]
[{"$f":"CONCATENAR","v":"SINAPI 92688"},"SINAPI","92688","TUBO DE AÇO GALVANIZADO COM COSTURA, CLASSE MÉDIA, CONEXÃO ROSQUEADA, DN 20 (3/4\"), INSTALADO EM RAMAIS E SUB-RAMAIS DE GÁS - FORNECIMENTO E INSTALAÇÃO. AF_10/2020","M","37,08",null,null,"CR",{"$f":"IF($B8520=\"SINAPI\",IF(ISNUMBER(MATCH(Banco!$C8520,Analitico!$A:$A,0)),INDEX(Analitico!E:E,MATCH(Banco!$C8520,Analitico!$A:$A,0))&\"%\",\"\"),\"\")","v":"29,3704404%"},{"$f":"IF($B8520=\"SINAPI\",IF(ISNUMBER(MATCH(Banco!$C8520,Analitico!$A:$A,0)),INDEX(Analitico!F:F,MATCH(Banco!$C8520,Analitico!$A:$A,0))&\"%\",\"\"),\"\")","v":"%"}]
[{"$f":"CONCATENAR","v":"SINAPI 94604"},"SINAPI","94604","TUBO EM COBRE RÍGIDO, DN 79 MM, CLASSE E, SEM ISOLAMENTO, INSTALADO EM RESERVAÇÃO PREDIAL DE ÁGUA - FORNECIMENTO E INSTALAÇÃO. AF_04/2024","M","423,39",null,null,"AS",{"$f":"IF($B8529=\"SINAPI\",IF(ISNUMBER(MATCH(Banco!$C8529,Analitico!$A:$A,0)),INDEX(Analitico!E:E,MATCH(Banco!$C8529,Analitico!$A:$A,0))&\"%\",\"\"),\"\")","v":"4,6371539%"},{"$f":"IF($B8529=\"SINAPI\",IF(ISNUMBER(MATCH(Banco!$C8529,Analitico!$A:$A,0)),INDEX(Analitico!F:F,MATCH(Banco!$C8529,Analitico!$A:$A,0))&\"%\",\"\"),\"\")","v":"%"}]
[{"$f":"CONCATENAR","v":"SINAPI 94717"},"SINAPI","94717","TUBO, CPVC, SOLDÁVEL, DN 28 MM, INSTALADO EM RESERVAÇÃO PREDIAL DE ÁGUA - FORNECIMENTO E INSTALAÇÃO. AF_04/2024","M","36,27",null,null,"CR",{"$f":"IF($B8540=\"SINAPI\",IF(ISNUMBER(MATCH(Banco!$C8540,Analitico!$A:$A,0)),INDEX(Analitico!E:E,MATCH(Banco!$C8540,Analitico!$A:$A,0))&\"%\",\"\"),\"\")","v":"5,2209944%"},{"$f":"IF($B8540=\"SINAPI\",IF(ISNUMBER(MATCH(Banco!$C8540,Analitico!$A:$A,0)),INDEX(Analitico!F:F,MATCH(Banco!$C8540,Analitico!$A:$A,0))&\"%\",\"\"),\"\")","v":"%"}]
[{"$f":"CONCATENAR","v":"SINAPI 96635"},"SINAPI","96635","TUBO, PPR, DN 25, CLASSE PN 20,  INSTALADO EM RAMAL OU SUB-RAMAL DE ÁGUA   FORNECIMENTO E INSTALAÇÃO. AF_08/2022","M","38,48",null,null,"CR",{"$f":"IF($B8548=\"SINAPI\",IF(ISNUMBER(MATCH(Banco!$C8548,Analitico!$A:$A,0)),INDEX(Analitico!E:E,MATCH(Banco!$C8548,Analitico!$A:$A,0))&\"%\",\"\"),\"\")","v":"51,2880564%"},{"$f":"IF($B8548=\"SINAPI\",IF(ISNUMBER(MATCH(Banco!$C8548,Analitico!$A:$A,0)),INDEX(Analitico!F:F,MATCH(Banco!$C8548,Analitico!$A:$A,0))&\"%\",\"\"),\"\")","v":"%"}]
[{"$f":"CONCATENAR","v":"SINAPI 96636"},"SINAPI","96636","TUBO, PPR, DN 25, CLASSE PN 25 INSTALADO EM RAMAL OU SUB-RAMAL DE ÁGUA   FORNECIMENTO E INSTALAÇÃO. AF_08/2022","M","40,80",null,null,"CR",{"$f":"IF($B8549=\"SINAPI\",IF(ISNUMBER(MATCH(Banco!$C8549,Analitico!$A:$A,0)),INDEX(Analitico!E:E,MATCH(Banco!$C8549,Analitico!$A:$A,0))&\"%\",\"\"),\"\")","v":"49,8035365%"},{"$f":"IF($B8549=\"SINAPI\",IF(ISNUMBER(MATCH(Banco!$C8549,Analitico!$A:$A,0)),INDEX(Analitico!F:F,MATCH(Banco!$C8549,Analitico!$A:$A,0))&\"%\",\"\"),\"\")","v":"%"}]
[{"$f":"CONCATENAR","v":"SINAPI 96670"},"SINAPI","96670","TUBO, PPR, DN 40, CLASSE PN 12,  INSTALADO EM PRUMADA DE ÁGUA   FORNECIMENTO E INSTALAÇÃO. AF_08/2022","M","21,02",null,null,"CR",{"$f":"IF($B8558=\"SINAPI\",IF(ISNUMBER(MATCH(Banco!$C8558,Analitico!$A:$A,0)),INDEX(Analitico!E:E,MATCH(Banco!$C8558,Analitico!$A:$A,0))&\"%\",\"\"),\"\")","v":"24,6771879%"},{"$f":"IF($B8558=\"SINAPI\",IF(ISNUMBER(MATCH(Banco!$C8558,Analitico!$A:$A,0)),INDEX(Analitico!F:F,MATCH(Banco!$C8558,Analitico!$A:$A,0))&\"%\",\"\"),\"\")","v":"%"}]
[{"$f":"CONCATENAR","v":"SINAPI 96679"},"SINAPI","96679","TUBO, PPR, DN 50, CLASSE PN 25,  INSTALADO EM PRUMADA DE ÁGUA   FORNECIMENTO E INSTALAÇÃO. AF_08/2022","M","55,37",null,null,"CR",{"$f":"IF($B8567=\"SINAPI\",IF(ISNUMBER(MATCH(Banco!$C8567,Analitico!$A:$A,0)),INDEX(Analitico!E:E,MATCH(Banco!$C8567,Analitico!$A:$A,0))&\"%\",\"\"),\"\")","v":"15,4876062%"},{"$f":"IF($B8567=\"SINAPI\",IF(ISNUMBER(MATCH(Banco!$C8567,Analitico!$A:$A,0)),INDEX(Analitico!F:F,MATCH(Banco!$C8567,Analitico!$A:$A,0))&\"%\",\"\"),\"\")","v":"%"}]
[{"$f":"CONCATENAR","v":"SINAPI 96722"},"SINAPI","96722","TUBO, PPR, DN 50 MM, CLASSE PN 12,  INSTALADO EM RESERVAÇÃO PREDIAL DE ÁGUA - FORNECIMENTO E INSTALAÇÃO. AF_04/2024","M","31,05",null,null,"CR",{"$f":"IF($B8576=\"SINAPI\",IF(ISNUMBER(MATCH(Banco!$C8576,Analitico!$A:$A,0)),INDEX(Analitico!E:E,MATCH(Banco!$C8576,Analitico!$A:$A,0))&\"%\",\"\"),\"\")","v":"18,3317167%"},{"$f":"IF($B8576=\"SINAPI\",IF(ISNUMBER(MATCH(Banco!$C8576,Analitico!$A:$A,0)),INDEX(Analitico!F:F,MATCH(Banco!$C8576,Analitico!$A:$A,0))&\"%\",\"\"),\"\")","v":"%"}]
[{"$f":"CONCATENAR","v":"SINAPI 96734"},"SINAPI","96734","TUBO, PPR, DN 90 MM, CLASSE PN 25,  INSTALADO EM RESERVAÇÃO PREDIAL DE ÁGUA - FORNECIMENTO E INSTALAÇÃO. AF_04/2024","M","204,87",null,null,"CR",{"$f":"IF($B8588=\"SINAPI\",IF(ISNUMBER(MATCH(Banco!$C8588,Analitico!$A:$A,0)),INDEX(Analitico!E:E,MATCH(Banco!$C8588,Analitico!$A:$A,0))&\"%\",\"\"),\"\")","v":"7,7741966%"},{"$f":"IF($B8588=\"SINAPI\",IF(ISNUMBER(MATCH(Banco!$C8588,Analitico!$A:$A,0)),INDEX(Analitico!F:F,MATCH(Banco!$C8588,Analitico!$A:$A,0))&\"%\",\"\"),\"\")","v":"%"}]
[{"$f":"CONCATENAR","v":"SINAPI 97328"},"SINAPI","97328","TUBO EM COBRE FLEXÍVEL, DN 3/8\", COM ISOLAMENTO, INSTALADO EM RAMAL DE ALIMENTAÇÃO DE AR CONDICIONADO COM CONDENSADORA INDIVIDUAL - FORNECIMENTO E INSTALAÇÃO. AF_12/2015","M","44,79",null,null,"AS",{"$f":"IF($B8595=\"SINAPI\",IF(ISNUMBER(MATCH(Banco!$C8595,Analitico!$A:$A,0)),INDEX(Analitico!E:E,MATCH(Banco!$C8595,Analitico!$A:$A,0))&\"%\",\"\"),\"\")","v":"4,6298367%"},{"$f":"IF($B8595=\"SINAPI\",IF(ISNUMBER(MATCH(Banco!$C8595,Analitico!$A:$A,0)),INDEX(Analitico!F:F,MATCH(Banco!$C8595,Analitico!$A:$A,0))&\"%\",\"\"),\"\")","v":"%"}]
[{"$f":"CONCATENAR","v":"SINAPI 97337"},"SINAPI","97337","TUBO EM COBRE RÍGIDO, DN 35 MM, CLASSE A, SEM ISOLAMENTO, INSTALADO EM PRUMADA DE GÁS COMBUSTÍVEL - FORNECIMENTO E INSTALAÇÃO. AF_04/2022","M","153,16",null,null,"AS",{"$f":"IF($B8604=\"SINAPI\",IF(ISNUMBER(MATCH(Banco!$C8604,Analitico!$A:$A,0)),INDEX(Analitico!E:E,MATCH(Banco!$C8604,Analitico!$A:$A,0))&\"%\",\"\"),\"\")","v":"1,6981255%"},{"$f":"IF($B8604=\"SINAPI\",IF(ISNUMBER(MATCH(Banco!$C8604,Analitico!$A:$A,0)),INDEX(Analitico!F:F,MATCH(Banco!$C8604,Analitico!$A:$A,0))&\"%\",\"\"),\"\")","v":"%"}]
[{"$f":"CONCATENAR","v":"SINAPI 100792"},"SINAPI","100792","TUBO, PEX, MULTICAMADA, DN 20, INSTALADO EM IMPLANTAÇÃO DE INSTALAÇÕES DE GÁS - FORNECIMENTO E INSTALAÇÃO. AF_01/2020","M","32,83",null,null,"CR",{"$f":"IF($B8613=\"SINAPI\",IF(ISNUMBER(MATCH(Banco!$C8613,Analitico!$A:$A,0)),INDEX(Analitico!E:E,MATCH(Banco!$C8613,Analitico!$A:$A,0))&\"%\",\"\"),\"\")","v":"20,9642966%"},{"$f":"IF($B8613=\"SINAPI\",IF(ISNUMBER(MATCH(Banco!$C8613,Analitico!$A:$A,0)),INDEX(Analitico!F:F,MATCH(Banco!$C8613,Analitico!$A:$A,0))&\"%\",\"\"),\"\")","v":"%"}]
[{"$f":"CONCATENAR","v":"SINAPI 100793"},"SINAPI","100793","TUBO, PEX, MULTICAMADA, DN 26, INSTALADO EM IMPLANTAÇÃO DE INSTALAÇÕES DE GÁS - FORNECIMENTO E INSTALAÇÃO. AF_01/2020","M","43,82",null,null,"CR",{"$f":"IF($B8614=\"SINAPI\",IF(ISNUMBER(MATCH(Banco!$C8614,Analitico!$A:$A,0)),INDEX(Analitico!E:E,MATCH(Banco!$C8614,Analitico!$A:$A,0))&\"%\",\"\"),\"\")","v":"18,7799862%"},{"$f":"IF($B8614=\"SINAPI\",IF(ISNUMBER(MATCH(Banco!$C8614,Analitico!$A:$A,0)),INDEX(Analitico!F:F,MATCH(Banco!$C8614,Analitico!$A:$A,0))&\"%\",\"\"),\"\")","v":"%"}]
[{"$f":"CONCATENAR","v":"SINAPI 100808"},"SINAPI","100808","TUBO, PEX, MULTICAMADA, COM TUBO LUVA, DN 20, INSTALADO EM RAMAL INTERNO DE INSTALAÇÕES DE GÁS - FORNECIMENTO E INSTALAÇÃO. AF_01/2020","M","39,73",null,null,"CR",{"$f":"IF($B8625=\"SINAPI\",IF(ISNUMBER(MATCH(Banco!$C8625,Analitico!$A:$A,0)),INDEX(Analitico!E:E,MATCH(Banco!$C8625,Analitico!$A:$A,0))&\"%\",\"\"),\"\")","v":"31,0970996%"},{"$f":"IF($B8625=\"SINAPI\",IF(ISNUMBER(MATCH(Banco!$C8625,Analitico!$A:$A,0)),INDEX(Analitico!F:F,MATCH(Banco!$C8625,Analitico!$A:$A,0))&\"%\",\"\"),\"\")","v":"%"}]
[{"$f":"CONCATENAR","v":"SINAPI 101923"},"SINAPI","101923","LUVA DE REDUÇÃO, EM FERRO GALVANIZADO, 4\" X 3\", CONEXÃO ROSQUEADA, INSTALADO EM PRUMADAS - FORNECIMENTO E INSTALAÇÃO. AF_10/2020","UN","206,54",null,null,"CR",{"$f":"IF($B8633=\"SINAPI\",IF(ISNUMBER(MATCH(Banco!$C8633,Analitico!$A:$A,0)),INDEX(Analitico!E:E,MATCH(Banco!$C8633,Analitico!$A:$A,0))&\"%\",\"\"),\"\")","v":"14,8793955%"},{"$f":"IF($B8633=\"SINAPI\",IF(ISNUMBER(MATCH(Banco!$C8633,Analitico!$A:$A,0)),INDEX(Analitico!F:F,MATCH(Banco!$C8633,Analitico!$A:$A,0))&\"%\",\"\"),\"\")","v":"%"}]
[{"$f":"CONCATENAR","v":"SINAPI 101932"},"SINAPI","101932","LUVA DE REDUÇÃO, EM FERRO GALVANIZADO, 4\" X 3\", CONEXÃO ROSQUEADA, INSTALADO EM REDE DE ALIMENTAÇÃO PARA HIDRANTE - FORNECIMENTO E INSTALAÇÃO. AF_10/2020","UN","211,98",null,null,"CR",{"$f":"IF($B8642=\"SINAPI\",IF(ISNUMBER(MATCH(Banco!$C8642,Analitico!$A:$A,0)),INDEX(Analitico!E:E,MATCH(Banco!$C8642,Analitico!$A:$A,0))&\"%\",\"\"),\"\")","v":"16,4983482%"},{"$f":"IF($B8642=\"SINAPI\",IF(ISNUMBER(MATCH(Banco!$C8642,Analitico!$A:$A,0)),INDEX(Analitico!F:F,MATCH(Banco!$C8642,Analitico!$A:$A,0))&\"%\",\"\"),\"\")","v":"%"}]
[{"$f":"CONCATENAR","v":"SINAPI 103837"},"SINAPI","103837","TUBO EM COBRE RÍGIDO, DN 28 MM, CLASSE A, SEM ISOLAMENTO, INSTALADO EM RAMAL E SUB-RAMAL DE GÁS MEDICINAL - FORNECIMENTO E INSTALAÇÃO. AF_04/2022","M","121,28",null,null,"AS",{"$f":"IF($B8651=\"SINAPI\",IF(ISNUMBER(MATCH(Banco!$C8651,Analitico!$A:$A,0)),INDEX(Analitico!E:E,MATCH(Banco!$C8651,Analitico!$A:$A,0))&\"%\",\"\"),\"\")","v":"14,2161716%"},{"$f":"IF($B8651=\"SINAPI\",IF(ISNUMBER(MATCH(Banco!$C8651,Analitico!$A:$A,0)),INDEX(Analitico!F:F,MATCH(Banco!$C8651,Analitico!$A:$A,0))&\"%\",\"\"),\"\")","v":"%"}]
[{"$f":"CONCATENAR","v":"SINAPI 104021"},"SINAPI","104021","TUBO, CPVC, SOLDÁVEL, DN 42MM, INSTALADO EM RAMAL DE DISTRIBUIÇÃO DE ÁGUA - FORNECIMENTO E INSTALAÇÃO. AF_06/2022","M","70,07",null,null,"CR",{"$f":"IF($B8660=\"SINAPI\",IF(ISNUMBER(MATCH(Banco!$C8660,Analitico!$A:$A,0)),INDEX(Analitico!E:E,MATCH(Banco!$C8660,Analitico!$A:$A,0))&\"%\",\"\"),\"\")","v":"12,1696900%"},{"$f":"IF($B8660=\"SINAPI\",IF(ISNUMBER(MATCH(Banco!$C8660,Analitico!$A:$A,0)),INDEX(Analitico!F:F,MATCH(Banco!$C8660,Analitico!$A:$A,0))&\"%\",\"\"),\"\")","v":"%"}]
[{"$f":"CONCATENAR","v":"SINAPI 105143"},"SINAPI","105143","LUVA DE REDUÇÃO SOLDÁVEL, PVC, DN 40 MM X 32 MM, INSTALADO EM RESERVAÇÃO PREDIAL DE ÁGUA - FORNECIMENTO E INSTALAÇÃO. AF_04/2024","UN","10,08",null,null,"CR",{"$f":"IF($B8671=\"SINAPI\",IF(ISNUMBER(MATCH(Banco!$C8671,Analitico!$A:$A,0)),INDEX(Analitico!E:E,MATCH(Banco!$C8671,Analitico!$A:$A,0))&\"%\",\"\"),\"\")","v":"21,2000000%"},{"$f":"IF($B8671=\"SINAPI\",IF(ISNUMBER(MATCH(Banco!$C8671,Analitico!$A:$A,0)),INDEX(Analitico!F:F,MATCH(Banco!$C8671,Analitico!$A:$A,0))&\"%\",\"\"),\"\")","v":"%"}]
[{"$f":"CONCATENAR","v":"SINAPI 89362"},"SINAPI","89362","JOELHO 90 GRAUS, PVC, SOLDÁVEL, DN 25MM, INSTALADO EM RAMAL OU SUB-RAMAL DE ÁGUA - FORNECIMENTO E INSTALAÇÃO. AF_06/2022","UN","9,13",null,null,"CR",{"$f":"IF($B8679=\"SINAPI\",IF(ISNUMBER(MATCH(Banco!$C8679,Analitico!$A:$A,0)),INDEX(Analitico!E:E,MATCH(Banco!$C8679,Analitico!$A:$A,0))&\"%\",\"\"),\"\")","v":"61,1907387%"},{"$f":"IF($B8679=\"SINAPI\",IF(ISNUMBER(MATCH(Banco!$C8679,Analitico!$A:$A,0)),INDEX(Analitico!F:F,MATCH(Banco!$C8679,Analitico!$A:$A,0))&\"%\",\"\"),\"\")","v":"%"}]
[{"$f":"CONCATENAR","v":"SINAPI 89363"},"SINAPI","89363","JOELHO 45 GRAUS, PVC, SOLDÁVEL, DN 25MM, INSTALADO EM RAMAL OU SUB-RAMAL DE ÁGUA - FORNECIMENTO E INSTALAÇÃO. AF_06/2022","UN","9,94",null,null,"CR",{"$f":"IF($B8680=\"SINAPI\",IF(ISNUMBER(MATCH(Banco!$C8680,Analitico!$A:$A,0)),INDEX(Analitico!E:E,MATCH(Banco!$C8680,Analitico!$A:$A,0))&\"%\",\"\"),\"\")","v":"56,1740891%"},{"$f":"IF($B8680=\"SINAPI\",IF(ISNUMBER(MATCH(Banco!$C8680,Analitico!$A:$A,0)),INDEX(Analitico!F:F,MATCH(Banco!$C8680,Analitico!$A:$A,0))&\"%\",\"\"),\"\")","v":"%"}]
[{"$f":"CONCATENAR","v":"SINAPI 89372"},"SINAPI","89372","LUVA DE CORRER, PVC, SOLDÁVEL, DN 20MM, INSTALADO EM RAMAL OU SUB-RAMAL DE ÁGUA - FORNECIMENTO E INSTALAÇÃO. AF_06/2022","UN","16,07",null,null,"CR",{"$f":"IF($B8689=\"SINAPI\",IF(ISNUMBER(MATCH(Banco!$C8689,Analitico!$A:$A,0)),INDEX(Analitico!E:E,MATCH(Banco!$C8689,Analitico!$A:$A,0))&\"%\",\"\"),\"\")","v":"19,8750000%"},{"$f":"IF($B8689=\"SINAPI\",IF(ISNUMBER(MATCH(Banco!$C8689,Analitico!$A:$A,0)),INDEX(Analitico!F:F,MATCH(Banco!$C8689,Analitico!$A:$A,0))&\"%\",\"\"),\"\")","v":"%"}]
[{"$f":"CONCATENAR","v":"SINAPI 89381"},"SINAPI","89381","LUVA COM BUCHA DE LATÃO, PVC, SOLDÁVEL, DN 25MM X 3/4 , INSTALADO EM RAMAL OU SUB-RAMAL DE ÁGUA - FORNECIMENTO E INSTALAÇÃO. AF_06/2022","UN","12,37",null,null,"CR",{"$f":"IF($B8698=\"SINAPI\",IF(ISNUMBER(MATCH(Banco!$C8698,Analitico!$A:$A,0)),INDEX(Analitico!E:E,MATCH(Banco!$C8698,Analitico!$A:$A,0))&\"%\",\"\"),\"\")","v":"28,0032467%"},{"$f":"IF($B8698=\"SINAPI\",IF(ISNUMBER(MATCH(Banco!$C8698,Analitico!$A:$A,0)),INDEX(Analitico!F:F,MATCH(Banco!$C8698,Analitico!$A:$A,0))&\"%\",\"\"),\"\")","v":"%"}]
[{"$f":"CONCATENAR","v":"SINAPI 89392"},"SINAPI","89392","CURVA DE TRANSPOSIÇÃO, PVC, SOLDÁVEL, DN 32MM, INSTALADO EM RAMAL OU SUB-RAMAL DE ÁGUA   FORNECIMENTO E INSTALAÇÃO. AF_06/2022","UN","24,60",null,null,"CR",{"$f":"IF($B8708=\"SINAPI\",IF(ISNUMBER(MATCH(Banco!$C8708,Analitico!$A:$A,0)),INDEX(Analitico!E:E,MATCH(Banco!$C8708,Analitico!$A:$A,0))&\"%\",\"\"),\"\")","v":"17,9445350%"},{"$f":"IF($B8708=\"SINAPI\",IF(ISNUMBER(MATCH(Banco!$C8708,Analitico!$A:$A,0)),INDEX(Analitico!F:F,MATCH(Banco!$C8708,Analitico!$A:$A,0))&\"%\",\"\"),\"\")","v":"%"}]
[{"$f":"CONCATENAR","v":"SINAPI 89404"},"SINAPI","89404","JOELHO 90 GRAUS, PVC, SOLDÁVEL, DN 20MM, INSTALADO EM RAMAL DE DISTRIBUIÇÃO DE ÁGUA - FORNECIMENTO E INSTALAÇÃO. AF_06/2022","UN","6,98",null,null,"CR",{"$f":"IF($B8717=\"SINAPI\",IF(ISNUMBER(MATCH(Banco!$C8717,Analitico!$A:$A,0)),INDEX(Analitico!E:E,MATCH(Banco!$C8717,Analitico!$A:$A,0))&\"%\",\"\"),\"\")","v":"61,8840580%"},{"$f":"IF($B8717=\"SINAPI\",IF(ISNUMBER(MATCH(Banco!$C8717,Analitico!$A:$A,0)),INDEX(Analitico!F:F,MATCH(Banco!$C8717,Analitico!$A:$A,0))&\"%\",\"\"),\"\")","v":"%"}]
[{"$f":"CONCATENAR","v":"SINAPI 89413"},"SINAPI","89413","JOELHO 90 GRAUS, PVC, SOLDÁVEL, DN 32MM, INSTALADO EM RAMAL DE DISTRIBUIÇÃO DE ÁGUA - FORNECIMENTO E INSTALAÇÃO. AF_06/2022","UN","11,80",null,null,"CR",{"$f":"IF($B8726=\"SINAPI\",IF(ISNUMBER(MATCH(Banco!$C8726,Analitico!$A:$A,0)),INDEX(Analitico!E:E,MATCH(Banco!$C8726,Analitico!$A:$A,0))&\"%\",\"\"),\"\")","v":"50,5110733%"},{"$f":"IF($B8726=\"SINAPI\",IF(ISNUMBER(MATCH(Banco!$C8726,Analitico!$A:$A,0)),INDEX(Analitico!F:F,MATCH(Banco!$C8726,Analitico!$A:$A,0))&\"%\",\"\"),\"\")","v":"%"}]
[{"$f":"CONCATENAR","v":"SINAPI 89424"},"SINAPI","89424","LUVA, PVC, SOLDÁVEL, DN 25MM, INSTALADO EM RAMAL DE DISTRIBUIÇÃO DE ÁGUA - FORNECIMENTO E INSTALAÇÃO. AF_06/2022","UN","6,33",null,null,"CR",{"$f":"IF($B8735=\"SINAPI\",IF(ISNUMBER(MATCH(Banco!$C8735,Analitico!$A:$A,0)),INDEX(Analitico!E:E,MATCH(Banco!$C8735,Analitico!$A:$A,0))&\"%\",\"\"),\"\")","v":"52,6315790%"},{"$f":"IF($B8735=\"SINAPI\",IF(ISNUMBER(MATCH(Banco!$C8735,Analitico!$A:$A,0)),INDEX(Analitico!F:F,MATCH(Banco!$C8735,Analitico!$A:$A,0))&\"%\",\"\"),\"\")","v":"%"}]
[{"$f":"CONCATENAR","v":"SINAPI 89433"},"SINAPI","89433","LUVA DE REDUÇÃO, PVC, SOLDÁVEL, DN 40MM X 32MM, INSTALADO EM RAMAL DE DISTRIBUIÇÃO DE ÁGUA - FORNECIMENTO E INSTALAÇÃO. AF_06/2022","UN","12,95",null,null,"CR",{"$f":"IF($B8744=\"SINAPI\",IF(ISNUMBER(MATCH(Banco!$C8744,Analitico!$A:$A,0)),INDEX(Analitico!E:E,MATCH(Banco!$C8744,Analitico!$A:$A,0))&\"%\",\"\"),\"\")","v":"33,4887334%"},{"$f":"IF($B8744=\"SINAPI\",IF(ISNUMBER(MATCH(Banco!$C8744,Analitico!$A:$A,0)),INDEX(Analitico!F:F,MATCH(Banco!$C8744,Analitico!$A:$A,0))&\"%\",\"\"),\"\")","v":"%"}]
[{"$f":"CONCATENAR","v":"SINAPI 89434"},"SINAPI","89434","LUVA SOLDÁVEL E COM ROSCA, PVC, SOLDÁVEL, DN 32MM X 1 , INSTALADO EM RAMAL DE DISTRIBUIÇÃO DE ÁGUA - FORNECIMENTO E INSTALAÇÃO. AF_06/2022","UN","10,81",null,null,"CR",{"$f":"IF($B8745=\"SINAPI\",IF(ISNUMBER(MATCH(Banco!$C8745,Analitico!$A:$A,0)),INDEX(Analitico!E:E,MATCH(Banco!$C8745,Analitico!$A:$A,0))&\"%\",\"\"),\"\")","v":"33,7360594%"},{"$f":"IF($B8745=\"SINAPI\",IF(ISNUMBER(MATCH(Banco!$C8745,Analitico!$A:$A,0)),INDEX(Analitico!F:F,MATCH(Banco!$C8745,Analitico!$A:$A,0))&\"%\",\"\"),\"\")","v":"%"}]
[{"$f":"CONCATENAR","v":"SINAPI 89445"},"SINAPI","89445","TÊ DE REDUÇÃO, PVC, SOLDÁVEL, DN 32MM X 25MM, INSTALADO EM RAMAL DE DISTRIBUIÇÃO DE ÁGUA - FORNECIMENTO E INSTALAÇÃO. AF_06/2022","UN","18,50",null,null,"CR",{"$f":"IF($B8755=\"SINAPI\",IF(ISNUMBER(MATCH(Banco!$C8755,Analitico!$A:$A,0)),INDEX(Analitico!E:E,MATCH(Banco!$C8755,Analitico!$A:$A,0))&\"%\",\"\"),\"\")","v":"39,4037940%"},{"$f":"IF($B8755=\"SINAPI\",IF(ISNUMBER(MATCH(Banco!$C8755,Analitico!$A:$A,0)),INDEX(Analitico!F:F,MATCH(Banco!$C8755,Analitico!$A:$A,0))&\"%\",\"\"),\"\")","v":"%"}]
[{"$f":"CONCATENAR","v":"SINAPI 89497"},"SINAPI","89497","JOELHO 90 GRAUS, PVC, SOLDÁVEL, DN 40MM, INSTALADO EM PRUMADA DE ÁGUA - FORNECIMENTO E INSTALAÇÃO. AF_06/2022","UN","13,11",null,null,"CR",{"$f":"IF($B8764=\"SINAPI\",IF(ISNUMBER(MATCH(Banco!$C8764,Analitico!$A:$A,0)),INDEX(Analitico!E:E,MATCH(Banco!$C8764,Analitico!$A:$A,0))&\"%\",\"\"),\"\")","v":"29,2496171%"},{"$f":"IF($B8764=\"SINAPI\",IF(ISNUMBER(MATCH(Banco!$C8764,Analitico!$A:$A,0)),INDEX(Analitico!F:F,MATCH(Banco!$C8764,Analitico!$A:$A,0))&\"%\",\"\"),\"\")","v":"%"}]
[{"$f":"CONCATENAR","v":"SINAPI 89506"},"SINAPI","89506","JOELHO 45 GRAUS, PVC, SOLDÁVEL, DN 60MM, INSTALADO EM PRUMADA DE ÁGUA - FORNECIMENTO E INSTALAÇÃO. AF_06/2022","UN","39,56",null,null,"CR",{"$f":"IF($B8773=\"SINAPI\",IF(ISNUMBER(MATCH(Banco!$C8773,Analitico!$A:$A,0)),INDEX(Analitico!E:E,MATCH(Banco!$C8773,Analitico!$A:$A,0))&\"%\",\"\"),\"\")","v":"13,9240506%"},{"$f":"IF($B8773=\"SINAPI\",IF(ISNUMBER(MATCH(Banco!$C8773,Analitico!$A:$A,0)),INDEX(Analitico!F:F,MATCH(Banco!$C8773,Analitico!$A:$A,0))&\"%\",\"\"),\"\")","v":"%"}]
[{"$f":"CONCATENAR","v":"SINAPI 89519"},"SINAPI","89519","CURVA 45 GRAUS, PVC, SOLDÁVEL, DN 75MM, INSTALADO EM PRUMADA DE ÁGUA - FORNECIMENTO E INSTALAÇÃO. AF_06/2022","UN","47,08",null,null,"CR",{"$f":"IF($B8782=\"SINAPI\",IF(ISNUMBER(MATCH(Banco!$C8782,Analitico!$A:$A,0)),INDEX(Analitico!E:E,MATCH(Banco!$C8782,Analitico!$A:$A,0))&\"%\",\"\"),\"\")","v":"14,3465304%"},{"$f":"IF($B8782=\"SINAPI\",IF(ISNUMBER(MATCH(Banco!$C8782,Analitico!$A:$A,0)),INDEX(Analitico!F:F,MATCH(Banco!$C8782,Analitico!$A:$A,0))&\"%\",\"\"),\"\")","v":"%"}]
[{"$f":"CONCATENAR","v":"SINAPI 89528"},"SINAPI","89528","LUVA, PVC, SOLDÁVEL, DN 25MM, INSTALADO EM PRUMADA DE ÁGUA - FORNECIMENTO E INSTALAÇÃO. AF_06/2022","UN","4,24",null,null,"CR",{"$f":"IF($B8791=\"SINAPI\",IF(ISNUMBER(MATCH(Banco!$C8791,Analitico!$A:$A,0)),INDEX(Analitico!E:E,MATCH(Banco!$C8791,Analitico!$A:$A,0))&\"%\",\"\"),\"\")","v":"40,8653846%"},{"$f":"IF($B8791=\"SINAPI\",IF(ISNUMBER(MATCH(Banco!$C8791,Analitico!$A:$A,0)),INDEX(Analitico!F:F,MATCH(Banco!$C8791,Analitico!$A:$A,0))&\"%\",\"\"),\"\")","v":"%"}]
[{"$f":"CONCATENAR","v":"SINAPI 89544"},"SINAPI","89544","LUVA SIMPLES, PVC, SERIE R, ÁGUA PLUVIAL, DN 40 MM, JUNTA SOLDÁVEL, FORNECIDO E INSTALADO EM RAMAL DE ENCAMINHAMENTO. AF_06/2022","UN","8,66",null,null,"CR",{"$f":"IF($B8801=\"SINAPI\",IF(ISNUMBER(MATCH(Banco!$C8801,Analitico!$A:$A,0)),INDEX(Analitico!E:E,MATCH(Banco!$C8801,Analitico!$A:$A,0))&\"%\",\"\"),\"\")","v":"13,2404181%"},{"$f":"IF($B8801=\"SINAPI\",IF(ISNUMBER(MATCH(Banco!$C8801,Analitico!$A:$A,0)),INDEX(Analitico!F:F,MATCH(Banco!$C8801,Analitico!$A:$A,0))&\"%\",\"\"),\"\")","v":"%"}]
[{"$f":"CONCATENAR","v":"SINAPI 89553"},"SINAPI","89553","ADAPTADOR CURTO COM BOLSA E ROSCA PARA REGISTRO, PVC, SOLDÁVEL, DN 32MM X 1 , INSTALADO EM PRUMADA DE ÁGUA - FORNECIMENTO E INSTALAÇÃO. AF_06/2022","UN","5,71",null,null,"CR",{"$f":"IF($B8810=\"SINAPI\",IF(ISNUMBER(MATCH(Banco!$C8810,Analitico!$A:$A,0)),INDEX(Analitico!E:E,MATCH(Banco!$C8810,Analitico!$A:$A,0))&\"%\",\"\"),\"\")","v":"33,6860670%"},{"$f":"IF($B8810=\"SINAPI\",IF(ISNUMBER(MATCH(Banco!$C8810,Analitico!$A:$A,0)),INDEX(Analitico!F:F,MATCH(Banco!$C8810,Analitico!$A:$A,0))&\"%\",\"\"),\"\")","v":"%"}]
[{"$f":"CONCATENAR","v":"SINAPI 89554"},"SINAPI","89554","LUVA SIMPLES, PVC, SERIE R, ÁGUA PLUVIAL, DN 100 MM, JUNTA ELÁSTICA, FORNECIDO E INSTALADO EM RAMAL DE ENCAMINHAMENTO. AF_06/2022","UN","28,77",null,null,"CR",{"$f":"IF($B8811=\"SINAPI\",IF(ISNUMBER(MATCH(Banco!$C8811,Analitico!$A:$A,0)),INDEX(Analitico!E:E,MATCH(Banco!$C8811,Analitico!$A:$A,0))&\"%\",\"\"),\"\")","v":"10,8672936%"},{"$f":"IF($B8811=\"SINAPI\",IF(ISNUMBER(MATCH(Banco!$C8811,Analitico!$A:$A,0)),INDEX(Analitico!F:F,MATCH(Banco!$C8811,Analitico!$A:$A,0))&\"%\",\"\"),\"\")","v":"%"}]
[{"$f":"CONCATENAR","v":"SINAPI 89563"},"SINAPI","89563","JUNÇÃO SIMPLES, PVC, SERIE R, ÁGUA PLUVIAL, DN 50 MM, JUNTA ELÁSTICA, FORNECIDO E INSTALADO EM RAMAL DE ENCAMINHAMENTO. AF_06/2022","UN","35,03",null,null,"CR",{"$f":"IF($B8820=\"SINAPI\",IF(ISNUMBER(MATCH(Banco!$C8820,Analitico!$A:$A,0)),INDEX(Analitico!E:E,MATCH(Banco!$C8820,Analitico!$A:$A,0))&\"%\",\"\"),\"\")","v":"8,4096109%"},{"$f":"IF($B8820=\"SINAPI\",IF(ISNUMBER(MATCH(Banco!$C8820,Analitico!$A:$A,0)),INDEX(Analitico!F:F,MATCH(Banco!$C8820,Analitico!$A:$A,0))&\"%\",\"\"),\"\")","v":"%"}]
[{"$f":"CONCATENAR","v":"SINAPI 89571"},"SINAPI","89571","TÊ, PVC, SERIE R, ÁGUA PLUVIAL, DN 100 X 100 MM, JUNTA ELÁSTICA, FORNECIDO E INSTALADO EM RAMAL DE ENCAMINHAMENTO. AF_06/2022","UN","70,21",null,null,"CR",{"$f":"IF($B8828=\"SINAPI\",IF(ISNUMBER(MATCH(Banco!$C8828,Analitico!$A:$A,0)),INDEX(Analitico!E:E,MATCH(Banco!$C8828,Analitico!$A:$A,0))&\"%\",\"\"),\"\")","v":"8,9496936%"},{"$f":"IF($B8828=\"SINAPI\",IF(ISNUMBER(MATCH(Banco!$C8828,Analitico!$A:$A,0)),INDEX(Analitico!F:F,MATCH(Banco!$C8828,Analitico!$A:$A,0))&\"%\",\"\"),\"\")","v":"%"}]
[{"$f":"CONCATENAR","v":"SINAPI 89585"},"SINAPI","89585","JOELHO 45 GRAUS, PVC, SERIE R, ÁGUA PLUVIAL, DN 100 MM, JUNTA ELÁSTICA, FORNECIDO E INSTALADO EM CONDUTORES VERTICAIS DE ÁGUAS PLUVIAIS. AF_06/2022","UN","45,00",null,null,"CR",{"$f":"IF($B8839=\"SINAPI\",IF(ISNUMBER(MATCH(Banco!$C8839,Analitico!$A:$A,0)),INDEX(Analitico!E:E,MATCH(Banco!$C8839,Analitico!$A:$A,0))&\"%\",\"\"),\"\")","v":"22,2123302%"},{"$f":"IF($B8839=\"SINAPI\",IF(ISNUMBER(MATCH(Banco!$C8839,Analitico!$A:$A,0)),INDEX(Analitico!F:F,MATCH(Banco!$C8839,Analitico!$A:$A,0))&\"%\",\"\"),\"\")","v":"%"}]
[{"$f":"CONCATENAR","v":"SINAPI 89597"},"SINAPI","89597","LUVA, PVC, SOLDÁVEL, DN 60MM, INSTALADO EM PRUMADA DE ÁGUA - FORNECIMENTO E INSTALAÇÃO. AF_06/2022","UN","22,69",null,null,"CR",{"$f":"IF($B8848=\"SINAPI\",IF(ISNUMBER(MATCH(Banco!$C8848,Analitico!$A:$A,0)),INDEX(Analitico!E:E,MATCH(Banco!$C8848,Analitico!$A:$A,0))&\"%\",\"\"),\"\")","v":"16,1147902%"},{"$f":"IF($B8848=\"SINAPI\",IF(ISNUMBER(MATCH(Banco!$C8848,Analitico!$A:$A,0)),INDEX(Analitico!F:F,MATCH(Banco!$C8848,Analitico!$A:$A,0))&\"%\",\"\"),\"\")","v":"%"}]
[{"$f":"CONCATENAR","v":"SINAPI 89613"},"SINAPI","89613","ADAPTADOR CURTO COM BOLSA E ROSCA PARA REGISTRO, PVC, SOLDÁVEL, DN 75MM X 2.1/2\", INSTALADO EM PRUMADA DE ÁGUA - FORNECIMENTO E INSTALAÇÃO. AF_12/2014","UN","30,59",null,null,"CR",{"$f":"IF($B8857=\"SINAPI\",IF(ISNUMBER(MATCH(Banco!$C8857,Analitico!$A:$A,0)),INDEX(Analitico!E:E,MATCH(Banco!$C8857,Analitico!$A:$A,0))&\"%\",\"\"),\"\")","v":"13,3071124%"},{"$f":"IF($B8857=\"SINAPI\",IF(ISNUMBER(MATCH(Banco!$C8857,Analitico!$A:$A,0)),INDEX(Analitico!F:F,MATCH(Banco!$C8857,Analitico!$A:$A,0))&\"%\",\"\"),\"\")","v":"%"}]
[{"$f":"CONCATENAR","v":"SINAPI 89625"},"SINAPI","89625","TE, PVC, SOLDÁVEL, DN 50MM, INSTALADO EM PRUMADA DE ÁGUA - FORNECIMENTO E INSTALAÇÃO. AF_06/2022","UN","22,57",null,null,"CR",{"$f":"IF($B8866=\"SINAPI\",IF(ISNUMBER(MATCH(Banco!$C8866,Analitico!$A:$A,0)),INDEX(Analitico!E:E,MATCH(Banco!$C8866,Analitico!$A:$A,0))&\"%\",\"\"),\"\")","v":"27,4911032%"},{"$f":"IF($B8866=\"SINAPI\",IF(ISNUMBER(MATCH(Banco!$C8866,Analitico!$A:$A,0)),INDEX(Analitico!F:F,MATCH(Banco!$C8866,Analitico!$A:$A,0))&\"%\",\"\"),\"\")","v":"%"}]
[{"$f":"CONCATENAR","v":"SINAPI 89637"},"SINAPI","89637","JOELHO 90 GRAUS, CPVC, SOLDÁVEL, DN 15MM, INSTALADO EM RAMAL OU SUB-RAMAL DE ÁGUA - FORNECIMENTO E INSTALAÇÃO. AF_06/2022","UN","10,62",null,null,"CR",{"$f":"IF($B8874=\"SINAPI\",IF(ISNUMBER(MATCH(Banco!$C8874,Analitico!$A:$A,0)),INDEX(Analitico!E:E,MATCH(Banco!$C8874,Analitico!$A:$A,0))&\"%\",\"\"),\"\")","v":"38,1042654%"},{"$f":"IF($B8874=\"SINAPI\",IF(ISNUMBER(MATCH(Banco!$C8874,Analitico!$A:$A,0)),INDEX(Analitico!F:F,MATCH(Banco!$C8874,Analitico!$A:$A,0))&\"%\",\"\"),\"\")","v":"%"}]
[{"$f":"CONCATENAR","v":"SINAPI 89640"},"SINAPI","89640","JOELHO DE TRANSIÇÃO, 90 GRAUS, CPVC, SOLDÁVEL, DN 15MM X 1/2\", INSTALADO EM RAMAL OU SUB-RAMAL DE ÁGUA - FORNECIMENTO E INSTALAÇÃO. AF_06/2022","UN","18,99",null,null,"CR",{"$f":"IF($B8877=\"SINAPI\",IF(ISNUMBER(MATCH(Banco!$C8877,Analitico!$A:$A,0)),INDEX(Analitico!E:E,MATCH(Banco!$C8877,Analitico!$A:$A,0))&\"%\",\"\"),\"\")","v":"21,2473572%"},{"$f":"IF($B8877=\"SINAPI\",IF(ISNUMBER(MATCH(Banco!$C8877,Analitico!$A:$A,0)),INDEX(Analitico!F:F,MATCH(Banco!$C8877,Analitico!$A:$A,0))&\"%\",\"\"),\"\")","v":"%"}]
[{"$f":"CONCATENAR","v":"SINAPI 89649"},"SINAPI","89649","JOELHO 90 GRAUS, CPVC, SOLDÁVEL, DN 35MM, INSTALADO EM RAMAL OU SUB-RAMAL DE ÁGUA   FORNECIMENTO E INSTALAÇÃO. AF_06/2022","UN","30,47",null,null,"CR",{"$f":"IF($B8886=\"SINAPI\",IF(ISNUMBER(MATCH(Banco!$C8886,Analitico!$A:$A,0)),INDEX(Analitico!E:E,MATCH(Banco!$C8886,Analitico!$A:$A,0))&\"%\",\"\"),\"\")","v":"23,2818151%"},{"$f":"IF($B8886=\"SINAPI\",IF(ISNUMBER(MATCH(Banco!$C8886,Analitico!$A:$A,0)),INDEX(Analitico!F:F,MATCH(Banco!$C8886,Analitico!$A:$A,0))&\"%\",\"\"),\"\")","v":"%"}]
[{"$f":"CONCATENAR","v":"SINAPI 89658"},"SINAPI","89658","LUVA, CPVC, SOLDÁVEL, DN 22MM, INSTALADO EM RAMAL OU SUB-RAMAL DE ÁGUA   FORNECIMENTO E INSTALAÇÃO. AF_06/2022","UN","9,69",null,null,"CR",{"$f":"IF($B8895=\"SINAPI\",IF(ISNUMBER(MATCH(Banco!$C8895,Analitico!$A:$A,0)),INDEX(Analitico!E:E,MATCH(Banco!$C8895,Analitico!$A:$A,0))&\"%\",\"\"),\"\")","v":"35,1716961%"},{"$f":"IF($B8895=\"SINAPI\",IF(ISNUMBER(MATCH(Banco!$C8895,Analitico!$A:$A,0)),INDEX(Analitico!F:F,MATCH(Banco!$C8895,Analitico!$A:$A,0))&\"%\",\"\"),\"\")","v":"%"}]
[{"$f":"CONCATENAR","v":"SINAPI 89668"},"SINAPI","89668","CONECTOR, CPVC, SOLDÁVEL, DN22MM X 3/4\", INSTALADO EM RAMAL OU SUB-RAMAL DE ÁGUA - FORNECIMENTO E INSTALAÇÃO. AF_06/2022","UN","29,18",null,null,"CR",{"$f":"IF($B8904=\"SINAPI\",IF(ISNUMBER(MATCH(Banco!$C8904,Analitico!$A:$A,0)),INDEX(Analitico!E:E,MATCH(Banco!$C8904,Analitico!$A:$A,0))&\"%\",\"\"),\"\")","v":"11,2637362%"},{"$f":"IF($B8904=\"SINAPI\",IF(ISNUMBER(MATCH(Banco!$C8904,Analitico!$A:$A,0)),INDEX(Analitico!F:F,MATCH(Banco!$C8904,Analitico!$A:$A,0))&\"%\",\"\"),\"\")","v":"%"}]
[{"$f":"CONCATENAR","v":"SINAPI 89680"},"SINAPI","89680","LUVA, CPVC, SOLDÁVEL, DN 35MM, INSTALADO EM RAMAL OU SUB-RAMAL DE ÁGUA   FORNECIMENTO E INSTALAÇÃO. AF_06/2022","UN","22,75",null,null,"CR",{"$f":"IF($B8916=\"SINAPI\",IF(ISNUMBER(MATCH(Banco!$C8916,Analitico!$A:$A,0)),INDEX(Analitico!E:E,MATCH(Banco!$C8916,Analitico!$A:$A,0))&\"%\",\"\"),\"\")","v":"20,7837956%"},{"$f":"IF($B8916=\"SINAPI\",IF(ISNUMBER(MATCH(Banco!$C8916,Analitico!$A:$A,0)),INDEX(Analitico!F:F,MATCH(Banco!$C8916,Analitico!$A:$A,0))&\"%\",\"\"),\"\")","v":"%"}]
[{"$f":"CONCATENAR","v":"SINAPI 89687"},"SINAPI","89687","TÊ, PVC, SERIE R, ÁGUA PLUVIAL, DN 75 X 75 MM, JUNTA ELÁSTICA, FORNECIDO E INSTALADO EM CONDUTORES VERTICAIS DE ÁGUAS PLUVIAIS. AF_06/2022","UN","52,81",null,null,"CR",{"$f":"IF($B8923=\"SINAPI\",IF(ISNUMBER(MATCH(Banco!$C8923,Analitico!$A:$A,0)),INDEX(Analitico!E:E,MATCH(Banco!$C8923,Analitico!$A:$A,0))&\"%\",\"\"),\"\")","v":"16,0568720%"},{"$f":"IF($B8923=\"SINAPI\",IF(ISNUMBER(MATCH(Banco!$C8923,Analitico!$A:$A,0)),INDEX(Analitico!F:F,MATCH(Banco!$C8923,Analitico!$A:$A,0))&\"%\",\"\"),\"\")","v":"%"}]
[{"$f":"CONCATENAR","v":"SINAPI 89697"},"SINAPI","89697","TE, CPVC, SOLDÁVEL, DN 22MM, INSTALADO EM RAMAL OU SUB-RAMAL DE ÁGUA - FORNECIMENTO E INSTALAÇÃO. AF_06/2022","UN","17,98",null,null,"CR",{"$f":"IF($B8932=\"SINAPI\",IF(ISNUMBER(MATCH(Banco!$C8932,Analitico!$A:$A,0)),INDEX(Analitico!E:E,MATCH(Banco!$C8932,Analitico!$A:$A,0))&\"%\",\"\"),\"\")","v":"37,9753914%"},{"$f":"IF($B8932=\"SINAPI\",IF(ISNUMBER(MATCH(Banco!$C8932,Analitico!$A:$A,0)),INDEX(Analitico!F:F,MATCH(Banco!$C8932,Analitico!$A:$A,0))&\"%\",\"\"),\"\")","v":"%"}]
[{"$f":"CONCATENAR","v":"SINAPI 89706"},"SINAPI","89706","TÊ, CPVC, SOLDÁVEL, DN35MM, INSTALADO EM RAMAL OU SUB-RAMAL DE ÁGUA   FORNECIMENTO E INSTALAÇÃO. AF_06/2022","UN","56,44",null,null,"CR",{"$f":"IF($B8941=\"SINAPI\",IF(ISNUMBER(MATCH(Banco!$C8941,Analitico!$A:$A,0)),INDEX(Analitico!E:E,MATCH(Banco!$C8941,Analitico!$A:$A,0))&\"%\",\"\"),\"\")","v":"16,7523488%"},{"$f":"IF($B8941=\"SINAPI\",IF(ISNUMBER(MATCH(Banco!$C8941,Analitico!$A:$A,0)),INDEX(Analitico!F:F,MATCH(Banco!$C8941,Analitico!$A:$A,0))&\"%\",\"\"),\"\")","v":"%"}]
[{"$f":"CONCATENAR","v":"SINAPI 89718"},"SINAPI","89718","TUBO, CPVC, SOLDÁVEL, DN 35MM, INSTALADO EM RAMAL DE DISTRIBUIÇÃO DE ÁGUA   FORNECIMENTO E INSTALAÇÃO. AF_06/2022","M","53,66",null,null,"CR",{"$f":"IF($B8942=\"SINAPI\",IF(ISNUMBER(MATCH(Banco!$C8942,Analitico!$A:$A,0)),INDEX(Analitico!E:E,MATCH(Banco!$C8942,Analitico!$A:$A,0))&\"%\",\"\"),\"\")","v":"13,8008205%"},{"$f":"IF($B8942=\"SINAPI\",IF(ISNUMBER(MATCH(Banco!$C8942,Analitico!$A:$A,0)),INDEX(Analitico!F:F,MATCH(Banco!$C8942,Analitico!$A:$A,0))&\"%\",\"\"),\"\")","v":"%"}]
[{"$f":"CONCATENAR","v":"SINAPI 89728"},"SINAPI","89728","CURVA CURTA 90 GRAUS, PVC, SERIE NORMAL, ESGOTO PREDIAL, DN 40 MM, JUNTA SOLDÁVEL, FORNECIDO E INSTALADO EM RAMAL DE DESCARGA OU RAMAL DE ESGOTO SANITÁRIO. AF_08/2022","UN","13,20",null,null,"CR",{"$f":"IF($B8951=\"SINAPI\",IF(ISNUMBER(MATCH(Banco!$C8951,Analitico!$A:$A,0)),INDEX(Analitico!E:E,MATCH(Banco!$C8951,Analitico!$A:$A,0))&\"%\",\"\"),\"\")","v":"35,3881278%"},{"$f":"IF($B8951=\"SINAPI\",IF(ISNUMBER(MATCH(Banco!$C8951,Analitico!$A:$A,0)),INDEX(Analitico!F:F,MATCH(Banco!$C8951,Analitico!$A:$A,0))&\"%\",\"\"),\"\")","v":"%"}]
[{"$f":"CONCATENAR","v":"SINAPI 89736"},"SINAPI","89736","LUVA, CPVC, SOLDÁVEL, DN 22MM, INSTALADO EM RAMAL DE DISTRIBUIÇÃO DE ÁGUA   FORNECIMENTO E INSTALAÇÃO. AF_06/2022","UN","9,22",null,null,"CR",{"$f":"IF($B8959=\"SINAPI\",IF(ISNUMBER(MATCH(Banco!$C8959,Analitico!$A:$A,0)),INDEX(Analitico!E:E,MATCH(Banco!$C8959,Analitico!$A:$A,0))&\"%\",\"\"),\"\")","v":"33,0786026%"},{"$f":"IF($B8959=\"SINAPI\",IF(ISNUMBER(MATCH(Banco!$C8959,Analitico!$A:$A,0)),INDEX(Analitico!F:F,MATCH(Banco!$C8959,Analitico!$A:$A,0))&\"%\",\"\"),\"\")","v":"%"}]
[{"$f":"CONCATENAR","v":"SINAPI 89748"},"SINAPI","89748","CURVA CURTA 90 GRAUS, PVC, SERIE NORMAL, ESGOTO PREDIAL, DN 100 MM, JUNTA ELÁSTICA, FORNECIDO E INSTALADO EM RAMAL DE DESCARGA OU RAMAL DE ESGOTO SANITÁRIO. AF_08/2022","UN","43,22",null,null,"CR",{"$f":"IF($B8970=\"SINAPI\",IF(ISNUMBER(MATCH(Banco!$C8970,Analitico!$A:$A,0)),INDEX(Analitico!E:E,MATCH(Banco!$C8970,Analitico!$A:$A,0))&\"%\",\"\"),\"\")","v":"16,3071213%"},{"$f":"IF($B8970=\"SINAPI\",IF(ISNUMBER(MATCH(Banco!$C8970,Analitico!$A:$A,0)),INDEX(Analitico!F:F,MATCH(Banco!$C8970,Analitico!$A:$A,0))&\"%\",\"\"),\"\")","v":"%"}]
[{"$f":"CONCATENAR","v":"SINAPI 89758"},"SINAPI","89758","CONECTOR, CPVC, SOLDÁVEL, DN 28MM X 1 , INSTALADO EM RAMAL DE DISTRIBUIÇÃO DE ÁGUA   FORNECIMENTO E INSTALAÇÃO. AF_06/2022","UN","36,71",null,null,"CR",{"$f":"IF($B8979=\"SINAPI\",IF(ISNUMBER(MATCH(Banco!$C8979,Analitico!$A:$A,0)),INDEX(Analitico!E:E,MATCH(Banco!$C8979,Analitico!$A:$A,0))&\"%\",\"\"),\"\")","v":"9,4108019%"},{"$f":"IF($B8979=\"SINAPI\",IF(ISNUMBER(MATCH(Banco!$C8979,Analitico!$A:$A,0)),INDEX(Analitico!F:F,MATCH(Banco!$C8979,Analitico!$A:$A,0))&\"%\",\"\"),\"\")","v":"%"}]
[{"$f":"CONCATENAR","v":"SINAPI 89768"},"SINAPI","89768","TÊ, CPVC, SOLDÁVEL, DN 28MM, INSTALADO EM RAMAL DE DISTRIBUIÇÃO DE ÁGUA - FORNECIMENTO E INSTALAÇÃO. AF_06/2022","UN","24,80",null,null,"CR",{"$f":"IF($B8988=\"SINAPI\",IF(ISNUMBER(MATCH(Banco!$C8988,Analitico!$A:$A,0)),INDEX(Analitico!E:E,MATCH(Banco!$C8988,Analitico!$A:$A,0))&\"%\",\"\"),\"\")","v":"29,0335624%"},{"$f":"IF($B8988=\"SINAPI\",IF(ISNUMBER(MATCH(Banco!$C8988,Analitico!$A:$A,0)),INDEX(Analitico!F:F,MATCH(Banco!$C8988,Analitico!$A:$A,0))&\"%\",\"\"),\"\")","v":"%"}]
[{"$f":"CONCATENAR","v":"SINAPI 89781"},"SINAPI","89781","JOELHO 90 GRAUS, CPVC, SOLDÁVEL, DN 42MM, INSTALADO EM PRUMADA DE ÁGUA   FORNECIMENTO E INSTALAÇÃO. AF_06/2022","UN","36,40",null,null,"CR",{"$f":"IF($B8997=\"SINAPI\",IF(ISNUMBER(MATCH(Banco!$C8997,Analitico!$A:$A,0)),INDEX(Analitico!E:E,MATCH(Banco!$C8997,Analitico!$A:$A,0))&\"%\",\"\"),\"\")","v":"10,9796367%"},{"$f":"IF($B8997=\"SINAPI\",IF(ISNUMBER(MATCH(Banco!$C8997,Analitico!$A:$A,0)),INDEX(Analitico!F:F,MATCH(Banco!$C8997,Analitico!$A:$A,0))&\"%\",\"\"),\"\")","v":"%"}]
[{"$f":"CONCATENAR","v":"SINAPI 89789"},"SINAPI","89789","JOELHO 45 GRAUS, CPVC, SOLDÁVEL, DN 54MM, INSTALADO EM PRUMADA DE ÁGUA   FORNECIMENTO E INSTALAÇÃO. AF_06/2022","UN","66,80",null,null,"CR",{"$f":"IF($B9005=\"SINAPI\",IF(ISNUMBER(MATCH(Banco!$C9005,Analitico!$A:$A,0)),INDEX(Analitico!E:E,MATCH(Banco!$C9005,Analitico!$A:$A,0))&\"%\",\"\"),\"\")","v":"7,4756554%"},{"$f":"IF($B9005=\"SINAPI\",IF(ISNUMBER(MATCH(Banco!$C9005,Analitico!$A:$A,0)),INDEX(Analitico!F:F,MATCH(Banco!$C9005,Analitico!$A:$A,0))&\"%\",\"\"),\"\")","v":"%"}]
[{"$f":"CONCATENAR","v":"SINAPI 89792"},"SINAPI","89792","JOELHO 90 GRAUS, CPVC, SOLDÁVEL, DN 89MM, INSTALADO EM PRUMADA DE ÁGUA   FORNECIMENTO E INSTALAÇÃO. AF_06/2022","UN","185,55",null,null,"CR",{"$f":"IF($B9008=\"SINAPI\",IF(ISNUMBER(MATCH(Banco!$C9008,Analitico!$A:$A,0)),INDEX(Analitico!E:E,MATCH(Banco!$C9008,Analitico!$A:$A,0))&\"%\",\"\"),\"\")","v":"4,2650706%"},{"$f":"IF($B9008=\"SINAPI\",IF(ISNUMBER(MATCH(Banco!$C9008,Analitico!$A:$A,0)),INDEX(Analitico!F:F,MATCH(Banco!$C9008,Analitico!$A:$A,0))&\"%\",\"\"),\"\")","v":"%"}]
[{"$f":"CONCATENAR","v":"SINAPI 89804"},"SINAPI","89804","CURVA LONGA 90 GRAUS, PVC, SERIE NORMAL, ESGOTO PREDIAL, DN 50 MM, JUNTA ELÁSTICA, FORNECIDO E INSTALADO EM PRUMADA DE ESGOTO SANITÁRIO OU VENTILAÇÃO. AF_08/2022","UN","20,99",null,null,"CR",{"$f":"IF($B9017=\"SINAPI\",IF(ISNUMBER(MATCH(Banco!$C9017,Analitico!$A:$A,0)),INDEX(Analitico!E:E,MATCH(Banco!$C9017,Analitico!$A:$A,0))&\"%\",\"\"),\"\")","v":"5,9245102%"},{"$f":"IF($B9017=\"SINAPI\",IF(ISNUMBER(MATCH(Banco!$C9017,Analitico!$A:$A,0)),INDEX(Analitico!F:F,MATCH(Banco!$C9017,Analitico!$A:$A,0))&\"%\",\"\"),\"\")","v":"%"}]
[{"$f":"CONCATENAR","v":"SINAPI 89813"},"SINAPI","89813","LUVA SIMPLES, PVC, SERIE NORMAL, ESGOTO PREDIAL, DN 50 MM, JUNTA ELÁSTICA, FORNECIDO E INSTALADO EM PRUMADA DE ESGOTO SANITÁRIO OU VENTILAÇÃO. AF_08/2022","UN","5,98",null,null,"CR",{"$f":"IF($B9026=\"SINAPI\",IF(ISNUMBER(MATCH(Banco!$C9026,Analitico!$A:$A,0)),INDEX(Analitico!E:E,MATCH(Banco!$C9026,Analitico!$A:$A,0))&\"%\",\"\"),\"\")","v":"13,6593591%"},{"$f":"IF($B9026=\"SINAPI\",IF(ISNUMBER(MATCH(Banco!$C9026,Analitico!$A:$A,0)),INDEX(Analitico!F:F,MATCH(Banco!$C9026,Analitico!$A:$A,0))&\"%\",\"\"),\"\")","v":"%"}]
[{"$f":"CONCATENAR","v":"SINAPI 89823"},"SINAPI","89823","LUVA DE CORRER, PVC, SERIE NORMAL, ESGOTO PREDIAL, DN 100 MM, JUNTA ELÁSTICA, FORNECIDO E INSTALADO EM PRUMADA DE ESGOTO SANITÁRIO OU VENTILAÇÃO. AF_08/2022","UN","35,83",null,null,"CR",{"$f":"IF($B9035=\"SINAPI\",IF(ISNUMBER(MATCH(Banco!$C9035,Analitico!$A:$A,0)),INDEX(Analitico!E:E,MATCH(Banco!$C9035,Analitico!$A:$A,0))&\"%\",\"\"),\"\")","v":"14,7889292%"},{"$f":"IF($B9035=\"SINAPI\",IF(ISNUMBER(MATCH(Banco!$C9035,Analitico!$A:$A,0)),INDEX(Analitico!F:F,MATCH(Banco!$C9035,Analitico!$A:$A,0))&\"%\",\"\"),\"\")","v":"%"}]
[{"$f":"CONCATENAR","v":"SINAPI 89830"},"SINAPI","89830","JUNÇÃO SIMPLES, PVC, SERIE NORMAL, ESGOTO PREDIAL, DN 75 X 75 MM, JUNTA ELÁSTICA, FORNECIDO E INSTALADO EM PRUMADA DE ESGOTO SANITÁRIO OU VENTILAÇÃO. AF_08/2022","UN","38,57",null,null,"CR",{"$f":"IF($B9042=\"SINAPI\",IF(ISNUMBER(MATCH(Banco!$C9042,Analitico!$A:$A,0)),INDEX(Analitico!E:E,MATCH(Banco!$C9042,Analitico!$A:$A,0))&\"%\",\"\"),\"\")","v":"15,9002338%"},{"$f":"IF($B9042=\"SINAPI\",IF(ISNUMBER(MATCH(Banco!$C9042,Analitico!$A:$A,0)),INDEX(Analitico!F:F,MATCH(Banco!$C9042,Analitico!$A:$A,0))&\"%\",\"\"),\"\")","v":"%"}]
[{"$f":"CONCATENAR","v":"SINAPI 89842"},"SINAPI","89842","TÊ, CPVC, SOLDÁVEL, DN 35MM, INSTALADO EM PRUMADA DE ÁGUA   FORNECIMENTO E INSTALAÇÃO. AF_06/2022","UN","50,16",null,null,"CR",{"$f":"IF($B9054=\"SINAPI\",IF(ISNUMBER(MATCH(Banco!$C9054,Analitico!$A:$A,0)),INDEX(Analitico!E:E,MATCH(Banco!$C9054,Analitico!$A:$A,0))&\"%\",\"\"),\"\")","v":"9,0836494%"},{"$f":"IF($B9054=\"SINAPI\",IF(ISNUMBER(MATCH(Banco!$C9054,Analitico!$A:$A,0)),INDEX(Analitico!F:F,MATCH(Banco!$C9054,Analitico!$A:$A,0))&\"%\",\"\"),\"\")","v":"%"}]
[{"$f":"CONCATENAR","v":"SINAPI 89854"},"SINAPI","89854","JOELHO 90 GRAUS, PVC, SERIE NORMAL, ESGOTO PREDIAL, DN 150 MM, JUNTA ELÁSTICA, FORNECIDO E INSTALADO EM SUBCOLETOR AÉREO DE ESGOTO SANITÁRIO. AF_08/2022","UN","107,21",null,null,"CR",{"$f":"IF($B9063=\"SINAPI\",IF(ISNUMBER(MATCH(Banco!$C9063,Analitico!$A:$A,0)),INDEX(Analitico!E:E,MATCH(Banco!$C9063,Analitico!$A:$A,0))&\"%\",\"\"),\"\")","v":"12,3086972%"},{"$f":"IF($B9063=\"SINAPI\",IF(ISNUMBER(MATCH(Banco!$C9063,Analitico!$A:$A,0)),INDEX(Analitico!F:F,MATCH(Banco!$C9063,Analitico!$A:$A,0))&\"%\",\"\"),\"\")","v":"%"}]
[{"$f":"CONCATENAR","v":"SINAPI 89869"},"SINAPI","89869","TE, PVC, SOLDÁVEL, DN 25MM, INSTALADO EM DRENO DE AR-CONDICIONADO - FORNECIMENTO E INSTALAÇÃO. AF_08/2022","UN","9,92",null,null,"CR",{"$f":"IF($B9072=\"SINAPI\",IF(ISNUMBER(MATCH(Banco!$C9072,Analitico!$A:$A,0)),INDEX(Analitico!E:E,MATCH(Banco!$C9072,Analitico!$A:$A,0))&\"%\",\"\"),\"\")","v":"54,7764228%"},{"$f":"IF($B9072=\"SINAPI\",IF(ISNUMBER(MATCH(Banco!$C9072,Analitico!$A:$A,0)),INDEX(Analitico!F:F,MATCH(Banco!$C9072,Analitico!$A:$A,0))&\"%\",\"\"),\"\")","v":"%"}]
[{"$f":"CONCATENAR","v":"SINAPI 89979"},"SINAPI","89979","LUVA COM BUCHA DE LATÃO, PVC, SOLDÁVEL, DN 32MM X 1 , INSTALADO EM RAMAL OU SUB-RAMAL DE ÁGUA   FORNECIMENTO E INSTALAÇÃO. AF_06/2022","UN","24,85",null,null,"CR",{"$f":"IF($B9073=\"SINAPI\",IF(ISNUMBER(MATCH(Banco!$C9073,Analitico!$A:$A,0)),INDEX(Analitico!E:E,MATCH(Banco!$C9073,Analitico!$A:$A,0))&\"%\",\"\"),\"\")","v":"16,3504238%"},{"$f":"IF($B9073=\"SINAPI\",IF(ISNUMBER(MATCH(Banco!$C9073,Analitico!$A:$A,0)),INDEX(Analitico!F:F,MATCH(Banco!$C9073,Analitico!$A:$A,0))&\"%\",\"\"),\"\")","v":"%"}]
[{"$f":"CONCATENAR","v":"SINAPI 92298"},"SINAPI","92298","LUVA EM COBRE, DN 66 MM, SEM ANEL DE SOLDA, INSTALADO EM PRUMADA DE HIDRÁULICA PREDIAL - FORNECIMENTO E INSTALAÇÃO. AF_04/2022","UN","182,33",null,null,"AS",{"$f":"IF($B9088=\"SINAPI\",IF(ISNUMBER(MATCH(Banco!$C9088,Analitico!$A:$A,0)),INDEX(Analitico!E:E,MATCH(Banco!$C9088,Analitico!$A:$A,0))&\"%\",\"\"),\"\")","v":"3,7152892%"},{"$f":"IF($B9088=\"SINAPI\",IF(ISNUMBER(MATCH(Banco!$C9088,Analitico!$A:$A,0)),INDEX(Analitico!F:F,MATCH(Banco!$C9088,Analitico!$A:$A,0))&\"%\",\"\"),\"\")","v":"%"}]
[{"$f":"CONCATENAR","v":"SINAPI 92302"},"SINAPI","92302","TE EM COBRE, DN 42 MM, SEM ANEL DE SOLDA, INSTALADO EM PRUMADA DE HIDRÁULICA PREDIAL - FORNECIMENTO E INSTALAÇÃO. AF_04/2022","UN","90,97",null,null,"AS",{"$f":"IF($B9092=\"SINAPI\",IF(ISNUMBER(MATCH(Banco!$C9092,Analitico!$A:$A,0)),INDEX(Analitico!E:E,MATCH(Banco!$C9092,Analitico!$A:$A,0))&\"%\",\"\"),\"\")","v":"9,3739685%"},{"$f":"IF($B9092=\"SINAPI\",IF(ISNUMBER(MATCH(Banco!$C9092,Analitico!$A:$A,0)),INDEX(Analitico!F:F,MATCH(Banco!$C9092,Analitico!$A:$A,0))&\"%\",\"\"),\"\")","v":"%"}]
[{"$f":"CONCATENAR","v":"SINAPI 92317"},"SINAPI","92317","TE EM COBRE, DN 15 MM, SEM ANEL DE SOLDA, INSTALADO EM RAMAL DE DISTRIBUIÇÃO DE HIDRÁULICA PREDIAL - FORNECIMENTO E INSTALAÇÃO. AF_04/2022","UN","17,74",null,null,"AS",{"$f":"IF($B9101=\"SINAPI\",IF(ISNUMBER(MATCH(Banco!$C9101,Analitico!$A:$A,0)),INDEX(Analitico!E:E,MATCH(Banco!$C9101,Analitico!$A:$A,0))&\"%\",\"\"),\"\")","v":"41,2330316%"},{"$f":"IF($B9101=\"SINAPI\",IF(ISNUMBER(MATCH(Banco!$C9101,Analitico!$A:$A,0)),INDEX(Analitico!F:F,MATCH(Banco!$C9101,Analitico!$A:$A,0))&\"%\",\"\"),\"\")","v":"%"}]
[{"$f":"CONCATENAR","v":"SINAPI 92332"},"SINAPI","92332","TE EM COBRE, DN 15 MM, SEM ANEL DE SOLDA, INSTALADO EM RAMAL E SUB-RAMAL DE HIDRÁULICA PREDIAL - FORNECIMENTO E INSTALAÇÃO. AF_04/2022","UN","18,08",null,null,"AS",{"$f":"IF($B9110=\"SINAPI\",IF(ISNUMBER(MATCH(Banco!$C9110,Analitico!$A:$A,0)),INDEX(Analitico!E:E,MATCH(Banco!$C9110,Analitico!$A:$A,0))&\"%\",\"\"),\"\")","v":"41,9354838%"},{"$f":"IF($B9110=\"SINAPI\",IF(ISNUMBER(MATCH(Banco!$C9110,Analitico!$A:$A,0)),INDEX(Analitico!F:F,MATCH(Banco!$C9110,Analitico!$A:$A,0))&\"%\",\"\"),\"\")","v":"%"}]
[{"$f":"CONCATENAR","v":"SINAPI 92350"},"SINAPI","92350","JOELHO 45 GRAUS, EM FERRO GALVANIZADO, DN 50 (2\"), CONEXÃO ROSQUEADA, INSTALADO EM PRUMADAS - FORNECIMENTO E INSTALAÇÃO. AF_10/2020","UN","94,16",null,null,"CR",{"$f":"IF($B9119=\"SINAPI\",IF(ISNUMBER(MATCH(Banco!$C9119,Analitico!$A:$A,0)),INDEX(Analitico!E:E,MATCH(Banco!$C9119,Analitico!$A:$A,0))&\"%\",\"\"),\"\")","v":"37,6528117%"},{"$f":"IF($B9119=\"SINAPI\",IF(ISNUMBER(MATCH(Banco!$C9119,Analitico!$A:$A,0)),INDEX(Analitico!F:F,MATCH(Banco!$C9119,Analitico!$A:$A,0))&\"%\",\"\"),\"\")","v":"%"}]
[{"$f":"CONCATENAR","v":"SINAPI 92371"},"SINAPI","92371","NIPLE, EM FERRO GALVANIZADO, DN 32 (1 1/4\"), CONEXÃO ROSQUEADA, INSTALADO EM REDE DE ALIMENTAÇÃO PARA HIDRANTE - FORNECIMENTO E INSTALAÇÃO. AF_10/2020","UN","41,12",null,null,"CR",{"$f":"IF($B9130=\"SINAPI\",IF(ISNUMBER(MATCH(Banco!$C9130,Analitico!$A:$A,0)),INDEX(Analitico!E:E,MATCH(Banco!$C9130,Analitico!$A:$A,0))&\"%\",\"\"),\"\")","v":"47,5274056%"},{"$f":"IF($B9130=\"SINAPI\",IF(ISNUMBER(MATCH(Banco!$C9130,Analitico!$A:$A,0)),INDEX(Analitico!F:F,MATCH(Banco!$C9130,Analitico!$A:$A,0))&\"%\",\"\"),\"\")","v":"%"}]
[{"$f":"CONCATENAR","v":"SINAPI 92379"},"SINAPI","92379","NIPLE, EM FERRO GALVANIZADO, DN 80 (3\"), CONEXÃO ROSQUEADA, INSTALADO EM REDE DE ALIMENTAÇÃO PARA HIDRANTE - FORNECIMENTO E INSTALAÇÃO. AF_10/2020","UN","120,47",null,null,"CR",{"$f":"IF($B9138=\"SINAPI\",IF(ISNUMBER(MATCH(Banco!$C9138,Analitico!$A:$A,0)),INDEX(Analitico!E:E,MATCH(Banco!$C9138,Analitico!$A:$A,0))&\"%\",\"\"),\"\")","v":"25,1910933%"},{"$f":"IF($B9138=\"SINAPI\",IF(ISNUMBER(MATCH(Banco!$C9138,Analitico!$A:$A,0)),INDEX(Analitico!F:F,MATCH(Banco!$C9138,Analitico!$A:$A,0))&\"%\",\"\"),\"\")","v":"%"}]
[{"$f":"CONCATENAR","v":"SINAPI 92380"},"SINAPI","92380","LUVA, EM FERRO GALVANIZADO, DN 80 (3\"), CONEXÃO ROSQUEADA, INSTALADO EM REDE DE ALIMENTAÇÃO PARA HIDRANTE - FORNECIMENTO E INSTALAÇÃO. AF_10/2020","UN","128,91",null,null,"CR",{"$f":"IF($B9139=\"SINAPI\",IF(ISNUMBER(MATCH(Banco!$C9139,Analitico!$A:$A,0)),INDEX(Analitico!E:E,MATCH(Banco!$C9139,Analitico!$A:$A,0))&\"%\",\"\"),\"\")","v":"23,5403726%"},{"$f":"IF($B9139=\"SINAPI\",IF(ISNUMBER(MATCH(Banco!$C9139,Analitico!$A:$A,0)),INDEX(Analitico!F:F,MATCH(Banco!$C9139,Analitico!$A:$A,0))&\"%\",\"\"),\"\")","v":"%"}]
[{"$f":"CONCATENAR","v":"SINAPI 92389"},"SINAPI","92389","JOELHO 45 GRAUS, EM FERRO GALVANIZADO, DN 65 (2 1/2\"), CONEXÃO ROSQUEADA, INSTALADO EM REDE DE ALIMENTAÇÃO PARA HIDRANTE - FORNECIMENTO E INSTALAÇÃO. AF_10/2020","UN","145,63",null,null,"CR",{"$f":"IF($B9148=\"SINAPI\",IF(ISNUMBER(MATCH(Banco!$C9148,Analitico!$A:$A,0)),INDEX(Analitico!E:E,MATCH(Banco!$C9148,Analitico!$A:$A,0))&\"%\",\"\"),\"\")","v":"27,7873188%"},{"$f":"IF($B9148=\"SINAPI\",IF(ISNUMBER(MATCH(Banco!$C9148,Analitico!$A:$A,0)),INDEX(Analitico!F:F,MATCH(Banco!$C9148,Analitico!$A:$A,0))&\"%\",\"\"),\"\")","v":"%"}]
[{"$f":"CONCATENAR","v":"SINAPI 92644"},"SINAPI","92644","TÊ, EM FERRO GALVANIZADO, CONEXÃO ROSQUEADA, DN 80 (3\"), INSTALADO EM REDE DE ALIMENTAÇÃO PARA HIDRANTE - FORNECIMENTO E INSTALAÇÃO. AF_10/2020","UN","234,74",null,null,"CR",{"$f":"IF($B9157=\"SINAPI\",IF(ISNUMBER(MATCH(Banco!$C9157,Analitico!$A:$A,0)),INDEX(Analitico!E:E,MATCH(Banco!$C9157,Analitico!$A:$A,0))&\"%\",\"\"),\"\")","v":"25,8523695%"},{"$f":"IF($B9157=\"SINAPI\",IF(ISNUMBER(MATCH(Banco!$C9157,Analitico!$A:$A,0)),INDEX(Analitico!F:F,MATCH(Banco!$C9157,Analitico!$A:$A,0))&\"%\",\"\"),\"\")","v":"%"}]
[{"$f":"CONCATENAR","v":"SINAPI 92666"},"SINAPI","92666","LUVA, EM FERRO GALVANIZADO, CONEXÃO ROSQUEADA, DN 65 (2 1/2\"), INSTALADO EM REDE DE ALIMENTAÇÃO PARA SPRINKLER - FORNECIMENTO E INSTALAÇÃO. AF_10/2020","UN","78,54",null,null,"CR",{"$f":"IF($B9167=\"SINAPI\",IF(ISNUMBER(MATCH(Banco!$C9167,Analitico!$A:$A,0)),INDEX(Analitico!E:E,MATCH(Banco!$C9167,Analitico!$A:$A,0))&\"%\",\"\"),\"\")","v":"18,5652395%"},{"$f":"IF($B9167=\"SINAPI\",IF(ISNUMBER(MATCH(Banco!$C9167,Analitico!$A:$A,0)),INDEX(Analitico!F:F,MATCH(Banco!$C9167,Analitico!$A:$A,0))&\"%\",\"\"),\"\")","v":"%"}]
[{"$f":"CONCATENAR","v":"SINAPI 92675"},"SINAPI","92675","JOELHO 45 GRAUS, EM FERRO GALVANIZADO, CONEXÃO ROSQUEADA, DN 50 (2\"), INSTALADO EM REDE DE ALIMENTAÇÃO PARA SPRINKLER - FORNECIMENTO E INSTALAÇÃO. AF_10/2020","UN","74,24",null,null,"CR",{"$f":"IF($B9176=\"SINAPI\",IF(ISNUMBER(MATCH(Banco!$C9176,Analitico!$A:$A,0)),INDEX(Analitico!E:E,MATCH(Banco!$C9176,Analitico!$A:$A,0))&\"%\",\"\"),\"\")","v":"26,8131571%"},{"$f":"IF($B9176=\"SINAPI\",IF(ISNUMBER(MATCH(Banco!$C9176,Analitico!$A:$A,0)),INDEX(Analitico!F:F,MATCH(Banco!$C9176,Analitico!$A:$A,0))&\"%\",\"\"),\"\")","v":"%"}]
[{"$f":"CONCATENAR","v":"SINAPI 92684"},"SINAPI","92684","TÊ, EM FERRO GALVANIZADO, CONEXÃO ROSQUEADA, DN 50 (2\"), INSTALADO EM REDE DE ALIMENTAÇÃO PARA SPRINKLER - FORNECIMENTO E INSTALAÇÃO. AF_10/2020","UN","96,09",null,null,"CR",{"$f":"IF($B9185=\"SINAPI\",IF(ISNUMBER(MATCH(Banco!$C9185,Analitico!$A:$A,0)),INDEX(Analitico!E:E,MATCH(Banco!$C9185,Analitico!$A:$A,0))&\"%\",\"\"),\"\")","v":"27,6134943%"},{"$f":"IF($B9185=\"SINAPI\",IF(ISNUMBER(MATCH(Banco!$C9185,Analitico!$A:$A,0)),INDEX(Analitico!F:F,MATCH(Banco!$C9185,Analitico!$A:$A,0))&\"%\",\"\"),\"\")","v":"%"}]
[{"$f":"CONCATENAR","v":"SINAPI 92698"},"SINAPI","92698","JOELHO 45 GRAUS, EM FERRO GALVANIZADO, CONEXÃO ROSQUEADA, DN 15 (1/2\"), INSTALADO EM RAMAIS E SUB-RAMAIS DE GÁS - FORNECIMENTO E INSTALAÇÃO. AF_10/2020","UN","19,99",null,null,"CR",{"$f":"IF($B9194=\"SINAPI\",IF(ISNUMBER(MATCH(Banco!$C9194,Analitico!$A:$A,0)),INDEX(Analitico!E:E,MATCH(Banco!$C9194,Analitico!$A:$A,0))&\"%\",\"\"),\"\")","v":"47,5187969%"},{"$f":"IF($B9194=\"SINAPI\",IF(ISNUMBER(MATCH(Banco!$C9194,Analitico!$A:$A,0)),INDEX(Analitico!F:F,MATCH(Banco!$C9194,Analitico!$A:$A,0))&\"%\",\"\"),\"\")","v":"%"}]
[{"$f":"CONCATENAR","v":"SINAPI 92889"},"SINAPI","92889","UNIÃO, EM FERRO GALVANIZADO, DN 50 (2\"), CONEXÃO ROSQUEADA, INSTALADO EM PRUMADAS - FORNECIMENTO E INSTALAÇÃO. AF_10/2020","UN","124,84",null,null,"CR",{"$f":"IF($B9203=\"SINAPI\",IF(ISNUMBER(MATCH(Banco!$C9203,Analitico!$A:$A,0)),INDEX(Analitico!E:E,MATCH(Banco!$C9203,Analitico!$A:$A,0))&\"%\",\"\"),\"\")","v":"18,9293155%"},{"$f":"IF($B9203=\"SINAPI\",IF(ISNUMBER(MATCH(Banco!$C9203,Analitico!$A:$A,0)),INDEX(Analitico!F:F,MATCH(Banco!$C9203,Analitico!$A:$A,0))&\"%\",\"\"),\"\")","v":"%"}]
[{"$f":"CONCATENAR","v":"SINAPI 92890"},"SINAPI","92890","UNIÃO, EM FERRO GALVANIZADO, DN 65 (2 1/2\"), CONEXÃO ROSQUEADA, INSTALADO EM PRUMADAS - FORNECIMENTO E INSTALAÇÃO. AF_10/2020","UN","189,15",null,null,"CR",{"$f":"IF($B9204=\"SINAPI\",IF(ISNUMBER(MATCH(Banco!$C9204,Analitico!$A:$A,0)),INDEX(Analitico!E:E,MATCH(Banco!$C9204,Analitico!$A:$A,0))&\"%\",\"\"),\"\")","v":"13,5928492%"},{"$f":"IF($B9204=\"SINAPI\",IF(ISNUMBER(MATCH(Banco!$C9204,Analitico!$A:$A,0)),INDEX(Analitico!F:F,MATCH(Banco!$C9204,Analitico!$A:$A,0))&\"%\",\"\"),\"\")","v":"%"}]
[{"$f":"CONCATENAR","v":"SINAPI 92900"},"SINAPI","92900","UNIÃO, EM FERRO GALVANIZADO, CONEXÃO ROSQUEADA, DN 40 (1 1/2\"), INSTALADO EM REDE DE ALIMENTAÇÃO PARA SPRINKLER - FORNECIMENTO E INSTALAÇÃO. AF_10/2020","UN","80,19",null,null,"CR",{"$f":"IF($B9214=\"SINAPI\",IF(ISNUMBER(MATCH(Banco!$C9214,Analitico!$A:$A,0)),INDEX(Analitico!E:E,MATCH(Banco!$C9214,Analitico!$A:$A,0))&\"%\",\"\"),\"\")","v":"15,3855752%"},{"$f":"IF($B9214=\"SINAPI\",IF(ISNUMBER(MATCH(Banco!$C9214,Analitico!$A:$A,0)),INDEX(Analitico!F:F,MATCH(Banco!$C9214,Analitico!$A:$A,0))&\"%\",\"\"),\"\")","v":"%"}]
[{"$f":"CONCATENAR","v":"SINAPI 92909"},"SINAPI","92909","LUVA DE REDUÇÃO, EM FERRO GALVANIZADO, 2\" X 1\", CONEXÃO ROSQUEADA, INSTALADO EM PRUMADAS - FORNECIMENTO E INSTALAÇÃO. AF_10/2020","UN","66,87",null,null,"CR",{"$f":"IF($B9223=\"SINAPI\",IF(ISNUMBER(MATCH(Banco!$C9223,Analitico!$A:$A,0)),INDEX(Analitico!E:E,MATCH(Banco!$C9223,Analitico!$A:$A,0))&\"%\",\"\"),\"\")","v":"35,3539889%"},{"$f":"IF($B9223=\"SINAPI\",IF(ISNUMBER(MATCH(Banco!$C9223,Analitico!$A:$A,0)),INDEX(Analitico!F:F,MATCH(Banco!$C9223,Analitico!$A:$A,0))&\"%\",\"\"),\"\")","v":"%"}]
[{"$f":"CONCATENAR","v":"SINAPI 92926"},"SINAPI","92926","LUVA DE REDUÇÃO, EM FERRO GALVANIZADO, 1 1/4\" X 1/2\", CONEXÃO ROSQUEADA, INSTALADO EM REDE DE ALIMENTAÇÃO PARA HIDRANTE - FORNECIMENTO E INSTALAÇÃO. AF_10/2020","UN","43,97",null,null,"CR",{"$f":"IF($B9232=\"SINAPI\",IF(ISNUMBER(MATCH(Banco!$C9232,Analitico!$A:$A,0)),INDEX(Analitico!E:E,MATCH(Banco!$C9232,Analitico!$A:$A,0))&\"%\",\"\"),\"\")","v":"44,4419134%"},{"$f":"IF($B9232=\"SINAPI\",IF(ISNUMBER(MATCH(Banco!$C9232,Analitico!$A:$A,0)),INDEX(Analitico!F:F,MATCH(Banco!$C9232,Analitico!$A:$A,0))&\"%\",\"\"),\"\")","v":"%"}]
[{"$f":"CONCATENAR","v":"SINAPI 92935"},"SINAPI","92935","LUVA DE REDUÇÃO, EM FERRO GALVANIZADO, 2 1/2\" X 2\", CONEXÃO ROSQUEADA, INSTALADO EM REDE DE ALIMENTAÇÃO PARA HIDRANTE - FORNECIMENTO E INSTALAÇÃO. AF_10/2020","UN","98,41",null,null,"CR",{"$f":"IF($B9241=\"SINAPI\",IF(ISNUMBER(MATCH(Banco!$C9241,Analitico!$A:$A,0)),INDEX(Analitico!E:E,MATCH(Banco!$C9241,Analitico!$A:$A,0))&\"%\",\"\"),\"\")","v":"27,4123029%"},{"$f":"IF($B9241=\"SINAPI\",IF(ISNUMBER(MATCH(Banco!$C9241,Analitico!$A:$A,0)),INDEX(Analitico!F:F,MATCH(Banco!$C9241,Analitico!$A:$A,0))&\"%\",\"\"),\"\")","v":"%"}]
[{"$f":"CONCATENAR","v":"SINAPI 92944"},"SINAPI","92944","LUVA DE REDUÇÃO, EM FERRO GALVANIZADO, 1 1/2\" X 1\", CONEXÃO ROSQUEADA, INSTALADO EM REDE DE ALIMENTAÇÃO PARA SPRINKLER - FORNECIMENTO E INSTALAÇÃO. AF_10/2020","UN","38,77",null,null,"CR",{"$f":"IF($B9250=\"SINAPI\",IF(ISNUMBER(MATCH(Banco!$C9250,Analitico!$A:$A,0)),INDEX(Analitico!E:E,MATCH(Banco!$C9250,Analitico!$A:$A,0))&\"%\",\"\"),\"\")","v":"31,8440082%"},{"$f":"IF($B9250=\"SINAPI\",IF(ISNUMBER(MATCH(Banco!$C9250,Analitico!$A:$A,0)),INDEX(Analitico!F:F,MATCH(Banco!$C9250,Analitico!$A:$A,0))&\"%\",\"\"),\"\")","v":"%"}]
[{"$f":"CONCATENAR","v":"SINAPI 93050"},"SINAPI","93050","LUVA PASSANTE EM COBRE, DN 22 MM, SEM ANEL DE SOLDA, INSTALADO EM PRUMADA DE HIDRÁULICA PREDIAL - FORNECIMENTO E INSTALAÇÃO. AF_04/2022","UN","11,09",null,null,"AS",{"$f":"IF($B9260=\"SINAPI\",IF(ISNUMBER(MATCH(Banco!$C9260,Analitico!$A:$A,0)),INDEX(Analitico!E:E,MATCH(Banco!$C9260,Analitico!$A:$A,0))&\"%\",\"\"),\"\")","v":"19,5454545%"},{"$f":"IF($B9260=\"SINAPI\",IF(ISNUMBER(MATCH(Banco!$C9260,Analitico!$A:$A,0)),INDEX(Analitico!F:F,MATCH(Banco!$C9260,Analitico!$A:$A,0))&\"%\",\"\"),\"\")","v":"%"}]
[{"$f":"CONCATENAR","v":"SINAPI 93061"},"SINAPI","93061","LUVA PASSANTE EM COBRE, DN 35 MM, SEM ANEL DE SOLDA, INSTALADO EM PRUMADA DE HIDRÁULICA PREDIAL - FORNECIMENTO E INSTALAÇÃO. AF_04/2022","UN","31,54",null,null,"AS",{"$f":"IF($B9269=\"SINAPI\",IF(ISNUMBER(MATCH(Banco!$C9269,Analitico!$A:$A,0)),INDEX(Analitico!E:E,MATCH(Banco!$C9269,Analitico!$A:$A,0))&\"%\",\"\"),\"\")","v":"11,1923688%"},{"$f":"IF($B9269=\"SINAPI\",IF(ISNUMBER(MATCH(Banco!$C9269,Analitico!$A:$A,0)),INDEX(Analitico!F:F,MATCH(Banco!$C9269,Analitico!$A:$A,0))&\"%\",\"\"),\"\")","v":"%"}]
[{"$f":"CONCATENAR","v":"SINAPI 93062"},"SINAPI","93062","BUCHA DE REDUÇÃO EM COBRE, DN 35 MM X 28 MM, SEM ANEL DE SOLDA, PONTA X BOLSA, INSTALADO EM PRUMADA DE HIDRÁULICA PREDIAL - FORNECIMENTO E INSTALAÇÃO. AF_04/2022","UN","26,59",null,null,"AS",{"$f":"IF($B9270=\"SINAPI\",IF(ISNUMBER(MATCH(Banco!$C9270,Analitico!$A:$A,0)),INDEX(Analitico!E:E,MATCH(Banco!$C9270,Analitico!$A:$A,0))&\"%\",\"\"),\"\")","v":"11,8778280%"},{"$f":"IF($B9270=\"SINAPI\",IF(ISNUMBER(MATCH(Banco!$C9270,Analitico!$A:$A,0)),INDEX(Analitico!F:F,MATCH(Banco!$C9270,Analitico!$A:$A,0))&\"%\",\"\"),\"\")","v":"%"}]
[{"$f":"CONCATENAR","v":"SINAPI 93071"},"SINAPI","93071","BUCHA DE REDUÇÃO EM COBRE, DN 66 MM X 54 MM, SEM ANEL DE SOLDA, PONTA X BOLSA, INSTALADO EM PRUMADA DE HIDRÁULICA PREDIAL - FORNECIMENTO E INSTALAÇÃO. AF_04/2022","UN","167,63",null,null,"AS",{"$f":"IF($B9279=\"SINAPI\",IF(ISNUMBER(MATCH(Banco!$C9279,Analitico!$A:$A,0)),INDEX(Analitico!E:E,MATCH(Banco!$C9279,Analitico!$A:$A,0))&\"%\",\"\"),\"\")","v":"3,6647964%"},{"$f":"IF($B9279=\"SINAPI\",IF(ISNUMBER(MATCH(Banco!$C9279,Analitico!$A:$A,0)),INDEX(Analitico!F:F,MATCH(Banco!$C9279,Analitico!$A:$A,0))&\"%\",\"\"),\"\")","v":"%"}]
[{"$f":"CONCATENAR","v":"SINAPI 93081"},"SINAPI","93081","CONECTOR EM BRONZE/LATÃO, DN 15 MM X 1/2\", SEM ANEL DE SOLDA, BOLSA X ROSCA F, INSTALADO EM RAMAL DE DISTRIBUIÇÃO DE HIDRÁULICA PREDIAL - FORNECIMENTO E INSTALAÇÃO. AF_04/2022","UN","18,30",null,null,"AS",{"$f":"IF($B9288=\"SINAPI\",IF(ISNUMBER(MATCH(Banco!$C9288,Analitico!$A:$A,0)),INDEX(Analitico!E:E,MATCH(Banco!$C9288,Analitico!$A:$A,0))&\"%\",\"\"),\"\")","v":"17,1052631%"},{"$f":"IF($B9288=\"SINAPI\",IF(ISNUMBER(MATCH(Banco!$C9288,Analitico!$A:$A,0)),INDEX(Analitico!F:F,MATCH(Banco!$C9288,Analitico!$A:$A,0))&\"%\",\"\"),\"\")","v":"%"}]
[{"$f":"CONCATENAR","v":"SINAPI 93091"},"SINAPI","93091","BUCHA DE REDUÇÃO EM COBRE, DN 28 MM X 22 MM, SEM ANEL DE SOLDA, INSTALADO EM RAMAL DE DISTRIBUIÇÃO DE HIDRÁULICA PREDIAL - FORNECIMENTO E INSTALAÇÃO. AF_04/2022","UN","16,35",null,null,"AS",{"$f":"IF($B9298=\"SINAPI\",IF(ISNUMBER(MATCH(Banco!$C9298,Analitico!$A:$A,0)),INDEX(Analitico!E:E,MATCH(Banco!$C9298,Analitico!$A:$A,0))&\"%\",\"\"),\"\")","v":"27,1665642%"},{"$f":"IF($B9298=\"SINAPI\",IF(ISNUMBER(MATCH(Banco!$C9298,Analitico!$A:$A,0)),INDEX(Analitico!F:F,MATCH(Banco!$C9298,Analitico!$A:$A,0))&\"%\",\"\"),\"\")","v":"%"}]
[{"$f":"CONCATENAR","v":"SINAPI 93102"},"SINAPI","93102","CURVA EM COBRE, DN 28 MM, 45 GRAUS, SEM ANEL DE SOLDA, BOLSA X BOLSA, INSTALADO EM RAMAL E SUB-RAMAL DE HIDRÁULICA PREDIAL - FORNECIMENTO E INSTALAÇÃO. AF_04/2022","UN","34,40",null,null,"AS",{"$f":"IF($B9307=\"SINAPI\",IF(ISNUMBER(MATCH(Banco!$C9307,Analitico!$A:$A,0)),INDEX(Analitico!E:E,MATCH(Banco!$C9307,Analitico!$A:$A,0))&\"%\",\"\"),\"\")","v":"32,1490972%"},{"$f":"IF($B9307=\"SINAPI\",IF(ISNUMBER(MATCH(Banco!$C9307,Analitico!$A:$A,0)),INDEX(Analitico!F:F,MATCH(Banco!$C9307,Analitico!$A:$A,0))&\"%\",\"\"),\"\")","v":"%"}]
[{"$f":"CONCATENAR","v":"SINAPI 93111"},"SINAPI","93111","CONECTOR EM BRONZE/LATÃO, DN 22 MM X 3/4\", SEM ANEL DE SOLDA, BOLSA X ROSCA F, INSTALADO EM RAMAL E SUB-RAMAL DE HIDRÁULICA PREDIAL - FORNECIMENTO E INSTALAÇÃO. AF_04/2022","UN","24,43",null,null,"AS",{"$f":"IF($B9316=\"SINAPI\",IF(ISNUMBER(MATCH(Banco!$C9316,Analitico!$A:$A,0)),INDEX(Analitico!E:E,MATCH(Banco!$C9316,Analitico!$A:$A,0))&\"%\",\"\"),\"\")","v":"19,9425523%"},{"$f":"IF($B9316=\"SINAPI\",IF(ISNUMBER(MATCH(Banco!$C9316,Analitico!$A:$A,0)),INDEX(Analitico!F:F,MATCH(Banco!$C9316,Analitico!$A:$A,0))&\"%\",\"\"),\"\")","v":"%"}]
[{"$f":"CONCATENAR","v":"SINAPI 93120"},"SINAPI","93120","COTOVELO EM BRONZE/LATÃO, DN 22 MM X 1/2\", 90 GRAUS, SEM ANEL DE SOLDA, BOLSA X ROSCA F, INSTALADO EM PRUMADA DE HIDRÁULICA PREDIAL - FORNECIMENTO E INSTALAÇÃO. AF_04/2022","UN","25,48",null,null,"AS",{"$f":"IF($B9325=\"SINAPI\",IF(ISNUMBER(MATCH(Banco!$C9325,Analitico!$A:$A,0)),INDEX(Analitico!E:E,MATCH(Banco!$C9325,Analitico!$A:$A,0))&\"%\",\"\"),\"\")","v":"11,5263571%"},{"$f":"IF($B9325=\"SINAPI\",IF(ISNUMBER(MATCH(Banco!$C9325,Analitico!$A:$A,0)),INDEX(Analitico!F:F,MATCH(Banco!$C9325,Analitico!$A:$A,0))&\"%\",\"\"),\"\")","v":"%"}]
[{"$f":"CONCATENAR","v":"SINAPI 94466"},"SINAPI","94466","NIPLE, EM FERRO GALVANIZADO, CONEXÃO ROSQUEADA, DN 50 MM (2\"), INSTALADO EM RESERVAÇÃO PREDIAL DE ÁGUA - FORNECIMENTO E INSTALAÇÃO. AF_04/2024","UN","47,71",null,null,"CR",{"$f":"IF($B9334=\"SINAPI\",IF(ISNUMBER(MATCH(Banco!$C9334,Analitico!$A:$A,0)),INDEX(Analitico!E:E,MATCH(Banco!$C9334,Analitico!$A:$A,0))&\"%\",\"\"),\"\")","v":"24,0604660%"},{"$f":"IF($B9334=\"SINAPI\",IF(ISNUMBER(MATCH(Banco!$C9334,Analitico!$A:$A,0)),INDEX(Analitico!F:F,MATCH(Banco!$C9334,Analitico!$A:$A,0))&\"%\",\"\"),\"\")","v":"%"}]
[{"$f":"CONCATENAR","v":"SINAPI 94467"},"SINAPI","94467","LUVA, EM FERRO GALVANIZADO, CONEXÃO ROSQUEADA, DN 65 MM (2 1/2\"), INSTALADO EM RESERVAÇÃO PREDIAL DE ÁGUA - FORNECIMENTO E INSTALAÇÃO. AF_04/2024","UN","77,04",null,null,"CR",{"$f":"IF($B9335=\"SINAPI\",IF(ISNUMBER(MATCH(Banco!$C9335,Analitico!$A:$A,0)),INDEX(Analitico!E:E,MATCH(Banco!$C9335,Analitico!$A:$A,0))&\"%\",\"\"),\"\")","v":"17,3963882%"},{"$f":"IF($B9335=\"SINAPI\",IF(ISNUMBER(MATCH(Banco!$C9335,Analitico!$A:$A,0)),INDEX(Analitico!F:F,MATCH(Banco!$C9335,Analitico!$A:$A,0))&\"%\",\"\"),\"\")","v":"%"}]
[{"$f":"CONCATENAR","v":"SINAPI 94477"},"SINAPI","94477","TÊ, EM FERRO GALVANIZADO, CONEXÃO ROSQUEADA, DN 50 MM (2\"), INSTALADO EM RESERVAÇÃO PREDIAL DE ÁGUA - FORNECIMENTO E INSTALAÇÃO. AF_04/2024","UN","91,49",null,null,"CR",{"$f":"IF($B9345=\"SINAPI\",IF(ISNUMBER(MATCH(Banco!$C9345,Analitico!$A:$A,0)),INDEX(Analitico!E:E,MATCH(Banco!$C9345,Analitico!$A:$A,0))&\"%\",\"\"),\"\")","v":"25,0929774%"},{"$f":"IF($B9345=\"SINAPI\",IF(ISNUMBER(MATCH(Banco!$C9345,Analitico!$A:$A,0)),INDEX(Analitico!F:F,MATCH(Banco!$C9345,Analitico!$A:$A,0))&\"%\",\"\"),\"\")","v":"%"}]
[{"$f":"CONCATENAR","v":"SINAPI 94616"},"SINAPI","94616","COTOVELO EM COBRE, DN 66 MM, 90 GRAUS, SEM ANEL DE SOLDA, INSTALADO EM RESERVAÇÃO PREDIAL DE ÁGUA - FORNECIMENTO E INSTALAÇÃO. AF_04/2024","UN","369,71",null,null,"AS",{"$f":"IF($B9354=\"SINAPI\",IF(ISNUMBER(MATCH(Banco!$C9354,Analitico!$A:$A,0)),INDEX(Analitico!E:E,MATCH(Banco!$C9354,Analitico!$A:$A,0))&\"%\",\"\"),\"\")","v":"6,3169570%"},{"$f":"IF($B9354=\"SINAPI\",IF(ISNUMBER(MATCH(Banco!$C9354,Analitico!$A:$A,0)),INDEX(Analitico!F:F,MATCH(Banco!$C9354,Analitico!$A:$A,0))&\"%\",\"\"),\"\")","v":"%"}]
[{"$f":"CONCATENAR","v":"SINAPI 94657"},"SINAPI","94657","LUVA PVC, SOLDÁVEL, DN  25 MM, INSTALADO EM RESERVAÇÃO PREDIAL DE ÁGUA - FORNECIMENTO E INSTALAÇÃO. AF_04/2024","UN","3,83",null,null,"CR",{"$f":"IF($B9363=\"SINAPI\",IF(ISNUMBER(MATCH(Banco!$C9363,Analitico!$A:$A,0)),INDEX(Analitico!E:E,MATCH(Banco!$C9363,Analitico!$A:$A,0))&\"%\",\"\"),\"\")","v":"36,7724867%"},{"$f":"IF($B9363=\"SINAPI\",IF(ISNUMBER(MATCH(Banco!$C9363,Analitico!$A:$A,0)),INDEX(Analitico!F:F,MATCH(Banco!$C9363,Analitico!$A:$A,0))&\"%\",\"\"),\"\")","v":"%"}]
[{"$f":"CONCATENAR","v":"SINAPI 94666"},"SINAPI","94666","ADAPTADOR CURTO COM BOLSA E ROSCA PARA REGISTRO, PVC, SOLDÁVEL, DN 75 MM X 2 1/2\", INSTALADO EM RESERVAÇÃO PREDIAL DE ÁGUA - FORNECIMENTO E INSTALAÇÃO. AF_04/2024","UN","32,25",null,null,"CR",{"$f":"IF($B9372=\"SINAPI\",IF(ISNUMBER(MATCH(Banco!$C9372,Analitico!$A:$A,0)),INDEX(Analitico!E:E,MATCH(Banco!$C9372,Analitico!$A:$A,0))&\"%\",\"\"),\"\")","v":"21,0264385%"},{"$f":"IF($B9372=\"SINAPI\",IF(ISNUMBER(MATCH(Banco!$C9372,Analitico!$A:$A,0)),INDEX(Analitico!F:F,MATCH(Banco!$C9372,Analitico!$A:$A,0))&\"%\",\"\"),\"\")","v":"%"}]
[{"$f":"CONCATENAR","v":"SINAPI 94675"},"SINAPI","94675","CURVA 90 GRAUS, PVC, SOLDÁVEL, DN 32 MM, INSTALADO EM RESERVAÇÃO PREDIAL DE ÁGUA - FORNECIMENTO E INSTALAÇÃO. AF_04/2024","UN","11,85",null,null,"CR",{"$f":"IF($B9381=\"SINAPI\",IF(ISNUMBER(MATCH(Banco!$C9381,Analitico!$A:$A,0)),INDEX(Analitico!E:E,MATCH(Banco!$C9381,Analitico!$A:$A,0))&\"%\",\"\"),\"\")","v":"23,2203389%"},{"$f":"IF($B9381=\"SINAPI\",IF(ISNUMBER(MATCH(Banco!$C9381,Analitico!$A:$A,0)),INDEX(Analitico!F:F,MATCH(Banco!$C9381,Analitico!$A:$A,0))&\"%\",\"\"),\"\")","v":"%"}]
[{"$f":"CONCATENAR","v":"SINAPI 94685"},"SINAPI","94685","CURVA 90 GRAUS, PVC, SOLDÁVEL, DN 85 MM, INSTALADO EM RESERVAÇÃO PREDIAL DE ÁGUA - FORNECIMENTO E INSTALAÇÃO. AF_04/2024","UN","94,11",null,null,"CR",{"$f":"IF($B9391=\"SINAPI\",IF(ISNUMBER(MATCH(Banco!$C9391,Analitico!$A:$A,0)),INDEX(Analitico!E:E,MATCH(Banco!$C9391,Analitico!$A:$A,0))&\"%\",\"\"),\"\")","v":"13,5488673%"},{"$f":"IF($B9391=\"SINAPI\",IF(ISNUMBER(MATCH(Banco!$C9391,Analitico!$A:$A,0)),INDEX(Analitico!F:F,MATCH(Banco!$C9391,Analitico!$A:$A,0))&\"%\",\"\"),\"\")","v":"%"}]
[{"$f":"CONCATENAR","v":"SINAPI 94694"},"SINAPI","94694","TÊ, PVC, SOLDÁVEL, DN 50 MM INSTALADO EM RESERVAÇÃO PREDIAL DE ÁGUA - FORNECIMENTO E INSTALAÇÃO. AF_04/2024","UN","23,37",null,null,"CR",{"$f":"IF($B9400=\"SINAPI\",IF(ISNUMBER(MATCH(Banco!$C9400,Analitico!$A:$A,0)),INDEX(Analitico!E:E,MATCH(Banco!$C9400,Analitico!$A:$A,0))&\"%\",\"\"),\"\")","v":"29,2525773%"},{"$f":"IF($B9400=\"SINAPI\",IF(ISNUMBER(MATCH(Banco!$C9400,Analitico!$A:$A,0)),INDEX(Analitico!F:F,MATCH(Banco!$C9400,Analitico!$A:$A,0))&\"%\",\"\"),\"\")","v":"%"}]
[{"$f":"CONCATENAR","v":"SINAPI 94695"},"SINAPI","94695","TÊ DE REDUÇÃO, PVC, SOLDÁVEL, DN 50 MM X 40 MM, INSTALADO EM RESERVAÇÃO PREDIAL DE ÁGUA - FORNECIMENTO E INSTALAÇÃO. AF_04/2024","UN","30,89",null,null,"CR",{"$f":"IF($B9401=\"SINAPI\",IF(ISNUMBER(MATCH(Banco!$C9401,Analitico!$A:$A,0)),INDEX(Analitico!E:E,MATCH(Banco!$C9401,Analitico!$A:$A,0))&\"%\",\"\"),\"\")","v":"20,0519143%"},{"$f":"IF($B9401=\"SINAPI\",IF(ISNUMBER(MATCH(Banco!$C9401,Analitico!$A:$A,0)),INDEX(Analitico!F:F,MATCH(Banco!$C9401,Analitico!$A:$A,0))&\"%\",\"\"),\"\")","v":"%"}]
[{"$f":"CONCATENAR","v":"SINAPI 94704"},"SINAPI","94704","ADAPTADOR COM FLANGE E ANEL DE VEDAÇÃO, PVC, SOLDÁVEL, DN 32 MM X 1\", INSTALADO EM RESERVAÇÃO PREDIAL DE ÁGUA - FORNECIMENTO E INSTALAÇÃO. AF_04/2024","UN","26,62",null,null,"CR",{"$f":"IF($B9410=\"SINAPI\",IF(ISNUMBER(MATCH(Banco!$C9410,Analitico!$A:$A,0)),INDEX(Analitico!E:E,MATCH(Banco!$C9410,Analitico!$A:$A,0))&\"%\",\"\"),\"\")","v":"18,9006024%"},{"$f":"IF($B9410=\"SINAPI\",IF(ISNUMBER(MATCH(Banco!$C9410,Analitico!$A:$A,0)),INDEX(Analitico!F:F,MATCH(Banco!$C9410,Analitico!$A:$A,0))&\"%\",\"\"),\"\")","v":"%"}]
[{"$f":"CONCATENAR","v":"SINAPI 94725"},"SINAPI","94725","LUVA, CPVC, SOLDÁVEL, DN 22 MM, INSTALADO EM RESERVAÇÃO PREDIAL DE ÁGUA - FORNECIMENTO E INSTALAÇÃO. AF_04/2024","UN","6,93",null,null,"CR",{"$f":"IF($B9418=\"SINAPI\",IF(ISNUMBER(MATCH(Banco!$C9418,Analitico!$A:$A,0)),INDEX(Analitico!E:E,MATCH(Banco!$C9418,Analitico!$A:$A,0))&\"%\",\"\"),\"\")","v":"18,0494905%"},{"$f":"IF($B9418=\"SINAPI\",IF(ISNUMBER(MATCH(Banco!$C9418,Analitico!$A:$A,0)),INDEX(Analitico!F:F,MATCH(Banco!$C9418,Analitico!$A:$A,0))&\"%\",\"\"),\"\")","v":"%"}]
[{"$f":"CONCATENAR","v":"SINAPI 94737"},"SINAPI","94737","LUVA, CPVC, SOLDÁVEL, DN 89 MM, INSTALADO EM RESERVAÇÃO PREDIAL DE ÁGUA - FORNECIMENTO E INSTALAÇÃO. AF_04/2024","UN","184,20",null,null,"CR",{"$f":"IF($B9429=\"SINAPI\",IF(ISNUMBER(MATCH(Banco!$C9429,Analitico!$A:$A,0)),INDEX(Analitico!E:E,MATCH(Banco!$C9429,Analitico!$A:$A,0))&\"%\",\"\"),\"\")","v":"5,0130349%"},{"$f":"IF($B9429=\"SINAPI\",IF(ISNUMBER(MATCH(Banco!$C9429,Analitico!$A:$A,0)),INDEX(Analitico!F:F,MATCH(Banco!$C9429,Analitico!$A:$A,0))&\"%\",\"\"),\"\")","v":"%"}]
[{"$f":"CONCATENAR","v":"SINAPI 94748"},"SINAPI","94748","JOELHO 90 GRAUS, CPVC, SOLDÁVEL, DN 54 MM, INSTALADO EM RESERVAÇÃO PREDIAL DE ÁGUA - FORNECIMENTO E INSTALAÇÃO. AF_04/2024","UN","79,64",null,null,"CR",{"$f":"IF($B9438=\"SINAPI\",IF(ISNUMBER(MATCH(Banco!$C9438,Analitico!$A:$A,0)),INDEX(Analitico!E:E,MATCH(Banco!$C9438,Analitico!$A:$A,0))&\"%\",\"\"),\"\")","v":"7,2775263%"},{"$f":"IF($B9438=\"SINAPI\",IF(ISNUMBER(MATCH(Banco!$C9438,Analitico!$A:$A,0)),INDEX(Analitico!F:F,MATCH(Banco!$C9438,Analitico!$A:$A,0))&\"%\",\"\"),\"\")","v":"%"}]
[{"$f":"CONCATENAR","v":"SINAPI 94761"},"SINAPI","94761","TE, CPVC, SOLDÁVEL, DN 73 MM, INSTALADO EM RESERVAÇÃO PREDIAL DE ÁGUA - FORNECIMENTO E INSTALAÇÃO. AF_04/2024","UN","216,23",null,null,"CR",{"$f":"IF($B9447=\"SINAPI\",IF(ISNUMBER(MATCH(Banco!$C9447,Analitico!$A:$A,0)),INDEX(Analitico!E:E,MATCH(Banco!$C9447,Analitico!$A:$A,0))&\"%\",\"\"),\"\")","v":"5,9724278%"},{"$f":"IF($B9447=\"SINAPI\",IF(ISNUMBER(MATCH(Banco!$C9447,Analitico!$A:$A,0)),INDEX(Analitico!F:F,MATCH(Banco!$C9447,Analitico!$A:$A,0))&\"%\",\"\"),\"\")","v":"%"}]
[{"$f":"CONCATENAR","v":"SINAPI 94783"},"SINAPI","94783","ADAPTADOR COM FLANGE E ANEL DE VEDAÇÃO, PVC, SOLDÁVEL, DN  20 MM X 1/2\", INSTALADO EM RESERVAÇÃO PREDIAL DE ÁGUA - FORNECIMENTO E INSTALAÇÃO. AF_04/2024","UN","18,42",null,null,"CR",{"$f":"IF($B9456=\"SINAPI\",IF(ISNUMBER(MATCH(Banco!$C9456,Analitico!$A:$A,0)),INDEX(Analitico!E:E,MATCH(Banco!$C9456,Analitico!$A:$A,0))&\"%\",\"\"),\"\")","v":"26,0893246%"},{"$f":"IF($B9456=\"SINAPI\",IF(ISNUMBER(MATCH(Banco!$C9456,Analitico!$A:$A,0)),INDEX(Analitico!F:F,MATCH(Banco!$C9456,Analitico!$A:$A,0))&\"%\",\"\"),\"\")","v":"%"}]
[{"$f":"CONCATENAR","v":"SINAPI 96638"},"SINAPI","96638","JOELHO 45 GRAUS, PPR, DN 25 MM, CLASSE PN 25, INSTALADO EM RAMAL OU SUB-RAMAL DE ÁGUA   FORNECIMENTO E INSTALAÇÃO. AF_08/2022","UN","15,04",null,null,"CR",{"$f":"IF($B9464=\"SINAPI\",IF(ISNUMBER(MATCH(Banco!$C9464,Analitico!$A:$A,0)),INDEX(Analitico!E:E,MATCH(Banco!$C9464,Analitico!$A:$A,0))&\"%\",\"\"),\"\")","v":"63,5514020%"},{"$f":"IF($B9464=\"SINAPI\",IF(ISNUMBER(MATCH(Banco!$C9464,Analitico!$A:$A,0)),INDEX(Analitico!F:F,MATCH(Banco!$C9464,Analitico!$A:$A,0))&\"%\",\"\"),\"\")","v":"%"}]
[{"$f":"CONCATENAR","v":"SINAPI 96641"},"SINAPI","96641","CONECTOR FÊMEA, PPR, 25 X 1/2  , CLASSE PN 25, INSTALADO EM RAMAL OU SUB-RAMAL DE ÁGUA   FORNECIMENTO E INSTALAÇÃO. AF_08/2022","UN","15,81",null,null,"CR",{"$f":"IF($B9467=\"SINAPI\",IF(ISNUMBER(MATCH(Banco!$C9467,Analitico!$A:$A,0)),INDEX(Analitico!E:E,MATCH(Banco!$C9467,Analitico!$A:$A,0))&\"%\",\"\"),\"\")","v":"28,5895806%"},{"$f":"IF($B9467=\"SINAPI\",IF(ISNUMBER(MATCH(Banco!$C9467,Analitico!$A:$A,0)),INDEX(Analitico!F:F,MATCH(Banco!$C9467,Analitico!$A:$A,0))&\"%\",\"\"),\"\")","v":"%"}]
[{"$f":"CONCATENAR","v":"SINAPI 96656"},"SINAPI","96656","LUVA, PPR, DN 25 MM, CLASSE PN 25, INSTALADO EM RAMAL DE DISTRIBUIÇÃO DE ÁGUA   FORNECIMENTO E INSTALAÇÃO. AF_08/2022","UN","5,91",null,null,"CR",{"$f":"IF($B9476=\"SINAPI\",IF(ISNUMBER(MATCH(Banco!$C9476,Analitico!$A:$A,0)),INDEX(Analitico!E:E,MATCH(Banco!$C9476,Analitico!$A:$A,0))&\"%\",\"\"),\"\")","v":"51,5410960%"},{"$f":"IF($B9476=\"SINAPI\",IF(ISNUMBER(MATCH(Banco!$C9476,Analitico!$A:$A,0)),INDEX(Analitico!F:F,MATCH(Banco!$C9476,Analitico!$A:$A,0))&\"%\",\"\"),\"\")","v":"%"}]
[{"$f":"CONCATENAR","v":"SINAPI 96665"},"SINAPI","96665","TÊ NORMAL, PPR, DN 25 MM, CLASSE PN 25, INSTALADO EM RAMAL DE DISTRIBUIÇÃO DE ÁGUA   FORNECIMENTO E INSTALAÇÃO. AF_08/2022","UN","10,70",null,null,"CR",{"$f":"IF($B9485=\"SINAPI\",IF(ISNUMBER(MATCH(Banco!$C9485,Analitico!$A:$A,0)),INDEX(Analitico!E:E,MATCH(Banco!$C9485,Analitico!$A:$A,0))&\"%\",\"\"),\"\")","v":"56,8203200%"},{"$f":"IF($B9485=\"SINAPI\",IF(ISNUMBER(MATCH(Banco!$C9485,Analitico!$A:$A,0)),INDEX(Analitico!F:F,MATCH(Banco!$C9485,Analitico!$A:$A,0))&\"%\",\"\"),\"\")","v":"%"}]
[{"$f":"CONCATENAR","v":"SINAPI 96690"},"SINAPI","96690","JOELHO 90 GRAUS, PPR, DN 50 MM, CLASSE PN 25, INSTALADO EM PRUMADA DE ÁGUA   FORNECIMENTO E INSTALAÇÃO . AF_08/2022","UN","27,96",null,null,"CR",{"$f":"IF($B9494=\"SINAPI\",IF(ISNUMBER(MATCH(Banco!$C9494,Analitico!$A:$A,0)),INDEX(Analitico!E:E,MATCH(Banco!$C9494,Analitico!$A:$A,0))&\"%\",\"\"),\"\")","v":"40,5163140%"},{"$f":"IF($B9494=\"SINAPI\",IF(ISNUMBER(MATCH(Banco!$C9494,Analitico!$A:$A,0)),INDEX(Analitico!F:F,MATCH(Banco!$C9494,Analitico!$A:$A,0))&\"%\",\"\"),\"\")","v":"%"}]
[{"$f":"CONCATENAR","v":"SINAPI 96697"},"SINAPI","96697","JOELHO 90 GRAUS, PPR, DN 110 MM, CLASSE PN 25, INSTALADO EM PRUMADA DE ÁGUA   FORNECIMENTO E INSTALAÇÃO . AF_08/2022","UN","309,48",null,null,"CR",{"$f":"IF($B9501=\"SINAPI\",IF(ISNUMBER(MATCH(Banco!$C9501,Analitico!$A:$A,0)),INDEX(Analitico!E:E,MATCH(Banco!$C9501,Analitico!$A:$A,0))&\"%\",\"\"),\"\")","v":"7,5113122%"},{"$f":"IF($B9501=\"SINAPI\",IF(ISNUMBER(MATCH(Banco!$C9501,Analitico!$A:$A,0)),INDEX(Analitico!F:F,MATCH(Banco!$C9501,Analitico!$A:$A,0))&\"%\",\"\"),\"\")","v":"%"}]
[{"$f":"CONCATENAR","v":"SINAPI 96709"},"SINAPI","96709","LUVA, PPR, DN 110 MM, CLASSE PN 25, INSTALADO EM PRUMADA DE ÁGUA   FORNECIMENTO E INSTALAÇÃO. AF_08/2022","UN","101,91",null,null,"CR",{"$f":"IF($B9513=\"SINAPI\",IF(ISNUMBER(MATCH(Banco!$C9513,Analitico!$A:$A,0)),INDEX(Analitico!E:E,MATCH(Banco!$C9513,Analitico!$A:$A,0))&\"%\",\"\"),\"\")","v":"15,2131211%"},{"$f":"IF($B9513=\"SINAPI\",IF(ISNUMBER(MATCH(Banco!$C9513,Analitico!$A:$A,0)),INDEX(Analitico!F:F,MATCH(Banco!$C9513,Analitico!$A:$A,0))&\"%\",\"\"),\"\")","v":"%"}]
[{"$f":"CONCATENAR","v":"SINAPI 96736"},"SINAPI","96736","LUVA, PPR, DN 20 MM, INSTALADO EM RESERVAÇÃO PREDIAL DE ÁGUA - FORNECIMENTO E INSTALAÇÃO. AF_04/2024","UN","5,38",null,null,"CR",{"$f":"IF($B9522=\"SINAPI\",IF(ISNUMBER(MATCH(Banco!$C9522,Analitico!$A:$A,0)),INDEX(Analitico!E:E,MATCH(Banco!$C9522,Analitico!$A:$A,0))&\"%\",\"\"),\"\")","v":"45,9662288%"},{"$f":"IF($B9522=\"SINAPI\",IF(ISNUMBER(MATCH(Banco!$C9522,Analitico!$A:$A,0)),INDEX(Analitico!F:F,MATCH(Banco!$C9522,Analitico!$A:$A,0))&\"%\",\"\"),\"\")","v":"%"}]
[{"$f":"CONCATENAR","v":"SINAPI 96745"},"SINAPI","96745","LUVA, PPR, DN 90 MM, CLASSE PN 25, INSTALADO EM RESERVAÇÃO PREDIAL DE ÁGUA - FORNECIMENTO E INSTALAÇÃO. AF_04/2024","UN","77,12",null,null,"CR",{"$f":"IF($B9531=\"SINAPI\",IF(ISNUMBER(MATCH(Banco!$C9531,Analitico!$A:$A,0)),INDEX(Analitico!E:E,MATCH(Banco!$C9531,Analitico!$A:$A,0))&\"%\",\"\"),\"\")","v":"13,9224082%"},{"$f":"IF($B9531=\"SINAPI\",IF(ISNUMBER(MATCH(Banco!$C9531,Analitico!$A:$A,0)),INDEX(Analitico!F:F,MATCH(Banco!$C9531,Analitico!$A:$A,0))&\"%\",\"\"),\"\")","v":"%"}]
[{"$f":"CONCATENAR","v":"SINAPI 96746"},"SINAPI","96746","LUVA, PPR, DN 110 MM, CLASSE PN 25, INSTALADO EM RESERVAÇÃO PREDIAL DE ÁGUA - FORNECIMENTO E INSTALAÇÃO. AF_04/2024","UN","101,31",null,null,"CR",{"$f":"IF($B9532=\"SINAPI\",IF(ISNUMBER(MATCH(Banco!$C9532,Analitico!$A:$A,0)),INDEX(Analitico!E:E,MATCH(Banco!$C9532,Analitico!$A:$A,0))&\"%\",\"\"),\"\")","v":"14,8389646%"},{"$f":"IF($B9532=\"SINAPI\",IF(ISNUMBER(MATCH(Banco!$C9532,Analitico!$A:$A,0)),INDEX(Analitico!F:F,MATCH(Banco!$C9532,Analitico!$A:$A,0))&\"%\",\"\"),\"\")","v":"%"}]
[{"$f":"CONCATENAR","v":"SINAPI 96763"},"SINAPI","96763","TÊ, PPR, DN 90 MM, INSTALADO EM RESERVAÇÃO PREDIAL DE ÁGUA - FORNECIMENTO E INSTALAÇÃO. AF_04/2024","UN","141,32",null,null,"CR",{"$f":"IF($B9547=\"SINAPI\",IF(ISNUMBER(MATCH(Banco!$C9547,Analitico!$A:$A,0)),INDEX(Analitico!E:E,MATCH(Banco!$C9547,Analitico!$A:$A,0))&\"%\",\"\"),\"\")","v":"15,1989239%"},{"$f":"IF($B9547=\"SINAPI\",IF(ISNUMBER(MATCH(Banco!$C9547,Analitico!$A:$A,0)),INDEX(Analitico!F:F,MATCH(Banco!$C9547,Analitico!$A:$A,0))&\"%\",\"\"),\"\")","v":"%"}]
[{"$f":"CONCATENAR","v":"SINAPI 96804"},"SINAPI","96804","KIT CHASSI PEX, PRÉ-FABRICADO, PARA ÁREA DE SERVIÇO COM TANQUE E MÁQUINA DE LAVAR ROUPA, INCLUSO QUADRO METÁLICO, TUBOS E CONEXÕES POR CRIMPAGEM - FORNECIMENTO E INSTALAÇÃO. AF_02/2023","UN","191,06",null,null,"CR",{"$f":"IF($B9551=\"SINAPI\",IF(ISNUMBER(MATCH(Banco!$C9551,Analitico!$A:$A,0)),INDEX(Analitico!E:E,MATCH(Banco!$C9551,Analitico!$A:$A,0))&\"%\",\"\"),\"\")","v":"14,7128121%"},{"$f":"IF($B9551=\"SINAPI\",IF(ISNUMBER(MATCH(Banco!$C9551,Analitico!$A:$A,0)),INDEX(Analitico!F:F,MATCH(Banco!$C9551,Analitico!$A:$A,0))&\"%\",\"\"),\"\")","v":"%"}]
[{"$f":"CONCATENAR","v":"SINAPI 96813"},"SINAPI","96813","CONEXÃO FIXA, ROSCA FÊMEA, METÁLICA, PARA INSTALAÇÕES EM PEX ÁGUA, DN 20 MM X 3/4\", COM ANEL DESLIZANTE. FORNECIMENTO E INSTALAÇÃO. AF_02/2023","UN","31,26",null,null,"CR",{"$f":"IF($B9560=\"SINAPI\",IF(ISNUMBER(MATCH(Banco!$C9560,Analitico!$A:$A,0)),INDEX(Analitico!E:E,MATCH(Banco!$C9560,Analitico!$A:$A,0))&\"%\",\"\"),\"\")","v":"24,1821680%"},{"$f":"IF($B9560=\"SINAPI\",IF(ISNUMBER(MATCH(Banco!$C9560,Analitico!$A:$A,0)),INDEX(Analitico!F:F,MATCH(Banco!$C9560,Analitico!$A:$A,0))&\"%\",\"\"),\"\")","v":"%"}]
[{"$f":"CONCATENAR","v":"SINAPI 96822"},"SINAPI","96822","UNIÃO DE REDUÇÃO, METÁLICA, PARA INSTALAÇÕES EM PEX ÁGUA, DN 32 X 25 MM, CONEXÃO POR ANEL DESLIZANTE - FORNECIMENTO E INSTALAÇÃO. AF_02/2023","UN","46,62",null,null,"CR",{"$f":"IF($B9569=\"SINAPI\",IF(ISNUMBER(MATCH(Banco!$C9569,Analitico!$A:$A,0)),INDEX(Analitico!E:E,MATCH(Banco!$C9569,Analitico!$A:$A,0))&\"%\",\"\"),\"\")","v":"16,1331901%"},{"$f":"IF($B9569=\"SINAPI\",IF(ISNUMBER(MATCH(Banco!$C9569,Analitico!$A:$A,0)),INDEX(Analitico!F:F,MATCH(Banco!$C9569,Analitico!$A:$A,0))&\"%\",\"\"),\"\")","v":"%"}]
[{"$f":"CONCATENAR","v":"SINAPI 96833"},"SINAPI","96833","LUVA DE REDUÇÃO PARA INSTALAÇÕES EM PEX ÁGUA, DN 25 X 16 MM, CONEXÃO POR CRIMPAGEM - FORNECIMENTO E INSTALAÇÃO. AF_02/2023","UN","38,51",null,null,"CR",{"$f":"IF($B9578=\"SINAPI\",IF(ISNUMBER(MATCH(Banco!$C9578,Analitico!$A:$A,0)),INDEX(Analitico!E:E,MATCH(Banco!$C9578,Analitico!$A:$A,0))&\"%\",\"\"),\"\")","v":"10,4112441%"},{"$f":"IF($B9578=\"SINAPI\",IF(ISNUMBER(MATCH(Banco!$C9578,Analitico!$A:$A,0)),INDEX(Analitico!F:F,MATCH(Banco!$C9578,Analitico!$A:$A,0))&\"%\",\"\"),\"\")","v":"%"}]
[{"$f":"CONCATENAR","v":"SINAPI 96840"},"SINAPI","96840","JOELHO 90 GRAUS, METÁLICO, PARA INSTALAÇÕES EM PEX ÁGUA, DN 20 MM, CONEXÃO POR ANEL DESLIZANTE - FORNECIMENTO E INSTALAÇÃO. AF_02/2023","UN","35,52",null,null,"CR",{"$f":"IF($B9584=\"SINAPI\",IF(ISNUMBER(MATCH(Banco!$C9584,Analitico!$A:$A,0)),INDEX(Analitico!E:E,MATCH(Banco!$C9584,Analitico!$A:$A,0))&\"%\",\"\"),\"\")","v":"23,8296672%"},{"$f":"IF($B9584=\"SINAPI\",IF(ISNUMBER(MATCH(Banco!$C9584,Analitico!$A:$A,0)),INDEX(Analitico!F:F,MATCH(Banco!$C9584,Analitico!$A:$A,0))&\"%\",\"\"),\"\")","v":"%"}]
[{"$f":"CONCATENAR","v":"SINAPI 96854"},"SINAPI","96854","JOELHO 90 GRAUS, ROSCA FÊMEA TERMINAL, PARA INSTALAÇÕES EM PEX ÁGUA, DN 20MM X 3/4\", CONEXÃO POR CRIMPAGEM - FORNECIMENTO E INSTALAÇÃO. AF_02/2023","UN","44,24",null,null,"CR",{"$f":"IF($B9597=\"SINAPI\",IF(ISNUMBER(MATCH(Banco!$C9597,Analitico!$A:$A,0)),INDEX(Analitico!E:E,MATCH(Banco!$C9597,Analitico!$A:$A,0))&\"%\",\"\"),\"\")","v":"22,7529997%"},{"$f":"IF($B9597=\"SINAPI\",IF(ISNUMBER(MATCH(Banco!$C9597,Analitico!$A:$A,0)),INDEX(Analitico!F:F,MATCH(Banco!$C9597,Analitico!$A:$A,0))&\"%\",\"\"),\"\")","v":"%"}]
[{"$f":"CONCATENAR","v":"SINAPI 96855"},"SINAPI","96855","JOELHO 90 GRAUS, PARA INSTALAÇÕES EM PEX ÁGUA, DN 25 MM, CONEXÃO POR CRIMPAGEM - FORNECIMENTO E INSTALAÇÃO. AF_02/2023","UN","52,78",null,null,"CR",{"$f":"IF($B9598=\"SINAPI\",IF(ISNUMBER(MATCH(Banco!$C9598,Analitico!$A:$A,0)),INDEX(Analitico!E:E,MATCH(Banco!$C9598,Analitico!$A:$A,0))&\"%\",\"\"),\"\")","v":"13,3776091%"},{"$f":"IF($B9598=\"SINAPI\",IF(ISNUMBER(MATCH(Banco!$C9598,Analitico!$A:$A,0)),INDEX(Analitico!F:F,MATCH(Banco!$C9598,Analitico!$A:$A,0))&\"%\",\"\"),\"\")","v":"%"}]
[{"$f":"CONCATENAR","v":"SINAPI 96868"},"SINAPI","96868","TÊ, PARA INSTALAÇÕES EM PEX ÁGUA, DN 16 MM, CONEXÃO POR CRIMPAGEM - FORNECIMENTO E INSTALAÇÃO. AF_02/2023","UN","27,36",null,null,"CR",{"$f":"IF($B9607=\"SINAPI\",IF(ISNUMBER(MATCH(Banco!$C9607,Analitico!$A:$A,0)),INDEX(Analitico!E:E,MATCH(Banco!$C9607,Analitico!$A:$A,0))&\"%\",\"\"),\"\")","v":"24,3312568%"},{"$f":"IF($B9607=\"SINAPI\",IF(ISNUMBER(MATCH(Banco!$C9607,Analitico!$A:$A,0)),INDEX(Analitico!F:F,MATCH(Banco!$C9607,Analitico!$A:$A,0))&\"%\",\"\"),\"\")","v":"%"}]
[{"$f":"CONCATENAR","v":"SINAPI 96878"},"SINAPI","96878","DISTRIBUIDOR 2 SAÍDAS, PARA INSTALAÇÕES EM PEX ÁGUA, ENTRADA DE 32 MM X 2 SAÍDAS DE 25 MM, CONEXÃO POR CRIMPAGEM - FORNECIMENTO E INSTALAÇÃO. AF_02/2023","UN","333,97",null,null,"CR",{"$f":"IF($B9616=\"SINAPI\",IF(ISNUMBER(MATCH(Banco!$C9616,Analitico!$A:$A,0)),INDEX(Analitico!E:E,MATCH(Banco!$C9616,Analitico!$A:$A,0))&\"%\",\"\"),\"\")","v":"5,1421041%"},{"$f":"IF($B9616=\"SINAPI\",IF(ISNUMBER(MATCH(Banco!$C9616,Analitico!$A:$A,0)),INDEX(Analitico!F:F,MATCH(Banco!$C9616,Analitico!$A:$A,0))&\"%\",\"\"),\"\")","v":"%"}]
[{"$f":"CONCATENAR","v":"SINAPI 97442"},"SINAPI","97442","TÊ, EM AÇO, CONEXÃO RANHURADA, DN 80 (3\"), INSTALADO EM PRUMADAS - FORNECIMENTO E INSTALAÇÃO. AF_10/2020","UN","160,90",null,null,"AS",{"$f":"IF($B9630=\"SINAPI\",IF(ISNUMBER(MATCH(Banco!$C9630,Analitico!$A:$A,0)),INDEX(Analitico!E:E,MATCH(Banco!$C9630,Analitico!$A:$A,0))&\"%\",\"\"),\"\")","v":"21,2709071%"},{"$f":"IF($B9630=\"SINAPI\",IF(ISNUMBER(MATCH(Banco!$C9630,Analitico!$A:$A,0)),INDEX(Analitico!F:F,MATCH(Banco!$C9630,Analitico!$A:$A,0))&\"%\",\"\"),\"\")","v":"%"}]
[{"$f":"CONCATENAR","v":"SINAPI 97449"},"SINAPI","97449","LUVA, EM AÇO, CONEXÃO SOLDADA, DN 80 (3\"), INSTALADO EM PRUMADAS - FORNECIMENTO E INSTALAÇÃO. AF_10/2020","UN","483,65",null,null,"CR",{"$f":"IF($B9635=\"SINAPI\",IF(ISNUMBER(MATCH(Banco!$C9635,Analitico!$A:$A,0)),INDEX(Analitico!E:E,MATCH(Banco!$C9635,Analitico!$A:$A,0))&\"%\",\"\"),\"\")","v":"7,5092029%"},{"$f":"IF($B9635=\"SINAPI\",IF(ISNUMBER(MATCH(Banco!$C9635,Analitico!$A:$A,0)),INDEX(Analitico!F:F,MATCH(Banco!$C9635,Analitico!$A:$A,0))&\"%\",\"\"),\"\")","v":"%"}]
[{"$f":"CONCATENAR","v":"SINAPI 97459"},"SINAPI","97459","TÊ, EM AÇO, CONEXÃO SOLDADA, DN 65 (2 1/2\"), INSTALADO EM PRUMADAS - FORNECIMENTO E INSTALAÇÃO. AF_10/2020","UN","1.010,81",null,null,"CR",{"$f":"IF($B9644=\"SINAPI\",IF(ISNUMBER(MATCH(Banco!$C9644,Analitico!$A:$A,0)),INDEX(Analitico!E:E,MATCH(Banco!$C9644,Analitico!$A:$A,0))&\"%\",\"\"),\"\")","v":"6,5577014%"},{"$f":"IF($B9644=\"SINAPI\",IF(ISNUMBER(MATCH(Banco!$C9644,Analitico!$A:$A,0)),INDEX(Analitico!F:F,MATCH(Banco!$C9644,Analitico!$A:$A,0))&\"%\",\"\"),\"\")","v":"%"}]
[{"$f":"CONCATENAR","v":"SINAPI 97471"},"SINAPI","97471","LUVA COM REDUÇÃO, EM AÇO, CONEXÃO SOLDADA, DN 50 X 40 MM (2\" X 1 1/2\"), INSTALADO EM REDE DE ALIMENTAÇÃO PARA HIDRANTE - FORNECIMENTO E INSTALAÇÃO. AF_10/2020","UN","228,52",null,null,"CR",{"$f":"IF($B9653=\"SINAPI\",IF(ISNUMBER(MATCH(Banco!$C9653,Analitico!$A:$A,0)),INDEX(Analitico!E:E,MATCH(Banco!$C9653,Analitico!$A:$A,0))&\"%\",\"\"),\"\")","v":"7,6865834%"},{"$f":"IF($B9653=\"SINAPI\",IF(ISNUMBER(MATCH(Banco!$C9653,Analitico!$A:$A,0)),INDEX(Analitico!F:F,MATCH(Banco!$C9653,Analitico!$A:$A,0))&\"%\",\"\"),\"\")","v":"%"}]
[{"$f":"CONCATENAR","v":"SINAPI 97483"},"SINAPI","97483","CURVA 45 GRAUS, EM AÇO, CONEXÃO SOLDADA, DN 40 (1 1/2\"), INSTALADO EM REDE DE ALIMENTAÇÃO PARA HIDRANTE - FORNECIMENTO E INSTALAÇÃO. AF_10/2020","UN","223,29",null,null,"CR",{"$f":"IF($B9662=\"SINAPI\",IF(ISNUMBER(MATCH(Banco!$C9662,Analitico!$A:$A,0)),INDEX(Analitico!E:E,MATCH(Banco!$C9662,Analitico!$A:$A,0))&\"%\",\"\"),\"\")","v":"9,4395412%"},{"$f":"IF($B9662=\"SINAPI\",IF(ISNUMBER(MATCH(Banco!$C9662,Analitico!$A:$A,0)),INDEX(Analitico!F:F,MATCH(Banco!$C9662,Analitico!$A:$A,0))&\"%\",\"\"),\"\")","v":"%"}]
[{"$f":"CONCATENAR","v":"SINAPI 97484"},"SINAPI","97484","CURVA 90 GRAUS, EM AÇO, CONEXÃO SOLDADA, DN 40 (1 1/2\"), INSTALADO EM REDE DE ALIMENTAÇÃO PARA HIDRANTE - FORNECIMENTO E INSTALAÇÃO. AF_10/2020","UN","223,29",null,null,"CR",{"$f":"IF($B9663=\"SINAPI\",IF(ISNUMBER(MATCH(Banco!$C9663,Analitico!$A:$A,0)),INDEX(Analitico!E:E,MATCH(Banco!$C9663,Analitico!$A:$A,0))&\"%\",\"\"),\"\")","v":"9,4395412%"},{"$f":"IF($B9663=\"SINAPI\",IF(ISNUMBER(MATCH(Banco!$C9663,Analitico!$A:$A,0)),INDEX(Analitico!F:F,MATCH(Banco!$C9663,Analitico!$A:$A,0))&\"%\",\"\"),\"\")","v":"%"}]
[{"$f":"CONCATENAR","v":"SINAPI 97502"},"SINAPI","97502","LUVA, EM AÇO, CONEXÃO SOLDADA, DN 32 (1 1/4\"), INSTALADO EM REDE DE ALIMENTAÇÃO PARA SPRINKLER - FORNECIMENTO E INSTALAÇÃO. AF_10/2020","UN","89,86",null,null,"CR",{"$f":"IF($B9678=\"SINAPI\",IF(ISNUMBER(MATCH(Banco!$C9678,Analitico!$A:$A,0)),INDEX(Analitico!E:E,MATCH(Banco!$C9678,Analitico!$A:$A,0))&\"%\",\"\"),\"\")","v":"8,3778966%"},{"$f":"IF($B9678=\"SINAPI\",IF(ISNUMBER(MATCH(Banco!$C9678,Analitico!$A:$A,0)),INDEX(Analitico!F:F,MATCH(Banco!$C9678,Analitico!$A:$A,0))&\"%\",\"\"),\"\")","v":"%"}]
[{"$f":"CONCATENAR","v":"SINAPI 97508"},"SINAPI","97508","LUVA, EM AÇO, CONEXÃO SOLDADA, DN 50 (2\"), INSTALADO EM REDE DE ALIMENTAÇÃO PARA SPRINKLER - FORNECIMENTO E INSTALAÇÃO. AF_10/2020","UN","174,07",null,null,"CR",{"$f":"IF($B9682=\"SINAPI\",IF(ISNUMBER(MATCH(Banco!$C9682,Analitico!$A:$A,0)),INDEX(Analitico!E:E,MATCH(Banco!$C9682,Analitico!$A:$A,0))&\"%\",\"\"),\"\")","v":"5,8458354%"},{"$f":"IF($B9682=\"SINAPI\",IF(ISNUMBER(MATCH(Banco!$C9682,Analitico!$A:$A,0)),INDEX(Analitico!F:F,MATCH(Banco!$C9682,Analitico!$A:$A,0))&\"%\",\"\"),\"\")","v":"%"}]
[{"$f":"CONCATENAR","v":"SINAPI 97520"},"SINAPI","97520","CURVA 90 GRAUS, EM AÇO, CONEXÃO SOLDADA, DN 32 (1 1/4\"), INSTALADO EM REDE DE ALIMENTAÇÃO PARA SPRINKLER - FORNECIMENTO E INSTALAÇÃO. AF_10/2020","UN","149,42",null,null,"CR",{"$f":"IF($B9691=\"SINAPI\",IF(ISNUMBER(MATCH(Banco!$C9691,Analitico!$A:$A,0)),INDEX(Analitico!E:E,MATCH(Banco!$C9691,Analitico!$A:$A,0))&\"%\",\"\"),\"\")","v":"7,7567151%"},{"$f":"IF($B9691=\"SINAPI\",IF(ISNUMBER(MATCH(Banco!$C9691,Analitico!$A:$A,0)),INDEX(Analitico!F:F,MATCH(Banco!$C9691,Analitico!$A:$A,0))&\"%\",\"\"),\"\")","v":"%"}]
[{"$f":"CONCATENAR","v":"SINAPI 97529"},"SINAPI","97529","TÊ, EM AÇO, CONEXÃO SOLDADA, DN 25 (1\"), INSTALADO EM REDE DE ALIMENTAÇÃO PARA SPRINKLER - FORNECIMENTO E INSTALAÇÃO. AF_10/2020","UN","162,26",null,null,"CR",{"$f":"IF($B9700=\"SINAPI\",IF(ISNUMBER(MATCH(Banco!$C9700,Analitico!$A:$A,0)),INDEX(Analitico!E:E,MATCH(Banco!$C9700,Analitico!$A:$A,0))&\"%\",\"\"),\"\")","v":"8,3677622%"},{"$f":"IF($B9700=\"SINAPI\",IF(ISNUMBER(MATCH(Banco!$C9700,Analitico!$A:$A,0)),INDEX(Analitico!F:F,MATCH(Banco!$C9700,Analitico!$A:$A,0))&\"%\",\"\"),\"\")","v":"%"}]
[{"$f":"CONCATENAR","v":"SINAPI 97543"},"SINAPI","97543","LUVA, EM AÇO, CONEXÃO SOLDADA, DN 25 (1\"), INSTALADO EM RAMAIS E SUB-RAMAIS DE GÁS - FORNECIMENTO E INSTALAÇÃO. AF_10/2020","UN","81,49",null,null,"CR",{"$f":"IF($B9709=\"SINAPI\",IF(ISNUMBER(MATCH(Banco!$C9709,Analitico!$A:$A,0)),INDEX(Analitico!E:E,MATCH(Banco!$C9709,Analitico!$A:$A,0))&\"%\",\"\"),\"\")","v":"27,4078624%"},{"$f":"IF($B9709=\"SINAPI\",IF(ISNUMBER(MATCH(Banco!$C9709,Analitico!$A:$A,0)),INDEX(Analitico!F:F,MATCH(Banco!$C9709,Analitico!$A:$A,0))&\"%\",\"\"),\"\")","v":"%"}]
[{"$f":"CONCATENAR","v":"SINAPI 97550"},"SINAPI","97550","CURVA 45 GRAUS, EM AÇO, CONEXÃO SOLDADA, DN 25 (1\"), INSTALADO EM RAMAIS E SUB-RAMAIS DE GÁS - FORNECIMENTO E INSTALAÇÃO. AF_10/2020","UN","131,40",null,null,"CR",{"$f":"IF($B9715=\"SINAPI\",IF(ISNUMBER(MATCH(Banco!$C9715,Analitico!$A:$A,0)),INDEX(Analitico!E:E,MATCH(Banco!$C9715,Analitico!$A:$A,0))&\"%\",\"\"),\"\")","v":"25,5160332%"},{"$f":"IF($B9715=\"SINAPI\",IF(ISNUMBER(MATCH(Banco!$C9715,Analitico!$A:$A,0)),INDEX(Analitico!F:F,MATCH(Banco!$C9715,Analitico!$A:$A,0))&\"%\",\"\"),\"\")","v":"%"}]
[{"$f":"CONCATENAR","v":"SINAPI 103812"},"SINAPI","103812","COTOVELO EM COBRE, DN 28 MM, 90 GRAUS, SEM ANEL DE SOLDA, INSTALADO EM RAMAL E SUB-RAMAL DE GÁS COMBUSTÍVEL - FORNECIMENTO E INSTALAÇÃO. AF_04/2022","UN","48,76",null,null,"AS",{"$f":"IF($B9728=\"SINAPI\",IF(ISNUMBER(MATCH(Banco!$C9728,Analitico!$A:$A,0)),INDEX(Analitico!E:E,MATCH(Banco!$C9728,Analitico!$A:$A,0))&\"%\",\"\"),\"\")","v":"42,4845995%"},{"$f":"IF($B9728=\"SINAPI\",IF(ISNUMBER(MATCH(Banco!$C9728,Analitico!$A:$A,0)),INDEX(Analitico!F:F,MATCH(Banco!$C9728,Analitico!$A:$A,0))&\"%\",\"\"),\"\")","v":"%"}]
[{"$f":"CONCATENAR","v":"SINAPI 103813"},"SINAPI","103813","CURVA EM COBRE, DN 28 MM, 45 GRAUS, SEM ANEL DE SOLDA, BOLSA X BOLSA, INSTALADO EM RAMAL E SUB-RAMAL DE GÁS COMBUSTÍVEL - FORNECIMENTO E INSTALAÇÃO. AF_04/2022","UN","47,00",null,null,"AS",{"$f":"IF($B9729=\"SINAPI\",IF(ISNUMBER(MATCH(Banco!$C9729,Analitico!$A:$A,0)),INDEX(Analitico!E:E,MATCH(Banco!$C9729,Analitico!$A:$A,0))&\"%\",\"\"),\"\")","v":"44,0775458%"},{"$f":"IF($B9729=\"SINAPI\",IF(ISNUMBER(MATCH(Banco!$C9729,Analitico!$A:$A,0)),INDEX(Analitico!F:F,MATCH(Banco!$C9729,Analitico!$A:$A,0))&\"%\",\"\"),\"\")","v":"%"}]
[{"$f":"CONCATENAR","v":"SINAPI 103822"},"SINAPI","103822","CURVA DE TRANSPOSIÇÃO EM BRONZE/LATÃO, DN 22 MM, SEM ANEL DE SOLDA, BOLSA X BOLSA, INSTALADO EM RAMAL E SUB-RAMAL DE GÁS COMBUSTÍVEL - FORNECIMENTO E INSTALAÇÃO. AF_04/2022","UN","55,02",null,null,"AS",{"$f":"IF($B9738=\"SINAPI\",IF(ISNUMBER(MATCH(Banco!$C9738,Analitico!$A:$A,0)),INDEX(Analitico!E:E,MATCH(Banco!$C9738,Analitico!$A:$A,0))&\"%\",\"\"),\"\")","v":"18,4679767%"},{"$f":"IF($B9738=\"SINAPI\",IF(ISNUMBER(MATCH(Banco!$C9738,Analitico!$A:$A,0)),INDEX(Analitico!F:F,MATCH(Banco!$C9738,Analitico!$A:$A,0))&\"%\",\"\"),\"\")","v":"%"}]
[{"$f":"CONCATENAR","v":"SINAPI 103831"},"SINAPI","103831","BUCHA DE REDUÇÃO EM COBRE, DN 28 MM X 22 MM, SEM ANEL DE SOLDA, INSTALADO EM RAMAL E SUB-RAMAL DE GÁS COMBUSTÍVEL - FORNECIMENTO E INSTALAÇÃO. AF_04/2022","UN","26,28",null,null,"AS",{"$f":"IF($B9747=\"SINAPI\",IF(ISNUMBER(MATCH(Banco!$C9747,Analitico!$A:$A,0)),INDEX(Analitico!E:E,MATCH(Banco!$C9747,Analitico!$A:$A,0))&\"%\",\"\"),\"\")","v":"45,6488549%"},{"$f":"IF($B9747=\"SINAPI\",IF(ISNUMBER(MATCH(Banco!$C9747,Analitico!$A:$A,0)),INDEX(Analitico!F:F,MATCH(Banco!$C9747,Analitico!$A:$A,0))&\"%\",\"\"),\"\")","v":"%"}]
[{"$f":"CONCATENAR","v":"SINAPI 103848"},"SINAPI","103848","LUVA PASSANTE EM COBRE, DN 15 MM, SEM ANEL DE SOLDA, INSTALADO EM RAMAL E SUB-RAMAL DE GÁS MEDICINAL - FORNECIMENTO E INSTALAÇÃO. AF_04/2022","UN","11,04",null,null,"AS",{"$f":"IF($B9761=\"SINAPI\",IF(ISNUMBER(MATCH(Banco!$C9761,Analitico!$A:$A,0)),INDEX(Analitico!E:E,MATCH(Banco!$C9761,Analitico!$A:$A,0))&\"%\",\"\"),\"\")","v":"50,6836828%"},{"$f":"IF($B9761=\"SINAPI\",IF(ISNUMBER(MATCH(Banco!$C9761,Analitico!$A:$A,0)),INDEX(Analitico!F:F,MATCH(Banco!$C9761,Analitico!$A:$A,0))&\"%\",\"\"),\"\")","v":"%"}]
[{"$f":"CONCATENAR","v":"SINAPI 103853"},"SINAPI","103853","LUVA PASSANTE EM COBRE, DN 22 MM, SEM ANEL DE SOLDA, INSTALADO EM RAMAL E SUB-RAMAL DE GÁS MEDICINAL - FORNECIMENTO E INSTALAÇÃO. AF_04/2022","UN","18,00",null,null,"AS",{"$f":"IF($B9766=\"SINAPI\",IF(ISNUMBER(MATCH(Banco!$C9766,Analitico!$A:$A,0)),INDEX(Analitico!E:E,MATCH(Banco!$C9766,Analitico!$A:$A,0))&\"%\",\"\"),\"\")","v":"41,4158305%"},{"$f":"IF($B9766=\"SINAPI\",IF(ISNUMBER(MATCH(Banco!$C9766,Analitico!$A:$A,0)),INDEX(Analitico!F:F,MATCH(Banco!$C9766,Analitico!$A:$A,0))&\"%\",\"\"),\"\")","v":"%"}]
[{"$f":"CONCATENAR","v":"SINAPI 103862"},"SINAPI","103862","JUNTA DE EXPANSÃO EM COBRE, DN 28 MM, PONTA X PONTA, INSTALADO EM RAMAL E SUB-RAMAL DE GÁS MEDICINAL - FORNECIMENTO E INSTALAÇÃO. AF_04/2022","UN","575,49",null,null,"AS",{"$f":"IF($B9775=\"SINAPI\",IF(ISNUMBER(MATCH(Banco!$C9775,Analitico!$A:$A,0)),INDEX(Analitico!E:E,MATCH(Banco!$C9775,Analitico!$A:$A,0))&\"%\",\"\"),\"\")","v":"1,5658400%"},{"$f":"IF($B9775=\"SINAPI\",IF(ISNUMBER(MATCH(Banco!$C9775,Analitico!$A:$A,0)),INDEX(Analitico!F:F,MATCH(Banco!$C9775,Analitico!$A:$A,0))&\"%\",\"\"),\"\")","v":"%"}]
[{"$f":"CONCATENAR","v":"SINAPI 103877"},"SINAPI","103877","COTOVELO EM COBRE, DN 22 MM, 90 GRAUS, SEM ANEL DE SOLDA, INSTALADO EM RAMAL E SUB-RAMAL DE AQUECIMENTO SOLAR - FORNECIMENTO E INSTALAÇÃO. AF_04/2022","UN","26,73",null,null,"AS",{"$f":"IF($B9784=\"SINAPI\",IF(ISNUMBER(MATCH(Banco!$C9784,Analitico!$A:$A,0)),INDEX(Analitico!E:E,MATCH(Banco!$C9784,Analitico!$A:$A,0))&\"%\",\"\"),\"\")","v":"39,7599399%"},{"$f":"IF($B9784=\"SINAPI\",IF(ISNUMBER(MATCH(Banco!$C9784,Analitico!$A:$A,0)),INDEX(Analitico!F:F,MATCH(Banco!$C9784,Analitico!$A:$A,0))&\"%\",\"\"),\"\")","v":"%"}]
[{"$f":"CONCATENAR","v":"SINAPI 103886"},"SINAPI","103886","JUNTA DE EXPANSÃO EM COBRE, DN 15 MM, PONTA X PONTA, INSTALADO EM RAMAL E SUB-RAMAL DE AQUECIMENTO SOLAR - FORNECIMENTO E INSTALAÇÃO. AF_04/2022","UN","449,49",null,null,"AS",{"$f":"IF($B9793=\"SINAPI\",IF(ISNUMBER(MATCH(Banco!$C9793,Analitico!$A:$A,0)),INDEX(Analitico!E:E,MATCH(Banco!$C9793,Analitico!$A:$A,0))&\"%\",\"\"),\"\")","v":"1,3283787%"},{"$f":"IF($B9793=\"SINAPI\",IF(ISNUMBER(MATCH(Banco!$C9793,Analitico!$A:$A,0)),INDEX(Analitico!F:F,MATCH(Banco!$C9793,Analitico!$A:$A,0))&\"%\",\"\"),\"\")","v":"%"}]
[{"$f":"CONCATENAR","v":"SINAPI 103891"},"SINAPI","103891","CURVA DE TRANSPOSIÇÃO EM BRONZE/LATÃO, DN 22 MM, SEM ANEL DE SOLDA, BOLSA X BOLSA, INSTALADO EM RAMAL E SUB-RAMAL DE AQUECIMENTO SOLAR - FORNECIMENTO E INSTALAÇÃO. AF_04/2022","UN","50,85",null,null,"AS",{"$f":"IF($B9798=\"SINAPI\",IF(ISNUMBER(MATCH(Banco!$C9798,Analitico!$A:$A,0)),INDEX(Analitico!E:E,MATCH(Banco!$C9798,Analitico!$A:$A,0))&\"%\",\"\"),\"\")","v":"13,8888888%"},{"$f":"IF($B9798=\"SINAPI\",IF(ISNUMBER(MATCH(Banco!$C9798,Analitico!$A:$A,0)),INDEX(Analitico!F:F,MATCH(Banco!$C9798,Analitico!$A:$A,0))&\"%\",\"\"),\"\")","v":"%"}]
[{"$f":"CONCATENAR","v":"SINAPI 103897"},"SINAPI","103897","CURVA DE TRANSPOSIÇÃO EM BRONZE/LATÃO, DN 28 MM, SEM ANEL DE SOLDA, BOLSA X BOLSA, INSTALADO EM RAMAL E SUB-RAMAL DE AQUECIMENTO SOLAR - FORNECIMENTO E INSTALAÇÃO. AF_04/2022","UN","84,77",null,null,"AS",{"$f":"IF($B9804=\"SINAPI\",IF(ISNUMBER(MATCH(Banco!$C9804,Analitico!$A:$A,0)),INDEX(Analitico!E:E,MATCH(Banco!$C9804,Analitico!$A:$A,0))&\"%\",\"\"),\"\")","v":"9,4214876%"},{"$f":"IF($B9804=\"SINAPI\",IF(ISNUMBER(MATCH(Banco!$C9804,Analitico!$A:$A,0)),INDEX(Analitico!F:F,MATCH(Banco!$C9804,Analitico!$A:$A,0))&\"%\",\"\"),\"\")","v":"%"}]
[{"$f":"CONCATENAR","v":"SINAPI 103949"},"SINAPI","103949","BUCHA DE REDUÇÃO, LONGA, PVC, SOLDÁVEL, DN 32 X 20 MM, INSTALADO EM RAMAL OU SUB-RAMAL DE ÁGUA - FORNECIMENTO E INSTALAÇÃO. AF_06/2022","UN","9,12",null,null,"CR",{"$f":"IF($B9813=\"SINAPI\",IF(ISNUMBER(MATCH(Banco!$C9813,Analitico!$A:$A,0)),INDEX(Analitico!E:E,MATCH(Banco!$C9813,Analitico!$A:$A,0))&\"%\",\"\"),\"\")","v":"41,9426048%"},{"$f":"IF($B9813=\"SINAPI\",IF(ISNUMBER(MATCH(Banco!$C9813,Analitico!$A:$A,0)),INDEX(Analitico!F:F,MATCH(Banco!$C9813,Analitico!$A:$A,0))&\"%\",\"\"),\"\")","v":"%"}]
[{"$f":"CONCATENAR","v":"SINAPI 103958"},"SINAPI","103958","BUCHA DE REDUÇÃO, CURTA, PVC, SOLDÁVEL, DN 50 X 40 MM, INSTALADO EM PRUMADA DE ÁGUA - FORNECIMENTO E INSTALAÇÃO. AF_06/2022","UN","9,94",null,null,"CR",{"$f":"IF($B9822=\"SINAPI\",IF(ISNUMBER(MATCH(Banco!$C9822,Analitico!$A:$A,0)),INDEX(Analitico!E:E,MATCH(Banco!$C9822,Analitico!$A:$A,0))&\"%\",\"\"),\"\")","v":"28,4412955%"},{"$f":"IF($B9822=\"SINAPI\",IF(ISNUMBER(MATCH(Banco!$C9822,Analitico!$A:$A,0)),INDEX(Analitico!F:F,MATCH(Banco!$C9822,Analitico!$A:$A,0))&\"%\",\"\"),\"\")","v":"%"}]
[{"$f":"CONCATENAR","v":"SINAPI 103972"},"SINAPI","103972","BUCHA DE REDUÇÃO, LONGA, PVC, SOLDÁVEL, DN 75 X 50 MM, INSTALADO EM PRUMADA DE ÁGUA - FORNECIMENTO E INSTALAÇÃO. AF_06/2022","UN","29,14",null,null,"CR",{"$f":"IF($B9831=\"SINAPI\",IF(ISNUMBER(MATCH(Banco!$C9831,Analitico!$A:$A,0)),INDEX(Analitico!E:E,MATCH(Banco!$C9831,Analitico!$A:$A,0))&\"%\",\"\"),\"\")","v":"13,0075705%"},{"$f":"IF($B9831=\"SINAPI\",IF(ISNUMBER(MATCH(Banco!$C9831,Analitico!$A:$A,0)),INDEX(Analitico!F:F,MATCH(Banco!$C9831,Analitico!$A:$A,0))&\"%\",\"\"),\"\")","v":"%"}]
[{"$f":"CONCATENAR","v":"SINAPI 103980"},"SINAPI","103980","JOELHO 90 GRAUS, PVC, SOLDÁVEL, DN 40MM, INSTALADO EM RAMAL DE DISTRIBUIÇÃO DE ÁGUA - FORNECIMENTO E INSTALAÇÃO. AF_06/2022","UN","17,28",null,null,"CR",{"$f":"IF($B9835=\"SINAPI\",IF(ISNUMBER(MATCH(Banco!$C9835,Analitico!$A:$A,0)),INDEX(Analitico!E:E,MATCH(Banco!$C9835,Analitico!$A:$A,0))&\"%\",\"\"),\"\")","v":"40,8376963%"},{"$f":"IF($B9835=\"SINAPI\",IF(ISNUMBER(MATCH(Banco!$C9835,Analitico!$A:$A,0)),INDEX(Analitico!F:F,MATCH(Banco!$C9835,Analitico!$A:$A,0))&\"%\",\"\"),\"\")","v":"%"}]
[{"$f":"CONCATENAR","v":"SINAPI 103996"},"SINAPI","103996","LUVA DE CORRER, PVC, SOLDÁVEL, DN 50MM, INSTALADO EM RAMAL DE DISTRIBUIÇÃO DE ÁGUA - FORNECIMENTO E INSTALAÇÃO. AF_06/2022","UN","40,18",null,null,"CR",{"$f":"IF($B9850=\"SINAPI\",IF(ISNUMBER(MATCH(Banco!$C9850,Analitico!$A:$A,0)),INDEX(Analitico!E:E,MATCH(Banco!$C9850,Analitico!$A:$A,0))&\"%\",\"\"),\"\")","v":"13,9117427%"},{"$f":"IF($B9850=\"SINAPI\",IF(ISNUMBER(MATCH(Banco!$C9850,Analitico!$A:$A,0)),INDEX(Analitico!F:F,MATCH(Banco!$C9850,Analitico!$A:$A,0))&\"%\",\"\"),\"\")","v":"%"}]
[{"$f":"CONCATENAR","v":"SINAPI 104005"},"SINAPI","104005","TÊ DE REDUÇÃO, PVC, SOLDÁVEL, DN 50MM X 40MM, INSTALADO EM RAMAL DE DISTRIBUIÇÃO DE ÁGUA - FORNECIMENTO E INSTALAÇÃO. AF_06/2022","UN","36,04",null,null,"CR",{"$f":"IF($B9859=\"SINAPI\",IF(ISNUMBER(MATCH(Banco!$C9859,Analitico!$A:$A,0)),INDEX(Analitico!E:E,MATCH(Banco!$C9859,Analitico!$A:$A,0))&\"%\",\"\"),\"\")","v":"28,5595105%"},{"$f":"IF($B9859=\"SINAPI\",IF(ISNUMBER(MATCH(Banco!$C9859,Analitico!$A:$A,0)),INDEX(Analitico!F:F,MATCH(Banco!$C9859,Analitico!$A:$A,0))&\"%\",\"\"),\"\")","v":"%"}]
[{"$f":"CONCATENAR","v":"SINAPI 104006"},"SINAPI","104006","TÊ DE REDUÇÃO, PVC, SOLDÁVEL, DN 50MM X 25MM, INSTALADO EM RAMAL DE DISTRIBUIÇÃO DE ÁGUA - FORNECIMENTO E INSTALAÇÃO. AF_06/2022","UN","24,77",null,null,"CR",{"$f":"IF($B9860=\"SINAPI\",IF(ISNUMBER(MATCH(Banco!$C9860,Analitico!$A:$A,0)),INDEX(Analitico!E:E,MATCH(Banco!$C9860,Analitico!$A:$A,0))&\"%\",\"\"),\"\")","v":"34,2243823%"},{"$f":"IF($B9860=\"SINAPI\",IF(ISNUMBER(MATCH(Banco!$C9860,Analitico!$A:$A,0)),INDEX(Analitico!F:F,MATCH(Banco!$C9860,Analitico!$A:$A,0))&\"%\",\"\"),\"\")","v":"%"}]
[{"$f":"CONCATENAR","v":"SINAPI 104017"},"SINAPI","104017","TE DE REDUÇÃO, CPVC, SOLDÁVEL, DN 35 X 28 MM, INSTALADO EM RAMAL OU SUB-RAMAL DE ÁGUA - FORNECIMENTO E INSTALAÇÃO. AF_06/2022","UN","45,18",null,null,"CR",{"$f":"IF($B9869=\"SINAPI\",IF(ISNUMBER(MATCH(Banco!$C9869,Analitico!$A:$A,0)),INDEX(Analitico!E:E,MATCH(Banco!$C9869,Analitico!$A:$A,0))&\"%\",\"\"),\"\")","v":"19,3569844%"},{"$f":"IF($B9869=\"SINAPI\",IF(ISNUMBER(MATCH(Banco!$C9869,Analitico!$A:$A,0)),INDEX(Analitico!F:F,MATCH(Banco!$C9869,Analitico!$A:$A,0))&\"%\",\"\"),\"\")","v":"%"}]
[{"$f":"CONCATENAR","v":"SINAPI 104030"},"SINAPI","104030","TE DE REDUÇÃO, CPVC, SOLDÁVEL, DN 42 X 35 MM, INSTALADO EM RAMAL DE DISTRIBUIÇÃO DE ÁGUA - FORNECIMENTO E INSTALAÇÃO. AF_06/2022","UN","61,01",null,null,"CR",{"$f":"IF($B9881=\"SINAPI\",IF(ISNUMBER(MATCH(Banco!$C9881,Analitico!$A:$A,0)),INDEX(Analitico!E:E,MATCH(Banco!$C9881,Analitico!$A:$A,0))&\"%\",\"\"),\"\")","v":"14,9187592%"},{"$f":"IF($B9881=\"SINAPI\",IF(ISNUMBER(MATCH(Banco!$C9881,Analitico!$A:$A,0)),INDEX(Analitico!F:F,MATCH(Banco!$C9881,Analitico!$A:$A,0))&\"%\",\"\"),\"\")","v":"%"}]
[{"$f":"CONCATENAR","v":"SINAPI 104172"},"SINAPI","104172","TÊ DE INSPEÇÃO, PVC, SERIE R, ÁGUA PLUVIAL, DN 150 MM, JUNTA ELÁSTICA, FORNECIDO E INSTALADO EM RAMAL DE ENCAMINHAMENTO. AF_06/2022","UN","280,55",null,null,"CR",{"$f":"IF($B9888=\"SINAPI\",IF(ISNUMBER(MATCH(Banco!$C9888,Analitico!$A:$A,0)),INDEX(Analitico!E:E,MATCH(Banco!$C9888,Analitico!$A:$A,0))&\"%\",\"\"),\"\")","v":"2,2567649%"},{"$f":"IF($B9888=\"SINAPI\",IF(ISNUMBER(MATCH(Banco!$C9888,Analitico!$A:$A,0)),INDEX(Analitico!F:F,MATCH(Banco!$C9888,Analitico!$A:$A,0))&\"%\",\"\"),\"\")","v":"%"}]
[{"$f":"CONCATENAR","v":"SINAPI 104192"},"SINAPI","104192","TÊ MISTURADOR, PPR, F M M, DN 25 X 25 MM, INSTALADO EM RAMAL OU SUB-RAMAL DE ÁGUA - FORNECIMENTO E INSTALAÇÃO. AF_08/2022","UN","26,66",null,null,"CR",{"$f":"IF($B9897=\"SINAPI\",IF(ISNUMBER(MATCH(Banco!$C9897,Analitico!$A:$A,0)),INDEX(Analitico!E:E,MATCH(Banco!$C9897,Analitico!$A:$A,0))&\"%\",\"\"),\"\")","v":"33,9104252%"},{"$f":"IF($B9897=\"SINAPI\",IF(ISNUMBER(MATCH(Banco!$C9897,Analitico!$A:$A,0)),INDEX(Analitico!F:F,MATCH(Banco!$C9897,Analitico!$A:$A,0))&\"%\",\"\"),\"\")","v":"%"}]
[{"$f":"CONCATENAR","v":"SINAPI 104317"},"SINAPI","104317","JOELHO 90 GRAUS, PVC, SOLDÁVEL, DN 20 MM, INSTALADO EM DRENO DE AR CONDICIONADO - FORNECIMENTO E INSTALAÇÃO. AF_08/2022","UN","6,46",null,null,"CR",{"$f":"IF($B9906=\"SINAPI\",IF(ISNUMBER(MATCH(Banco!$C9906,Analitico!$A:$A,0)),INDEX(Analitico!E:E,MATCH(Banco!$C9906,Analitico!$A:$A,0))&\"%\",\"\"),\"\")","v":"59,8437500%"},{"$f":"IF($B9906=\"SINAPI\",IF(ISNUMBER(MATCH(Banco!$C9906,Analitico!$A:$A,0)),INDEX(Analitico!F:F,MATCH(Banco!$C9906,Analitico!$A:$A,0))&\"%\",\"\"),\"\")","v":"%"}]
[{"$f":"CONCATENAR","v":"SINAPI 104343"},"SINAPI","104343","JUNÇÃO DE REDUÇÃO INVERTIDA, PVC, SÉRIE NORMAL, ESGOTO PREDIAL, DN 75 X 50 MM, JUNTA ELÁSTICA, FORNECIDO E INSTALADO EM RAMAL DE DESCARGA OU RAMAL DE ESGOTO SANITÁRIO. AF_08/2022","UN","33,96",null,null,"CR",{"$f":"IF($B9915=\"SINAPI\",IF(ISNUMBER(MATCH(Banco!$C9915,Analitico!$A:$A,0)),INDEX(Analitico!E:E,MATCH(Banco!$C9915,Analitico!$A:$A,0))&\"%\",\"\"),\"\")","v":"22,4483775%"},{"$f":"IF($B9915=\"SINAPI\",IF(ISNUMBER(MATCH(Banco!$C9915,Analitico!$A:$A,0)),INDEX(Analitico!F:F,MATCH(Banco!$C9915,Analitico!$A:$A,0))&\"%\",\"\"),\"\")","v":"%"}]
[{"$f":"CONCATENAR","v":"SINAPI 104352"},"SINAPI","104352","TE, PVC, SÉRIE NORMAL, ESGOTO PREDIAL, DN 100 X 50 MM, JUNTA ELÁSTICA, FORNECIDO E INSTALADO EM PRUMADA DE ESGOTO SANITÁRIO OU VENTILAÇÃO. AF_08/2022","UN","39,75",null,null,"CR",{"$f":"IF($B9923=\"SINAPI\",IF(ISNUMBER(MATCH(Banco!$C9923,Analitico!$A:$A,0)),INDEX(Analitico!E:E,MATCH(Banco!$C9923,Analitico!$A:$A,0))&\"%\",\"\"),\"\")","v":"19,1735953%"},{"$f":"IF($B9923=\"SINAPI\",IF(ISNUMBER(MATCH(Banco!$C9923,Analitico!$A:$A,0)),INDEX(Analitico!F:F,MATCH(Banco!$C9923,Analitico!$A:$A,0))&\"%\",\"\"),\"\")","v":"%"}]
[{"$f":"CONCATENAR","v":"SINAPI 104355"},"SINAPI","104355","JUNÇÃO DE REDUCAO INVERTIDA, PVC, SÉRIE NORMAL, ESGOTO PREDIAL, DN 100 X 75 MM, JUNTA ELÁSTICA, FORNECIDO E INSTALADO EM PRUMADA DE ESGOTO SANITÁRIO OU VENTILAÇÃO. AF_08/2022","UN","48,33",null,null,"CR",{"$f":"IF($B9926=\"SINAPI\",IF(ISNUMBER(MATCH(Banco!$C9926,Analitico!$A:$A,0)),INDEX(Analitico!E:E,MATCH(Banco!$C9926,Analitico!$A:$A,0))&\"%\",\"\"),\"\")","v":"18,8601036%"},{"$f":"IF($B9926=\"SINAPI\",IF(ISNUMBER(MATCH(Banco!$C9926,Analitico!$A:$A,0)),INDEX(Analitico!F:F,MATCH(Banco!$C9926,Analitico!$A:$A,0))&\"%\",\"\"),\"\")","v":"%"}]
[{"$f":"CONCATENAR","v":"SINAPI 104583"},"SINAPI","104583","LUVA , PARA INSTALAÇÕES EM PEX ÁGUA, DN 25 MM, COM ANEL DESLIZANTE - FORNECIMENTO E INSTALAÇÃO. AF_02/2023","UN","47,08",null,null,"CR",{"$f":"IF($B9935=\"SINAPI\",IF(ISNUMBER(MATCH(Banco!$C9935,Analitico!$A:$A,0)),INDEX(Analitico!E:E,MATCH(Banco!$C9935,Analitico!$A:$A,0))&\"%\",\"\"),\"\")","v":"14,3191489%"},{"$f":"IF($B9935=\"SINAPI\",IF(ISNUMBER(MATCH(Banco!$C9935,Analitico!$A:$A,0)),INDEX(Analitico!F:F,MATCH(Banco!$C9935,Analitico!$A:$A,0))&\"%\",\"\"),\"\")","v":"%"}]
[{"$f":"CONCATENAR","v":"SINAPI 105154"},"SINAPI","105154","CURVA PVC 45 GRAUS, SOLDÁVEL, DN 25 MM, INSTALADO EM RESERVAÇÃO PREDIAL DE ÁGUA - FORNECIMENTO E INSTALAÇÃO. AF_04/2024","UN","6,43",null,null,"CR",{"$f":"IF($B9944=\"SINAPI\",IF(ISNUMBER(MATCH(Banco!$C9944,Analitico!$A:$A,0)),INDEX(Analitico!E:E,MATCH(Banco!$C9944,Analitico!$A:$A,0))&\"%\",\"\"),\"\")","v":"32,8100470%"},{"$f":"IF($B9944=\"SINAPI\",IF(ISNUMBER(MATCH(Banco!$C9944,Analitico!$A:$A,0)),INDEX(Analitico!F:F,MATCH(Banco!$C9944,Analitico!$A:$A,0))&\"%\",\"\"),\"\")","v":"%"}]
[{"$f":"CONCATENAR","v":"SINAPI 105163"},"SINAPI","105163","JOELHO PPR, 45 GRAUS, SOLDÁVEL, DN 32 MM, INSTALADO EM RESERVAÇÃO PREDIAL DE ÁGUA - FORNECIMENTO E INSTALAÇÃO. AF_04/2024","UN","12,70",null,null,"CR",{"$f":"IF($B9953=\"SINAPI\",IF(ISNUMBER(MATCH(Banco!$C9953,Analitico!$A:$A,0)),INDEX(Analitico!E:E,MATCH(Banco!$C9953,Analitico!$A:$A,0))&\"%\",\"\"),\"\")","v":"37,2222222%"},{"$f":"IF($B9953=\"SINAPI\",IF(ISNUMBER(MATCH(Banco!$C9953,Analitico!$A:$A,0)),INDEX(Analitico!F:F,MATCH(Banco!$C9953,Analitico!$A:$A,0))&\"%\",\"\"),\"\")","v":"%"}]
[{"$f":"CONCATENAR","v":"SINAPI 105172"},"SINAPI","105172","BUCHA DE REDUÇÃO, EM FERRO GALVANIZADO, CONEXÃO ROSQUEADA, DN 80 MM X 50 MM (3\" X 2\"), INSTALADO EM RESERVAÇÃO PREDIAL DE ÁGUA - FORNECIMENTO E INSTALAÇÃO. AF_04/2024","UN","79,00",null,null,"CR",{"$f":"IF($B9960=\"SINAPI\",IF(ISNUMBER(MATCH(Banco!$C9960,Analitico!$A:$A,0)),INDEX(Analitico!E:E,MATCH(Banco!$C9960,Analitico!$A:$A,0))&\"%\",\"\"),\"\")","v":"17,2811351%"},{"$f":"IF($B9960=\"SINAPI\",IF(ISNUMBER(MATCH(Banco!$C9960,Analitico!$A:$A,0)),INDEX(Analitico!F:F,MATCH(Banco!$C9960,Analitico!$A:$A,0))&\"%\",\"\"),\"\")","v":"%"}]
[{"$f":"CONCATENAR","v":"SINAPI 105184"},"SINAPI","105184","JOELHO PVC, SOLDÁVEL, 45 GRAUS, DN 85 MM, INSTALADO EM RESERVAÇÃO PREDIAL DE ÁGUA - FORNECIMENTO E INSTALAÇÃO. AF_04/2024","UN","108,16",null,null,"CR",{"$f":"IF($B9972=\"SINAPI\",IF(ISNUMBER(MATCH(Banco!$C9972,Analitico!$A:$A,0)),INDEX(Analitico!E:E,MATCH(Banco!$C9972,Analitico!$A:$A,0))&\"%\",\"\"),\"\")","v":"11,7875647%"},{"$f":"IF($B9972=\"SINAPI\",IF(ISNUMBER(MATCH(Banco!$C9972,Analitico!$A:$A,0)),INDEX(Analitico!F:F,MATCH(Banco!$C9972,Analitico!$A:$A,0))&\"%\",\"\"),\"\")","v":"%"}]
[{"$f":"CONCATENAR","v":"SINAPI 105199"},"SINAPI","105199","CURVA 45 GRAUS, EM FERRO GALVANIZADO, MACHO/FÊMEA, CONEXÃO ROSQUEADA, DN 65 MM (2 1/2\"), INSTALADO EM RESERVAÇÃO PREDIAL DE ÁGUA - FORNECIMENTO E INSTALAÇÃO. AF_04/2024","UN","191,79",null,null,"CR",{"$f":"IF($B9981=\"SINAPI\",IF(ISNUMBER(MATCH(Banco!$C9981,Analitico!$A:$A,0)),INDEX(Analitico!E:E,MATCH(Banco!$C9981,Analitico!$A:$A,0))&\"%\",\"\"),\"\")","v":"10,4782767%"},{"$f":"IF($B9981=\"SINAPI\",IF(ISNUMBER(MATCH(Banco!$C9981,Analitico!$A:$A,0)),INDEX(Analitico!F:F,MATCH(Banco!$C9981,Analitico!$A:$A,0))&\"%\",\"\"),\"\")","v":"%"}]
[{"$f":"CONCATENAR","v":"SINAPI 105208"},"SINAPI","105208","CURVA 90 GRAUS, EM FERRO GALVANIZADO, CONEXÃO ROSQUEADA, DN 65 MM (2 1/2\"), INSTALADO EM RESERVAÇÃO PREDIAL DE ÁGUA - FORNECIMENTO E INSTALAÇÃO. AF_04/2024","UN","290,09",null,null,"CR",{"$f":"IF($B9990=\"SINAPI\",IF(ISNUMBER(MATCH(Banco!$C9990,Analitico!$A:$A,0)),INDEX(Analitico!E:E,MATCH(Banco!$C9990,Analitico!$A:$A,0))&\"%\",\"\"),\"\")","v":"6,9268696%"},{"$f":"IF($B9990=\"SINAPI\",IF(ISNUMBER(MATCH(Banco!$C9990,Analitico!$A:$A,0)),INDEX(Analitico!F:F,MATCH(Banco!$C9990,Analitico!$A:$A,0))&\"%\",\"\"),\"\")","v":"%"}]
[{"$f":"CONCATENAR","v":"SINAPI 105209"},"SINAPI","105209","CURVA 90 GRAUS, EM FERRO GALVANIZADO, CONEXÃO ROSQUEADA, DN 50 MM (2\"), INSTALADO EM RESERVAÇÃO PREDIAL DE ÁGUA - FORNECIMENTO E INSTALAÇÃO. AF_04/2024","UN","140,59",null,null,"CR",{"$f":"IF($B9991=\"SINAPI\",IF(ISNUMBER(MATCH(Banco!$C9991,Analitico!$A:$A,0)),INDEX(Analitico!E:E,MATCH(Banco!$C9991,Analitico!$A:$A,0))&\"%\",\"\"),\"\")","v":"12,2428642%"},{"$f":"IF($B9991=\"SINAPI\",IF(ISNUMBER(MATCH(Banco!$C9991,Analitico!$A:$A,0)),INDEX(Analitico!F:F,MATCH(Banco!$C9991,Analitico!$A:$A,0))&\"%\",\"\"),\"\")","v":"%"}]
[{"$f":"CONCATENAR","v":"SINAPI 105224"},"SINAPI","105224","JOELHO CPVC, SOLDÁVEL, 45 GRAUS, DN 89 MM, INSTALADO EM RESERVAÇÃO PREDIAL DE ÁGUA - FORNECIMENTO E INSTALAÇÃO. AF_04/2024","UN","226,40",null,null,"CR",{"$f":"IF($B10006=\"SINAPI\",IF(ISNUMBER(MATCH(Banco!$C10006,Analitico!$A:$A,0)),INDEX(Analitico!E:E,MATCH(Banco!$C10006,Analitico!$A:$A,0))&\"%\",\"\"),\"\")","v":"6,1235309%"},{"$f":"IF($B10006=\"SINAPI\",IF(ISNUMBER(MATCH(Banco!$C10006,Analitico!$A:$A,0)),INDEX(Analitico!F:F,MATCH(Banco!$C10006,Analitico!$A:$A,0))&\"%\",\"\"),\"\")","v":"%"}]
[{"$f":"CONCATENAR","v":"SINAPI 105228"},"SINAPI","105228","BUCHA DE REDUÇÃO PVC, SOLDÁVEL, LONGA, DN 50 X 32 MM, INSTALADO EM RESERVAÇÃO PREDIAL DE ÁGUA - FORNECIMENTO E INSTALAÇÃO. AF_04/2024","UN","11,64",null,null,"CR",{"$f":"IF($B10010=\"SINAPI\",IF(ISNUMBER(MATCH(Banco!$C10010,Analitico!$A:$A,0)),INDEX(Analitico!E:E,MATCH(Banco!$C10010,Analitico!$A:$A,0))&\"%\",\"\"),\"\")","v":"22,5194132%"},{"$f":"IF($B10010=\"SINAPI\",IF(ISNUMBER(MATCH(Banco!$C10010,Analitico!$A:$A,0)),INDEX(Analitico!F:F,MATCH(Banco!$C10010,Analitico!$A:$A,0))&\"%\",\"\"),\"\")","v":"%"}]
[{"$f":"CONCATENAR","v":"SINAPI 97897"},"SINAPI","97897","CAIXA ENTERRADA HIDRÁULICA RETANGULAR, EM CONCRETO PRÉ-MOLDADO, DIMENSÕES INTERNAS: 0,6X0,6X0,5 M. AF_12/2020","UN","442,09",null,null,"AS",{"$f":"IF($B10019=\"SINAPI\",IF(ISNUMBER(MATCH(Banco!$C10019,Analitico!$A:$A,0)),INDEX(Analitico!E:E,MATCH(Banco!$C10019,Analitico!$A:$A,0))&\"%\",\"\"),\"\")","v":"2,2272017%"},{"$f":"IF($B10019=\"SINAPI\",IF(ISNUMBER(MATCH(Banco!$C10019,Analitico!$A:$A,0)),INDEX(Analitico!F:F,MATCH(Banco!$C10019,Analitico!$A:$A,0))&\"%\",\"\"),\"\")","v":"%"}]
[{"$f":"CONCATENAR","v":"SINAPI 97907"},"SINAPI","97907","CAIXA ENTERRADA HIDRÁULICA RETANGULAR, EM ALVENARIA COM BLOCOS DE CONCRETO, DIMENSÕES INTERNAS: 0,8X0,8X0,6 M PARA REDE DE ESGOTO. AF_12/2020","UN","623,41",null,null,"AS",{"$f":"IF($B10028=\"SINAPI\",IF(ISNUMBER(MATCH(Banco!$C10028,Analitico!$A:$A,0)),INDEX(Analitico!E:E,MATCH(Banco!$C10028,Analitico!$A:$A,0))&\"%\",\"\"),\"\")","v":"40,1202804%"},{"$f":"IF($B10028=\"SINAPI\",IF(ISNUMBER(MATCH(Banco!$C10028,Analitico!$A:$A,0)),INDEX(Analitico!F:F,MATCH(Banco!$C10028,Analitico!$A:$A,0))&\"%\",\"\"),\"\")","v":"%"}]
[{"$f":"CONCATENAR","v":"SINAPI 99251"},"SINAPI","99251","CAIXA ENTERRADA HIDRÁULICA RETANGULAR EM ALVENARIA COM TIJOLOS CERÂMICOS MACIÇOS, DIMENSÕES INTERNAS: 0,4X0,4X0,4 M PARA REDE DE DRENAGEM. AF_12/2020","UN","274,22",null,null,"AS",{"$f":"IF($B10037=\"SINAPI\",IF(ISNUMBER(MATCH(Banco!$C10037,Analitico!$A:$A,0)),INDEX(Analitico!E:E,MATCH(Banco!$C10037,Analitico!$A:$A,0))&\"%\",\"\"),\"\")","v":"43,3251583%"},{"$f":"IF($B10037=\"SINAPI\",IF(ISNUMBER(MATCH(Banco!$C10037,Analitico!$A:$A,0)),INDEX(Analitico!F:F,MATCH(Banco!$C10037,Analitico!$A:$A,0))&\"%\",\"\"),\"\")","v":"%"}]
[{"$f":"CONCATENAR","v":"SINAPI 102588"},"SINAPI","102588","FURO EM CAIXA D'ÁGUA COM ESPESSURA DE 6 ATÉ 8 MM E DIÂMETRO DE 15 MM. AF_06/2021","UN","4,75",null,null,"CR",{"$f":"IF($B10046=\"SINAPI\",IF(ISNUMBER(MATCH(Banco!$C10046,Analitico!$A:$A,0)),INDEX(Analitico!E:E,MATCH(Banco!$C10046,Analitico!$A:$A,0))&\"%\",\"\"),\"\")","v":"78,6780384%"},{"$f":"IF($B10046=\"SINAPI\",IF(ISNUMBER(MATCH(Banco!$C10046,Analitico!$A:$A,0)),INDEX(Analitico!F:F,MATCH(Banco!$C10046,Analitico!$A:$A,0))&\"%\",\"\"),\"\")","v":"%"}]
[{"$f":"CONCATENAR","v":"SINAPI 102591"},"SINAPI","102591","FURO EM CAIXA D'ÁGUA COM ESPESSURA DE 2 ATÉ 5 MM E DIÂMETRO DE 25 MM. AF_06/2021","UN","4,02",null,null,"CR",{"$f":"IF($B10049=\"SINAPI\",IF(ISNUMBER(MATCH(Banco!$C10049,Analitico!$A:$A,0)),INDEX(Analitico!E:E,MATCH(Banco!$C10049,Analitico!$A:$A,0))&\"%\",\"\"),\"\")","v":"79,1878173%"},{"$f":"IF($B10049=\"SINAPI\",IF(ISNUMBER(MATCH(Banco!$C10049,Analitico!$A:$A,0)),INDEX(Analitico!F:F,MATCH(Banco!$C10049,Analitico!$A:$A,0))&\"%\",\"\"),\"\")","v":"%"}]
[{"$f":"CONCATENAR","v":"SINAPI 102599"},"SINAPI","102599","FURO EM CAIXA D'ÁGUA COM ESPESSURA DE 2 ATÉ 5 MM E DIÂMETRO DE 60 MM. AF_06/2021","UN","6,60",null,null,"CR",{"$f":"IF($B10057=\"SINAPI\",IF(ISNUMBER(MATCH(Banco!$C10057,Analitico!$A:$A,0)),INDEX(Analitico!E:E,MATCH(Banco!$C10057,Analitico!$A:$A,0))&\"%\",\"\"),\"\")","v":"78,8018434%"},{"$f":"IF($B10057=\"SINAPI\",IF(ISNUMBER(MATCH(Banco!$C10057,Analitico!$A:$A,0)),INDEX(Analitico!F:F,MATCH(Banco!$C10057,Analitico!$A:$A,0))&\"%\",\"\"),\"\")","v":"%"}]
[{"$f":"CONCATENAR","v":"SINAPI 102608"},"SINAPI","102608","CAIXA D´ÁGUA EM POLIETILENO, 1500 LITROS - FORNECIMENTO E INSTALAÇÃO. AF_06/2021","UN","1.117,11",null,null,"CR",{"$f":"IF($B10066=\"SINAPI\",IF(ISNUMBER(MATCH(Banco!$C10066,Analitico!$A:$A,0)),INDEX(Analitico!E:E,MATCH(Banco!$C10066,Analitico!$A:$A,0))&\"%\",\"\"),\"\")","v":"0,6570878%"},{"$f":"IF($B10066=\"SINAPI\",IF(ISNUMBER(MATCH(Banco!$C10066,Analitico!$A:$A,0)),INDEX(Analitico!F:F,MATCH(Banco!$C10066,Analitico!$A:$A,0))&\"%\",\"\"),\"\")","v":"%"}]
[{"$f":"CONCATENAR","v":"SINAPI 102617"},"SINAPI","102617","CAIXA D´ÁGUA EM POLIÉSTER REFORÇADO COM FIBRA DE VIDRO, 5000 LITROS - FORNECIMENTO E INSTALAÇÃO. AF_06/2021","UN","3.603,51",null,null,"CR",{"$f":"IF($B10075=\"SINAPI\",IF(ISNUMBER(MATCH(Banco!$C10075,Analitico!$A:$A,0)),INDEX(Analitico!E:E,MATCH(Banco!$C10075,Analitico!$A:$A,0))&\"%\",\"\"),\"\")","v":"4,5216633%"},{"$f":"IF($B10075=\"SINAPI\",IF(ISNUMBER(MATCH(Banco!$C10075,Analitico!$A:$A,0)),INDEX(Analitico!F:F,MATCH(Banco!$C10075,Analitico!$A:$A,0))&\"%\",\"\"),\"\")","v":"%"}]
[{"$f":"CONCATENAR","v":"SINAPI 89495"},"SINAPI","89495","RALO SIFONADO, PVC, DN 100 X 40 MM, JUNTA SOLDÁVEL, FORNECIDO E INSTALADO EM RAMAIS DE ENCAMINHAMENTO DE ÁGUA PLUVIAL. AF_06/2022","UN","17,15",null,null,"CR",{"$f":"IF($B10084=\"SINAPI\",IF(ISNUMBER(MATCH(Banco!$C10084,Analitico!$A:$A,0)),INDEX(Analitico!E:E,MATCH(Banco!$C10084,Analitico!$A:$A,0))&\"%\",\"\"),\"\")","v":"23,9015817%"},{"$f":"IF($B10084=\"SINAPI\",IF(ISNUMBER(MATCH(Banco!$C10084,Analitico!$A:$A,0)),INDEX(Analitico!F:F,MATCH(Banco!$C10084,Analitico!$A:$A,0))&\"%\",\"\"),\"\")","v":"%"}]
[{"$f":"CONCATENAR","v":"SINAPI 86875"},"SINAPI","86875","TANQUE DE MÁRMORE SINTÉTICO COM COLUNA, 22L OU EQUIVALENTE   FORNECIMENTO E INSTALAÇÃO. AF_01/2020","UN","630,75",null,null,"AS",{"$f":"IF($B10095=\"SINAPI\",IF(ISNUMBER(MATCH(Banco!$C10095,Analitico!$A:$A,0)),INDEX(Analitico!E:E,MATCH(Banco!$C10095,Analitico!$A:$A,0))&\"%\",\"\"),\"\")","v":"4,2462104%"},{"$f":"IF($B10095=\"SINAPI\",IF(ISNUMBER(MATCH(Banco!$C10095,Analitico!$A:$A,0)),INDEX(Analitico!F:F,MATCH(Banco!$C10095,Analitico!$A:$A,0))&\"%\",\"\"),\"\")","v":"%"}]
[{"$f":"CONCATENAR","v":"SINAPI 86883"},"SINAPI","86883","SIFÃO DO TIPO FLEXÍVEL EM PVC 1  X 1.1/2  - FORNECIMENTO E INSTALAÇÃO. AF_01/2020","UN","12,44",null,null,"C",{"$f":"IF($B10103=\"SINAPI\",IF(ISNUMBER(MATCH(Banco!$C10103,Analitico!$A:$A,0)),INDEX(Analitico!E:E,MATCH(Banco!$C10103,Analitico!$A:$A,0))&\"%\",\"\"),\"\")","v":"17,1521035%"},{"$f":"IF($B10103=\"SINAPI\",IF(ISNUMBER(MATCH(Banco!$C10103,Analitico!$A:$A,0)),INDEX(Analitico!F:F,MATCH(Banco!$C10103,Analitico!$A:$A,0))&\"%\",\"\"),\"\")","v":"%"}]
[{"$f":"CONCATENAR","v":"SINAPI 86895"},"SINAPI","86895","BANCADA DE GRANITO CINZA POLIDO, DE 0,50 X 0,60 M, PARA LAVATÓRIO - FORNECIMENTO E INSTALAÇÃO. AF_01/2020","UN","390,40",null,null,"CR",{"$f":"IF($B10112=\"SINAPI\",IF(ISNUMBER(MATCH(Banco!$C10112,Analitico!$A:$A,0)),INDEX(Analitico!E:E,MATCH(Banco!$C10112,Analitico!$A:$A,0))&\"%\",\"\"),\"\")","v":"13,0142952%"},{"$f":"IF($B10112=\"SINAPI\",IF(ISNUMBER(MATCH(Banco!$C10112,Analitico!$A:$A,0)),INDEX(Analitico!F:F,MATCH(Banco!$C10112,Analitico!$A:$A,0))&\"%\",\"\"),\"\")","v":"%"}]
[{"$f":"CONCATENAR","v":"SINAPI 86908"},"SINAPI","86908","APARELHO MISTURADOR DE MESA PARA PIA DE COZINHA, PADRÃO MÉDIO - FORNECIMENTO E INSTALAÇÃO. AF_01/2020","UN","768,22",null,null,"CR",{"$f":"IF($B10121=\"SINAPI\",IF(ISNUMBER(MATCH(Banco!$C10121,Analitico!$A:$A,0)),INDEX(Analitico!E:E,MATCH(Banco!$C10121,Analitico!$A:$A,0))&\"%\",\"\"),\"\")","v":"0,7459383%"},{"$f":"IF($B10121=\"SINAPI\",IF(ISNUMBER(MATCH(Banco!$C10121,Analitico!$A:$A,0)),INDEX(Analitico!F:F,MATCH(Banco!$C10121,Analitico!$A:$A,0))&\"%\",\"\"),\"\")","v":"%"}]
[{"$f":"CONCATENAR","v":"SINAPI 86909"},"SINAPI","86909","TORNEIRA CROMADA TUBO MÓVEL, DE MESA, 1/2\" OU 3/4\", PARA PIA DE COZINHA, PADRÃO ALTO - FORNECIMENTO E INSTALAÇÃO. AF_01/2020","UN","204,03",null,null,"CR",{"$f":"IF($B10122=\"SINAPI\",IF(ISNUMBER(MATCH(Banco!$C10122,Analitico!$A:$A,0)),INDEX(Analitico!E:E,MATCH(Banco!$C10122,Analitico!$A:$A,0))&\"%\",\"\"),\"\")","v":"2,0592272%"},{"$f":"IF($B10122=\"SINAPI\",IF(ISNUMBER(MATCH(Banco!$C10122,Analitico!$A:$A,0)),INDEX(Analitico!F:F,MATCH(Banco!$C10122,Analitico!$A:$A,0))&\"%\",\"\"),\"\")","v":"%"}]
[{"$f":"CONCATENAR","v":"SINAPI 86927"},"SINAPI","86927","TANQUE DE MÁRMORE SINTÉTICO SUSPENSO, 22L OU EQUIVALENTE, INCLUSO SIFÃO TIPO GARRAFA EM PVC, VÁLVULA PLÁSTICA E TORNEIRA DE METAL CROMADO PADRÃO POPULAR - FORNEC. E INSTALAÇÃO. AF_01/2020","UN","473,89",null,null,"AS",{"$f":"IF($B10137=\"SINAPI\",IF(ISNUMBER(MATCH(Banco!$C10137,Analitico!$A:$A,0)),INDEX(Analitico!E:E,MATCH(Banco!$C10137,Analitico!$A:$A,0))&\"%\",\"\"),\"\")","v":"6,2812744%"},{"$f":"IF($B10137=\"SINAPI\",IF(ISNUMBER(MATCH(Banco!$C10137,Analitico!$A:$A,0)),INDEX(Analitico!F:F,MATCH(Banco!$C10137,Analitico!$A:$A,0))&\"%\",\"\"),\"\")","v":"%"}]
[{"$f":"CONCATENAR","v":"SINAPI 86931"},"SINAPI","86931","VASO SANITÁRIO SIFONADO COM CAIXA ACOPLADA LOUÇA BRANCA, INCLUSO ENGATE FLEXÍVEL EM PLÁSTICO BRANCO, 1/2  X 40CM - FORNECIMENTO E INSTALAÇÃO. AF_01/2020","UN","496,01",null,null,"AS",{"$f":"IF($B10141=\"SINAPI\",IF(ISNUMBER(MATCH(Banco!$C10141,Analitico!$A:$A,0)),INDEX(Analitico!E:E,MATCH(Banco!$C10141,Analitico!$A:$A,0))&\"%\",\"\"),\"\")","v":"5,3359683%"},{"$f":"IF($B10141=\"SINAPI\",IF(ISNUMBER(MATCH(Banco!$C10141,Analitico!$A:$A,0)),INDEX(Analitico!F:F,MATCH(Banco!$C10141,Analitico!$A:$A,0))&\"%\",\"\"),\"\")","v":"%"}]
[{"$f":"CONCATENAR","v":"SINAPI 86940"},"SINAPI","86940","LAVATÓRIO LOUÇA BRANCA COM COLUNA, 45 X 55CM OU EQUIVALENTE, PADRÃO MÉDIO, INCLUSO SIFÃO TIPO GARRAFA, VÁLVULA E ENGATE FLEXÍVEL DE 40CM EM METAL CROMADO, COM APARELHO MISTURADOR PADRÃO MÉDIO - FORNECIMENTO E INSTALAÇÃO. AF_01/2020","UN","1.497,68",null,null,"AS",{"$f":"IF($B10150=\"SINAPI\",IF(ISNUMBER(MATCH(Banco!$C10150,Analitico!$A:$A,0)),INDEX(Analitico!E:E,MATCH(Banco!$C10150,Analitico!$A:$A,0))&\"%\",\"\"),\"\")","v":"4,7239624%"},{"$f":"IF($B10150=\"SINAPI\",IF(ISNUMBER(MATCH(Banco!$C10150,Analitico!$A:$A,0)),INDEX(Analitico!F:F,MATCH(Banco!$C10150,Analitico!$A:$A,0))&\"%\",\"\"),\"\")","v":"%"}]
[{"$f":"CONCATENAR","v":"SINAPI 95470"},"SINAPI","95470","VASO SANITARIO SIFONADO CONVENCIONAL COM LOUÇA BRANCA, INCLUSO CONJUNTO DE LIGAÇÃO PARA BACIA SANITÁRIA AJUSTÁVEL - FORNECIMENTO E INSTALAÇÃO. AF_01/2020","UN","303,76",null,null,"AS",{"$f":"IF($B10159=\"SINAPI\",IF(ISNUMBER(MATCH(Banco!$C10159,Analitico!$A:$A,0)),INDEX(Analitico!E:E,MATCH(Banco!$C10159,Analitico!$A:$A,0))&\"%\",\"\"),\"\")","v":"5,0908851%"},{"$f":"IF($B10159=\"SINAPI\",IF(ISNUMBER(MATCH(Banco!$C10159,Analitico!$A:$A,0)),INDEX(Analitico!F:F,MATCH(Banco!$C10159,Analitico!$A:$A,0))&\"%\",\"\"),\"\")","v":"%"}]
[{"$f":"CONCATENAR","v":"SINAPI 100848"},"SINAPI","100848","VASO SANITÁRIO INFANTIL LOUÇA BRANCA - FORNECIMENTO E INSTALACAO. AF_01/2020","UN","546,47",null,null,"AS",{"$f":"IF($B10168=\"SINAPI\",IF(ISNUMBER(MATCH(Banco!$C10168,Analitico!$A:$A,0)),INDEX(Analitico!E:E,MATCH(Banco!$C10168,Analitico!$A:$A,0))&\"%\",\"\"),\"\")","v":"2,8294807%"},{"$f":"IF($B10168=\"SINAPI\",IF(ISNUMBER(MATCH(Banco!$C10168,Analitico!$A:$A,0)),INDEX(Analitico!F:F,MATCH(Banco!$C10168,Analitico!$A:$A,0))&\"%\",\"\"),\"\")","v":"%"}]
[{"$f":"CONCATENAR","v":"SINAPI 100856"},"SINAPI","100856","MANOPLA E CANOPLA CROMADA - FORNECIMENTO E INSTALAÇÃO. AF_01/2020","UN","58,71",null,null,"CR",{"$f":"IF($B10174=\"SINAPI\",IF(ISNUMBER(MATCH(Banco!$C10174,Analitico!$A:$A,0)),INDEX(Analitico!E:E,MATCH(Banco!$C10174,Analitico!$A:$A,0))&\"%\",\"\"),\"\")","v":"4,1254688%"},{"$f":"IF($B10174=\"SINAPI\",IF(ISNUMBER(MATCH(Banco!$C10174,Analitico!$A:$A,0)),INDEX(Analitico!F:F,MATCH(Banco!$C10174,Analitico!$A:$A,0))&\"%\",\"\"),\"\")","v":"%"}]
[{"$f":"CONCATENAR","v":"SINAPI 100869"},"SINAPI","100869","BARRA DE APOIO RETA, EM ACO INOX POLIDO, COMPRIMENTO 90 CM,  FIXADA NA PAREDE - FORNECIMENTO E INSTALAÇÃO. AF_01/2020","UN","450,21",null,null,"AS",{"$f":"IF($B10187=\"SINAPI\",IF(ISNUMBER(MATCH(Banco!$C10187,Analitico!$A:$A,0)),INDEX(Analitico!E:E,MATCH(Banco!$C10187,Analitico!$A:$A,0))&\"%\",\"\"),\"\")","v":"5,3362361%"},{"$f":"IF($B10187=\"SINAPI\",IF(ISNUMBER(MATCH(Banco!$C10187,Analitico!$A:$A,0)),INDEX(Analitico!F:F,MATCH(Banco!$C10187,Analitico!$A:$A,0))&\"%\",\"\"),\"\")","v":"%"}]
[{"$f":"CONCATENAR","v":"SINAPI 100870"},"SINAPI","100870","BARRA DE APOIO RETA, EM ALUMINIO, COMPRIMENTO 60 CM,  FIXADA NA PAREDE - FORNECIMENTO E INSTALAÇÃO. AF_01/2020","UN","292,09",null,null,"AS",{"$f":"IF($B10188=\"SINAPI\",IF(ISNUMBER(MATCH(Banco!$C10188,Analitico!$A:$A,0)),INDEX(Analitico!E:E,MATCH(Banco!$C10188,Analitico!$A:$A,0))&\"%\",\"\"),\"\")","v":"8,2257456%"},{"$f":"IF($B10188=\"SINAPI\",IF(ISNUMBER(MATCH(Banco!$C10188,Analitico!$A:$A,0)),INDEX(Analitico!F:F,MATCH(Banco!$C10188,Analitico!$A:$A,0))&\"%\",\"\"),\"\")","v":"%"}]
[{"$f":"CONCATENAR","v":"SINAPI 98054"},"SINAPI","98054","TANQUE SÉPTICO CIRCULAR, EM CONCRETO PRÉ-MOLDADO, DIÂMETRO INTERNO = 1,88 M, ALTURA INTERNA = 2,50 M, VOLUME ÚTIL: 6245,8 L (PARA 32 CONTRIBUINTES). AF_12/2020_PA","UN","4.552,84",null,null,"AS",{"$f":"IF($B10197=\"SINAPI\",IF(ISNUMBER(MATCH(Banco!$C10197,Analitico!$A:$A,0)),INDEX(Analitico!E:E,MATCH(Banco!$C10197,Analitico!$A:$A,0))&\"%\",\"\"),\"\")","v":"6,4790843%"},{"$f":"IF($B10197=\"SINAPI\",IF(ISNUMBER(MATCH(Banco!$C10197,Analitico!$A:$A,0)),INDEX(Analitico!F:F,MATCH(Banco!$C10197,Analitico!$A:$A,0))&\"%\",\"\"),\"\")","v":"%"}]
[{"$f":"CONCATENAR","v":"SINAPI 98063"},"SINAPI","98063","SUMIDOURO CIRCULAR, EM CONCRETO PRÉ-MOLDADO, DIÂMETRO INTERNO = 2,38 M, ALTURA INTERNA = 2,50 M, ÁREA DE INFILTRAÇÃO: 21,3 M² (PARA 8 CONTRIBUINTES). AF_12/2020_PA","UN","4.622,47",null,null,"AS",{"$f":"IF($B10206=\"SINAPI\",IF(ISNUMBER(MATCH(Banco!$C10206,Analitico!$A:$A,0)),INDEX(Analitico!E:E,MATCH(Banco!$C10206,Analitico!$A:$A,0))&\"%\",\"\"),\"\")","v":"7,5310184%"},{"$f":"IF($B10206=\"SINAPI\",IF(ISNUMBER(MATCH(Banco!$C10206,Analitico!$A:$A,0)),INDEX(Analitico!F:F,MATCH(Banco!$C10206,Analitico!$A:$A,0))&\"%\",\"\"),\"\")","v":"%"}]
[{"$f":"CONCATENAR","v":"SINAPI 98077"},"SINAPI","98077","FILTRO ANAERÓBIO RETANGULAR, EM ALVENARIA COM TIJOLOS CERÂMICOS MACIÇOS, DIMENSÕES INTERNAS: 1,6 X 5,6 X H=1,67 M, VOLUME ÚTIL: 10752 L (PARA 103 CONTRIBUINTES). AF_12/2020","UN","16.403,92",null,null,"AS",{"$f":"IF($B10220=\"SINAPI\",IF(ISNUMBER(MATCH(Banco!$C10220,Analitico!$A:$A,0)),INDEX(Analitico!E:E,MATCH(Banco!$C10220,Analitico!$A:$A,0))&\"%\",\"\"),\"\")","v":"34,5032505%"},{"$f":"IF($B10220=\"SINAPI\",IF(ISNUMBER(MATCH(Banco!$C10220,Analitico!$A:$A,0)),INDEX(Analitico!F:F,MATCH(Banco!$C10220,Analitico!$A:$A,0))&\"%\",\"\"),\"\")","v":"%"}]
[{"$f":"CONCATENAR","v":"SINAPI 98082"},"SINAPI","98082","TANQUE SÉPTICO RETANGULAR, EM ALVENARIA COM BLOCOS DE CONCRETO, DIMENSÕES INTERNAS: 1,0 X 2,0 X H=1,4 M, VOLUME ÚTIL: 2000 L (PARA 5 CONTRIBUINTES). AF_12/2020","UN","3.650,00",null,null,"AS",{"$f":"IF($B10225=\"SINAPI\",IF(ISNUMBER(MATCH(Banco!$C10225,Analitico!$A:$A,0)),INDEX(Analitico!E:E,MATCH(Banco!$C10225,Analitico!$A:$A,0))&\"%\",\"\"),\"\")","v":"33,0773959%"},{"$f":"IF($B10225=\"SINAPI\",IF(ISNUMBER(MATCH(Banco!$C10225,Analitico!$A:$A,0)),INDEX(Analitico!F:F,MATCH(Banco!$C10225,Analitico!$A:$A,0))&\"%\",\"\"),\"\")","v":"%"}]
[{"$f":"CONCATENAR","v":"SINAPI 98091"},"SINAPI","98091","FILTRO ANAERÓBIO RETANGULAR, EM ALVENARIA COM BLOCOS DE CONCRETO, DIMENSÕES INTERNAS: 1,4 X 4,2 X H=1,67 M, VOLUME ÚTIL: 7056 L (PARA 67 CONTRIBUINTES). AF_12/2020","UN","10.143,43",null,null,"AS",{"$f":"IF($B10234=\"SINAPI\",IF(ISNUMBER(MATCH(Banco!$C10234,Analitico!$A:$A,0)),INDEX(Analitico!E:E,MATCH(Banco!$C10234,Analitico!$A:$A,0))&\"%\",\"\"),\"\")","v":"33,5758194%"},{"$f":"IF($B10234=\"SINAPI\",IF(ISNUMBER(MATCH(Banco!$C10234,Analitico!$A:$A,0)),INDEX(Analitico!F:F,MATCH(Banco!$C10234,Analitico!$A:$A,0))&\"%\",\"\"),\"\")","v":"%"}]
[{"$f":"CONCATENAR","v":"SINAPI 98111"},"SINAPI","98111","CAIXA DE INSPEÇÃO PARA ATERRAMENTO, CIRCULAR, EM POLIETILENO, DIÂMETRO INTERNO = 0,3 M. AF_12/2020","UN","48,48",null,null,"CR",{"$f":"IF($B10243=\"SINAPI\",IF(ISNUMBER(MATCH(Banco!$C10243,Analitico!$A:$A,0)),INDEX(Analitico!E:E,MATCH(Banco!$C10243,Analitico!$A:$A,0))&\"%\",\"\"),\"\")","v":"11,2676056%"},{"$f":"IF($B10243=\"SINAPI\",IF(ISNUMBER(MATCH(Banco!$C10243,Analitico!$A:$A,0)),INDEX(Analitico!F:F,MATCH(Banco!$C10243,Analitico!$A:$A,0))&\"%\",\"\"),\"\")","v":"%"}]
[{"$f":"CONCATENAR","v":"SINAPI 89984"},"SINAPI","89984","REGISTRO DE PRESSÃO BRUTO, LATÃO, ROSCÁVEL, 1/2\", COM ACABAMENTO E CANOPLA CROMADOS - FORNECIMENTO E INSTALAÇÃO. AF_08/2021","UN","101,51",null,null,"CR",{"$f":"IF($B10252=\"SINAPI\",IF(ISNUMBER(MATCH(Banco!$C10252,Analitico!$A:$A,0)),INDEX(Analitico!E:E,MATCH(Banco!$C10252,Analitico!$A:$A,0))&\"%\",\"\"),\"\")","v":"6,5864720%"},{"$f":"IF($B10252=\"SINAPI\",IF(ISNUMBER(MATCH(Banco!$C10252,Analitico!$A:$A,0)),INDEX(Analitico!F:F,MATCH(Banco!$C10252,Analitico!$A:$A,0))&\"%\",\"\"),\"\")","v":"%"}]
[{"$f":"CONCATENAR","v":"SINAPI 94489"},"SINAPI","94489","REGISTRO DE ESFERA, PVC, SOLDÁVEL, COM VOLANTE, DN  25 MM - FORNECIMENTO E INSTALAÇÃO. AF_08/2021","UN","40,77",null,null,"CR",{"$f":"IF($B10257=\"SINAPI\",IF(ISNUMBER(MATCH(Banco!$C10257,Analitico!$A:$A,0)),INDEX(Analitico!E:E,MATCH(Banco!$C10257,Analitico!$A:$A,0))&\"%\",\"\"),\"\")","v":"7,0989928%"},{"$f":"IF($B10257=\"SINAPI\",IF(ISNUMBER(MATCH(Banco!$C10257,Analitico!$A:$A,0)),INDEX(Analitico!F:F,MATCH(Banco!$C10257,Analitico!$A:$A,0))&\"%\",\"\"),\"\")","v":"%"}]
[{"$f":"CONCATENAR","v":"SINAPI 94496"},"SINAPI","94496","REGISTRO DE GAVETA BRUTO, LATÃO, ROSCÁVEL, 1 1/4\" - FORNECIMENTO E INSTALAÇÃO. AF_08/2021","UN","99,42",null,null,"CR",{"$f":"IF($B10263=\"SINAPI\",IF(ISNUMBER(MATCH(Banco!$C10263,Analitico!$A:$A,0)),INDEX(Analitico!E:E,MATCH(Banco!$C10263,Analitico!$A:$A,0))&\"%\",\"\"),\"\")","v":"7,4368521%"},{"$f":"IF($B10263=\"SINAPI\",IF(ISNUMBER(MATCH(Banco!$C10263,Analitico!$A:$A,0)),INDEX(Analitico!F:F,MATCH(Banco!$C10263,Analitico!$A:$A,0))&\"%\",\"\"),\"\")","v":"%"}]
[{"$f":"CONCATENAR","v":"SINAPI 94795"},"SINAPI","94795","TORNEIRA DE BOIA PARA CAIXA D'ÁGUA, ROSCÁVEL, 1/2\" - FORNECIMENTO E INSTALAÇÃO. AF_08/2021","UN","55,46",null,null,"CR",{"$f":"IF($B10272=\"SINAPI\",IF(ISNUMBER(MATCH(Banco!$C10272,Analitico!$A:$A,0)),INDEX(Analitico!E:E,MATCH(Banco!$C10272,Analitico!$A:$A,0))&\"%\",\"\"),\"\")","v":"8,1783715%"},{"$f":"IF($B10272=\"SINAPI\",IF(ISNUMBER(MATCH(Banco!$C10272,Analitico!$A:$A,0)),INDEX(Analitico!F:F,MATCH(Banco!$C10272,Analitico!$A:$A,0))&\"%\",\"\"),\"\")","v":"%"}]
[{"$f":"CONCATENAR","v":"SINAPI 95251"},"SINAPI","95251","VÁLVULA DE ESFERA BRUTA, BRONZE, ROSCÁVEL, 1 1/4'' - FORNECIMENTO E INSTALAÇÃO. AF_08/2021","UN","147,34",null,null,"CR",{"$f":"IF($B10281=\"SINAPI\",IF(ISNUMBER(MATCH(Banco!$C10281,Analitico!$A:$A,0)),INDEX(Analitico!E:E,MATCH(Banco!$C10281,Analitico!$A:$A,0))&\"%\",\"\"),\"\")","v":"5,0173127%"},{"$f":"IF($B10281=\"SINAPI\",IF(ISNUMBER(MATCH(Banco!$C10281,Analitico!$A:$A,0)),INDEX(Analitico!F:F,MATCH(Banco!$C10281,Analitico!$A:$A,0))&\"%\",\"\"),\"\")","v":"%"}]
[{"$f":"CONCATENAR","v":"SINAPI 99625"},"SINAPI","99625","VÁLVULA DE RETENÇÃO HORIZONTAL, DE BRONZE, ROSCÁVEL, 3\" - FORNECIMENTO E INSTALAÇÃO. AF_08/2021","UN","747,47",null,null,"CR",{"$f":"IF($B10290=\"SINAPI\",IF(ISNUMBER(MATCH(Banco!$C10290,Analitico!$A:$A,0)),INDEX(Analitico!E:E,MATCH(Banco!$C10290,Analitico!$A:$A,0))&\"%\",\"\"),\"\")","v":"2,7896708%"},{"$f":"IF($B10290=\"SINAPI\",IF(ISNUMBER(MATCH(Banco!$C10290,Analitico!$A:$A,0)),INDEX(Analitico!F:F,MATCH(Banco!$C10290,Analitico!$A:$A,0))&\"%\",\"\"),\"\")","v":"%"}]
[{"$f":"CONCATENAR","v":"SINAPI 99629"},"SINAPI","99629","VÁLVULA DE RETENÇÃO VERTICAL, DE BRONZE, ROSCÁVEL, 1\" - FORNECIMENTO E INSTALAÇÃO. AF_08/2021","UN","87,32",null,null,"CR",{"$f":"IF($B10294=\"SINAPI\",IF(ISNUMBER(MATCH(Banco!$C10294,Analitico!$A:$A,0)),INDEX(Analitico!E:E,MATCH(Banco!$C10294,Analitico!$A:$A,0))&\"%\",\"\"),\"\")","v":"6,2148836%"},{"$f":"IF($B10294=\"SINAPI\",IF(ISNUMBER(MATCH(Banco!$C10294,Analitico!$A:$A,0)),INDEX(Analitico!F:F,MATCH(Banco!$C10294,Analitico!$A:$A,0))&\"%\",\"\"),\"\")","v":"%"}]
[{"$f":"CONCATENAR","v":"SINAPI 103016"},"SINAPI","103016","VÁLVULA DE RETENÇÃO, DE BRONZE, PÉ COM CRIVOS, ROSCÁVEL, 3\" - FORNECIMENTO E INSTALAÇÃO. AF_08/2021","UN","511,40",null,null,"CR",{"$f":"IF($B10309=\"SINAPI\",IF(ISNUMBER(MATCH(Banco!$C10309,Analitico!$A:$A,0)),INDEX(Analitico!E:E,MATCH(Banco!$C10309,Analitico!$A:$A,0))&\"%\",\"\"),\"\")","v":"2,0377830%"},{"$f":"IF($B10309=\"SINAPI\",IF(ISNUMBER(MATCH(Banco!$C10309,Analitico!$A:$A,0)),INDEX(Analitico!F:F,MATCH(Banco!$C10309,Analitico!$A:$A,0))&\"%\",\"\"),\"\")","v":"%"}]
[{"$f":"CONCATENAR","v":"SINAPI 103040"},"SINAPI","103040","REGISTRO DE ESFERA, PVC, ROSCÁVEL, COM VOLANTE, 2\" - FORNECIMENTO E INSTALAÇÃO. AF_08/2021","UN","138,26",null,null,"CR",{"$f":"IF($B10318=\"SINAPI\",IF(ISNUMBER(MATCH(Banco!$C10318,Analitico!$A:$A,0)),INDEX(Analitico!E:E,MATCH(Banco!$C10318,Analitico!$A:$A,0))&\"%\",\"\"),\"\")","v":"8,9882761%"},{"$f":"IF($B10318=\"SINAPI\",IF(ISNUMBER(MATCH(Banco!$C10318,Analitico!$A:$A,0)),INDEX(Analitico!F:F,MATCH(Banco!$C10318,Analitico!$A:$A,0))&\"%\",\"\"),\"\")","v":"%"}]
[{"$f":"CONCATENAR","v":"SINAPI 103041"},"SINAPI","103041","REGISTRO DE ESFERA, PVC, ROSCÁVEL, COM BORBOLETA, 1/2\" - FORNECIMENTO E INSTALAÇÃO. AF_08/2021","UN","26,89",null,null,"CR",{"$f":"IF($B10319=\"SINAPI\",IF(ISNUMBER(MATCH(Banco!$C10319,Analitico!$A:$A,0)),INDEX(Analitico!E:E,MATCH(Banco!$C10319,Analitico!$A:$A,0))&\"%\",\"\"),\"\")","v":"9,7279165%"},{"$f":"IF($B10319=\"SINAPI\",IF(ISNUMBER(MATCH(Banco!$C10319,Analitico!$A:$A,0)),INDEX(Analitico!F:F,MATCH(Banco!$C10319,Analitico!$A:$A,0))&\"%\",\"\"),\"\")","v":"%"}]
[{"$f":"CONCATENAR","v":"SINAPI 103050"},"SINAPI","103050","SUBSTITUIÇÃO DE REGISTRO OU VÁLVULA, ROSCÁVEL, DN  20 MM. AF_08/2021","UN","24,06",null,null,"CR",{"$f":"IF($B10328=\"SINAPI\",IF(ISNUMBER(MATCH(Banco!$C10328,Analitico!$A:$A,0)),INDEX(Analitico!E:E,MATCH(Banco!$C10328,Analitico!$A:$A,0))&\"%\",\"\"),\"\")","v":"60,0000000%"},{"$f":"IF($B10328=\"SINAPI\",IF(ISNUMBER(MATCH(Banco!$C10328,Analitico!$A:$A,0)),INDEX(Analitico!F:F,MATCH(Banco!$C10328,Analitico!$A:$A,0))&\"%\",\"\"),\"\")","v":"%"}]
[{"$f":"CONCATENAR","v":"SINAPI 95644"},"SINAPI","95644","KIT CAVALETE PARA MEDIÇÃO DE ÁGUA - ENTRADA INDIVIDUALIZADA, EM PVC 32 MM (1\"), PARA 1 MEDIDOR - FORNECIMENTO E INSTALAÇÃO (EXCLUSIVE HIDRÔMETRO). AF_03/2024","UN","229,70",null,null,"CR",{"$f":"IF($B10340=\"SINAPI\",IF(ISNUMBER(MATCH(Banco!$C10340,Analitico!$A:$A,0)),INDEX(Analitico!E:E,MATCH(Banco!$C10340,Analitico!$A:$A,0))&\"%\",\"\"),\"\")","v":"27,1840432%"},{"$f":"IF($B10340=\"SINAPI\",IF(ISNUMBER(MATCH(Banco!$C10340,Analitico!$A:$A,0)),INDEX(Analitico!F:F,MATCH(Banco!$C10340,Analitico!$A:$A,0))&\"%\",\"\"),\"\")","v":"%"}]
[{"$f":"CONCATENAR","v":"SINAPI 95651"},"SINAPI","95651","KIT CAVALETE PARA MEDIÇÃO DE ÁGUA - ENTRADA INDIVIDUALIZADA, EM CPVC DN 28 MM (1\"), PARA 4 MEDIDORES - FORNECIMENTO E INSTALAÇÃO (EXCLUSIVE HIDRÔMETRO). AF_03/2024","UN","1.944,27",null,null,"CR",{"$f":"IF($B10347=\"SINAPI\",IF(ISNUMBER(MATCH(Banco!$C10347,Analitico!$A:$A,0)),INDEX(Analitico!E:E,MATCH(Banco!$C10347,Analitico!$A:$A,0))&\"%\",\"\"),\"\")","v":"10,4047402%"},{"$f":"IF($B10347=\"SINAPI\",IF(ISNUMBER(MATCH(Banco!$C10347,Analitico!$A:$A,0)),INDEX(Analitico!F:F,MATCH(Banco!$C10347,Analitico!$A:$A,0))&\"%\",\"\"),\"\")","v":"%"}]
[{"$f":"CONCATENAR","v":"SINAPI 95661"},"SINAPI","95661","KIT CAVALETE PARA MEDIÇÃO DE ÁGUA - ENTRADA INDIVIDUALIZADA, EM PPR PN20 DN 32 MM (1\") PARA 1 MEDIDOR - FORNECIMENTO E INSTALAÇÃO (EXCLUSIVE HIDRÔMETRO). AF_03/2024","UN","372,62",null,null,"CR",{"$f":"IF($B10356=\"SINAPI\",IF(ISNUMBER(MATCH(Banco!$C10356,Analitico!$A:$A,0)),INDEX(Analitico!E:E,MATCH(Banco!$C10356,Analitico!$A:$A,0))&\"%\",\"\"),\"\")","v":"25,6267783%"},{"$f":"IF($B10356=\"SINAPI\",IF(ISNUMBER(MATCH(Banco!$C10356,Analitico!$A:$A,0)),INDEX(Analitico!F:F,MATCH(Banco!$C10356,Analitico!$A:$A,0))&\"%\",\"\"),\"\")","v":"%"}]
[{"$f":"CONCATENAR","v":"SINAPI 95670"},"SINAPI","95670","KIT CAVALETE PARA MEDIÇÃO DE ÁGUA - ENTRADA INDIVIDUALIZADA, EM PPR PN25 DN 32 MM (1\") PARA 2 MEDIDORES - FORNECIMENTO E INSTALAÇÃO (EXCLUSIVE HIDRÔMETRO). AF_03/2024","UN","725,27",null,null,"CR",{"$f":"IF($B10365=\"SINAPI\",IF(ISNUMBER(MATCH(Banco!$C10365,Analitico!$A:$A,0)),INDEX(Analitico!E:E,MATCH(Banco!$C10365,Analitico!$A:$A,0))&\"%\",\"\"),\"\")","v":"25,0106871%"},{"$f":"IF($B10365=\"SINAPI\",IF(ISNUMBER(MATCH(Banco!$C10365,Analitico!$A:$A,0)),INDEX(Analitico!F:F,MATCH(Banco!$C10365,Analitico!$A:$A,0))&\"%\",\"\"),\"\")","v":"%"}]
[{"$f":"CONCATENAR","v":"SINAPI 104997"},"SINAPI","104997","HIDRÔMETRO DN 1\", 7 M³/H - FORNECIMENTO E INSTALAÇÃO. AF_03/2024","UN","579,70",null,null,"CR",{"$f":"IF($B10374=\"SINAPI\",IF(ISNUMBER(MATCH(Banco!$C10374,Analitico!$A:$A,0)),INDEX(Analitico!E:E,MATCH(Banco!$C10374,Analitico!$A:$A,0))&\"%\",\"\"),\"\")","v":"4,0940616%"},{"$f":"IF($B10374=\"SINAPI\",IF(ISNUMBER(MATCH(Banco!$C10374,Analitico!$A:$A,0)),INDEX(Analitico!F:F,MATCH(Banco!$C10374,Analitico!$A:$A,0))&\"%\",\"\"),\"\")","v":"%"}]
[{"$f":"CONCATENAR","v":"SINAPI 90443"},"SINAPI","90443","RASGO LINEAR MANUAL EM ALVENARIA, PARA RAMAIS/ DISTRIBUIÇÃO DE INSTALAÇÕES HIDRÁULICAS, DIÂMETROS MENORES OU IGUAIS A 40 MM. AF_09/2023","M","7,45",null,null,"CR",{"$f":"IF($B10383=\"SINAPI\",IF(ISNUMBER(MATCH(Banco!$C10383,Analitico!$A:$A,0)),INDEX(Analitico!E:E,MATCH(Banco!$C10383,Analitico!$A:$A,0))&\"%\",\"\"),\"\")","v":"79,9185889%"},{"$f":"IF($B10383=\"SINAPI\",IF(ISNUMBER(MATCH(Banco!$C10383,Analitico!$A:$A,0)),INDEX(Analitico!F:F,MATCH(Banco!$C10383,Analitico!$A:$A,0))&\"%\",\"\"),\"\")","v":"%"}]
[{"$f":"CONCATENAR","v":"SINAPI 90451"},"SINAPI","90451","PASSANTE TIPO PEÇA EM POLIESTIRENO (ISOPOR), FIXADO EM LAJE, PARA ABERTURA PARA PASSAGEM DE 1 TUBO DE ATÉ 50 MM DE DIÂMETRO. AF_09/2023","UN","7,05",null,null,"CR",{"$f":"IF($B10388=\"SINAPI\",IF(ISNUMBER(MATCH(Banco!$C10388,Analitico!$A:$A,0)),INDEX(Analitico!E:E,MATCH(Banco!$C10388,Analitico!$A:$A,0))&\"%\",\"\"),\"\")","v":"43,5530085%"},{"$f":"IF($B10388=\"SINAPI\",IF(ISNUMBER(MATCH(Banco!$C10388,Analitico!$A:$A,0)),INDEX(Analitico!F:F,MATCH(Banco!$C10388,Analitico!$A:$A,0))&\"%\",\"\"),\"\")","v":"%"}]
[{"$f":"CONCATENAR","v":"SINAPI 90457"},"SINAPI","90457","QUEBRA EM ALVENARIA PARA INSTALAÇÃO DE QUADRO DISTRIBUIÇÃO PEQUENO (19X25 CM). AF_09/2023","UN","11,34",null,null,"CR",{"$f":"IF($B10394=\"SINAPI\",IF(ISNUMBER(MATCH(Banco!$C10394,Analitico!$A:$A,0)),INDEX(Analitico!E:E,MATCH(Banco!$C10394,Analitico!$A:$A,0))&\"%\",\"\"),\"\")","v":"76,9777778%"},{"$f":"IF($B10394=\"SINAPI\",IF(ISNUMBER(MATCH(Banco!$C10394,Analitico!$A:$A,0)),INDEX(Analitico!F:F,MATCH(Banco!$C10394,Analitico!$A:$A,0))&\"%\",\"\"),\"\")","v":"%"}]
[{"$f":"CONCATENAR","v":"SINAPI 90468"},"SINAPI","90468","CHUMBAMENTO LINEAR EM CONTRAPISO PARA RAMAIS/DISTRIBUIÇÃO DE INSTALAÇÕES HIDRÁULICAS COM DIÂMETROS MENORES OU IGUAIS A 40 MM. AF_09/2023","M","7,47",null,null,"CR",{"$f":"IF($B10403=\"SINAPI\",IF(ISNUMBER(MATCH(Banco!$C10403,Analitico!$A:$A,0)),INDEX(Analitico!E:E,MATCH(Banco!$C10403,Analitico!$A:$A,0))&\"%\",\"\"),\"\")","v":"50,6122449%"},{"$f":"IF($B10403=\"SINAPI\",IF(ISNUMBER(MATCH(Banco!$C10403,Analitico!$A:$A,0)),INDEX(Analitico!F:F,MATCH(Banco!$C10403,Analitico!$A:$A,0))&\"%\",\"\"),\"\")","v":"%"}]
[{"$f":"CONCATENAR","v":"SINAPI 91174"},"SINAPI","91174","FIXAÇÃO DE TUBOS VERTICAIS DE PVC ÁGUA, PVC ESGOTO, PVC ÁGUA PLUVIAL, CPVC, PPR, COBRE OU AÇO, DIÂMETROS MAIORES QUE 40 MM E MENORES OU IGUAIS A 75 MM, COM ABRAÇADEIRA METÁLICA RÍGIDA TIPO U PERFIL 2 1/2\", FIXADA EM PERFILADO EM PAREDE. AF_09/2023_PS","M","7,28",null,null,"CR",{"$f":"IF($B10412=\"SINAPI\",IF(ISNUMBER(MATCH(Banco!$C10412,Analitico!$A:$A,0)),INDEX(Analitico!E:E,MATCH(Banco!$C10412,Analitico!$A:$A,0))&\"%\",\"\"),\"\")","v":"42,1418636%"},{"$f":"IF($B10412=\"SINAPI\",IF(ISNUMBER(MATCH(Banco!$C10412,Analitico!$A:$A,0)),INDEX(Analitico!F:F,MATCH(Banco!$C10412,Analitico!$A:$A,0))&\"%\",\"\"),\"\")","v":"%"}]
[{"$f":"CONCATENAR","v":"SINAPI 91187"},"SINAPI","91187","FIXAÇÃO DE TUBOS HORIZONTAIS DE PVC ÁGUA, PVC ESGOTO, PVC ÁGUA PLUVIAL, CPVC, PPR, COBRE OU AÇO, DIÂMETROS MAIORES QUE 75 MM E MENORES OU IGUAIS A 100 MM, COM ABRAÇADEIRA METÁLICA FLEXÍVEL 18 MM, FIXADA DIRETAMENTE NA LAJE. AF_09/2023","M","23,11",null,null,"AS",{"$f":"IF($B10421=\"SINAPI\",IF(ISNUMBER(MATCH(Banco!$C10421,Analitico!$A:$A,0)),INDEX(Analitico!E:E,MATCH(Banco!$C10421,Analitico!$A:$A,0))&\"%\",\"\"),\"\")","v":"69,7351281%"},{"$f":"IF($B10421=\"SINAPI\",IF(ISNUMBER(MATCH(Banco!$C10421,Analitico!$A:$A,0)),INDEX(Analitico!F:F,MATCH(Banco!$C10421,Analitico!$A:$A,0))&\"%\",\"\"),\"\")","v":"%"}]
[{"$f":"CONCATENAR","v":"SINAPI 91191"},"SINAPI","91191","CHUMBAMENTO PONTUAL EM PASSAGEM DE TUBO COM DIÂMETROS ENTRE 40 MM E 75 MM. AF_09/2023","UN","14,54",null,null,"CR",{"$f":"IF($B10425=\"SINAPI\",IF(ISNUMBER(MATCH(Banco!$C10425,Analitico!$A:$A,0)),INDEX(Analitico!E:E,MATCH(Banco!$C10425,Analitico!$A:$A,0))&\"%\",\"\"),\"\")","v":"45,6687456%"},{"$f":"IF($B10425=\"SINAPI\",IF(ISNUMBER(MATCH(Banco!$C10425,Analitico!$A:$A,0)),INDEX(Analitico!F:F,MATCH(Banco!$C10425,Analitico!$A:$A,0))&\"%\",\"\"),\"\")","v":"%"}]
[{"$f":"CONCATENAR","v":"SINAPI 101804"},"SINAPI","101804","CAIXA ENTERRADA SEPARADORA DE ÓLEO RETANGULAR, EM ALVENARIA COM BLOCOS DE CONCRETO, DIMENSÕES INTERNAS: 0,8 X 0,8 X 1,00 M, EXCLUINDO TAMPÃO. AF_12/2020","UN","1.383,99",null,null,"AS",{"$f":"IF($B10440=\"SINAPI\",IF(ISNUMBER(MATCH(Banco!$C10440,Analitico!$A:$A,0)),INDEX(Analitico!E:E,MATCH(Banco!$C10440,Analitico!$A:$A,0))&\"%\",\"\"),\"\")","v":"32,3873097%"},{"$f":"IF($B10440=\"SINAPI\",IF(ISNUMBER(MATCH(Banco!$C10440,Analitico!$A:$A,0)),INDEX(Analitico!F:F,MATCH(Banco!$C10440,Analitico!$A:$A,0))&\"%\",\"\"),\"\")","v":"%"}]
[{"$f":"CONCATENAR","v":"SINAPI 102118"},"SINAPI","102118","BOMBA CENTRÍFUGA, TRIFÁSICA, 3 CV OU 2,96 HP, HM 34 A 40 M, Q 8,6 A 14,8 M3/H - FORNECIMENTO E INSTALAÇÃO. AF_12/2020","UN","2.443,12",null,null,"AS",{"$f":"IF($B10449=\"SINAPI\",IF(ISNUMBER(MATCH(Banco!$C10449,Analitico!$A:$A,0)),INDEX(Analitico!E:E,MATCH(Banco!$C10449,Analitico!$A:$A,0))&\"%\",\"\"),\"\")","v":"4,3537169%"},{"$f":"IF($B10449=\"SINAPI\",IF(ISNUMBER(MATCH(Banco!$C10449,Analitico!$A:$A,0)),INDEX(Analitico!F:F,MATCH(Banco!$C10449,Analitico!$A:$A,0))&\"%\",\"\"),\"\")","v":"%"}]
[{"$f":"CONCATENAR","v":"SINAPI 102119"},"SINAPI","102119","BOMBA CENTRÍFUGA, TRIFÁSICA, 3 CV OU 2,96 HP, HM 34 A 40 M, Q 8,6 A 14,8 M3/H (NÃO INCLUI O FORNECIMENTO DA BOMBA). AF_12/2020","UN","145,05",null,null,"AS",{"$f":"IF($B10450=\"SINAPI\",IF(ISNUMBER(MATCH(Banco!$C10450,Analitico!$A:$A,0)),INDEX(Analitico!E:E,MATCH(Banco!$C10450,Analitico!$A:$A,0))&\"%\",\"\"),\"\")","v":"73,4023465%"},{"$f":"IF($B10450=\"SINAPI\",IF(ISNUMBER(MATCH(Banco!$C10450,Analitico!$A:$A,0)),INDEX(Analitico!F:F,MATCH(Banco!$C10450,Analitico!$A:$A,0))&\"%\",\"\"),\"\")","v":"%"}]
[{"$f":"CONCATENAR","v":"SINAPI 103520"},"SINAPI","103520","RESERVATÓRIO TÉRMICO/BOILER SOLAR EM AÇO INOX 400 L COM 2 PLACAS COLETORAS EM VIDRO TEMPERADO COM SERPENTINA EM TUBO DE COBRE 2 X 1 M - FORNECIMENTO E INSTALAÇÃO. AF_12/2021","UN","10.710,90",null,null,"CR",{"$f":"IF($B10459=\"SINAPI\",IF(ISNUMBER(MATCH(Banco!$C10459,Analitico!$A:$A,0)),INDEX(Analitico!E:E,MATCH(Banco!$C10459,Analitico!$A:$A,0))&\"%\",\"\"),\"\")","v":"0,2120285%"},{"$f":"IF($B10459=\"SINAPI\",IF(ISNUMBER(MATCH(Banco!$C10459,Analitico!$A:$A,0)),INDEX(Analitico!F:F,MATCH(Banco!$C10459,Analitico!$A:$A,0))&\"%\",\"\"),\"\")","v":"%"}]
[{"$f":"CONCATENAR","v":"SINAPI 104782"},"SINAPI","104782","PASSANTE TIPO PEÇA EM FÔRMA DE MADEIRA, FIXADO EM LAJE, PARA PASSAGEM DE NO MÁXIMO 5 TUBOS DE 50 MM DE DIÂMETRO. AF_09/2023","UN","83,03",null,null,"CR",{"$f":"IF($B10471=\"SINAPI\",IF(ISNUMBER(MATCH(Banco!$C10471,Analitico!$A:$A,0)),INDEX(Analitico!E:E,MATCH(Banco!$C10471,Analitico!$A:$A,0))&\"%\",\"\"),\"\")","v":"6,3752716%"},{"$f":"IF($B10471=\"SINAPI\",IF(ISNUMBER(MATCH(Banco!$C10471,Analitico!$A:$A,0)),INDEX(Analitico!F:F,MATCH(Banco!$C10471,Analitico!$A:$A,0))&\"%\",\"\"),\"\")","v":"%"}]
[{"$f":"CONCATENAR","v":"SINAPI 104032"},"SINAPI","104032","COLAR DE TOMADA, PVC, COM TRAVAS, DE 75 MM X 1/2\" OU 75 MM X 3/4\", PARA LIGAÇÃO PREDIAL DE ÁGUA. AF_06/2022","UN","19,22",null,null,"AS",{"$f":"IF($B10478=\"SINAPI\",IF(ISNUMBER(MATCH(Banco!$C10478,Analitico!$A:$A,0)),INDEX(Analitico!E:E,MATCH(Banco!$C10478,Analitico!$A:$A,0))&\"%\",\"\"),\"\")","v":"30,6889352%"},{"$f":"IF($B10478=\"SINAPI\",IF(ISNUMBER(MATCH(Banco!$C10478,Analitico!$A:$A,0)),INDEX(Analitico!F:F,MATCH(Banco!$C10478,Analitico!$A:$A,0))&\"%\",\"\"),\"\")","v":"%"}]
[{"$f":"CONCATENAR","v":"SINAPI 104046"},"SINAPI","104046","COTOVELO/JOELHO COM ADAPTADOR, POLIPROPILENO, PARA TUBOS EM PEAD, 20 MM X 1/2\", PARA LIGAÇÃO PREDIAL DE ÁGUA. AF_06/2022","UN","8,76",null,null,"CR",{"$f":"IF($B10487=\"SINAPI\",IF(ISNUMBER(MATCH(Banco!$C10487,Analitico!$A:$A,0)),INDEX(Analitico!E:E,MATCH(Banco!$C10487,Analitico!$A:$A,0))&\"%\",\"\"),\"\")","v":"28,6536248%"},{"$f":"IF($B10487=\"SINAPI\",IF(ISNUMBER(MATCH(Banco!$C10487,Analitico!$A:$A,0)),INDEX(Analitico!F:F,MATCH(Banco!$C10487,Analitico!$A:$A,0))&\"%\",\"\"),\"\")","v":"%"}]
[{"$f":"CONCATENAR","v":"SINAPI 104055"},"SINAPI","104055","REGISTRO ESFERA, PVC, DE PASSEIO, PARA POLIETILENO, 20 MM, PARA LIGAÇÃO PREDIAL DE ÁGUA. AF_06/2022","UN","20,36",null,null,"CR",{"$f":"IF($B10496=\"SINAPI\",IF(ISNUMBER(MATCH(Banco!$C10496,Analitico!$A:$A,0)),INDEX(Analitico!E:E,MATCH(Banco!$C10496,Analitico!$A:$A,0))&\"%\",\"\"),\"\")","v":"11,5820601%"},{"$f":"IF($B10496=\"SINAPI\",IF(ISNUMBER(MATCH(Banco!$C10496,Analitico!$A:$A,0)),INDEX(Analitico!F:F,MATCH(Banco!$C10496,Analitico!$A:$A,0))&\"%\",\"\"),\"\")","v":"%"}]
[{"$f":"CONCATENAR","v":"SINAPI 104065"},"SINAPI","104065","CURVA LONGA, 45 GRAUS, PVC OCRE, JUNTA ELÁSTICA, DN 150 MM, PARA COLETOR PREDIAL DE ESGOTO. AF_06/2022","UN","152,89",null,null,"CR",{"$f":"IF($B10505=\"SINAPI\",IF(ISNUMBER(MATCH(Banco!$C10505,Analitico!$A:$A,0)),INDEX(Analitico!E:E,MATCH(Banco!$C10505,Analitico!$A:$A,0))&\"%\",\"\"),\"\")","v":"3,2519793%"},{"$f":"IF($B10505=\"SINAPI\",IF(ISNUMBER(MATCH(Banco!$C10505,Analitico!$A:$A,0)),INDEX(Analitico!F:F,MATCH(Banco!$C10505,Analitico!$A:$A,0))&\"%\",\"\"),\"\")","v":"%"}]
[{"$f":"CONCATENAR","v":"SINAPI 104082"},"SINAPI","104082","PLUG, PVC OCRE, JUNTA ELÁSTICA, DN 100 MM, PARA COLETOR PREDIAL DE ESGOTO. AF_06/2022","UN","30,03",null,null,"CR",{"$f":"IF($B10508=\"SINAPI\",IF(ISNUMBER(MATCH(Banco!$C10508,Analitico!$A:$A,0)),INDEX(Analitico!E:E,MATCH(Banco!$C10508,Analitico!$A:$A,0))&\"%\",\"\"),\"\")","v":"7,9131886%"},{"$f":"IF($B10508=\"SINAPI\",IF(ISNUMBER(MATCH(Banco!$C10508,Analitico!$A:$A,0)),INDEX(Analitico!F:F,MATCH(Banco!$C10508,Analitico!$A:$A,0))&\"%\",\"\"),\"\")","v":"%"}]
[{"$f":"CONCATENAR","v":"SINAPI 96521"},"SINAPI","96521","ESCAVAÇÃO MECANIZADA PARA BLOCO DE COROAMENTO OU SAPATA COM RETROESCAVADEIRA (INCLUINDO ESCAVAÇÃO PARA COLOCAÇÃO DE FÔRMAS). AF_01/2024","M3","40,01",null,null,"AS",{"$f":"IF($B10516=\"SINAPI\",IF(ISNUMBER(MATCH(Banco!$C10516,Analitico!$A:$A,0)),INDEX(Analitico!E:E,MATCH(Banco!$C10516,Analitico!$A:$A,0))&\"%\",\"\"),\"\")","v":"31,3833793%"},{"$f":"IF($B10516=\"SINAPI\",IF(ISNUMBER(MATCH(Banco!$C10516,Analitico!$A:$A,0)),INDEX(Analitico!F:F,MATCH(Banco!$C10516,Analitico!$A:$A,0))&\"%\",\"\"),\"\")","v":"%"}]
[{"$f":"CONCATENAR","v":"SINAPI 101115"},"SINAPI","101115","ESCAVAÇÃO HORIZONTAL EM SOLO DE 1A CATEGORIA COM TRATOR DE ESTEIRAS (150HP/LÂMINA: 3,18M3). AF_07/2020","M3","3,74",null,null,"AS",{"$f":"IF($B10525=\"SINAPI\",IF(ISNUMBER(MATCH(Banco!$C10525,Analitico!$A:$A,0)),INDEX(Analitico!E:E,MATCH(Banco!$C10525,Analitico!$A:$A,0))&\"%\",\"\"),\"\")","v":"25,6198347%"},{"$f":"IF($B10525=\"SINAPI\",IF(ISNUMBER(MATCH(Banco!$C10525,Analitico!$A:$A,0)),INDEX(Analitico!F:F,MATCH(Banco!$C10525,Analitico!$A:$A,0))&\"%\",\"\"),\"\")","v":"%"}]
[{"$f":"CONCATENAR","v":"SINAPI 101124"},"SINAPI","101124","ESCAVAÇÃO HORIZONTAL, INCLUINDO CARGA E DESCARGA EM SOLO DE 1A CATEGORIA COM TRATOR DE ESTEIRAS (100HP/LÂMINA: 2,19M3). AF_07/2020","M3","15,80",null,null,"AS",{"$f":"IF($B10534=\"SINAPI\",IF(ISNUMBER(MATCH(Banco!$C10534,Analitico!$A:$A,0)),INDEX(Analitico!E:E,MATCH(Banco!$C10534,Analitico!$A:$A,0))&\"%\",\"\"),\"\")","v":"18,9914865%"},{"$f":"IF($B10534=\"SINAPI\",IF(ISNUMBER(MATCH(Banco!$C10534,Analitico!$A:$A,0)),INDEX(Analitico!F:F,MATCH(Banco!$C10534,Analitico!$A:$A,0))&\"%\",\"\"),\"\")","v":"%"}]
[{"$f":"CONCATENAR","v":"SINAPI 101133"},"SINAPI","101133","ESCAVAÇÃO HORIZONTAL, INCLUINDO ESCARIFICAÇÃO, CARGA E DESCARGA EM SOLO DE 2A CATEGORIA COM TRATOR DE ESTEIRAS (125HP/LÂMINA: 2,70M3). AF_07/2020","M3","19,10",null,null,"AS",{"$f":"IF($B10543=\"SINAPI\",IF(ISNUMBER(MATCH(Banco!$C10543,Analitico!$A:$A,0)),INDEX(Analitico!E:E,MATCH(Banco!$C10543,Analitico!$A:$A,0))&\"%\",\"\"),\"\")","v":"19,9460916%"},{"$f":"IF($B10543=\"SINAPI\",IF(ISNUMBER(MATCH(Banco!$C10543,Analitico!$A:$A,0)),INDEX(Analitico!F:F,MATCH(Banco!$C10543,Analitico!$A:$A,0))&\"%\",\"\"),\"\")","v":"%"}]
[{"$f":"CONCATENAR","v":"SINAPI 101144"},"SINAPI","101144","ESCAVAÇÃO HORIZONTAL, INCLUINDO CARGA, DESCARGA E TRANSPORTE EM SOLO DE 1A CATEGORIA COM TRATOR DE ESTEIRAS (100HP/LÂMINA: 2,19M3) E CAMINHÃO BASCULANTE DE 14M3, DMT ATÉ 200M. AF_07/2020","M3","16,80",null,null,"AS",{"$f":"IF($B10554=\"SINAPI\",IF(ISNUMBER(MATCH(Banco!$C10554,Analitico!$A:$A,0)),INDEX(Analitico!E:E,MATCH(Banco!$C10554,Analitico!$A:$A,0))&\"%\",\"\"),\"\")","v":"16,8414558%"},{"$f":"IF($B10554=\"SINAPI\",IF(ISNUMBER(MATCH(Banco!$C10554,Analitico!$A:$A,0)),INDEX(Analitico!F:F,MATCH(Banco!$C10554,Analitico!$A:$A,0))&\"%\",\"\"),\"\")","v":"%"}]
[{"$f":"CONCATENAR","v":"SINAPI 101152"},"SINAPI","101152","ESCAVAÇÃO HORIZONTAL, INCLUINDO ESCARIFICAÇÃO, CARGA, DESCARGA E TRANSPORTE EM SOLO DE 2A CATEGORIA COM TRATOR DE ESTEIRAS (347HP/LÂMINA: 8,70M3) E CAMINHÃO BASCULANTE DE 14M3, DMT ATÉ 200M. AF_07/2020","M3","18,99",null,null,"AS",{"$f":"IF($B10562=\"SINAPI\",IF(ISNUMBER(MATCH(Banco!$C10562,Analitico!$A:$A,0)),INDEX(Analitico!E:E,MATCH(Banco!$C10562,Analitico!$A:$A,0))&\"%\",\"\"),\"\")","v":"11,0626702%"},{"$f":"IF($B10562=\"SINAPI\",IF(ISNUMBER(MATCH(Banco!$C10562,Analitico!$A:$A,0)),INDEX(Analitico!F:F,MATCH(Banco!$C10562,Analitico!$A:$A,0))&\"%\",\"\"),\"\")","v":"%"}]
[{"$f":"CONCATENAR","v":"SINAPI 101213"},"SINAPI","101213","ESCAVAÇÃO VERTICAL PARA  EDIFICAÇÃO, COM CARGA, DESCARGA E TRANSPORTE DE SOLO DE 1ª CATEGORIA, COM ESCAVADEIRA HIDRÁULICA (CAÇAMBA: 0,8 M³ / 111 HP), FROTA DE 6 CAMINHÕES BASCULANTES DE 14 M³, DMT DE 4 KM E VELOCIDADE MÉDIA 22 KM/H. AF_05/2020","M3","25,95",null,null,"AS",{"$f":"IF($B10571=\"SINAPI\",IF(ISNUMBER(MATCH(Banco!$C10571,Analitico!$A:$A,0)),INDEX(Analitico!E:E,MATCH(Banco!$C10571,Analitico!$A:$A,0))&\"%\",\"\"),\"\")","v":"8,9459354%"},{"$f":"IF($B10571=\"SINAPI\",IF(ISNUMBER(MATCH(Banco!$C10571,Analitico!$A:$A,0)),INDEX(Analitico!F:F,MATCH(Banco!$C10571,Analitico!$A:$A,0))&\"%\",\"\"),\"\")","v":"%"}]
[{"$f":"CONCATENAR","v":"SINAPI 101222"},"SINAPI","101222","ESCAVAÇÃO VERTICAL PARA  EDIFICAÇÃO, COM CARGA, DESCARGA E TRANSPORTE DE SOLO DE 1ª CATEGORIA, COM ESCAVADEIRA HIDRÁULICA (CAÇAMBA: 1,2 M³ / 155 HP), FROTA DE 6 CAMINHÕES BASCULANTES DE 14 M³, DMT DE 3 KM E VELOCIDADE MÉDIA 20 KM/H. AF_05/2020","M3","21,45",null,null,"AS",{"$f":"IF($B10580=\"SINAPI\",IF(ISNUMBER(MATCH(Banco!$C10580,Analitico!$A:$A,0)),INDEX(Analitico!E:E,MATCH(Banco!$C10580,Analitico!$A:$A,0))&\"%\",\"\"),\"\")","v":"8,1017428%"},{"$f":"IF($B10580=\"SINAPI\",IF(ISNUMBER(MATCH(Banco!$C10580,Analitico!$A:$A,0)),INDEX(Analitico!F:F,MATCH(Banco!$C10580,Analitico!$A:$A,0))&\"%\",\"\"),\"\")","v":"%"}]
[{"$f":"CONCATENAR","v":"SINAPI 101223"},"SINAPI","101223","ESCAVAÇÃO VERTICAL PARA  EDIFICAÇÃO, COM CARGA, DESCARGA E TRANSPORTE DE SOLO DE 1ª CATEGORIA, COM ESCAVADEIRA HIDRÁULICA (CAÇAMBA: 1,2 M³ / 155 HP), FROTA DE 7 CAMINHÕES BASCULANTES DE 14 M³, DMT DE 4 KM E VELOCIDADE MÉDIA 22 KM/H. AF_05/2020","M3","23,90",null,null,"AS",{"$f":"IF($B10581=\"SINAPI\",IF(ISNUMBER(MATCH(Banco!$C10581,Analitico!$A:$A,0)),INDEX(Analitico!E:E,MATCH(Banco!$C10581,Analitico!$A:$A,0))&\"%\",\"\"),\"\")","v":"8,1994928%"},{"$f":"IF($B10581=\"SINAPI\",IF(ISNUMBER(MATCH(Banco!$C10581,Analitico!$A:$A,0)),INDEX(Analitico!F:F,MATCH(Banco!$C10581,Analitico!$A:$A,0))&\"%\",\"\"),\"\")","v":"%"}]
[{"$f":"CONCATENAR","v":"SINAPI 101233"},"SINAPI","101233","ESCAVAÇÃO VERTICAL PARA INFRAESTRUTURA, COM CARGA, DESCARGA E TRANSPORTE DE SOLO DE 1ª CATEGORIA, COM ESCAVADEIRA HIDRÁULICA (CAÇAMBA: 1,2 M³ / 155 HP), FROTA DE 3 CAMINHÕES BASCULANTES DE 18 M³, DMT ATÉ 1 KM E VELOCIDADE MÉDIA14 KM/H. AF_05/2020","M3","9,15",null,null,"AS",{"$f":"IF($B10591=\"SINAPI\",IF(ISNUMBER(MATCH(Banco!$C10591,Analitico!$A:$A,0)),INDEX(Analitico!E:E,MATCH(Banco!$C10591,Analitico!$A:$A,0))&\"%\",\"\"),\"\")","v":"9,0401785%"},{"$f":"IF($B10591=\"SINAPI\",IF(ISNUMBER(MATCH(Banco!$C10591,Analitico!$A:$A,0)),INDEX(Analitico!F:F,MATCH(Banco!$C10591,Analitico!$A:$A,0))&\"%\",\"\"),\"\")","v":"%"}]
[{"$f":"CONCATENAR","v":"SINAPI 101242"},"SINAPI","101242","ESCAVAÇÃO VERTICAL PARA INFRAESTRUTURA, COM CARGA, DESCARGA E TRANSPORTE DE SOLO DE 1ª CATEGORIA, COM ESCAVADEIRA HIDRÁULICA (CAÇAMBA: 0,8 M³ / 111HP), FROTA DE 6 CAMINHÕES BASCULANTES DE 18 M³, DMT DE 4 KM E VELOCIDADE MÉDIA 22 KM/H. AF_05/2020","M3","22,03",null,null,"AS",{"$f":"IF($B10600=\"SINAPI\",IF(ISNUMBER(MATCH(Banco!$C10600,Analitico!$A:$A,0)),INDEX(Analitico!E:E,MATCH(Banco!$C10600,Analitico!$A:$A,0))&\"%\",\"\"),\"\")","v":"8,2455336%"},{"$f":"IF($B10600=\"SINAPI\",IF(ISNUMBER(MATCH(Banco!$C10600,Analitico!$A:$A,0)),INDEX(Analitico!F:F,MATCH(Banco!$C10600,Analitico!$A:$A,0))&\"%\",\"\"),\"\")","v":"%"}]
[{"$f":"CONCATENAR","v":"SINAPI 101251"},"SINAPI","101251","ESCAVAÇÃO VERTICAL PARA INFRAESTRUTURA, COM CARGA, DESCARGA E TRANSPORTE DE SOLO DE 1ª CATEGORIA, COM ESCAVADEIRA HIDRÁULICA (CAÇAMBA: 1,2 M³ / 155HP), FROTA DE 6 CAMINHÕES BASCULANTES DE 18 M³, DMT DE 3 KM E VELOCIDADE MÉDIA 20 KM/H. AF_05/2020","M3","18,41",null,null,"AS",{"$f":"IF($B10609=\"SINAPI\",IF(ISNUMBER(MATCH(Banco!$C10609,Analitico!$A:$A,0)),INDEX(Analitico!E:E,MATCH(Banco!$C10609,Analitico!$A:$A,0))&\"%\",\"\"),\"\")","v":"7,8280044%"},{"$f":"IF($B10609=\"SINAPI\",IF(ISNUMBER(MATCH(Banco!$C10609,Analitico!$A:$A,0)),INDEX(Analitico!F:F,MATCH(Banco!$C10609,Analitico!$A:$A,0))&\"%\",\"\"),\"\")","v":"%"}]
[{"$f":"CONCATENAR","v":"SINAPI 101260"},"SINAPI","101260","ESCAVAÇÃO VERTICAL PARA  EDIFICAÇÃO, COM CARGA, DESCARGA E TRANSPORTE DE SOLO DE 1ª CATEGORIA, COM ESCAVADEIRA HIDRÁULICA (CAÇAMBA: 0,8 M³ / 111HP), FROTA DE 9 CAMINHÕES BASCULANTES DE 10 M³, DMT DE 6 KM E VELOCIDADE MÉDIA 22 KM/H. AF_05/2020","M3","34,17",null,null,"AS",{"$f":"IF($B10618=\"SINAPI\",IF(ISNUMBER(MATCH(Banco!$C10618,Analitico!$A:$A,0)),INDEX(Analitico!E:E,MATCH(Banco!$C10618,Analitico!$A:$A,0))&\"%\",\"\"),\"\")","v":"10,3976435%"},{"$f":"IF($B10618=\"SINAPI\",IF(ISNUMBER(MATCH(Banco!$C10618,Analitico!$A:$A,0)),INDEX(Analitico!F:F,MATCH(Banco!$C10618,Analitico!$A:$A,0))&\"%\",\"\"),\"\")","v":"%"}]
[{"$f":"CONCATENAR","v":"SINAPI 101269"},"SINAPI","101269","ESCAVAÇÃO VERTICAL PARA INFRAESTRUTURA, COM CARGA, DESCARGA E TRANSPORTE DE SOLO DE 1ª CATEGORIA, COM ESCAVADEIRA HIDRÁULICA (CAÇAMBA: 0,8 M³ / 111HP), FROTA DE 6 CAMINHÕES BASCULANTES DE 10 M³, DMT DE 2 KM E VELOCIDADE MÉDIA 19 KM/H. AF_05/2020","M3","20,34",null,null,"AS",{"$f":"IF($B10627=\"SINAPI\",IF(ISNUMBER(MATCH(Banco!$C10627,Analitico!$A:$A,0)),INDEX(Analitico!E:E,MATCH(Banco!$C10627,Analitico!$A:$A,0))&\"%\",\"\"),\"\")","v":"10,7409249%"},{"$f":"IF($B10627=\"SINAPI\",IF(ISNUMBER(MATCH(Banco!$C10627,Analitico!$A:$A,0)),INDEX(Analitico!F:F,MATCH(Banco!$C10627,Analitico!$A:$A,0))&\"%\",\"\"),\"\")","v":"%"}]
[{"$f":"CONCATENAR","v":"SINAPI 102355"},"SINAPI","102355","DESMONTE DE MATERIAL DE 3ª CATEGORIA (BLOCOS DE ROCHAS OU MATACOS), EM VALA, COM MARTELETE PNEUMÁTICO MANUAL -  EXCLUSIVE RETIRADA, CARGA E TRANSPORTE. AF_03/2021","M3","204,19",null,null,"AS",{"$f":"IF($B10637=\"SINAPI\",IF(ISNUMBER(MATCH(Banco!$C10637,Analitico!$A:$A,0)),INDEX(Analitico!E:E,MATCH(Banco!$C10637,Analitico!$A:$A,0))&\"%\",\"\"),\"\")","v":"40,7066204%"},{"$f":"IF($B10637=\"SINAPI\",IF(ISNUMBER(MATCH(Banco!$C10637,Analitico!$A:$A,0)),INDEX(Analitico!F:F,MATCH(Banco!$C10637,Analitico!$A:$A,0))&\"%\",\"\"),\"\")","v":"%"}]
[{"$f":"CONCATENAR","v":"SINAPI 90092"},"SINAPI","90092","ESCAVAÇÃO MECANIZADA DE VALA COM PROF. MAIOR QUE 1,5 M E ATÉ 3,0 M(MÉDIA MONTANTE E JUSANTE/UMA COMPOSIÇÃO POR TRECHO), ESCAVADEIRA (0,8 M3), LARG. MENOR QUE 1,5 M, EM SOLO DE 1A CATEGORIA, LOCAIS COM BAIXO NÍVEL DE INTERFERÊNCIA. AF_02/2021","M3","6,05",null,null,"AS",{"$f":"IF($B10646=\"SINAPI\",IF(ISNUMBER(MATCH(Banco!$C10646,Analitico!$A:$A,0)),INDEX(Analitico!E:E,MATCH(Banco!$C10646,Analitico!$A:$A,0))&\"%\",\"\"),\"\")","v":"25,5067567%"},{"$f":"IF($B10646=\"SINAPI\",IF(ISNUMBER(MATCH(Banco!$C10646,Analitico!$A:$A,0)),INDEX(Analitico!F:F,MATCH(Banco!$C10646,Analitico!$A:$A,0))&\"%\",\"\"),\"\")","v":"%"}]
[{"$f":"CONCATENAR","v":"SINAPI 90094"},"SINAPI","90094","ESCAVAÇÃO MECANIZADA DE VALA COM PROF. MAIOR QUE 3,0 M ATÉ 4,5 M (MÉDIA MONTANTE E JUSANTE/UMA COMPOSIÇÃO POR TRECHO), ESCAVADEIRA (0,8 M3), LARG. MENOR QUE 1,5 M, EM SOLO DE 1A CATEGORIA, LOCAIS COM BAIXO NÍVEL DE INTERFERÊNCIA. AF_02/2021","M3","5,73",null,null,"AS",{"$f":"IF($B10647=\"SINAPI\",IF(ISNUMBER(MATCH(Banco!$C10647,Analitico!$A:$A,0)),INDEX(Analitico!E:E,MATCH(Banco!$C10647,Analitico!$A:$A,0))&\"%\",\"\"),\"\")","v":"25,4448398%"},{"$f":"IF($B10647=\"SINAPI\",IF(ISNUMBER(MATCH(Banco!$C10647,Analitico!$A:$A,0)),INDEX(Analitico!F:F,MATCH(Banco!$C10647,Analitico!$A:$A,0))&\"%\",\"\"),\"\")","v":"%"}]
[{"$f":"CONCATENAR","v":"SINAPI 90107"},"SINAPI","90107","ESCAVAÇÃO MECANIZADA DE VALA COM PROFUNDIDADE MAIOR QUE 1,5 M ATÉ 3,0 M (MÉDIA MONTANTE E JUSANTE/UMA COMPOSIÇÃO POR TRECHO), RETROESCAV. (0,26 M3), LARGURA MENOR QUE 0,8 M, EM SOLO DE 1A CATEGORIA, LOCAIS COM BAIXO NÍVEL DE INTERFERÊNCIA. AF_02/2021","M3","7,27",null,null,"AS",{"$f":"IF($B10656=\"SINAPI\",IF(ISNUMBER(MATCH(Banco!$C10656,Analitico!$A:$A,0)),INDEX(Analitico!E:E,MATCH(Banco!$C10656,Analitico!$A:$A,0))&\"%\",\"\"),\"\")","v":"35,7541899%"},{"$f":"IF($B10656=\"SINAPI\",IF(ISNUMBER(MATCH(Banco!$C10656,Analitico!$A:$A,0)),INDEX(Analitico!F:F,MATCH(Banco!$C10656,Analitico!$A:$A,0))&\"%\",\"\"),\"\")","v":"%"}]
[{"$f":"CONCATENAR","v":"SINAPI 102282"},"SINAPI","102282","ESCAVAÇÃO MECANIZADA DE VALA COM PROF. ATÉ 1,5 M (MÉDIA MONTANTE E JUSANTE/UMA COMPOSIÇÃO POR TRECHO), ESCAVADEIRA (0,8 M3),LARG. MENOR QUE 1,5 M, EM SOLO DE MOLE, EM LOCAIS COM ALTO NÍVEL DE INTERFERÊNCIA. AF_02/2021","M3","14,15",null,null,"AS",{"$f":"IF($B10665=\"SINAPI\",IF(ISNUMBER(MATCH(Banco!$C10665,Analitico!$A:$A,0)),INDEX(Analitico!E:E,MATCH(Banco!$C10665,Analitico!$A:$A,0))&\"%\",\"\"),\"\")","v":"25,4273504%"},{"$f":"IF($B10665=\"SINAPI\",IF(ISNUMBER(MATCH(Banco!$C10665,Analitico!$A:$A,0)),INDEX(Analitico!F:F,MATCH(Banco!$C10665,Analitico!$A:$A,0))&\"%\",\"\"),\"\")","v":"%"}]
[{"$f":"CONCATENAR","v":"SINAPI 102291"},"SINAPI","102291","ESCAVAÇÃO MECANIZADA DE VALA COM PROF. ATÉ 1,5 M (MÉDIA MONTANTE E JUSANTE/UMA COMPOSIÇÃO POR TRECHO), ESCAVADEIRA (0,8 M3), LARG. DE 1,5 M A 2,5 M, EM SOLO MOLE, LOCAIS COM BAIXO NÍVEL DE INTERFERÊNCIA. AF_02/2021","M3","6,94",null,null,"AS",{"$f":"IF($B10674=\"SINAPI\",IF(ISNUMBER(MATCH(Banco!$C10674,Analitico!$A:$A,0)),INDEX(Analitico!E:E,MATCH(Banco!$C10674,Analitico!$A:$A,0))&\"%\",\"\"),\"\")","v":"25,5506607%"},{"$f":"IF($B10674=\"SINAPI\",IF(ISNUMBER(MATCH(Banco!$C10674,Analitico!$A:$A,0)),INDEX(Analitico!F:F,MATCH(Banco!$C10674,Analitico!$A:$A,0))&\"%\",\"\"),\"\")","v":"%"}]
[{"$f":"CONCATENAR","v":"SINAPI 102301"},"SINAPI","102301","ESCAVAÇÃO MECANIZADA DE VALA COM PROF. MAIOR QUE 1,5 M ATÉ 3,0 M (MÉDIA MONTANTE E JUSANTE/UMA COMPOSIÇÃO POR TRECHO), RETROESCAV. (0,26 M3), LARG. DE 0,8 M A 1,5 M, EM SOLO MOLE, EM LOCAIS COM ALTO NÍVEL DE INTERFERÊNCIA. AF_02/2021","M3","13,32",null,null,"AS",{"$f":"IF($B10684=\"SINAPI\",IF(ISNUMBER(MATCH(Banco!$C10684,Analitico!$A:$A,0)),INDEX(Analitico!E:E,MATCH(Banco!$C10684,Analitico!$A:$A,0))&\"%\",\"\"),\"\")","v":"35,5034065%"},{"$f":"IF($B10684=\"SINAPI\",IF(ISNUMBER(MATCH(Banco!$C10684,Analitico!$A:$A,0)),INDEX(Analitico!F:F,MATCH(Banco!$C10684,Analitico!$A:$A,0))&\"%\",\"\"),\"\")","v":"%"}]
[{"$f":"CONCATENAR","v":"SINAPI 102310"},"SINAPI","102310","ESCAVAÇÃO MECANIZADA DE VALA COM PROF.MAIOR QUE 4,5 M ATÉ 6,0 M (MÉDIA MONTANTE E JUSANTE/UMA COMPOSIÇÃO POR TRECHO),COM ESCAVADEIRA (0,8 M3), LARG. MENOR QUE 1,5 M, EM SOLO DE 2A CATEGORIA, EM LOCAIS COM ALTO NÍVEL DE INTERFERÊNCIA. AF_02/2021","M3","12,60",null,null,"AS",{"$f":"IF($B10693=\"SINAPI\",IF(ISNUMBER(MATCH(Banco!$C10693,Analitico!$A:$A,0)),INDEX(Analitico!E:E,MATCH(Banco!$C10693,Analitico!$A:$A,0))&\"%\",\"\"),\"\")","v":"25,5012028%"},{"$f":"IF($B10693=\"SINAPI\",IF(ISNUMBER(MATCH(Banco!$C10693,Analitico!$A:$A,0)),INDEX(Analitico!F:F,MATCH(Banco!$C10693,Analitico!$A:$A,0))&\"%\",\"\"),\"\")","v":"%"}]
[{"$f":"CONCATENAR","v":"SINAPI 102319"},"SINAPI","102319","ESCAVAÇÃO MECANIZADA DE VALA COM PROF. MAIOR QUE 1,5 M ATÉ 3,0 M (MÉDIA MONTANTE E JUSANTE/UMA COMPOSIÇÃO POR TRECHO),COM ESCAVADEIRA (1,2 M3),LARG. DE 1,5 M A 2,5 M, EM SOLO DE 2A CATEGORIA, LOCAIS COM BAIXO NÍVEL DE INTERFERÊNCIA. AF_02/2021","M3","6,78",null,null,"AS",{"$f":"IF($B10702=\"SINAPI\",IF(ISNUMBER(MATCH(Banco!$C10702,Analitico!$A:$A,0)),INDEX(Analitico!E:E,MATCH(Banco!$C10702,Analitico!$A:$A,0))&\"%\",\"\"),\"\")","v":"22,6726726%"},{"$f":"IF($B10702=\"SINAPI\",IF(ISNUMBER(MATCH(Banco!$C10702,Analitico!$A:$A,0)),INDEX(Analitico!F:F,MATCH(Banco!$C10702,Analitico!$A:$A,0))&\"%\",\"\"),\"\")","v":"%"}]
[{"$f":"CONCATENAR","v":"SINAPI 102328"},"SINAPI","102328","ESCAVAÇÃO MECANIZADA DE VALA COM PROF. MAIOR QUE 1,5 M ATÉ 3,0 M (MÉDIA MONTANTE E JUSANTE/UMA COMPOSIÇÃO POR TRECHO), RETROESCAV. (0,26 M3),LARG. MENOR QUE 0,8 M, EM SOLO DE 2A CATEGORIA, EM LOCAIS COM BAIXO NÍVEL DE INTERFERÊNCIA. AF_02/2021","M3","9,09",null,null,"AS",{"$f":"IF($B10711=\"SINAPI\",IF(ISNUMBER(MATCH(Banco!$C10711,Analitico!$A:$A,0)),INDEX(Analitico!E:E,MATCH(Banco!$C10711,Analitico!$A:$A,0))&\"%\",\"\"),\"\")","v":"35,7142857%"},{"$f":"IF($B10711=\"SINAPI\",IF(ISNUMBER(MATCH(Banco!$C10711,Analitico!$A:$A,0)),INDEX(Analitico!F:F,MATCH(Banco!$C10711,Analitico!$A:$A,0))&\"%\",\"\"),\"\")","v":"%"}]
[{"$f":"CONCATENAR","v":"SINAPI 94329"},"SINAPI","94329","ATERRO MECANIZADO DE VALA COM ESCAVADEIRA HIDRÁULICA (CAPACIDADE DA CAÇAMBA: 0,8 M³/POTÊNCIA: 111 HP), LARGURA ATÉ 2,5 M, PROFUNDIDADE DE 1,5 A 3,0 M, COM AREIA PARA ATERRO. AF_08/2023","M3","85,14",null,null,"AS",{"$f":"IF($B10720=\"SINAPI\",IF(ISNUMBER(MATCH(Banco!$C10720,Analitico!$A:$A,0)),INDEX(Analitico!E:E,MATCH(Banco!$C10720,Analitico!$A:$A,0))&\"%\",\"\"),\"\")","v":"7,4440518%"},{"$f":"IF($B10720=\"SINAPI\",IF(ISNUMBER(MATCH(Banco!$C10720,Analitico!$A:$A,0)),INDEX(Analitico!F:F,MATCH(Banco!$C10720,Analitico!$A:$A,0))&\"%\",\"\"),\"\")","v":"%"}]
[{"$f":"CONCATENAR","v":"SINAPI 94339"},"SINAPI","94339","ATERRO MECANIZADO DE VALA COM RETROESCAVADEIRA (CAPACIDADE DA CAÇAMBA DA RETRO: 0,26 M³/POTÊNCIA: 88 HP), LARGURA ATÉ 1,5 M, PROFUNDIDADE ATÉ 1,5 M, COM AREIA PARA ATERRO. AF_08/2023","M3","86,64",null,null,"AS",{"$f":"IF($B10722=\"SINAPI\",IF(ISNUMBER(MATCH(Banco!$C10722,Analitico!$A:$A,0)),INDEX(Analitico!E:E,MATCH(Banco!$C10722,Analitico!$A:$A,0))&\"%\",\"\"),\"\")","v":"9,7013197%"},{"$f":"IF($B10722=\"SINAPI\",IF(ISNUMBER(MATCH(Banco!$C10722,Analitico!$A:$A,0)),INDEX(Analitico!F:F,MATCH(Banco!$C10722,Analitico!$A:$A,0))&\"%\",\"\"),\"\")","v":"%"}]
[{"$f":"CONCATENAR","v":"SINAPI 93373"},"SINAPI","93373","REATERRO MECANIZADO DE VALA COM ESCAVADEIRA HIDRÁULICA (CAPACIDADE DA CAÇAMBA: 0,8 M³/POTÊNCIA: 111 HP), LARGURA 1,5 A 2,5 M, PROFUNDIDADE 3,0 A 6,0 M, COM SOLO (SEM SUBSTITUIÇÃO) DE 1ª CATEGORIA, COM COMPACTADOR DE SOLOS DE PERCUSSÃO. AF_08/2023","M3","14,52",null,null,"AS",{"$f":"IF($B10731=\"SINAPI\",IF(ISNUMBER(MATCH(Banco!$C10731,Analitico!$A:$A,0)),INDEX(Analitico!E:E,MATCH(Banco!$C10731,Analitico!$A:$A,0))&\"%\",\"\"),\"\")","v":"39,2129306%"},{"$f":"IF($B10731=\"SINAPI\",IF(ISNUMBER(MATCH(Banco!$C10731,Analitico!$A:$A,0)),INDEX(Analitico!F:F,MATCH(Banco!$C10731,Analitico!$A:$A,0))&\"%\",\"\"),\"\")","v":"%"}]
[{"$f":"CONCATENAR","v":"SINAPI 104731"},"SINAPI","104731","REATERRO MECANIZADO DE VALA COM ESCAVADEIRA HIDRÁULICA (CAPACIDADE DA CAÇAMBA: 0,8 M³/POTÊNCIA: 111 HP), LARGURA ATÉ 1,5 M, PROFUNDIDADE DE 3,0 A 6,0 M, COM SOLO (SEM SUBSTITUIÇÃO) DE 1ª CATEGORIA, COM PLACA VIBRATÓRIA. AF_08/2023","M3","12,09",null,null,"AS",{"$f":"IF($B10740=\"SINAPI\",IF(ISNUMBER(MATCH(Banco!$C10740,Analitico!$A:$A,0)),INDEX(Analitico!E:E,MATCH(Banco!$C10740,Analitico!$A:$A,0))&\"%\",\"\"),\"\")","v":"23,1092436%"},{"$f":"IF($B10740=\"SINAPI\",IF(ISNUMBER(MATCH(Banco!$C10740,Analitico!$A:$A,0)),INDEX(Analitico!F:F,MATCH(Banco!$C10740,Analitico!$A:$A,0))&\"%\",\"\"),\"\")","v":"%"}]
[{"$f":"CONCATENAR","v":"SINAPI 104740"},"SINAPI","104740","REATERRO MECANIZADO DE VALA COM MINICARREGADEIRA, COM COMPACTADOR DE SOLOS DE PERCUSSÃO. AF_08/2023","M3","29,31",null,null,"AS",{"$f":"IF($B10749=\"SINAPI\",IF(ISNUMBER(MATCH(Banco!$C10749,Analitico!$A:$A,0)),INDEX(Analitico!E:E,MATCH(Banco!$C10749,Analitico!$A:$A,0))&\"%\",\"\"),\"\")","v":"45,1135583%"},{"$f":"IF($B10749=\"SINAPI\",IF(ISNUMBER(MATCH(Banco!$C10749,Analitico!$A:$A,0)),INDEX(Analitico!F:F,MATCH(Banco!$C10749,Analitico!$A:$A,0))&\"%\",\"\"),\"\")","v":"%"}]
[{"$f":"CONCATENAR","v":"SINAPI 101618"},"SINAPI","101618","PREPARO DE FUNDO DE VALA COM LARGURA MENOR QUE 1,5 M, COM CAMADA DE AREIA, LANÇAMENTO MANUAL. AF_08/2020","M3","225,65",null,null,"CR",{"$f":"IF($B10758=\"SINAPI\",IF(ISNUMBER(MATCH(Banco!$C10758,Analitico!$A:$A,0)),INDEX(Analitico!E:E,MATCH(Banco!$C10758,Analitico!$A:$A,0))&\"%\",\"\"),\"\")","v":"38,9534368%"},{"$f":"IF($B10758=\"SINAPI\",IF(ISNUMBER(MATCH(Banco!$C10758,Analitico!$A:$A,0)),INDEX(Analitico!F:F,MATCH(Banco!$C10758,Analitico!$A:$A,0))&\"%\",\"\"),\"\")","v":"%"}]
[{"$f":"CONCATENAR","v":"SINAPI 103323"},"SINAPI","103323","ALVENARIA DE VEDAÇÃO DE BLOCOS CERÂMICOS FURADOS NA VERTICAL DE 9X19X39 CM (ESPESSURA 9 CM) E ARGAMASSA DE ASSENTAMENTO COM PREPARO MANUAL. AF_12/2021","M2","56,00",null,null,"AS",{"$f":"IF($B10768=\"SINAPI\",IF(ISNUMBER(MATCH(Banco!$C10768,Analitico!$A:$A,0)),INDEX(Analitico!E:E,MATCH(Banco!$C10768,Analitico!$A:$A,0))&\"%\",\"\"),\"\")","v":"30,9907010%"},{"$f":"IF($B10768=\"SINAPI\",IF(ISNUMBER(MATCH(Banco!$C10768,Analitico!$A:$A,0)),INDEX(Analitico!F:F,MATCH(Banco!$C10768,Analitico!$A:$A,0))&\"%\",\"\"),\"\")","v":"%"}]
[{"$f":"CONCATENAR","v":"SINAPI 103332"},"SINAPI","103332","ALVENARIA DE VEDAÇÃO DE BLOCOS CERÂMICOS FURADOS NA HORIZONTAL DE 9X14X19 CM (ESPESSURA 9 CM) E ARGAMASSA DE ASSENTAMENTO COM PREPARO EM BETONEIRA. AF_12/2021","M2","111,68",null,null,"AS",{"$f":"IF($B10777=\"SINAPI\",IF(ISNUMBER(MATCH(Banco!$C10777,Analitico!$A:$A,0)),INDEX(Analitico!E:E,MATCH(Banco!$C10777,Analitico!$A:$A,0))&\"%\",\"\"),\"\")","v":"53,2670075%"},{"$f":"IF($B10777=\"SINAPI\",IF(ISNUMBER(MATCH(Banco!$C10777,Analitico!$A:$A,0)),INDEX(Analitico!F:F,MATCH(Banco!$C10777,Analitico!$A:$A,0))&\"%\",\"\"),\"\")","v":"%"}]
[{"$f":"CONCATENAR","v":"SINAPI 103333"},"SINAPI","103333","ALVENARIA DE VEDAÇÃO DE BLOCOS CERÂMICOS FURADOS NA HORIZONTAL DE 9X14X19 CM (ESPESSURA 9 CM) E ARGAMASSA DE ASSENTAMENTO COM PREPARO MANUAL. AF_12/2021","M2","112,55",null,null,"AS",{"$f":"IF($B10778=\"SINAPI\",IF(ISNUMBER(MATCH(Banco!$C10778,Analitico!$A:$A,0)),INDEX(Analitico!E:E,MATCH(Banco!$C10778,Analitico!$A:$A,0))&\"%\",\"\"),\"\")","v":"53,3262185%"},{"$f":"IF($B10778=\"SINAPI\",IF(ISNUMBER(MATCH(Banco!$C10778,Analitico!$A:$A,0)),INDEX(Analitico!F:F,MATCH(Banco!$C10778,Analitico!$A:$A,0))&\"%\",\"\"),\"\")","v":"%"}]
[{"$f":"CONCATENAR","v":"SINAPI 89290"},"SINAPI","89290","ALVENARIA ESTRUTURAL DE BLOCOS CERÂMICOS 14X19X29, (ESPESSURA DE 14 CM), UTILIZANDO PALHETA E ARGAMASSA DE ASSENTAMENTO COM PREPARO EM BETONEIRA. AF_03/2023","M2","77,44",null,null,"CR",{"$f":"IF($B10787=\"SINAPI\",IF(ISNUMBER(MATCH(Banco!$C10787,Analitico!$A:$A,0)),INDEX(Analitico!E:E,MATCH(Banco!$C10787,Analitico!$A:$A,0))&\"%\",\"\"),\"\")","v":"31,8458155%"},{"$f":"IF($B10787=\"SINAPI\",IF(ISNUMBER(MATCH(Banco!$C10787,Analitico!$A:$A,0)),INDEX(Analitico!F:F,MATCH(Banco!$C10787,Analitico!$A:$A,0))&\"%\",\"\"),\"\")","v":"%"}]
[{"$f":"CONCATENAR","v":"SINAPI 103316"},"SINAPI","103316","ALVENARIA DE VEDAÇÃO DE BLOCOS VAZADOS DE CONCRETO DE 9X19X39 CM (ESPESSURA 9 CM) E ARGAMASSA DE ASSENTAMENTO COM PREPARO EM BETONEIRA. AF_12/2021","M2","77,84",null,null,"AS",{"$f":"IF($B10796=\"SINAPI\",IF(ISNUMBER(MATCH(Banco!$C10796,Analitico!$A:$A,0)),INDEX(Analitico!E:E,MATCH(Banco!$C10796,Analitico!$A:$A,0))&\"%\",\"\"),\"\")","v":"26,1199794%"},{"$f":"IF($B10796=\"SINAPI\",IF(ISNUMBER(MATCH(Banco!$C10796,Analitico!$A:$A,0)),INDEX(Analitico!F:F,MATCH(Banco!$C10796,Analitico!$A:$A,0))&\"%\",\"\"),\"\")","v":"%"}]
[{"$f":"CONCATENAR","v":"SINAPI 103339"},"SINAPI","103339","ALVENARIA DE VEDAÇÃO DE BLOCOS  VAZADOS DE CONCRETO APARENTE DE 14X19X39 CM (ESPESSURA 14 CM) E ARGAMASSA DE ASSENTAMENTO COM PREPARO MANUAL. AF_12/2021","M2","114,02",null,null,"AS",{"$f":"IF($B10805=\"SINAPI\",IF(ISNUMBER(MATCH(Banco!$C10805,Analitico!$A:$A,0)),INDEX(Analitico!E:E,MATCH(Banco!$C10805,Analitico!$A:$A,0))&\"%\",\"\"),\"\")","v":"31,6625702%"},{"$f":"IF($B10805=\"SINAPI\",IF(ISNUMBER(MATCH(Banco!$C10805,Analitico!$A:$A,0)),INDEX(Analitico!F:F,MATCH(Banco!$C10805,Analitico!$A:$A,0))&\"%\",\"\"),\"\")","v":"%"}]
[{"$f":"CONCATENAR","v":"SINAPI 89472"},"SINAPI","89472","ALVENARIA DE BLOCOS DE CONCRETO ESTRUTURAL 14X19X39 CM (ESPESSURA 14 CM), FBK = 14 MPA, UTILIZANDO COLHER DE PEDREIRO. AF_10/2022","M2","124,19",null,null,"CR",{"$f":"IF($B10815=\"SINAPI\",IF(ISNUMBER(MATCH(Banco!$C10815,Analitico!$A:$A,0)),INDEX(Analitico!E:E,MATCH(Banco!$C10815,Analitico!$A:$A,0))&\"%\",\"\"),\"\")","v":"19,6549500%"},{"$f":"IF($B10815=\"SINAPI\",IF(ISNUMBER(MATCH(Banco!$C10815,Analitico!$A:$A,0)),INDEX(Analitico!F:F,MATCH(Banco!$C10815,Analitico!$A:$A,0))&\"%\",\"\"),\"\")","v":"%"}]
[{"$f":"CONCATENAR","v":"SINAPI 96361"},"SINAPI","96361","PAREDE COM SISTEMA EM CHAPAS DE GESSO PARA DRYWALL, USO INTERNO, COM DUAS FACES SIMPLES E ESTRUTURA METÁLICA COM GUIAS DUPLAS PARA PAREDES COM ÁREA LÍQUIDA MAIOR OU IGUAL A 6 M2, COM VÃOS. AF_07/2023_PS","M2","161,04",null,null,"AS",{"$f":"IF($B10824=\"SINAPI\",IF(ISNUMBER(MATCH(Banco!$C10824,Analitico!$A:$A,0)),INDEX(Analitico!E:E,MATCH(Banco!$C10824,Analitico!$A:$A,0))&\"%\",\"\"),\"\")","v":"12,8168489%"},{"$f":"IF($B10824=\"SINAPI\",IF(ISNUMBER(MATCH(Banco!$C10824,Analitico!$A:$A,0)),INDEX(Analitico!F:F,MATCH(Banco!$C10824,Analitico!$A:$A,0))&\"%\",\"\"),\"\")","v":"%"}]
[{"$f":"CONCATENAR","v":"SINAPI 96370"},"SINAPI","96370","PAREDE COM SISTEMA EM CHAPAS DE GESSO PARA DRYWALL, USO INTERNO, COM UMA FACE SIMPLES E ESTRUTURA METÁLICA COM GUIAS SIMPLES, SEM VÃOS. AF_07/2023_PS","M2","69,56",null,null,"AS",{"$f":"IF($B10833=\"SINAPI\",IF(ISNUMBER(MATCH(Banco!$C10833,Analitico!$A:$A,0)),INDEX(Analitico!E:E,MATCH(Banco!$C10833,Analitico!$A:$A,0))&\"%\",\"\"),\"\")","v":"14,0451863%"},{"$f":"IF($B10833=\"SINAPI\",IF(ISNUMBER(MATCH(Banco!$C10833,Analitico!$A:$A,0)),INDEX(Analitico!F:F,MATCH(Banco!$C10833,Analitico!$A:$A,0))&\"%\",\"\"),\"\")","v":"%"}]
[{"$f":"CONCATENAR","v":"SINAPI 102257"},"SINAPI","102257","DIVISORIA SANITÁRIA, TIPO CABINE, EM PAINEL DE GRANILITE, ESP = 3CM, ASSENTADO COM ARGAMASSA COLANTE AC III-E, EXCLUSIVE FERRAGENS. AF_01/2021","M2","354,84",null,null,"AS",{"$f":"IF($B10842=\"SINAPI\",IF(ISNUMBER(MATCH(Banco!$C10842,Analitico!$A:$A,0)),INDEX(Analitico!E:E,MATCH(Banco!$C10842,Analitico!$A:$A,0))&\"%\",\"\"),\"\")","v":"20,1172921%"},{"$f":"IF($B10842=\"SINAPI\",IF(ISNUMBER(MATCH(Banco!$C10842,Analitico!$A:$A,0)),INDEX(Analitico!F:F,MATCH(Banco!$C10842,Analitico!$A:$A,0))&\"%\",\"\"),\"\")","v":"%"}]
[{"$f":"CONCATENAR","v":"SINAPI 101154"},"SINAPI","101154","ALVENARIA DE VEDAÇÃO DE BLOCOS DE CONCRETO CELULAR DE 10X30X60CM (ESPESSURA 10CM) E ARGAMASSA DE ASSENTAMENTO COM PREPARO EM BETONEIRA. AF_05/2020","M2","138,74",null,null,"CR",{"$f":"IF($B10851=\"SINAPI\",IF(ISNUMBER(MATCH(Banco!$C10851,Analitico!$A:$A,0)),INDEX(Analitico!E:E,MATCH(Banco!$C10851,Analitico!$A:$A,0))&\"%\",\"\"),\"\")","v":"16,6582497%"},{"$f":"IF($B10851=\"SINAPI\",IF(ISNUMBER(MATCH(Banco!$C10851,Analitico!$A:$A,0)),INDEX(Analitico!F:F,MATCH(Banco!$C10851,Analitico!$A:$A,0))&\"%\",\"\"),\"\")","v":"%"}]
[{"$f":"CONCATENAR","v":"SINAPI 101156"},"SINAPI","101156","ALVENARIA DE VEDAÇÃO DE BLOCOS DE CONCRETO CELULAR DE 20X30X60CM (ESPESSURA 20CM) E ARGAMASSA DE ASSENTAMENTO COM PREPARO EM BETONEIRA. AF_05/2020","M2","288,79",null,null,"CR",{"$f":"IF($B10853=\"SINAPI\",IF(ISNUMBER(MATCH(Banco!$C10853,Analitico!$A:$A,0)),INDEX(Analitico!E:E,MATCH(Banco!$C10853,Analitico!$A:$A,0))&\"%\",\"\"),\"\")","v":"14,1238827%"},{"$f":"IF($B10853=\"SINAPI\",IF(ISNUMBER(MATCH(Banco!$C10853,Analitico!$A:$A,0)),INDEX(Analitico!F:F,MATCH(Banco!$C10853,Analitico!$A:$A,0))&\"%\",\"\"),\"\")","v":"%"}]
[{"$f":"CONCATENAR","v":"SINAPI 101825"},"SINAPI","101825","RECOMPOSIÇÃO DE BASE E OU SUB-BASE PARA REMENDO PROFUNDO DE SOLO COM CIMENTO (TEOR DE 6%) - INCLUSO RETIRADA E COLOCAÇÃO DO MATERIAL. AF_12/2020","M3","244,86",null,null,"CR",{"$f":"IF($B10862=\"SINAPI\",IF(ISNUMBER(MATCH(Banco!$C10862,Analitico!$A:$A,0)),INDEX(Analitico!E:E,MATCH(Banco!$C10862,Analitico!$A:$A,0))&\"%\",\"\"),\"\")","v":"38,5394957%"},{"$f":"IF($B10862=\"SINAPI\",IF(ISNUMBER(MATCH(Banco!$C10862,Analitico!$A:$A,0)),INDEX(Analitico!F:F,MATCH(Banco!$C10862,Analitico!$A:$A,0))&\"%\",\"\"),\"\")","v":"%"}]
[{"$f":"CONCATENAR","v":"SINAPI 101834"},"SINAPI","101834","RECOMPOSIÇÃO DE BASE E OU SUB-BASE PARA REMENDO PROFUNDO DE SOLO BRITA (50/50) COM CIMENTO (TEOR DE 8%) - INCLUSO RETIRADA E COLOCAÇÃO DO MATERIAL. AF_12/2020","M3","336,22",null,null,"CR",{"$f":"IF($B10871=\"SINAPI\",IF(ISNUMBER(MATCH(Banco!$C10871,Analitico!$A:$A,0)),INDEX(Analitico!E:E,MATCH(Banco!$C10871,Analitico!$A:$A,0))&\"%\",\"\"),\"\")","v":"28,0626060%"},{"$f":"IF($B10871=\"SINAPI\",IF(ISNUMBER(MATCH(Banco!$C10871,Analitico!$A:$A,0)),INDEX(Analitico!F:F,MATCH(Banco!$C10871,Analitico!$A:$A,0))&\"%\",\"\"),\"\")","v":"%"}]
[{"$f":"CONCATENAR","v":"SINAPI 101843"},"SINAPI","101843","RECOMPOSIÇÃO DE BASE E OU SUB-BASE PARA FECHAMENTO DE VALAS DE SOLO BRITA (40/60) COM CIMENTO (TEOR DE 4%) - INCLUSO RETIRADA E COLOCAÇÃO DO MATERIAL. AF_12/2020","M3","175,48",null,null,"AS",{"$f":"IF($B10880=\"SINAPI\",IF(ISNUMBER(MATCH(Banco!$C10880,Analitico!$A:$A,0)),INDEX(Analitico!E:E,MATCH(Banco!$C10880,Analitico!$A:$A,0))&\"%\",\"\"),\"\")","v":"5,1574623%"},{"$f":"IF($B10880=\"SINAPI\",IF(ISNUMBER(MATCH(Banco!$C10880,Analitico!$A:$A,0)),INDEX(Analitico!F:F,MATCH(Banco!$C10880,Analitico!$A:$A,0))&\"%\",\"\"),\"\")","v":"%"}]
[{"$f":"CONCATENAR","v":"SINAPI 101852"},"SINAPI","101852","REASSENTAMENTO DE PARALELEPÍPEDOS, REJUNTAMENTO COM ARGAMASSA, COM REAPROVEITAMENTO DOS PARALELEPÍPEDOS - INCLUSO RETIRADA E COLOCAÇÃO DO MATERIAL. AF_12/2020","M2","73,51",null,null,"AS",{"$f":"IF($B10888=\"SINAPI\",IF(ISNUMBER(MATCH(Banco!$C10888,Analitico!$A:$A,0)),INDEX(Analitico!E:E,MATCH(Banco!$C10888,Analitico!$A:$A,0))&\"%\",\"\"),\"\")","v":"42,4593967%"},{"$f":"IF($B10888=\"SINAPI\",IF(ISNUMBER(MATCH(Banco!$C10888,Analitico!$A:$A,0)),INDEX(Analitico!F:F,MATCH(Banco!$C10888,Analitico!$A:$A,0))&\"%\",\"\"),\"\")","v":"%"}]
[{"$f":"CONCATENAR","v":"SINAPI 101864"},"SINAPI","101864","REASSENTAMENTO DE BLOCOS RETANGULAR PARA PISO INTERTRAVADO, ESPESSURA DE 8 CM, EM VIA/ESTACIONAMENTO, COM REAPROVEITAMENTO DOS BLOCOS RETANGULAR - INCLUSO RETIRADA E COLOCAÇÃO DO MATERIAL. AF_12/2020","M2","29,74",null,null,"CR",{"$f":"IF($B10899=\"SINAPI\",IF(ISNUMBER(MATCH(Banco!$C10899,Analitico!$A:$A,0)),INDEX(Analitico!E:E,MATCH(Banco!$C10899,Analitico!$A:$A,0))&\"%\",\"\"),\"\")","v":"58,0939507%"},{"$f":"IF($B10899=\"SINAPI\",IF(ISNUMBER(MATCH(Banco!$C10899,Analitico!$A:$A,0)),INDEX(Analitico!F:F,MATCH(Banco!$C10899,Analitico!$A:$A,0))&\"%\",\"\"),\"\")","v":"%"}]
[{"$f":"CONCATENAR","v":"SINAPI 100576"},"SINAPI","100576","REGULARIZAÇÃO E COMPACTAÇÃO DE SUBLEITO DE SOLO  PREDOMINANTEMENTE ARGILOSO. AF_11/2019","M2","2,61",null,null,"AS",{"$f":"IF($B10908=\"SINAPI\",IF(ISNUMBER(MATCH(Banco!$C10908,Analitico!$A:$A,0)),INDEX(Analitico!E:E,MATCH(Banco!$C10908,Analitico!$A:$A,0))&\"%\",\"\"),\"\")","v":"32,7731092%"},{"$f":"IF($B10908=\"SINAPI\",IF(ISNUMBER(MATCH(Banco!$C10908,Analitico!$A:$A,0)),INDEX(Analitico!F:F,MATCH(Banco!$C10908,Analitico!$A:$A,0))&\"%\",\"\"),\"\")","v":"%"}]
[{"$f":"CONCATENAR","v":"SINAPI 100577"},"SINAPI","100577","REGULARIZAÇÃO E COMPACTAÇÃO DE SUBLEITO DE SOLO PREDOMINANTEMENTE ARENOSO. AF_11/2019","M2","1,26",null,null,"AS",{"$f":"IF($B10909=\"SINAPI\",IF(ISNUMBER(MATCH(Banco!$C10909,Analitico!$A:$A,0)),INDEX(Analitico!E:E,MATCH(Banco!$C10909,Analitico!$A:$A,0))&\"%\",\"\"),\"\")","v":"25,2336448%"},{"$f":"IF($B10909=\"SINAPI\",IF(ISNUMBER(MATCH(Banco!$C10909,Analitico!$A:$A,0)),INDEX(Analitico!F:F,MATCH(Banco!$C10909,Analitico!$A:$A,0))&\"%\",\"\"),\"\")","v":"%"}]
[{"$f":"CONCATENAR","v":"SINAPI 96399"},"SINAPI","96399","EXECUÇÃO E COMPACTAÇÃO DE BASE E OU SUB BASE PARA PAVIMENTAÇÃO DE PEDRA RACHÃO  - EXCLUSIVE CARGA E TRANSPORTE. AF_11/2019","M3","103,42",null,null,"AS",{"$f":"IF($B10918=\"SINAPI\",IF(ISNUMBER(MATCH(Banco!$C10918,Analitico!$A:$A,0)),INDEX(Analitico!E:E,MATCH(Banco!$C10918,Analitico!$A:$A,0))&\"%\",\"\"),\"\")","v":"4,5745299%"},{"$f":"IF($B10918=\"SINAPI\",IF(ISNUMBER(MATCH(Banco!$C10918,Analitico!$A:$A,0)),INDEX(Analitico!F:F,MATCH(Banco!$C10918,Analitico!$A:$A,0))&\"%\",\"\"),\"\")","v":"%"}]
[{"$f":"CONCATENAR","v":"SINAPI 100574"},"SINAPI","100574","ESPALHAMENTO DE MATERIAL COM TRATOR DE ESTEIRAS. AF_11/2019","M3","1,52",null,null,"AS",{"$f":"IF($B10930=\"SINAPI\",IF(ISNUMBER(MATCH(Banco!$C10930,Analitico!$A:$A,0)),INDEX(Analitico!E:E,MATCH(Banco!$C10930,Analitico!$A:$A,0))&\"%\",\"\"),\"\")","v":"26,9503546%"},{"$f":"IF($B10930=\"SINAPI\",IF(ISNUMBER(MATCH(Banco!$C10930,Analitico!$A:$A,0)),INDEX(Analitico!F:F,MATCH(Banco!$C10930,Analitico!$A:$A,0))&\"%\",\"\"),\"\")","v":"%"}]
[{"$f":"CONCATENAR","v":"SINAPI 92394"},"SINAPI","92394","EXECUÇÃO DE PAVIMENTO EM PISO INTERTRAVADO, COM BLOCO SEXTAVADO DE 25 X 25 CM, ESPESSURA 8 CM. AF_10/2022","M2","75,07",null,null,"CR",{"$f":"IF($B10937=\"SINAPI\",IF(ISNUMBER(MATCH(Banco!$C10937,Analitico!$A:$A,0)),INDEX(Analitico!E:E,MATCH(Banco!$C10937,Analitico!$A:$A,0))&\"%\",\"\"),\"\")","v":"6,9246164%"},{"$f":"IF($B10937=\"SINAPI\",IF(ISNUMBER(MATCH(Banco!$C10937,Analitico!$A:$A,0)),INDEX(Analitico!F:F,MATCH(Banco!$C10937,Analitico!$A:$A,0))&\"%\",\"\"),\"\")","v":"%"}]
[{"$f":"CONCATENAR","v":"SINAPI 92406"},"SINAPI","92406","EXECUÇÃO DE PAVIMENTO EM PISO INTERTRAVADO, COM BLOCO 16 FACES DE 22 X 11 CM, ESPESSURA 10 CM. AF_10/2022","M2","92,32",null,null,"CR",{"$f":"IF($B10946=\"SINAPI\",IF(ISNUMBER(MATCH(Banco!$C10946,Analitico!$A:$A,0)),INDEX(Analitico!E:E,MATCH(Banco!$C10946,Analitico!$A:$A,0))&\"%\",\"\"),\"\")","v":"9,2072443%"},{"$f":"IF($B10946=\"SINAPI\",IF(ISNUMBER(MATCH(Banco!$C10946,Analitico!$A:$A,0)),INDEX(Analitico!F:F,MATCH(Banco!$C10946,Analitico!$A:$A,0))&\"%\",\"\"),\"\")","v":"%"}]
[{"$f":"CONCATENAR","v":"SINAPI 97109"},"SINAPI","97109","EXECUÇÃO DE PAVIMENTO DE CONCRETO SIMPLES (PCS), FCK = 40 MPA, ESPESSURA DE 27,5 CM. AF_04/2022","M2","241,65",null,null,"AS",{"$f":"IF($B10955=\"SINAPI\",IF(ISNUMBER(MATCH(Banco!$C10955,Analitico!$A:$A,0)),INDEX(Analitico!E:E,MATCH(Banco!$C10955,Analitico!$A:$A,0))&\"%\",\"\"),\"\")","v":"6,5292238%"},{"$f":"IF($B10955=\"SINAPI\",IF(ISNUMBER(MATCH(Banco!$C10955,Analitico!$A:$A,0)),INDEX(Analitico!F:F,MATCH(Banco!$C10955,Analitico!$A:$A,0))&\"%\",\"\"),\"\")","v":"%"}]
[{"$f":"CONCATENAR","v":"SINAPI 97119"},"SINAPI","97119","BARRAS DE TRANSFERÊNCIA, AÇO CA-25 DE 32,0 MM, PARA EXECUÇÃO DE PAVIMENTO DE CONCRETO - FORNECIMENTO E INSTALAÇÃO. AF_04/2022","KG","15,32",null,null,"CR",{"$f":"IF($B10964=\"SINAPI\",IF(ISNUMBER(MATCH(Banco!$C10964,Analitico!$A:$A,0)),INDEX(Analitico!E:E,MATCH(Banco!$C10964,Analitico!$A:$A,0))&\"%\",\"\"),\"\")","v":"10,6885245%"},{"$f":"IF($B10964=\"SINAPI\",IF(ISNUMBER(MATCH(Banco!$C10964,Analitico!$A:$A,0)),INDEX(Analitico!F:F,MATCH(Banco!$C10964,Analitico!$A:$A,0))&\"%\",\"\"),\"\")","v":"%"}]
[{"$f":"CONCATENAR","v":"SINAPI 101169"},"SINAPI","101169","EXECUÇÃO DE PAVIMENTO EM PARALELEPÍPEDOS, REJUNTAMENTO COM ARGAMASSA TRAÇO 1:3 (CIMENTO E AREIA). AF_05/2020","M2","127,93",null,null,"AS",{"$f":"IF($B10967=\"SINAPI\",IF(ISNUMBER(MATCH(Banco!$C10967,Analitico!$A:$A,0)),INDEX(Analitico!E:E,MATCH(Banco!$C10967,Analitico!$A:$A,0))&\"%\",\"\"),\"\")","v":"13,7723144%"},{"$f":"IF($B10967=\"SINAPI\",IF(ISNUMBER(MATCH(Banco!$C10967,Analitico!$A:$A,0)),INDEX(Analitico!F:F,MATCH(Banco!$C10967,Analitico!$A:$A,0))&\"%\",\"\"),\"\")","v":"%"}]
[{"$f":"CONCATENAR","v":"SINAPI 103909"},"SINAPI","103909","EXECUÇÃO PAVIMENTO DE CONCRETO SIMPLES (PCS), FCK = 35 MPA, ESPESSURA DE 22,5 CM. AF_04/2022","M2","185,30",null,null,"AS",{"$f":"IF($B10975=\"SINAPI\",IF(ISNUMBER(MATCH(Banco!$C10975,Analitico!$A:$A,0)),INDEX(Analitico!E:E,MATCH(Banco!$C10975,Analitico!$A:$A,0))&\"%\",\"\"),\"\")","v":"7,4068062%"},{"$f":"IF($B10975=\"SINAPI\",IF(ISNUMBER(MATCH(Banco!$C10975,Analitico!$A:$A,0)),INDEX(Analitico!F:F,MATCH(Banco!$C10975,Analitico!$A:$A,0))&\"%\",\"\"),\"\")","v":"%"}]
[{"$f":"CONCATENAR","v":"SINAPI 104432"},"SINAPI","104432","EXECUÇÃO DE PASSEIO EM PISO INTERTRAVADO, COM BLOCO RAQUETE  22 X 13,5 CM, ESPESSURA 6 CM. AF_10/2022","M2","76,76",null,null,"CR",{"$f":"IF($B10984=\"SINAPI\",IF(ISNUMBER(MATCH(Banco!$C10984,Analitico!$A:$A,0)),INDEX(Analitico!E:E,MATCH(Banco!$C10984,Analitico!$A:$A,0))&\"%\",\"\"),\"\")","v":"17,5994781%"},{"$f":"IF($B10984=\"SINAPI\",IF(ISNUMBER(MATCH(Banco!$C10984,Analitico!$A:$A,0)),INDEX(Analitico!F:F,MATCH(Banco!$C10984,Analitico!$A:$A,0))&\"%\",\"\"),\"\")","v":"%"}]
[{"$f":"CONCATENAR","v":"SINAPI 96001"},"SINAPI","96001","FRESAGEM DE PAVIMENTO ASFÁLTICO (PROFUNDIDADE ATÉ 5,0 CM) - EXCLUSIVE TRANSPORTE. AF_11/2019","M2","7,73",null,null,"AS",{"$f":"IF($B10993=\"SINAPI\",IF(ISNUMBER(MATCH(Banco!$C10993,Analitico!$A:$A,0)),INDEX(Analitico!E:E,MATCH(Banco!$C10993,Analitico!$A:$A,0))&\"%\",\"\"),\"\")","v":"13,1543624%"},{"$f":"IF($B10993=\"SINAPI\",IF(ISNUMBER(MATCH(Banco!$C10993,Analitico!$A:$A,0)),INDEX(Analitico!F:F,MATCH(Banco!$C10993,Analitico!$A:$A,0))&\"%\",\"\"),\"\")","v":"%"}]
[{"$f":"CONCATENAR","v":"SINAPI 88416"},"SINAPI","88416","APLICAÇÃO MANUAL DE PINTURA COM TINTA TEXTURIZADA ACRÍLICA EM PANOS COM PRESENÇA DE VÃOS DE EDIFÍCIOS DE MÚLTIPLOS PAVIMENTOS, UMA COR. AF_03/2024","M2","23,06",null,null,"CR",{"$f":"IF($B11002=\"SINAPI\",IF(ISNUMBER(MATCH(Banco!$C11002,Analitico!$A:$A,0)),INDEX(Analitico!E:E,MATCH(Banco!$C11002,Analitico!$A:$A,0))&\"%\",\"\"),\"\")","v":"12,4836885%"},{"$f":"IF($B11002=\"SINAPI\",IF(ISNUMBER(MATCH(Banco!$C11002,Analitico!$A:$A,0)),INDEX(Analitico!F:F,MATCH(Banco!$C11002,Analitico!$A:$A,0))&\"%\",\"\"),\"\")","v":"%"}]
[{"$f":"CONCATENAR","v":"SINAPI 88484"},"SINAPI","88484","FUNDO SELADOR ACRÍLICO, APLICAÇÃO MANUAL EM TETO, UMA DEMÃO. AF_04/2023","M2","4,36",null,null,"C",{"$f":"IF($B11013=\"SINAPI\",IF(ISNUMBER(MATCH(Banco!$C11013,Analitico!$A:$A,0)),INDEX(Analitico!E:E,MATCH(Banco!$C11013,Analitico!$A:$A,0))&\"%\",\"\"),\"\")","v":"50,9259260%"},{"$f":"IF($B11013=\"SINAPI\",IF(ISNUMBER(MATCH(Banco!$C11013,Analitico!$A:$A,0)),INDEX(Analitico!F:F,MATCH(Banco!$C11013,Analitico!$A:$A,0))&\"%\",\"\"),\"\")","v":"%"}]
[{"$f":"CONCATENAR","v":"SINAPI 95305"},"SINAPI","95305","TEXTURA ACRÍLICA, APLICAÇÃO MANUAL EM PAREDE, UMA DEMÃO. AF_04/2023","M2","14,13",null,null,"CR",{"$f":"IF($B11021=\"SINAPI\",IF(ISNUMBER(MATCH(Banco!$C11021,Analitico!$A:$A,0)),INDEX(Analitico!E:E,MATCH(Banco!$C11021,Analitico!$A:$A,0))&\"%\",\"\"),\"\")","v":"25,9786476%"},{"$f":"IF($B11021=\"SINAPI\",IF(ISNUMBER(MATCH(Banco!$C11021,Analitico!$A:$A,0)),INDEX(Analitico!F:F,MATCH(Banco!$C11021,Analitico!$A:$A,0))&\"%\",\"\"),\"\")","v":"%"}]
[{"$f":"CONCATENAR","v":"SINAPI 96128"},"SINAPI","96128","APLICAÇÃO MANUAL DE MASSA ACRÍLICA EM SUPERFÍCIES EXTERNAS DE SACADA DE EDIFÍCIOS DE MÚLTIPLOS PAVIMENTOS, UMA DEMÃO. AF_03/2024","M2","27,64",null,null,"CR",{"$f":"IF($B11030=\"SINAPI\",IF(ISNUMBER(MATCH(Banco!$C11030,Analitico!$A:$A,0)),INDEX(Analitico!E:E,MATCH(Banco!$C11030,Analitico!$A:$A,0))&\"%\",\"\"),\"\")","v":"57,3449402%"},{"$f":"IF($B11030=\"SINAPI\",IF(ISNUMBER(MATCH(Banco!$C11030,Analitico!$A:$A,0)),INDEX(Analitico!F:F,MATCH(Banco!$C11030,Analitico!$A:$A,0))&\"%\",\"\"),\"\")","v":"%"}]
[{"$f":"CONCATENAR","v":"SINAPI 104640"},"SINAPI","104640","PINTURA LÁTEX ACRÍLICA STANDARD, APLICAÇÃO MANUAL EM TETO, DUAS DEMÃOS. AF_04/2023","M2","12,82",null,null,"CR",{"$f":"IF($B11039=\"SINAPI\",IF(ISNUMBER(MATCH(Banco!$C11039,Analitico!$A:$A,0)),INDEX(Analitico!E:E,MATCH(Banco!$C11039,Analitico!$A:$A,0))&\"%\",\"\"),\"\")","v":"42,3529411%"},{"$f":"IF($B11039=\"SINAPI\",IF(ISNUMBER(MATCH(Banco!$C11039,Analitico!$A:$A,0)),INDEX(Analitico!F:F,MATCH(Banco!$C11039,Analitico!$A:$A,0))&\"%\",\"\"),\"\")","v":"%"}]
[{"$f":"CONCATENAR","v":"SINAPI 104641"},"SINAPI","104641","PINTURA LÁTEX ACRÍLICA ECONÔMICA, APLICAÇÃO MANUAL EM PAREDES, DUAS DEMÃOS. AF_04/2023","M2","9,21",null,null,"CR",{"$f":"IF($B11040=\"SINAPI\",IF(ISNUMBER(MATCH(Banco!$C11040,Analitico!$A:$A,0)),INDEX(Analitico!E:E,MATCH(Banco!$C11040,Analitico!$A:$A,0))&\"%\",\"\"),\"\")","v":"42,2950819%"},{"$f":"IF($B11040=\"SINAPI\",IF(ISNUMBER(MATCH(Banco!$C11040,Analitico!$A:$A,0)),INDEX(Analitico!F:F,MATCH(Banco!$C11040,Analitico!$A:$A,0))&\"%\",\"\"),\"\")","v":"%"}]
[{"$f":"CONCATENAR","v":"SINAPI 102205"},"SINAPI","102205","PINTURA VERNIZ (INCOLOR) POLIURETÂNICO (RESINA ALQUÍDICA MODIFICADA) EM MADEIRA, 1 DEMÃO. AF_01/2021","M2","9,40",null,null,"C",{"$f":"IF($B11050=\"SINAPI\",IF(ISNUMBER(MATCH(Banco!$C11050,Analitico!$A:$A,0)),INDEX(Analitico!E:E,MATCH(Banco!$C11050,Analitico!$A:$A,0))&\"%\",\"\"),\"\")","v":"47,4358974%"},{"$f":"IF($B11050=\"SINAPI\",IF(ISNUMBER(MATCH(Banco!$C11050,Analitico!$A:$A,0)),INDEX(Analitico!F:F,MATCH(Banco!$C11050,Analitico!$A:$A,0))&\"%\",\"\"),\"\")","v":"%"}]
[{"$f":"CONCATENAR","v":"SINAPI 102218"},"SINAPI","102218","PINTURA TINTA DE ACABAMENTO (PIGMENTADA) ESMALTE SINTÉTICO FOSCO EM MADEIRA, 2 DEMÃOS. AF_01/2021","M2","15,45",null,null,"CR",{"$f":"IF($B11059=\"SINAPI\",IF(ISNUMBER(MATCH(Banco!$C11059,Analitico!$A:$A,0)),INDEX(Analitico!E:E,MATCH(Banco!$C11059,Analitico!$A:$A,0))&\"%\",\"\"),\"\")","v":"46,5282284%"},{"$f":"IF($B11059=\"SINAPI\",IF(ISNUMBER(MATCH(Banco!$C11059,Analitico!$A:$A,0)),INDEX(Analitico!F:F,MATCH(Banco!$C11059,Analitico!$A:$A,0))&\"%\",\"\"),\"\")","v":"%"}]
[{"$f":"CONCATENAR","v":"SINAPI 102230"},"SINAPI","102230","PINTURA TINTA DE ACABAMENTO (PIGMENTADA) ESMALTE SINTÉTICO BRILHANTE EM MADEIRA, 3 DEMÃOS. AF_01/2021","M2","22,80",null,null,"C",{"$f":"IF($B11068=\"SINAPI\",IF(ISNUMBER(MATCH(Banco!$C11068,Analitico!$A:$A,0)),INDEX(Analitico!E:E,MATCH(Banco!$C11068,Analitico!$A:$A,0))&\"%\",\"\"),\"\")","v":"47,2759226%"},{"$f":"IF($B11068=\"SINAPI\",IF(ISNUMBER(MATCH(Banco!$C11068,Analitico!$A:$A,0)),INDEX(Analitico!F:F,MATCH(Banco!$C11068,Analitico!$A:$A,0))&\"%\",\"\"),\"\")","v":"%"}]
[{"$f":"CONCATENAR","v":"SINAPI 100722"},"SINAPI","100722","PINTURA COM TINTA ALQUÍDICA DE FUNDO (TIPO ZARCÃO) APLICADA A ROLO OU PINCEL SOBRE SUPERFÍCIES METÁLICAS (EXCETO PERFIL) EXECUTADO EM OBRA (POR DEMÃO). AF_01/2020","M2","22,73",null,null,"CR",{"$f":"IF($B11077=\"SINAPI\",IF(ISNUMBER(MATCH(Banco!$C11077,Analitico!$A:$A,0)),INDEX(Analitico!E:E,MATCH(Banco!$C11077,Analitico!$A:$A,0))&\"%\",\"\"),\"\")","v":"56,3436124%"},{"$f":"IF($B11077=\"SINAPI\",IF(ISNUMBER(MATCH(Banco!$C11077,Analitico!$A:$A,0)),INDEX(Analitico!F:F,MATCH(Banco!$C11077,Analitico!$A:$A,0))&\"%\",\"\"),\"\")","v":"%"}]
[{"$f":"CONCATENAR","v":"SINAPI 100733"},"SINAPI","100733","PINTURA COM TINTA ACRÍLICA DE FUNDO PULVERIZADA SOBRE SUPERFÍCIES METÁLICAS (EXCETO PERFIL) EXECUTADO EM OBRA (POR DEMÃO). AF_01/2020_PE","M2","10,87",null,null,"CR",{"$f":"IF($B11086=\"SINAPI\",IF(ISNUMBER(MATCH(Banco!$C11086,Analitico!$A:$A,0)),INDEX(Analitico!E:E,MATCH(Banco!$C11086,Analitico!$A:$A,0))&\"%\",\"\"),\"\")","v":"52,7675277%"},{"$f":"IF($B11086=\"SINAPI\",IF(ISNUMBER(MATCH(Banco!$C11086,Analitico!$A:$A,0)),INDEX(Analitico!F:F,MATCH(Banco!$C11086,Analitico!$A:$A,0))&\"%\",\"\"),\"\")","v":"%"}]
[{"$f":"CONCATENAR","v":"SINAPI 100745"},"SINAPI","100745","PINTURA COM TINTA ALQUÍDICA DE ACABAMENTO (ESMALTE SINTÉTICO BRILHANTE) PULVERIZADA SOBRE SUPERFÍCIES METÁLICAS (EXCETO PERFIL) EXECUTADO EM OBRA  (POR DEMÃO). AF_01/2020_PE","M2","23,42",null,null,"C",{"$f":"IF($B11096=\"SINAPI\",IF(ISNUMBER(MATCH(Banco!$C11096,Analitico!$A:$A,0)),INDEX(Analitico!E:E,MATCH(Banco!$C11096,Analitico!$A:$A,0))&\"%\",\"\"),\"\")","v":"42,4540401%"},{"$f":"IF($B11096=\"SINAPI\",IF(ISNUMBER(MATCH(Banco!$C11096,Analitico!$A:$A,0)),INDEX(Analitico!F:F,MATCH(Banco!$C11096,Analitico!$A:$A,0))&\"%\",\"\"),\"\")","v":"%"}]
[{"$f":"CONCATENAR","v":"SINAPI 100754"},"SINAPI","100754","PINTURA COM TINTA ACRÍLICA DE ACABAMENTO APLICADA A ROLO OU PINCEL SOBRE SUPERFÍCIES METÁLICAS (EXCETO PERFIL) EXECUTADO EM OBRA (02 DEMÃOS). AF_01/2020","M2","27,25",null,null,"CR",{"$f":"IF($B11105=\"SINAPI\",IF(ISNUMBER(MATCH(Banco!$C11105,Analitico!$A:$A,0)),INDEX(Analitico!E:E,MATCH(Banco!$C11105,Analitico!$A:$A,0))&\"%\",\"\"),\"\")","v":"63,0418810%"},{"$f":"IF($B11105=\"SINAPI\",IF(ISNUMBER(MATCH(Banco!$C11105,Analitico!$A:$A,0)),INDEX(Analitico!F:F,MATCH(Banco!$C11105,Analitico!$A:$A,0))&\"%\",\"\"),\"\")","v":"%"}]
[{"$f":"CONCATENAR","v":"SINAPI 100757"},"SINAPI","100757","PINTURA COM TINTA ALQUÍDICA DE ACABAMENTO (ESMALTE SINTÉTICO ACETINADO) PULVERIZADA SOBRE SUPERFÍCIES METÁLICAS (EXCETO PERFIL) EXECUTADO EM OBRA (02 DEMÃOS). AF_01/2020_PE","M2","47,38",null,null,"CR",{"$f":"IF($B11106=\"SINAPI\",IF(ISNUMBER(MATCH(Banco!$C11106,Analitico!$A:$A,0)),INDEX(Analitico!E:E,MATCH(Banco!$C11106,Analitico!$A:$A,0))&\"%\",\"\"),\"\")","v":"41,9341216%"},{"$f":"IF($B11106=\"SINAPI\",IF(ISNUMBER(MATCH(Banco!$C11106,Analitico!$A:$A,0)),INDEX(Analitico!F:F,MATCH(Banco!$C11106,Analitico!$A:$A,0))&\"%\",\"\"),\"\")","v":"%"}]
[{"$f":"CONCATENAR","v":"SINAPI 102492"},"SINAPI","102492","PINTURA DE PISO COM TINTA ACRÍLICA, APLICAÇÃO MANUAL, 3 DEMÃOS, INCLUSO FUNDO PREPARADOR. AF_05/2021","M2","26,31",null,null,"CR",{"$f":"IF($B11115=\"SINAPI\",IF(ISNUMBER(MATCH(Banco!$C11115,Analitico!$A:$A,0)),INDEX(Analitico!E:E,MATCH(Banco!$C11115,Analitico!$A:$A,0))&\"%\",\"\"),\"\")","v":"34,8323170%"},{"$f":"IF($B11115=\"SINAPI\",IF(ISNUMBER(MATCH(Banco!$C11115,Analitico!$A:$A,0)),INDEX(Analitico!F:F,MATCH(Banco!$C11115,Analitico!$A:$A,0))&\"%\",\"\"),\"\")","v":"%"}]
[{"$f":"CONCATENAR","v":"SINAPI 102505"},"SINAPI","102505","PINTURA DE DEMARCAÇÃO DE QUADRA POLIESPORTIVA COM BORRACHA CLORADA, E = 5 CM, APLICAÇÃO MANUAL. AF_05/2021","M","9,46",null,null,"CR",{"$f":"IF($B11124=\"SINAPI\",IF(ISNUMBER(MATCH(Banco!$C11124,Analitico!$A:$A,0)),INDEX(Analitico!E:E,MATCH(Banco!$C11124,Analitico!$A:$A,0))&\"%\",\"\"),\"\")","v":"63,5494156%"},{"$f":"IF($B11124=\"SINAPI\",IF(ISNUMBER(MATCH(Banco!$C11124,Analitico!$A:$A,0)),INDEX(Analitico!F:F,MATCH(Banco!$C11124,Analitico!$A:$A,0))&\"%\",\"\"),\"\")","v":"%"}]
[{"$f":"CONCATENAR","v":"SINAPI 101750"},"SINAPI","101750","PISO CIMENTADO, TRAÇO 1:3 (CIMENTO E AREIA), ACABAMENTO RÚSTICO, ESPESSURA 4,0 CM, PREPARO MECÂNICO DA ARGAMASSA. AF_09/2020","M2","55,12",null,null,"AS",{"$f":"IF($B11133=\"SINAPI\",IF(ISNUMBER(MATCH(Banco!$C11133,Analitico!$A:$A,0)),INDEX(Analitico!E:E,MATCH(Banco!$C11133,Analitico!$A:$A,0))&\"%\",\"\"),\"\")","v":"28,2699654%"},{"$f":"IF($B11133=\"SINAPI\",IF(ISNUMBER(MATCH(Banco!$C11133,Analitico!$A:$A,0)),INDEX(Analitico!F:F,MATCH(Banco!$C11133,Analitico!$A:$A,0))&\"%\",\"\"),\"\")","v":"%"}]
[{"$f":"CONCATENAR","v":"SINAPI 87256"},"SINAPI","87256","REVESTIMENTO CERÂMICO PARA PISO COM PLACAS TIPO ESMALTADA DE DIMENSÕES 60X60 CM APLICADA EM AMBIENTES DE ÁREA ENTRE 5 M2 E 10 M2. AF_02/2023_PE","M2","89,79",null,null,"CR",{"$f":"IF($B11144=\"SINAPI\",IF(ISNUMBER(MATCH(Banco!$C11144,Analitico!$A:$A,0)),INDEX(Analitico!E:E,MATCH(Banco!$C11144,Analitico!$A:$A,0))&\"%\",\"\"),\"\")","v":"14,9242086%"},{"$f":"IF($B11144=\"SINAPI\",IF(ISNUMBER(MATCH(Banco!$C11144,Analitico!$A:$A,0)),INDEX(Analitico!F:F,MATCH(Banco!$C11144,Analitico!$A:$A,0))&\"%\",\"\"),\"\")","v":"%"}]
[{"$f":"CONCATENAR","v":"SINAPI 104593"},"SINAPI","104593","REVESTIMENTO CERÂMICO PARA PISO COM PLACAS TIPO ESMALTADA DE DIMENSÕES 80X80 CM APLICADA EM AMBIENTES DE ÁREA MENOR QUE 5 M². AF_02/2023_PE","M2","104,58",null,null,"CR",{"$f":"IF($B11152=\"SINAPI\",IF(ISNUMBER(MATCH(Banco!$C11152,Analitico!$A:$A,0)),INDEX(Analitico!E:E,MATCH(Banco!$C11152,Analitico!$A:$A,0))&\"%\",\"\"),\"\")","v":"20,7731317%"},{"$f":"IF($B11152=\"SINAPI\",IF(ISNUMBER(MATCH(Banco!$C11152,Analitico!$A:$A,0)),INDEX(Analitico!F:F,MATCH(Banco!$C11152,Analitico!$A:$A,0))&\"%\",\"\"),\"\")","v":"%"}]
[{"$f":"CONCATENAR","v":"SINAPI 104605"},"SINAPI","104605","REVESTIMENTO CERÂMICO PARA PISO COM PLACAS TIPO ESMALTADA DE DIMENSÕES 45X45 CM APLICADA EM DIAGONAL EM AMBIENTES DE ÁREA MENOR QUE 5 M². AF_02/2023_PE","M2","89,23",null,null,"CR",{"$f":"IF($B11161=\"SINAPI\",IF(ISNUMBER(MATCH(Banco!$C11161,Analitico!$A:$A,0)),INDEX(Analitico!E:E,MATCH(Banco!$C11161,Analitico!$A:$A,0))&\"%\",\"\"),\"\")","v":"37,0794078%"},{"$f":"IF($B11161=\"SINAPI\",IF(ISNUMBER(MATCH(Banco!$C11161,Analitico!$A:$A,0)),INDEX(Analitico!F:F,MATCH(Banco!$C11161,Analitico!$A:$A,0))&\"%\",\"\"),\"\")","v":"%"}]
[{"$f":"CONCATENAR","v":"SINAPI 98679"},"SINAPI","98679","PISO CIMENTADO, TRAÇO 1:3 (CIMENTO E AREIA), ACABAMENTO LISO, ESPESSURA 2,0 CM, PREPARO MECÂNICO DA ARGAMASSA. AF_09/2020","M2","38,57",null,null,"AS",{"$f":"IF($B11170=\"SINAPI\",IF(ISNUMBER(MATCH(Banco!$C11170,Analitico!$A:$A,0)),INDEX(Analitico!E:E,MATCH(Banco!$C11170,Analitico!$A:$A,0))&\"%\",\"\"),\"\")","v":"33,4721499%"},{"$f":"IF($B11170=\"SINAPI\",IF(ISNUMBER(MATCH(Banco!$C11170,Analitico!$A:$A,0)),INDEX(Analitico!F:F,MATCH(Banco!$C11170,Analitico!$A:$A,0))&\"%\",\"\"),\"\")","v":"%"}]
[{"$f":"CONCATENAR","v":"SINAPI 98680"},"SINAPI","98680","PISO CIMENTADO, TRAÇO 1:3 (CIMENTO E AREIA), ACABAMENTO LISO, ESPESSURA 3,0 CM, PREPARO MECÂNICO DA ARGAMASSA. AF_09/2020","M2","49,00",null,null,"AS",{"$f":"IF($B11171=\"SINAPI\",IF(ISNUMBER(MATCH(Banco!$C11171,Analitico!$A:$A,0)),INDEX(Analitico!E:E,MATCH(Banco!$C11171,Analitico!$A:$A,0))&\"%\",\"\"),\"\")","v":"30,9991809%"},{"$f":"IF($B11171=\"SINAPI\",IF(ISNUMBER(MATCH(Banco!$C11171,Analitico!$A:$A,0)),INDEX(Analitico!F:F,MATCH(Banco!$C11171,Analitico!$A:$A,0))&\"%\",\"\"),\"\")","v":"%"}]
[{"$f":"CONCATENAR","v":"SINAPI 101726"},"SINAPI","101726","PISO EM LADRILHO HIDRÁULICO APLICADO EM AMBIENTES INTERNOS DE ÁREA ENTRE 5 E 15 M², INCLUSO APLICAÇÃO DE RESINA. AF_09/2020","M2","210,11",null,null,"CR",{"$f":"IF($B11181=\"SINAPI\",IF(ISNUMBER(MATCH(Banco!$C11181,Analitico!$A:$A,0)),INDEX(Analitico!E:E,MATCH(Banco!$C11181,Analitico!$A:$A,0))&\"%\",\"\"),\"\")","v":"27,5635532%"},{"$f":"IF($B11181=\"SINAPI\",IF(ISNUMBER(MATCH(Banco!$C11181,Analitico!$A:$A,0)),INDEX(Analitico!F:F,MATCH(Banco!$C11181,Analitico!$A:$A,0))&\"%\",\"\"),\"\")","v":"%"}]
[{"$f":"CONCATENAR","v":"SINAPI 101737"},"SINAPI","101737","PISO DE BORRACHA CANELADO, ESPESSURA 3,5MM, FIXADO COM ADESIVO ACRÍLICO. AF_09/2020","M2","116,62",null,null,"CR",{"$f":"IF($B11190=\"SINAPI\",IF(ISNUMBER(MATCH(Banco!$C11190,Analitico!$A:$A,0)),INDEX(Analitico!E:E,MATCH(Banco!$C11190,Analitico!$A:$A,0))&\"%\",\"\"),\"\")","v":"10,4522440%"},{"$f":"IF($B11190=\"SINAPI\",IF(ISNUMBER(MATCH(Banco!$C11190,Analitico!$A:$A,0)),INDEX(Analitico!F:F,MATCH(Banco!$C11190,Analitico!$A:$A,0))&\"%\",\"\"),\"\")","v":"%"}]
[{"$f":"CONCATENAR","v":"SINAPI 88648"},"SINAPI","88648","RODAPÉ CERÂMICO DE 7CM DE ALTURA COM PLACAS TIPO ESMALTADA DE DIMENSÕES 35X35CM. AF_02/2023","M","6,86",null,null,"CR",{"$f":"IF($B11199=\"SINAPI\",IF(ISNUMBER(MATCH(Banco!$C11199,Analitico!$A:$A,0)),INDEX(Analitico!E:E,MATCH(Banco!$C11199,Analitico!$A:$A,0))&\"%\",\"\"),\"\")","v":"26,2150220%"},{"$f":"IF($B11199=\"SINAPI\",IF(ISNUMBER(MATCH(Banco!$C11199,Analitico!$A:$A,0)),INDEX(Analitico!F:F,MATCH(Banco!$C11199,Analitico!$A:$A,0))&\"%\",\"\"),\"\")","v":"%"}]
[{"$f":"CONCATENAR","v":"SINAPI 94994"},"SINAPI","94994","EXECUÇÃO DE PASSEIO (CALÇADA) OU PISO DE CONCRETO COM CONCRETO MOLDADO IN LOCO, FEITO EM OBRA, ACABAMENTO CONVENCIONAL, ESPESSURA 8 CM, ARMADO. AF_08/2022","M2","95,53",null,null,"CR",{"$f":"IF($B11208=\"SINAPI\",IF(ISNUMBER(MATCH(Banco!$C11208,Analitico!$A:$A,0)),INDEX(Analitico!E:E,MATCH(Banco!$C11208,Analitico!$A:$A,0))&\"%\",\"\"),\"\")","v":"19,4042374%"},{"$f":"IF($B11208=\"SINAPI\",IF(ISNUMBER(MATCH(Banco!$C11208,Analitico!$A:$A,0)),INDEX(Analitico!F:F,MATCH(Banco!$C11208,Analitico!$A:$A,0))&\"%\",\"\"),\"\")","v":"%"}]
[{"$f":"CONCATENAR","v":"SINAPI 87630"},"SINAPI","87630","CONTRAPISO EM ARGAMASSA TRAÇO 1:4 (CIMENTO E AREIA), PREPARO MECÂNICO COM BETONEIRA 400 L, APLICADO EM ÁREAS SECAS SOBRE LAJE, ADERIDO, ACABAMENTO NÃO REFORÇADO, ESPESSURA 3CM. AF_07/2021","M2","42,40",null,null,"CR",{"$f":"IF($B11217=\"SINAPI\",IF(ISNUMBER(MATCH(Banco!$C11217,Analitico!$A:$A,0)),INDEX(Analitico!E:E,MATCH(Banco!$C11217,Analitico!$A:$A,0))&\"%\",\"\"),\"\")","v":"27,9526627%"},{"$f":"IF($B11217=\"SINAPI\",IF(ISNUMBER(MATCH(Banco!$C11217,Analitico!$A:$A,0)),INDEX(Analitico!F:F,MATCH(Banco!$C11217,Analitico!$A:$A,0))&\"%\",\"\"),\"\")","v":"%"}]
[{"$f":"CONCATENAR","v":"SINAPI 87683"},"SINAPI","87683","CONTRAPISO EM ARGAMASSA PRONTA, PREPARO MECÂNICO COM MISTURADOR 300 KG, APLICADO EM ÁREAS SECAS SOBRE LAJE, NÃO ADERIDO, ACABAMENTO NÃO REFORÇADO, ESPESSURA 4CM. AF_07/2021","M2","116,86",null,null,"CR",{"$f":"IF($B11227=\"SINAPI\",IF(ISNUMBER(MATCH(Banco!$C11227,Analitico!$A:$A,0)),INDEX(Analitico!E:E,MATCH(Banco!$C11227,Analitico!$A:$A,0))&\"%\",\"\"),\"\")","v":"10,2733270%"},{"$f":"IF($B11227=\"SINAPI\",IF(ISNUMBER(MATCH(Banco!$C11227,Analitico!$A:$A,0)),INDEX(Analitico!F:F,MATCH(Banco!$C11227,Analitico!$A:$A,0))&\"%\",\"\"),\"\")","v":"%"}]
[{"$f":"CONCATENAR","v":"SINAPI 87704"},"SINAPI","87704","CONTRAPISO EM ARGAMASSA PRONTA, PREPARO MANUAL, APLICADO EM ÁREAS SECAS SOBRE LAJE, NÃO ADERIDO, ACABAMENTO NÃO REFORÇADO, ESPESSURA 6CM. AF_07/2021","M2","157,23",null,null,"CR",{"$f":"IF($B11236=\"SINAPI\",IF(ISNUMBER(MATCH(Banco!$C11236,Analitico!$A:$A,0)),INDEX(Analitico!E:E,MATCH(Banco!$C11236,Analitico!$A:$A,0))&\"%\",\"\"),\"\")","v":"13,5111054%"},{"$f":"IF($B11236=\"SINAPI\",IF(ISNUMBER(MATCH(Banco!$C11236,Analitico!$A:$A,0)),INDEX(Analitico!F:F,MATCH(Banco!$C11236,Analitico!$A:$A,0))&\"%\",\"\"),\"\")","v":"%"}]
[{"$f":"CONCATENAR","v":"SINAPI 87735"},"SINAPI","87735","CONTRAPISO EM ARGAMASSA TRAÇO 1:4 (CIMENTO E AREIA), PREPARO MECÂNICO COM BETONEIRA 400 L, APLICADO EM ÁREAS MOLHADAS SOBRE LAJE, ADERIDO, ACABAMENTO NÃO REFORÇADO, ESPESSURA 2CM. AF_07/2021","M2","44,13",null,null,"CR",{"$f":"IF($B11237=\"SINAPI\",IF(ISNUMBER(MATCH(Banco!$C11237,Analitico!$A:$A,0)),INDEX(Analitico!E:E,MATCH(Banco!$C11237,Analitico!$A:$A,0))&\"%\",\"\"),\"\")","v":"40,5000000%"},{"$f":"IF($B11237=\"SINAPI\",IF(ISNUMBER(MATCH(Banco!$C11237,Analitico!$A:$A,0)),INDEX(Analitico!F:F,MATCH(Banco!$C11237,Analitico!$A:$A,0))&\"%\",\"\"),\"\")","v":"%"}]
[{"$f":"CONCATENAR","v":"SINAPI 87757"},"SINAPI","87757","CONTRAPISO EM ARGAMASSA TRAÇO 1:4 (CIMENTO E AREIA), PREPARO MANUAL, APLICADO EM ÁREAS MOLHADAS SOBRE IMPERMEABILIZAÇÃO, ACABAMENTO NÃO REFORÇADO, ESPESSURA 3CM. AF_07/2021","M2","53,67",null,null,"CR",{"$f":"IF($B11246=\"SINAPI\",IF(ISNUMBER(MATCH(Banco!$C11246,Analitico!$A:$A,0)),INDEX(Analitico!E:E,MATCH(Banco!$C11246,Analitico!$A:$A,0))&\"%\",\"\"),\"\")","v":"42,2969187%"},{"$f":"IF($B11246=\"SINAPI\",IF(ISNUMBER(MATCH(Banco!$C11246,Analitico!$A:$A,0)),INDEX(Analitico!F:F,MATCH(Banco!$C11246,Analitico!$A:$A,0))&\"%\",\"\"),\"\")","v":"%"}]
[{"$f":"CONCATENAR","v":"SINAPI 88472"},"SINAPI","88472","CONTRAPISO COM ARGAMASSA AUTONIVELANTE, APLICADO SOBRE LAJE, NÃO ADERIDO, ESPESSURA 5CM. AF_07/2021","M2","38,73",null,null,"CR",{"$f":"IF($B11255=\"SINAPI\",IF(ISNUMBER(MATCH(Banco!$C11255,Analitico!$A:$A,0)),INDEX(Analitico!E:E,MATCH(Banco!$C11255,Analitico!$A:$A,0))&\"%\",\"\"),\"\")","v":"9,5422808%"},{"$f":"IF($B11255=\"SINAPI\",IF(ISNUMBER(MATCH(Banco!$C11255,Analitico!$A:$A,0)),INDEX(Analitico!F:F,MATCH(Banco!$C11255,Analitico!$A:$A,0))&\"%\",\"\"),\"\")","v":"%"}]
[{"$f":"CONCATENAR","v":"SINAPI 90942"},"SINAPI","90942","CONTRAPISO ACÚSTICO EM ARGAMASSA TRAÇO 1:4 (CIMENTO E AREIA), PREPARO MANUAL, APLICADO EM ÁREAS SECAS, ACABAMENTO NÃO REFORÇADO, ESPESSURA 6CM. AF_07/2021","M2","87,58",null,null,"CR",{"$f":"IF($B11264=\"SINAPI\",IF(ISNUMBER(MATCH(Banco!$C11264,Analitico!$A:$A,0)),INDEX(Analitico!E:E,MATCH(Banco!$C11264,Analitico!$A:$A,0))&\"%\",\"\"),\"\")","v":"27,5834476%"},{"$f":"IF($B11264=\"SINAPI\",IF(ISNUMBER(MATCH(Banco!$C11264,Analitico!$A:$A,0)),INDEX(Analitico!F:F,MATCH(Banco!$C11264,Analitico!$A:$A,0))&\"%\",\"\"),\"\")","v":"%"}]
[{"$f":"CONCATENAR","v":"SINAPI 87879"},"SINAPI","87879","CHAPISCO APLICADO EM ALVENARIAS E ESTRUTURAS DE CONCRETO INTERNAS, COM COLHER DE PEDREIRO.  ARGAMASSA TRAÇO 1:3 COM PREPARO EM BETONEIRA 400L. AF_10/2022","M2","4,42",null,null,"CR",{"$f":"IF($B11274=\"SINAPI\",IF(ISNUMBER(MATCH(Banco!$C11274,Analitico!$A:$A,0)),INDEX(Analitico!E:E,MATCH(Banco!$C11274,Analitico!$A:$A,0))&\"%\",\"\"),\"\")","v":"47,6851851%"},{"$f":"IF($B11274=\"SINAPI\",IF(ISNUMBER(MATCH(Banco!$C11274,Analitico!$A:$A,0)),INDEX(Analitico!F:F,MATCH(Banco!$C11274,Analitico!$A:$A,0))&\"%\",\"\"),\"\")","v":"%"}]
[{"$f":"CONCATENAR","v":"SINAPI 87891"},"SINAPI","87891","CHAPISCO APLICADO EM ALVENARIA (SEM PRESENÇA DE VÃOS) E ESTRUTURAS DE CONCRETO DE FACHADA, COM ROLO PARA TEXTURA ACRÍLICA. ARGAMASSA INDUSTRIALIZADA COM PREPARO MANUAL. AF_10/2022","M2","11,18",null,null,"CR",{"$f":"IF($B11283=\"SINAPI\",IF(ISNUMBER(MATCH(Banco!$C11283,Analitico!$A:$A,0)),INDEX(Analitico!E:E,MATCH(Banco!$C11283,Analitico!$A:$A,0))&\"%\",\"\"),\"\")","v":"21,7117117%"},{"$f":"IF($B11283=\"SINAPI\",IF(ISNUMBER(MATCH(Banco!$C11283,Analitico!$A:$A,0)),INDEX(Analitico!F:F,MATCH(Banco!$C11283,Analitico!$A:$A,0))&\"%\",\"\"),\"\")","v":"%"}]
[{"$f":"CONCATENAR","v":"SINAPI 87903"},"SINAPI","87903","CHAPISCO APLICADO EM ALVENARIA (COM PRESENÇA DE VÃOS) E ESTRUTURAS DE CONCRETO DE FACHADA, COM ROLO PARA TEXTURA ACRÍLICA.  ARGAMASSA INDUSTRIALIZADA COM PREPARO EM MISTURADOR 300 KG. AF_10/2022","M2","11,52",null,null,"CR",{"$f":"IF($B11292=\"SINAPI\",IF(ISNUMBER(MATCH(Banco!$C11292,Analitico!$A:$A,0)),INDEX(Analitico!E:E,MATCH(Banco!$C11292,Analitico!$A:$A,0))&\"%\",\"\"),\"\")","v":"23,9263803%"},{"$f":"IF($B11292=\"SINAPI\",IF(ISNUMBER(MATCH(Banco!$C11292,Analitico!$A:$A,0)),INDEX(Analitico!F:F,MATCH(Banco!$C11292,Analitico!$A:$A,0))&\"%\",\"\"),\"\")","v":"%"}]
[{"$f":"CONCATENAR","v":"SINAPI 87411"},"SINAPI","87411","APLICAÇÃO MANUAL DE GESSO DESEMPENADO (SEM TALISCAS) EM TETO DE AMBIENTES DE ÁREA MAIOR QUE 10M², ESPESSURA DE 0,5CM. AF_03/2023","M2","16,89",null,null,"CR",{"$f":"IF($B11301=\"SINAPI\",IF(ISNUMBER(MATCH(Banco!$C11301,Analitico!$A:$A,0)),INDEX(Analitico!E:E,MATCH(Banco!$C11301,Analitico!$A:$A,0))&\"%\",\"\"),\"\")","v":"35,4129530%"},{"$f":"IF($B11301=\"SINAPI\",IF(ISNUMBER(MATCH(Banco!$C11301,Analitico!$A:$A,0)),INDEX(Analitico!F:F,MATCH(Banco!$C11301,Analitico!$A:$A,0))&\"%\",\"\"),\"\")","v":"%"}]
[{"$f":"CONCATENAR","v":"SINAPI 87427"},"SINAPI","87427","APLICAÇÃO MANUAL DE GESSO SARRAFEADO (COM TALISCAS) EM PAREDES, ESPESSURA DE 1,5CM. AF_03/2023","M2","45,71",null,null,"CR",{"$f":"IF($B11310=\"SINAPI\",IF(ISNUMBER(MATCH(Banco!$C11310,Analitico!$A:$A,0)),INDEX(Analitico!E:E,MATCH(Banco!$C11310,Analitico!$A:$A,0))&\"%\",\"\"),\"\")","v":"41,3453111%"},{"$f":"IF($B11310=\"SINAPI\",IF(ISNUMBER(MATCH(Banco!$C11310,Analitico!$A:$A,0)),INDEX(Analitico!F:F,MATCH(Banco!$C11310,Analitico!$A:$A,0))&\"%\",\"\"),\"\")","v":"%"}]
[{"$f":"CONCATENAR","v":"SINAPI 87433"},"SINAPI","87433","APLICAÇÃO DE GESSO PROJETADO COM EQUIPAMENTO DE PROJEÇÃO EM PAREDES, DESEMPENADO (SEM TALISCAS), ESPESSURA DE 1,0CM. AF_03/2023","M2","28,80",null,null,"CR",{"$f":"IF($B11312=\"SINAPI\",IF(ISNUMBER(MATCH(Banco!$C11312,Analitico!$A:$A,0)),INDEX(Analitico!E:E,MATCH(Banco!$C11312,Analitico!$A:$A,0))&\"%\",\"\"),\"\")","v":"39,3442622%"},{"$f":"IF($B11312=\"SINAPI\",IF(ISNUMBER(MATCH(Banco!$C11312,Analitico!$A:$A,0)),INDEX(Analitico!F:F,MATCH(Banco!$C11312,Analitico!$A:$A,0))&\"%\",\"\"),\"\")","v":"%"}]
[{"$f":"CONCATENAR","v":"SINAPI 87535"},"SINAPI","87535","EMBOÇO, EM ARGAMASSA TRAÇO 1:2:8, PREPARO MECÂNICO, APLICADO MANUALMENTE EM PAREDES INTERNAS DE AMBIENTES COM ÁREA MAIOR QUE 10M², E = 17,5MM, COM TALISCAS. AF_03/2024","M2","31,02",null,null,"CR",{"$f":"IF($B11321=\"SINAPI\",IF(ISNUMBER(MATCH(Banco!$C11321,Analitico!$A:$A,0)),INDEX(Analitico!E:E,MATCH(Banco!$C11321,Analitico!$A:$A,0))&\"%\",\"\"),\"\")","v":"43,3246921%"},{"$f":"IF($B11321=\"SINAPI\",IF(ISNUMBER(MATCH(Banco!$C11321,Analitico!$A:$A,0)),INDEX(Analitico!F:F,MATCH(Banco!$C11321,Analitico!$A:$A,0))&\"%\",\"\"),\"\")","v":"%"}]
[{"$f":"CONCATENAR","v":"SINAPI 87550"},"SINAPI","87550","EMBOÇO, EM ARGAMASSA TRAÇO 1:2:8, PREPARO MANUAL, APLICADO MANUALMENTE EM PAREDES INTERNAS DE AMBIENTES COM ÁREA ENTRE 5M² E 10M², E = 10MM, COM TALISCAS. AF_03/2024","M2","25,20",null,null,"CR",{"$f":"IF($B11330=\"SINAPI\",IF(ISNUMBER(MATCH(Banco!$C11330,Analitico!$A:$A,0)),INDEX(Analitico!E:E,MATCH(Banco!$C11330,Analitico!$A:$A,0))&\"%\",\"\"),\"\")","v":"49,2822966%"},{"$f":"IF($B11330=\"SINAPI\",IF(ISNUMBER(MATCH(Banco!$C11330,Analitico!$A:$A,0)),INDEX(Analitico!F:F,MATCH(Banco!$C11330,Analitico!$A:$A,0))&\"%\",\"\"),\"\")","v":"%"}]
[{"$f":"CONCATENAR","v":"SINAPI 87781"},"SINAPI","87781","EMBOÇO OU MASSA ÚNICA EM ARGAMASSA TRAÇO 1:2:8, PREPARO MANUAL, APLICADA MANUALMENTE EM PANOS DE FACHADA COM PRESENÇA DE VÃOS, ESPESSURA DE 35 MM. AF_08/2022","M2","70,21",null,null,"CR",{"$f":"IF($B11339=\"SINAPI\",IF(ISNUMBER(MATCH(Banco!$C11339,Analitico!$A:$A,0)),INDEX(Analitico!E:E,MATCH(Banco!$C11339,Analitico!$A:$A,0))&\"%\",\"\"),\"\")","v":"51,9971470%"},{"$f":"IF($B11339=\"SINAPI\",IF(ISNUMBER(MATCH(Banco!$C11339,Analitico!$A:$A,0)),INDEX(Analitico!F:F,MATCH(Banco!$C11339,Analitico!$A:$A,0))&\"%\",\"\"),\"\")","v":"%"}]
[{"$f":"CONCATENAR","v":"SINAPI 87794"},"SINAPI","87794","EMBOÇO OU MASSA ÚNICA EM ARGAMASSA TRAÇO 1:2:8, PREPARO MANUAL, APLICADA MANUALMENTE EM PANOS CEGOS DE FACHADA (SEM PRESENÇA DE VÃOS), ESPESSURA DE 25 MM. AF_09/2022","M2","41,02",null,null,"CR",{"$f":"IF($B11347=\"SINAPI\",IF(ISNUMBER(MATCH(Banco!$C11347,Analitico!$A:$A,0)),INDEX(Analitico!E:E,MATCH(Banco!$C11347,Analitico!$A:$A,0))&\"%\",\"\"),\"\")","v":"45,7589831%"},{"$f":"IF($B11347=\"SINAPI\",IF(ISNUMBER(MATCH(Banco!$C11347,Analitico!$A:$A,0)),INDEX(Analitico!F:F,MATCH(Banco!$C11347,Analitico!$A:$A,0))&\"%\",\"\"),\"\")","v":"%"}]
[{"$f":"CONCATENAR","v":"SINAPI 87809"},"SINAPI","87809","EMBOÇO OU MASSA ÚNICA EM ARGAMASSA TRAÇO 1:2:8, PREPARO MECÂNICO COM BETONEIRA 400 L, APLICADA MANUALMENTE EM SUPERFÍCIES EXTERNAS DA SACADA, ESPESSURA DE 25 MM, SEM USO DE TELA METÁLICA DE REFORÇO CONTRA FISSURAÇÃO. AF_08/2022","M2","72,56",null,null,"CR",{"$f":"IF($B11358=\"SINAPI\",IF(ISNUMBER(MATCH(Banco!$C11358,Analitico!$A:$A,0)),INDEX(Analitico!E:E,MATCH(Banco!$C11358,Analitico!$A:$A,0))&\"%\",\"\"),\"\")","v":"61,6245339%"},{"$f":"IF($B11358=\"SINAPI\",IF(ISNUMBER(MATCH(Banco!$C11358,Analitico!$A:$A,0)),INDEX(Analitico!F:F,MATCH(Banco!$C11358,Analitico!$A:$A,0))&\"%\",\"\"),\"\")","v":"%"}]
[{"$f":"CONCATENAR","v":"SINAPI 87821"},"SINAPI","87821","EMBOÇO OU MASSA ÚNICA EM ARGAMASSA TRAÇO 1:2:8, PREPARO MECÂNICO COM BETONEIRA 400 L, APLICADA MANUALMENTE EM SUPERFÍCIES EXTERNAS DA SACADA, ESPESSURA MAIOR OU IGUAL A 50 MM, SEM USO DE TELA METÁLICA DE REFORÇO CONTRA FISSURAÇÃO. AF_08/2022","M2","120,40",null,null,"CR",{"$f":"IF($B11367=\"SINAPI\",IF(ISNUMBER(MATCH(Banco!$C11367,Analitico!$A:$A,0)),INDEX(Analitico!E:E,MATCH(Banco!$C11367,Analitico!$A:$A,0))&\"%\",\"\"),\"\")","v":"60,0299278%"},{"$f":"IF($B11367=\"SINAPI\",IF(ISNUMBER(MATCH(Banco!$C11367,Analitico!$A:$A,0)),INDEX(Analitico!F:F,MATCH(Banco!$C11367,Analitico!$A:$A,0))&\"%\",\"\"),\"\")","v":"%"}]
[{"$f":"CONCATENAR","v":"SINAPI 87823"},"SINAPI","87823","EMBOÇO OU MASSA ÚNICA EM ARGAMASSA TRAÇO 1:2:8, PREPARO MANUAL, APLICADA MANUALMENTE EM SUPERFÍCIES EXTERNAS DA SACADA, ESPESSURA MAIOR OU IGUAL A 50 MM, SEM USO DE TELA METÁLICA DE REFORÇO CONTRA FISSURAÇÃO. AF_08/2022","M2","124,88",null,null,"CR",{"$f":"IF($B11368=\"SINAPI\",IF(ISNUMBER(MATCH(Banco!$C11368,Analitico!$A:$A,0)),INDEX(Analitico!E:E,MATCH(Banco!$C11368,Analitico!$A:$A,0))&\"%\",\"\"),\"\")","v":"60,0737298%"},{"$f":"IF($B11368=\"SINAPI\",IF(ISNUMBER(MATCH(Banco!$C11368,Analitico!$A:$A,0)),INDEX(Analitico!F:F,MATCH(Banco!$C11368,Analitico!$A:$A,0))&\"%\",\"\"),\"\")","v":"%"}]
[{"$f":"CONCATENAR","v":"SINAPI 87839"},"SINAPI","87839","REVESTIMENTO DECORATIVO MONOCAMADA EXECUTADO MANUALMENTE EM FACHADA DE UM EDIFÍCIO DE ALVENARIA ESTRUTURAL E ACABAMENTO RASPADO. AF_03/2024","M2","140,53",null,null,"CR",{"$f":"IF($B11377=\"SINAPI\",IF(ISNUMBER(MATCH(Banco!$C11377,Analitico!$A:$A,0)),INDEX(Analitico!E:E,MATCH(Banco!$C11377,Analitico!$A:$A,0))&\"%\",\"\"),\"\")","v":"11,5598290%"},{"$f":"IF($B11377=\"SINAPI\",IF(ISNUMBER(MATCH(Banco!$C11377,Analitico!$A:$A,0)),INDEX(Analitico!F:F,MATCH(Banco!$C11377,Analitico!$A:$A,0))&\"%\",\"\"),\"\")","v":"%"}]
[{"$f":"CONCATENAR","v":"SINAPI 90406"},"SINAPI","90406","MASSA ÚNICA, EM ARGAMASSA TRAÇO 1:2:8, PREPARO MECÂNICO, APLICADA MANUALMENTE EM TETO, E = 17,5MM, COM TALISCAS. AF_03/2024","M2","40,64",null,null,"CR",{"$f":"IF($B11384=\"SINAPI\",IF(ISNUMBER(MATCH(Banco!$C11384,Analitico!$A:$A,0)),INDEX(Analitico!E:E,MATCH(Banco!$C11384,Analitico!$A:$A,0))&\"%\",\"\"),\"\")","v":"50,9014573%"},{"$f":"IF($B11384=\"SINAPI\",IF(ISNUMBER(MATCH(Banco!$C11384,Analitico!$A:$A,0)),INDEX(Analitico!F:F,MATCH(Banco!$C11384,Analitico!$A:$A,0))&\"%\",\"\"),\"\")","v":"%"}]
[{"$f":"CONCATENAR","v":"SINAPI 104213"},"SINAPI","104213","EMBOÇO OU MASSA ÚNICA EM ARGAMASSA TRAÇO 1:2:8, PREPARO MECÂNICA COM BETONEIRA 400 L, APLICADA COM PROJETOR TIPO CANEQUINHA EM SUPERFÍCIES EXTERNAS DA SACADA, ESPESSURA DE 45 MM, ACESSO POR BALANCIM MANUAL, SEM USO DE TELA METÁLICA. AF_08/2022","M2","101,88",null,null,"AS",{"$f":"IF($B11396=\"SINAPI\",IF(ISNUMBER(MATCH(Banco!$C11396,Analitico!$A:$A,0)),INDEX(Analitico!E:E,MATCH(Banco!$C11396,Analitico!$A:$A,0))&\"%\",\"\"),\"\")","v":"48,2158657%"},{"$f":"IF($B11396=\"SINAPI\",IF(ISNUMBER(MATCH(Banco!$C11396,Analitico!$A:$A,0)),INDEX(Analitico!F:F,MATCH(Banco!$C11396,Analitico!$A:$A,0))&\"%\",\"\"),\"\")","v":"%"}]
[{"$f":"CONCATENAR","v":"SINAPI 104222"},"SINAPI","104222","EMBOÇO OU MASSA ÚNICA EM ARGAMASSA TRAÇO 1:2:8, PREPARO MANUAL, APLICADA MANUALMENTE EM PANOS DE FACHADA COM PRESENÇA DE VÃOS, ESPESSURA DE 35 MM, ACESSO POR ANDAIME. AF_08/2022","M2","65,65",null,null,"CR",{"$f":"IF($B11405=\"SINAPI\",IF(ISNUMBER(MATCH(Banco!$C11405,Analitico!$A:$A,0)),INDEX(Analitico!E:E,MATCH(Banco!$C11405,Analitico!$A:$A,0))&\"%\",\"\"),\"\")","v":"50,4118365%"},{"$f":"IF($B11405=\"SINAPI\",IF(ISNUMBER(MATCH(Banco!$C11405,Analitico!$A:$A,0)),INDEX(Analitico!F:F,MATCH(Banco!$C11405,Analitico!$A:$A,0))&\"%\",\"\"),\"\")","v":"%"}]
[{"$f":"CONCATENAR","v":"SINAPI 104231"},"SINAPI","104231","EMBOÇO OU MASSA ÚNICA EM ARGAMASSA INDUSTRIALIZADA, PREPARO MECÂNICA E APLICAÇÃO COM EQUIPAMENTO DE MISTURA E PROJEÇÃO DE 1,5 M3/H DE ARGAMASSA EM PANOS DE FACHADA COM PRESENÇA DE VÃOS, ESPESSURA DE 50 MM, ACESSO POR ANDAIME. AF_08/2022","M2","142,13",null,null,"CR",{"$f":"IF($B11414=\"SINAPI\",IF(ISNUMBER(MATCH(Banco!$C11414,Analitico!$A:$A,0)),INDEX(Analitico!E:E,MATCH(Banco!$C11414,Analitico!$A:$A,0))&\"%\",\"\"),\"\")","v":"23,0666291%"},{"$f":"IF($B11414=\"SINAPI\",IF(ISNUMBER(MATCH(Banco!$C11414,Analitico!$A:$A,0)),INDEX(Analitico!F:F,MATCH(Banco!$C11414,Analitico!$A:$A,0))&\"%\",\"\"),\"\")","v":"%"}]
[{"$f":"CONCATENAR","v":"SINAPI 104240"},"SINAPI","104240","EMBOÇO OU MASSA ÚNICA EM ARGAMASSA TRAÇO 1:2:8, PREPARO MECÂNICA COM BETONEIRA 400 L, APLICADA COM PROJETOR TIPO CANEQUINHA EM PANOS DE FACHADA SEM PRESENÇA DE VÃOS, ESPESSURA DE 35 MM, ACESSO POR ANDAIME. AF_08/2022","M2","54,66",null,null,"AS",{"$f":"IF($B11423=\"SINAPI\",IF(ISNUMBER(MATCH(Banco!$C11423,Analitico!$A:$A,0)),INDEX(Analitico!E:E,MATCH(Banco!$C11423,Analitico!$A:$A,0))&\"%\",\"\"),\"\")","v":"38,3654729%"},{"$f":"IF($B11423=\"SINAPI\",IF(ISNUMBER(MATCH(Banco!$C11423,Analitico!$A:$A,0)),INDEX(Analitico!F:F,MATCH(Banco!$C11423,Analitico!$A:$A,0))&\"%\",\"\"),\"\")","v":"%"}]
[{"$f":"CONCATENAR","v":"SINAPI 104247"},"SINAPI","104247","EMBOÇO OU MASSA ÚNICA EM ARGAMASSA INDUSTRIALIZADA, PREPARO MECÂNICA E APLICAÇÃO COM EQUIPAMENTO DE MISTURA E PROJEÇÃO DE 1,5 M3/H DE ARGAMASSA EM PANOS DE FACHADA SEM PRESENÇA DE VÃOS, ESPESSURA DE 50 MM, ACESSO POR ANDAIME. AF_08/2022","M2","121,58",null,null,"CR",{"$f":"IF($B11430=\"SINAPI\",IF(ISNUMBER(MATCH(Banco!$C11430,Analitico!$A:$A,0)),INDEX(Analitico!E:E,MATCH(Banco!$C11430,Analitico!$A:$A,0))&\"%\",\"\"),\"\")","v":"17,9939059%"},{"$f":"IF($B11430=\"SINAPI\",IF(ISNUMBER(MATCH(Banco!$C11430,Analitico!$A:$A,0)),INDEX(Analitico!F:F,MATCH(Banco!$C11430,Analitico!$A:$A,0))&\"%\",\"\"),\"\")","v":"%"}]
[{"$f":"CONCATENAR","v":"SINAPI 104251"},"SINAPI","104251","EMBOÇO OU MASSA ÚNICA EM ARGAMASSA INDUSTRIALIZADA, PREPARO MECÂNICO E APLICAÇÃO COM EQUIPAMENTO DE MISTURA E PROJEÇÃO DE 1,5 M3/H, NAS SUPERFÍCIES EXTERNAS DA SACADA, ESPESSURA DE 25 MM, ACESSO POR ANDAIME, SEM USO DE TELA METÁLICA. AF_08/2022","M2","97,09",null,null,"CR",{"$f":"IF($B11434=\"SINAPI\",IF(ISNUMBER(MATCH(Banco!$C11434,Analitico!$A:$A,0)),INDEX(Analitico!E:E,MATCH(Banco!$C11434,Analitico!$A:$A,0))&\"%\",\"\"),\"\")","v":"37,5167577%"},{"$f":"IF($B11434=\"SINAPI\",IF(ISNUMBER(MATCH(Banco!$C11434,Analitico!$A:$A,0)),INDEX(Analitico!F:F,MATCH(Banco!$C11434,Analitico!$A:$A,0))&\"%\",\"\"),\"\")","v":"%"}]
[{"$f":"CONCATENAR","v":"SINAPI 104260"},"SINAPI","104260","EMBOÇO OU MASSA ÚNICA EM ARGAMASSA TRAÇO 1:2:8, PREPARO MECÂNICO COM BETONEIRA 400 L, APLICADA COM PROJETOR TIPO CANEQUINHA EM SUPERFÍCIES EXTERNAS DA SACADA, ESPESSURA DE 45 MM, ACESSO POR ANDAIME, SEM USO DE TELA METÁLICA. AF_08/2022","M2","93,91",null,null,"AS",{"$f":"IF($B11443=\"SINAPI\",IF(ISNUMBER(MATCH(Banco!$C11443,Analitico!$A:$A,0)),INDEX(Analitico!E:E,MATCH(Banco!$C11443,Analitico!$A:$A,0))&\"%\",\"\"),\"\")","v":"47,0393685%"},{"$f":"IF($B11443=\"SINAPI\",IF(ISNUMBER(MATCH(Banco!$C11443,Analitico!$A:$A,0)),INDEX(Analitico!F:F,MATCH(Banco!$C11443,Analitico!$A:$A,0))&\"%\",\"\"),\"\")","v":"%"}]
[{"$f":"CONCATENAR","v":"SINAPI 104631"},"SINAPI","104631","APLICAÇÃO MANUAL DE GESSO DESEMPENADO (SEM TALISCAS) EM TETO DE AMBIENTES COM PAREDES EM PÉ DIREITO DUPLO E ÁREA ENTRE 5M² E 10M², ESPESSURA DE 1,0CM. AF_03/2023","M2","40,29",null,null,"CR",{"$f":"IF($B11452=\"SINAPI\",IF(ISNUMBER(MATCH(Banco!$C11452,Analitico!$A:$A,0)),INDEX(Analitico!E:E,MATCH(Banco!$C11452,Analitico!$A:$A,0))&\"%\",\"\"),\"\")","v":"45,7483838%"},{"$f":"IF($B11452=\"SINAPI\",IF(ISNUMBER(MATCH(Banco!$C11452,Analitico!$A:$A,0)),INDEX(Analitico!F:F,MATCH(Banco!$C11452,Analitico!$A:$A,0))&\"%\",\"\"),\"\")","v":"%"}]
[{"$f":"CONCATENAR","v":"SINAPI 104954"},"SINAPI","104954","EMBOÇO, EM ARGAMASSA TRAÇO 1:2:8, PREPARO MANUAL, APLICADO MANUALMENTE EM PAREDES INTERNAS DE AMBIENTES COM PÉ-DIREITO DUPLO E ÁREA ENTRE 5M² E 10M², E = 17,5MM, COM TALISCAS. AF_03/2024","M2","44,37",null,null,"CR",{"$f":"IF($B11461=\"SINAPI\",IF(ISNUMBER(MATCH(Banco!$C11461,Analitico!$A:$A,0)),INDEX(Analitico!E:E,MATCH(Banco!$C11461,Analitico!$A:$A,0))&\"%\",\"\"),\"\")","v":"52,1139499%"},{"$f":"IF($B11461=\"SINAPI\",IF(ISNUMBER(MATCH(Banco!$C11461,Analitico!$A:$A,0)),INDEX(Analitico!F:F,MATCH(Banco!$C11461,Analitico!$A:$A,0))&\"%\",\"\"),\"\")","v":"%"}]
[{"$f":"CONCATENAR","v":"SINAPI 104963"},"SINAPI","104963","MASSA ÚNICA, EM ARGAMASSA TRAÇO 1:2:8, PREPARO MECÂNICO, APLICADA MANUALMENTE EM PAREDES INTERNAS DE AMBIENTES COM PÉ-DIREITO DUPLO E ÁREA ENTRE 5M² E 10M², E = 17,5MM, COM TALISCAS. AF_03/2024","M2","43,61",null,null,"CR",{"$f":"IF($B11470=\"SINAPI\",IF(ISNUMBER(MATCH(Banco!$C11470,Analitico!$A:$A,0)),INDEX(Analitico!E:E,MATCH(Banco!$C11470,Analitico!$A:$A,0))&\"%\",\"\"),\"\")","v":"52,5661682%"},{"$f":"IF($B11470=\"SINAPI\",IF(ISNUMBER(MATCH(Banco!$C11470,Analitico!$A:$A,0)),INDEX(Analitico!F:F,MATCH(Banco!$C11470,Analitico!$A:$A,0))&\"%\",\"\"),\"\")","v":"%"}]
[{"$f":"CONCATENAR","v":"SINAPI 104971"},"SINAPI","104971","EMBOÇO, EM ARGAMASSA TRAÇO 1:2:8, PREPARO MECÂNICO, APLICADO MANUALMENTE EM PAREDES INTERNAS DE AMBIENTES COM PÉ-DIREITO DUPLO E ÁREA ENTRE 5M² E 10M², E = 10MM, COM TALISCAS. AF_03/2024","M2","30,29",null,null,"CR",{"$f":"IF($B11478=\"SINAPI\",IF(ISNUMBER(MATCH(Banco!$C11478,Analitico!$A:$A,0)),INDEX(Analitico!E:E,MATCH(Banco!$C11478,Analitico!$A:$A,0))&\"%\",\"\"),\"\")","v":"54,4912165%"},{"$f":"IF($B11478=\"SINAPI\",IF(ISNUMBER(MATCH(Banco!$C11478,Analitico!$A:$A,0)),INDEX(Analitico!F:F,MATCH(Banco!$C11478,Analitico!$A:$A,0))&\"%\",\"\"),\"\")","v":"%"}]
[{"$f":"CONCATENAR","v":"SINAPI 105188"},"SINAPI","105188","REVESTIMENTO DECORATIVO MONOCAMADA EXECUTADO COM EQUIPAMENTO DE PROJEÇÃO EM FACHADA DE UM EDIFÍCIO DE ALVENARIA ESTRUTURAL E ACABAMENTO CHAPISCADO/FLOCADO. AF_03/2024","M2","149,16",null,null,"AS",{"$f":"IF($B11489=\"SINAPI\",IF(ISNUMBER(MATCH(Banco!$C11489,Analitico!$A:$A,0)),INDEX(Analitico!E:E,MATCH(Banco!$C11489,Analitico!$A:$A,0))&\"%\",\"\"),\"\")","v":"9,1122592%"},{"$f":"IF($B11489=\"SINAPI\",IF(ISNUMBER(MATCH(Banco!$C11489,Analitico!$A:$A,0)),INDEX(Analitico!F:F,MATCH(Banco!$C11489,Analitico!$A:$A,0))&\"%\",\"\"),\"\")","v":"%"}]
[{"$f":"CONCATENAR","v":"SINAPI 88788"},"SINAPI","88788","REVESTIMENTO CERÂMICO PARA PAREDES EXTERNAS EM PASTILHAS DE PORCELANA 2,5 X 2,5 CM (PLACAS DE 30 X 30 CM), ALINHADAS A PRUMO. AF_02/2023","M2","275,64",null,null,"CR",{"$f":"IF($B11498=\"SINAPI\",IF(ISNUMBER(MATCH(Banco!$C11498,Analitico!$A:$A,0)),INDEX(Analitico!E:E,MATCH(Banco!$C11498,Analitico!$A:$A,0))&\"%\",\"\"),\"\")","v":"11,4199658%"},{"$f":"IF($B11498=\"SINAPI\",IF(ISNUMBER(MATCH(Banco!$C11498,Analitico!$A:$A,0)),INDEX(Analitico!F:F,MATCH(Banco!$C11498,Analitico!$A:$A,0))&\"%\",\"\"),\"\")","v":"%"}]
[{"$f":"CONCATENAR","v":"SINAPI 88789"},"SINAPI","88789","REVESTIMENTO CERÂMICO PARA PAREDES EXTERNAS EM PASTILHAS DE PORCELANA 2,5 X 2,5 CM (PLACAS DE 30 X 30 CM), ALINHADAS A PRUMO, APLICADO EM SUPERFÍCIES INTERNAS DE SACADA. AF_02/2023","M2","329,20",null,null,"CR",{"$f":"IF($B11499=\"SINAPI\",IF(ISNUMBER(MATCH(Banco!$C11499,Analitico!$A:$A,0)),INDEX(Analitico!E:E,MATCH(Banco!$C11499,Analitico!$A:$A,0))&\"%\",\"\"),\"\")","v":"11,0506806%"},{"$f":"IF($B11499=\"SINAPI\",IF(ISNUMBER(MATCH(Banco!$C11499,Analitico!$A:$A,0)),INDEX(Analitico!F:F,MATCH(Banco!$C11499,Analitico!$A:$A,0))&\"%\",\"\"),\"\")","v":"%"}]
[{"$f":"CONCATENAR","v":"SINAPI 104619"},"SINAPI","104619","RODAPÉ CERÂMICO DE 7CM DE ALTURA COM PLACAS TIPO ESMALTADA DE DIMENSÕES 80X80CM. AF_02/2023","M","17,84",null,null,"CR",{"$f":"IF($B11508=\"SINAPI\",IF(ISNUMBER(MATCH(Banco!$C11508,Analitico!$A:$A,0)),INDEX(Analitico!E:E,MATCH(Banco!$C11508,Analitico!$A:$A,0))&\"%\",\"\"),\"\")","v":"12,7037661%"},{"$f":"IF($B11508=\"SINAPI\",IF(ISNUMBER(MATCH(Banco!$C11508,Analitico!$A:$A,0)),INDEX(Analitico!F:F,MATCH(Banco!$C11508,Analitico!$A:$A,0))&\"%\",\"\"),\"\")","v":"%"}]
[{"$f":"CONCATENAR","v":"SINAPI 96109"},"SINAPI","96109","FORRO EM PLACAS DE GESSO, PARA AMBIENTES RESIDENCIAIS. AF_08/2023_PS","M2","50,06",null,null,"AS",{"$f":"IF($B11515=\"SINAPI\",IF(ISNUMBER(MATCH(Banco!$C11515,Analitico!$A:$A,0)),INDEX(Analitico!E:E,MATCH(Banco!$C11515,Analitico!$A:$A,0))&\"%\",\"\"),\"\")","v":"49,9299859%"},{"$f":"IF($B11515=\"SINAPI\",IF(ISNUMBER(MATCH(Banco!$C11515,Analitico!$A:$A,0)),INDEX(Analitico!F:F,MATCH(Banco!$C11515,Analitico!$A:$A,0))&\"%\",\"\"),\"\")","v":"%"}]
[{"$f":"CONCATENAR","v":"SINAPI 91515"},"SINAPI","91515","ESTUCAMENTO DE DENSIDADE BAIXA DE PANOS DE FACHADA DO SISTEMA DE PAREDES DE CONCRETO EM EDIFICAÇÕES DE MÚLTIPLOS PAVIMENTOS, ACESSO COM PLATAFORMA OU CADEIRINHA, UTILIZAÇÃO DE ARGAMASSA COLANTE. AF_10/2022","M2","5,74",null,null,"CR",{"$f":"IF($B11527=\"SINAPI\",IF(ISNUMBER(MATCH(Banco!$C11527,Analitico!$A:$A,0)),INDEX(Analitico!E:E,MATCH(Banco!$C11527,Analitico!$A:$A,0))&\"%\",\"\"),\"\")","v":"73,8053098%"},{"$f":"IF($B11527=\"SINAPI\",IF(ISNUMBER(MATCH(Banco!$C11527,Analitico!$A:$A,0)),INDEX(Analitico!F:F,MATCH(Banco!$C11527,Analitico!$A:$A,0))&\"%\",\"\"),\"\")","v":"%"}]
[{"$f":"CONCATENAR","v":"SINAPI 104416"},"SINAPI","104416","ESTUCAMENTO DE DENSIDADE BAIXA NAS FACES INTERNAS DE PAREDES DO SISTEMA DE PAREDES DE CONCRETO, EM AMBIENTES COM ÁREA MAIOR QUE 10 M², UTILIZAÇÃO DE ARGAMASSA COLANTE. AF_10/2022","M2","1,83",null,null,"CR",{"$f":"IF($B11536=\"SINAPI\",IF(ISNUMBER(MATCH(Banco!$C11536,Analitico!$A:$A,0)),INDEX(Analitico!E:E,MATCH(Banco!$C11536,Analitico!$A:$A,0))&\"%\",\"\"),\"\")","v":"72,7272728%"},{"$f":"IF($B11536=\"SINAPI\",IF(ISNUMBER(MATCH(Banco!$C11536,Analitico!$A:$A,0)),INDEX(Analitico!F:F,MATCH(Banco!$C11536,Analitico!$A:$A,0))&\"%\",\"\"),\"\")","v":"%"}]
[{"$f":"CONCATENAR","v":"SINAPI 104425"},"SINAPI","104425","ESTUCAMENTO DE DENSIDADE ALTA DE PANOS DE FACHADA DO SISTEMA DE PAREDES DE CONCRETO EM UNIDADES HABITACIONAIS DE PAVIMENTO ÚNICO, UTILIZAÇÃO DE ARGAMASSA COLANTE. AF_10/2022","M2","16,97",null,null,"CR",{"$f":"IF($B11545=\"SINAPI\",IF(ISNUMBER(MATCH(Banco!$C11545,Analitico!$A:$A,0)),INDEX(Analitico!E:E,MATCH(Banco!$C11545,Analitico!$A:$A,0))&\"%\",\"\"),\"\")","v":"56,5758294%"},{"$f":"IF($B11545=\"SINAPI\",IF(ISNUMBER(MATCH(Banco!$C11545,Analitico!$A:$A,0)),INDEX(Analitico!F:F,MATCH(Banco!$C11545,Analitico!$A:$A,0))&\"%\",\"\"),\"\")","v":"%"}]
[{"$f":"CONCATENAR","v":"SINAPI 87292"},"SINAPI","87292","ARGAMASSA TRAÇO 1:2:8 (EM VOLUME DE CIMENTO, CAL E AREIA MÉDIA ÚMIDA) PARA EMBOÇO/MASSA ÚNICA/ASSENTAMENTO DE ALVENARIA DE VEDAÇÃO, PREPARO MECÂNICO COM BETONEIRA 400 L. AF_08/2019","M3","588,00",null,null,"CR",{"$f":"IF($B11554=\"SINAPI\",IF(ISNUMBER(MATCH(Banco!$C11554,Analitico!$A:$A,0)),INDEX(Analitico!E:E,MATCH(Banco!$C11554,Analitico!$A:$A,0))&\"%\",\"\"),\"\")","v":"19,5771965%"},{"$f":"IF($B11554=\"SINAPI\",IF(ISNUMBER(MATCH(Banco!$C11554,Analitico!$A:$A,0)),INDEX(Analitico!F:F,MATCH(Banco!$C11554,Analitico!$A:$A,0))&\"%\",\"\"),\"\")","v":"%"}]
[{"$f":"CONCATENAR","v":"SINAPI 87302"},"SINAPI","87302","ARGAMASSA TRAÇO 1:4 (EM VOLUME DE CIMENTO E AREIA MÉDIA ÚMIDA) PARA CONTRAPISO, PREPARO MECÂNICO COM BETONEIRA 600 L. AF_08/2019","M3","659,69",null,null,"CR",{"$f":"IF($B11561=\"SINAPI\",IF(ISNUMBER(MATCH(Banco!$C11561,Analitico!$A:$A,0)),INDEX(Analitico!E:E,MATCH(Banco!$C11561,Analitico!$A:$A,0))&\"%\",\"\"),\"\")","v":"14,7695573%"},{"$f":"IF($B11561=\"SINAPI\",IF(ISNUMBER(MATCH(Banco!$C11561,Analitico!$A:$A,0)),INDEX(Analitico!F:F,MATCH(Banco!$C11561,Analitico!$A:$A,0))&\"%\",\"\"),\"\")","v":"%"}]
[{"$f":"CONCATENAR","v":"SINAPI 87308"},"SINAPI","87308","ARGAMASSA TRAÇO 1:6 (EM VOLUME DE CIMENTO E AREIA MÉDIA ÚMIDA) PARA CONTRAPISO, PREPARO MECÂNICO COM BETONEIRA 600 L. AF_08/2019","M3","560,74",null,null,"CR",{"$f":"IF($B11565=\"SINAPI\",IF(ISNUMBER(MATCH(Banco!$C11565,Analitico!$A:$A,0)),INDEX(Analitico!E:E,MATCH(Banco!$C11565,Analitico!$A:$A,0))&\"%\",\"\"),\"\")","v":"17,9241581%"},{"$f":"IF($B11565=\"SINAPI\",IF(ISNUMBER(MATCH(Banco!$C11565,Analitico!$A:$A,0)),INDEX(Analitico!F:F,MATCH(Banco!$C11565,Analitico!$A:$A,0))&\"%\",\"\"),\"\")","v":"%"}]
[{"$f":"CONCATENAR","v":"SINAPI 87322"},"SINAPI","87322","ARGAMASSA TRAÇO 1:3 (EM VOLUME DE CIMENTO E AREIA GROSSA ÚMIDA) COM ADIÇÃO DE EMULSÃO POLIMÉRICA PARA CHAPISCO ROLADO, PREPARO MECÂNICO COM BETONEIRA 400 L. AF_08/2019","M3","4.080,78",null,null,"CR",{"$f":"IF($B11574=\"SINAPI\",IF(ISNUMBER(MATCH(Banco!$C11574,Analitico!$A:$A,0)),INDEX(Analitico!E:E,MATCH(Banco!$C11574,Analitico!$A:$A,0))&\"%\",\"\"),\"\")","v":"2,8583051%"},{"$f":"IF($B11574=\"SINAPI\",IF(ISNUMBER(MATCH(Banco!$C11574,Analitico!$A:$A,0)),INDEX(Analitico!F:F,MATCH(Banco!$C11574,Analitico!$A:$A,0))&\"%\",\"\"),\"\")","v":"%"}]
[{"$f":"CONCATENAR","v":"SINAPI 87332"},"SINAPI","87332","ARGAMASSA TRAÇO 1:1:6 (EM VOLUME DE CIMENTO, CAL E AREIA MÉDIA ÚMIDA) PARA EMBOÇO/MASSA ÚNICA/ASSENTAMENTO DE ALVENARIA DE VEDAÇÃO, PREPARO MECÂNICO COM MISTURADOR DE EIXO HORIZONTAL DE 600 KG. AF_08/2019","M3","555,03",null,null,"CR",{"$f":"IF($B11583=\"SINAPI\",IF(ISNUMBER(MATCH(Banco!$C11583,Analitico!$A:$A,0)),INDEX(Analitico!E:E,MATCH(Banco!$C11583,Analitico!$A:$A,0))&\"%\",\"\"),\"\")","v":"14,6445625%"},{"$f":"IF($B11583=\"SINAPI\",IF(ISNUMBER(MATCH(Banco!$C11583,Analitico!$A:$A,0)),INDEX(Analitico!F:F,MATCH(Banco!$C11583,Analitico!$A:$A,0))&\"%\",\"\"),\"\")","v":"%"}]
[{"$f":"CONCATENAR","v":"SINAPI 87341"},"SINAPI","87341","ARGAMASSA TRAÇO 1:3 (EM VOLUME DE CIMENTO E AREIA MÉDIA ÚMIDA) PARA CONTRAPISO, PREPARO MECÂNICO COM MISTURADOR DE EIXO HORIZONTAL DE 600 KG. AF_08/2019","M3","710,86",null,null,"CR",{"$f":"IF($B11592=\"SINAPI\",IF(ISNUMBER(MATCH(Banco!$C11592,Analitico!$A:$A,0)),INDEX(Analitico!E:E,MATCH(Banco!$C11592,Analitico!$A:$A,0))&\"%\",\"\"),\"\")","v":"11,2553990%"},{"$f":"IF($B11592=\"SINAPI\",IF(ISNUMBER(MATCH(Banco!$C11592,Analitico!$A:$A,0)),INDEX(Analitico!F:F,MATCH(Banco!$C11592,Analitico!$A:$A,0))&\"%\",\"\"),\"\")","v":"%"}]
[{"$f":"CONCATENAR","v":"SINAPI 87347"},"SINAPI","87347","ARGAMASSA TRAÇO 1:5 (EM VOLUME DE CIMENTO E AREIA MÉDIA ÚMIDA) PARA CONTRAPISO, PREPARO MECÂNICO COM MISTURADOR DE EIXO HORIZONTAL DE 600 KG. AF_08/2019","M3","568,76",null,null,"CR",{"$f":"IF($B11598=\"SINAPI\",IF(ISNUMBER(MATCH(Banco!$C11598,Analitico!$A:$A,0)),INDEX(Analitico!E:E,MATCH(Banco!$C11598,Analitico!$A:$A,0))&\"%\",\"\"),\"\")","v":"14,1148956%"},{"$f":"IF($B11598=\"SINAPI\",IF(ISNUMBER(MATCH(Banco!$C11598,Analitico!$A:$A,0)),INDEX(Analitico!F:F,MATCH(Banco!$C11598,Analitico!$A:$A,0))&\"%\",\"\"),\"\")","v":"%"}]
[{"$f":"CONCATENAR","v":"SINAPI 87360"},"SINAPI","87360","ARGAMASSA TRAÇO 1:3 (EM VOLUME DE CIMENTO E AREIA GROSSA ÚMIDA) COM ADIÇÃO DE EMULSÃO POLIMÉRICA PARA CHAPISCO ROLADO, PREPARO MECÂNICO COM MISTURADOR DE EIXO HORIZONTAL DE 160 KG. AF_08/2019","M3","4.045,15",null,null,"CR",{"$f":"IF($B11611=\"SINAPI\",IF(ISNUMBER(MATCH(Banco!$C11611,Analitico!$A:$A,0)),INDEX(Analitico!E:E,MATCH(Banco!$C11611,Analitico!$A:$A,0))&\"%\",\"\"),\"\")","v":"4,3568762%"},{"$f":"IF($B11611=\"SINAPI\",IF(ISNUMBER(MATCH(Banco!$C11611,Analitico!$A:$A,0)),INDEX(Analitico!F:F,MATCH(Banco!$C11611,Analitico!$A:$A,0))&\"%\",\"\"),\"\")","v":"%"}]
[{"$f":"CONCATENAR","v":"SINAPI 87369"},"SINAPI","87369","ARGAMASSA TRAÇO 1:2:8 (EM VOLUME DE CIMENTO, CAL E AREIA MÉDIA ÚMIDA) PARA EMBOÇO/MASSA ÚNICA/ASSENTAMENTO DE ALVENARIA DE VEDAÇÃO, PREPARO MANUAL. AF_08/2019","M3","670,53",null,null,"CR",{"$f":"IF($B11620=\"SINAPI\",IF(ISNUMBER(MATCH(Banco!$C11620,Analitico!$A:$A,0)),INDEX(Analitico!E:E,MATCH(Banco!$C11620,Analitico!$A:$A,0))&\"%\",\"\"),\"\")","v":"24,7140236%"},{"$f":"IF($B11620=\"SINAPI\",IF(ISNUMBER(MATCH(Banco!$C11620,Analitico!$A:$A,0)),INDEX(Analitico!F:F,MATCH(Banco!$C11620,Analitico!$A:$A,0))&\"%\",\"\"),\"\")","v":"%"}]
[{"$f":"CONCATENAR","v":"SINAPI 87378"},"SINAPI","87378","ARGAMASSA TRAÇO 1:4 (EM VOLUME DE CIMENTO E AREIA GROSSA ÚMIDA) PARA CHAPISCO CONVENCIONAL, PREPARO MANUAL. AF_08/2019","M3","616,13",null,null,"CR",{"$f":"IF($B11629=\"SINAPI\",IF(ISNUMBER(MATCH(Banco!$C11629,Analitico!$A:$A,0)),INDEX(Analitico!E:E,MATCH(Banco!$C11629,Analitico!$A:$A,0))&\"%\",\"\"),\"\")","v":"25,8318454%"},{"$f":"IF($B11629=\"SINAPI\",IF(ISNUMBER(MATCH(Banco!$C11629,Analitico!$A:$A,0)),INDEX(Analitico!F:F,MATCH(Banco!$C11629,Analitico!$A:$A,0))&\"%\",\"\"),\"\")","v":"%"}]
[{"$f":"CONCATENAR","v":"SINAPI 87379"},"SINAPI","87379","ARGAMASSA TRAÇO 1:5 (EM VOLUME DE CIMENTO E AREIA GROSSA ÚMIDA) COM ADIÇÃO DE EMULSÃO POLIMÉRICA PARA CHAPISCO ROLADO, PREPARO MANUAL. AF_08/2019","M3","4.015,16",null,null,"CR",{"$f":"IF($B11630=\"SINAPI\",IF(ISNUMBER(MATCH(Banco!$C11630,Analitico!$A:$A,0)),INDEX(Analitico!E:E,MATCH(Banco!$C11630,Analitico!$A:$A,0))&\"%\",\"\"),\"\")","v":"3,9597721%"},{"$f":"IF($B11630=\"SINAPI\",IF(ISNUMBER(MATCH(Banco!$C11630,Analitico!$A:$A,0)),INDEX(Analitico!F:F,MATCH(Banco!$C11630,Analitico!$A:$A,0))&\"%\",\"\"),\"\")","v":"%"}]
[{"$f":"CONCATENAR","v":"SINAPI 87394"},"SINAPI","87394","ARGAMASSA INDUSTRIALIZADA PARA CHAPISCO ROLADO, PREPARO COM MISTURADOR DE EIXO HORIZONTAL DE 600 KG. AF_08/2019","M3","5.451,88",null,null,"CR",{"$f":"IF($B11644=\"SINAPI\",IF(ISNUMBER(MATCH(Banco!$C11644,Analitico!$A:$A,0)),INDEX(Analitico!E:E,MATCH(Banco!$C11644,Analitico!$A:$A,0))&\"%\",\"\"),\"\")","v":"1,6379941%"},{"$f":"IF($B11644=\"SINAPI\",IF(ISNUMBER(MATCH(Banco!$C11644,Analitico!$A:$A,0)),INDEX(Analitico!F:F,MATCH(Banco!$C11644,Analitico!$A:$A,0))&\"%\",\"\"),\"\")","v":"%"}]
[{"$f":"CONCATENAR","v":"SINAPI 87399"},"SINAPI","87399","ARGAMASSA PRONTA PARA CONTRAPISO, PREPARO MANUAL. AF_08/2019","M3","2.219,92",null,null,"CR",{"$f":"IF($B11649=\"SINAPI\",IF(ISNUMBER(MATCH(Banco!$C11649,Analitico!$A:$A,0)),INDEX(Analitico!E:E,MATCH(Banco!$C11649,Analitico!$A:$A,0))&\"%\",\"\"),\"\")","v":"9,0990585%"},{"$f":"IF($B11649=\"SINAPI\",IF(ISNUMBER(MATCH(Banco!$C11649,Analitico!$A:$A,0)),INDEX(Analitico!F:F,MATCH(Banco!$C11649,Analitico!$A:$A,0))&\"%\",\"\"),\"\")","v":"%"}]
[{"$f":"CONCATENAR","v":"SINAPI 88627"},"SINAPI","88627","ARGAMASSA TRAÇO 1:0,5:4,5 (EM VOLUME DE CIMENTO, CAL E AREIA MÉDIA ÚMIDA) PARA ASSENTAMENTO DE ALVENARIA, PREPARO MANUAL. AF_08/2019","M3","658,71",null,null,"CR",{"$f":"IF($B11658=\"SINAPI\",IF(ISNUMBER(MATCH(Banco!$C11658,Analitico!$A:$A,0)),INDEX(Analitico!E:E,MATCH(Banco!$C11658,Analitico!$A:$A,0))&\"%\",\"\"),\"\")","v":"19,9004068%"},{"$f":"IF($B11658=\"SINAPI\",IF(ISNUMBER(MATCH(Banco!$C11658,Analitico!$A:$A,0)),INDEX(Analitico!F:F,MATCH(Banco!$C11658,Analitico!$A:$A,0))&\"%\",\"\"),\"\")","v":"%"}]
[{"$f":"CONCATENAR","v":"SINAPI 100468"},"SINAPI","100468","ARGAMASSA TRAÇO 1:3 (EM VOLUME DE CIMENTO E AREIA MÉDIA ÚMIDA), PREPARO MECÂNICO COM MISTURADOR DE EIXO HORIZONTAL DE 160 KG. AF_08/2019","M3","766,74",null,null,"CR",{"$f":"IF($B11667=\"SINAPI\",IF(ISNUMBER(MATCH(Banco!$C11667,Analitico!$A:$A,0)),INDEX(Analitico!E:E,MATCH(Banco!$C11667,Analitico!$A:$A,0))&\"%\",\"\"),\"\")","v":"22,6525102%"},{"$f":"IF($B11667=\"SINAPI\",IF(ISNUMBER(MATCH(Banco!$C11667,Analitico!$A:$A,0)),INDEX(Analitico!F:F,MATCH(Banco!$C11667,Analitico!$A:$A,0))&\"%\",\"\"),\"\")","v":"%"}]
[{"$f":"CONCATENAR","v":"SINAPI 100479"},"SINAPI","100479","ARGAMASSA TRAÇO 1:3 (EM VOLUME DE CIMENTO E AREIA MÉDIA ÚMIDA) COM ADIÇÃO DE IMPERMEABILIZANTE, PREPARO MECÂNICO COM MISTURADOR DE EIXO HORIZONTAL DE 600 KG. AF_08/2019","M3","747,75",null,null,"CR",{"$f":"IF($B11676=\"SINAPI\",IF(ISNUMBER(MATCH(Banco!$C11676,Analitico!$A:$A,0)),INDEX(Analitico!E:E,MATCH(Banco!$C11676,Analitico!$A:$A,0))&\"%\",\"\"),\"\")","v":"8,6372694%"},{"$f":"IF($B11676=\"SINAPI\",IF(ISNUMBER(MATCH(Banco!$C11676,Analitico!$A:$A,0)),INDEX(Analitico!F:F,MATCH(Banco!$C11676,Analitico!$A:$A,0))&\"%\",\"\"),\"\")","v":"%"}]
[{"$f":"CONCATENAR","v":"SINAPI 100485"},"SINAPI","100485","ARGAMASSA TRAÇO 1:4 (EM VOLUME DE CIMENTO E AREIA MÉDIA ÚMIDA) COM ADIÇÃO DE IMPERMEABILIZANTE, PREPARO MECÂNICO COM MISTURADOR DE EIXO HORIZONTAL DE 600 KG. AF_08/2019","M3","647,03",null,null,"CR",{"$f":"IF($B11681=\"SINAPI\",IF(ISNUMBER(MATCH(Banco!$C11681,Analitico!$A:$A,0)),INDEX(Analitico!E:E,MATCH(Banco!$C11681,Analitico!$A:$A,0))&\"%\",\"\"),\"\")","v":"9,9250328%"},{"$f":"IF($B11681=\"SINAPI\",IF(ISNUMBER(MATCH(Banco!$C11681,Analitico!$A:$A,0)),INDEX(Analitico!F:F,MATCH(Banco!$C11681,Analitico!$A:$A,0))&\"%\",\"\"),\"\")","v":"%"}]
[{"$f":"CONCATENAR","v":"SINAPI 100197"},"SINAPI","100197","TRANSPORTE HORIZONTAL MANUAL, DE SACOS DE 20 KG (UNIDADE: KGXKM). AF_07/2019","KGXKM","1,89",null,null,"C",{"$f":"IF($B11695=\"SINAPI\",IF(ISNUMBER(MATCH(Banco!$C11695,Analitico!$A:$A,0)),INDEX(Analitico!E:E,MATCH(Banco!$C11695,Analitico!$A:$A,0))&\"%\",\"\"),\"\")","v":"73,1182796%"},{"$f":"IF($B11695=\"SINAPI\",IF(ISNUMBER(MATCH(Banco!$C11695,Analitico!$A:$A,0)),INDEX(Analitico!F:F,MATCH(Banco!$C11695,Analitico!$A:$A,0))&\"%\",\"\"),\"\")","v":"%"}]
[{"$f":"CONCATENAR","v":"SINAPI 100198"},"SINAPI","100198","TRANSPORTE HORIZONTAL COM CARRINHO PLATAFORMA, DE SACOS DE 50 KG (UNIDADE: KGXKM). AF_07/2019","KGXKM","0,26",null,null,"C",{"$f":"IF($B11696=\"SINAPI\",IF(ISNUMBER(MATCH(Banco!$C11696,Analitico!$A:$A,0)),INDEX(Analitico!E:E,MATCH(Banco!$C11696,Analitico!$A:$A,0))&\"%\",\"\"),\"\")","v":"81,8181819%"},{"$f":"IF($B11696=\"SINAPI\",IF(ISNUMBER(MATCH(Banco!$C11696,Analitico!$A:$A,0)),INDEX(Analitico!F:F,MATCH(Banco!$C11696,Analitico!$A:$A,0))&\"%\",\"\"),\"\")","v":"%"}]
[{"$f":"CONCATENAR","v":"SINAPI 100207"},"SINAPI","100207","TRANSPORTE HORIZONTAL COM CARREGADEIRA, DE MASSA/ GRANEL (UNIDADE: M3XKM). AF_07/2019","M3XKM","521,49",null,null,"AS",{"$f":"IF($B11705=\"SINAPI\",IF(ISNUMBER(MATCH(Banco!$C11705,Analitico!$A:$A,0)),INDEX(Analitico!E:E,MATCH(Banco!$C11705,Analitico!$A:$A,0))&\"%\",\"\"),\"\")","v":"37,7841290%"},{"$f":"IF($B11705=\"SINAPI\",IF(ISNUMBER(MATCH(Banco!$C11705,Analitico!$A:$A,0)),INDEX(Analitico!F:F,MATCH(Banco!$C11705,Analitico!$A:$A,0))&\"%\",\"\"),\"\")","v":"%"}]
[{"$f":"CONCATENAR","v":"SINAPI 100216"},"SINAPI","100216","TRANSPORTE HORIZONTAL COM CARRINHO MINI PÁLETES, DE BLOCOS CERÂMICOS FURADOS NA HORIZONTAL DE 9X19X19CM (UNIDADE: BLOCOXKM). AF_07/2019","UNXKM","0,93",null,null,"C",{"$f":"IF($B11714=\"SINAPI\",IF(ISNUMBER(MATCH(Banco!$C11714,Analitico!$A:$A,0)),INDEX(Analitico!E:E,MATCH(Banco!$C11714,Analitico!$A:$A,0))&\"%\",\"\"),\"\")","v":"73,3333334%"},{"$f":"IF($B11714=\"SINAPI\",IF(ISNUMBER(MATCH(Banco!$C11714,Analitico!$A:$A,0)),INDEX(Analitico!F:F,MATCH(Banco!$C11714,Analitico!$A:$A,0))&\"%\",\"\"),\"\")","v":"%"}]
[{"$f":"CONCATENAR","v":"SINAPI 100229"},"SINAPI","100229","TRANSPORTE VERTICAL MANUAL, 1 PAVIMENTO, DE SACOS DE 50 KG (UNIDADE: KG). AF_07/2019","KG","0,01",null,null,"C",{"$f":"IF($B11727=\"SINAPI\",IF(ISNUMBER(MATCH(Banco!$C11727,Analitico!$A:$A,0)),INDEX(Analitico!E:E,MATCH(Banco!$C11727,Analitico!$A:$A,0))&\"%\",\"\"),\"\")","v":"100,0000000%"},{"$f":"IF($B11727=\"SINAPI\",IF(ISNUMBER(MATCH(Banco!$C11727,Analitico!$A:$A,0)),INDEX(Analitico!F:F,MATCH(Banco!$C11727,Analitico!$A:$A,0))&\"%\",\"\"),\"\")","v":"%"}]
[{"$f":"CONCATENAR","v":"SINAPI 100235"},"SINAPI","100235","TRANSPORTE VERTICAL MANUAL, 1 PAVIMENTO, DE LATA DE 18 LITROS (UNIDADE: L). AF_07/2019","L","0,04",null,null,"C",{"$f":"IF($B11733=\"SINAPI\",IF(ISNUMBER(MATCH(Banco!$C11733,Analitico!$A:$A,0)),INDEX(Analitico!E:E,MATCH(Banco!$C11733,Analitico!$A:$A,0))&\"%\",\"\"),\"\")","v":"100,0000000%"},{"$f":"IF($B11733=\"SINAPI\",IF(ISNUMBER(MATCH(Banco!$C11733,Analitico!$A:$A,0)),INDEX(Analitico!F:F,MATCH(Banco!$C11733,Analitico!$A:$A,0))&\"%\",\"\"),\"\")","v":"%"}]
[{"$f":"CONCATENAR","v":"SINAPI 100244"},"SINAPI","100244","TRANSPORTE HORIZONTAL MANUAL, DE TUBO DE COBRE - CLASSE E - COM DIÂMETRO MAIOR QUE 54 MM E MENOR OU IGUAL A 79 MM (UNIDADE: MXKM). AF_07/2019","MXKM","3,84",null,null,"C",{"$f":"IF($B11742=\"SINAPI\",IF(ISNUMBER(MATCH(Banco!$C11742,Analitico!$A:$A,0)),INDEX(Analitico!E:E,MATCH(Banco!$C11742,Analitico!$A:$A,0))&\"%\",\"\"),\"\")","v":"72,8947369%"},{"$f":"IF($B11742=\"SINAPI\",IF(ISNUMBER(MATCH(Banco!$C11742,Analitico!$A:$A,0)),INDEX(Analitico!F:F,MATCH(Banco!$C11742,Analitico!$A:$A,0))&\"%\",\"\"),\"\")","v":"%"}]
[{"$f":"CONCATENAR","v":"SINAPI 100253"},"SINAPI","100253","TRANSPORTE HORIZONTAL MANUAL, DE TUBO DE AÇO CARBONO LEVE OU MÉDIO, PRETO OU GALVANIZADO, COM DIÂMETRO MAIOR QUE 90 MM E MENOR OU IGUAL A 125 MM (UNIDADE: MXKM). AF_07/2019","MXKM","25,27",null,null,"C",{"$f":"IF($B11751=\"SINAPI\",IF(ISNUMBER(MATCH(Banco!$C11751,Analitico!$A:$A,0)),INDEX(Analitico!E:E,MATCH(Banco!$C11751,Analitico!$A:$A,0))&\"%\",\"\"),\"\")","v":"72,3741578%"},{"$f":"IF($B11751=\"SINAPI\",IF(ISNUMBER(MATCH(Banco!$C11751,Analitico!$A:$A,0)),INDEX(Analitico!F:F,MATCH(Banco!$C11751,Analitico!$A:$A,0))&\"%\",\"\"),\"\")","v":"%"}]
[{"$f":"CONCATENAR","v":"SINAPI 100262"},"SINAPI","100262","TRANSPORTE HORIZONTAL MANUAL, DE VERGALHÕES DE AÇO COM DIÂMETRO DE 8 MM (UNIDADE: KGXKM). AF_07/2019","KGXKM","3,24",null,null,"C",{"$f":"IF($B11760=\"SINAPI\",IF(ISNUMBER(MATCH(Banco!$C11760,Analitico!$A:$A,0)),INDEX(Analitico!E:E,MATCH(Banco!$C11760,Analitico!$A:$A,0))&\"%\",\"\"),\"\")","v":"72,8971963%"},{"$f":"IF($B11760=\"SINAPI\",IF(ISNUMBER(MATCH(Banco!$C11760,Analitico!$A:$A,0)),INDEX(Analitico!F:F,MATCH(Banco!$C11760,Analitico!$A:$A,0))&\"%\",\"\"),\"\")","v":"%"}]
[{"$f":"CONCATENAR","v":"SINAPI 100271"},"SINAPI","100271","TRANSPORTE HORIZONTAL MANUAL, DE VIDRO (UNIDADE: M2XKM). AF_07/2019","M2XKM","60,34",null,null,"C",{"$f":"IF($B11769=\"SINAPI\",IF(ISNUMBER(MATCH(Banco!$C11769,Analitico!$A:$A,0)),INDEX(Analitico!E:E,MATCH(Banco!$C11769,Analitico!$A:$A,0))&\"%\",\"\"),\"\")","v":"72,2931521%"},{"$f":"IF($B11769=\"SINAPI\",IF(ISNUMBER(MATCH(Banco!$C11769,Analitico!$A:$A,0)),INDEX(Analitico!F:F,MATCH(Banco!$C11769,Analitico!$A:$A,0))&\"%\",\"\"),\"\")","v":"%"}]
[{"$f":"CONCATENAR","v":"SINAPI 100273"},"SINAPI","100273","TRANSPORTE HORIZONTAL MANUAL, DE TELA DE AÇO (UNIDADE: KGXKM). AF_07/2019","KGXKM","3,14",null,null,"C",{"$f":"IF($B11771=\"SINAPI\",IF(ISNUMBER(MATCH(Banco!$C11771,Analitico!$A:$A,0)),INDEX(Analitico!E:E,MATCH(Banco!$C11771,Analitico!$A:$A,0))&\"%\",\"\"),\"\")","v":"72,7564103%"},{"$f":"IF($B11771=\"SINAPI\",IF(ISNUMBER(MATCH(Banco!$C11771,Analitico!$A:$A,0)),INDEX(Analitico!F:F,MATCH(Banco!$C11771,Analitico!$A:$A,0))&\"%\",\"\"),\"\")","v":"%"}]
[{"$f":"CONCATENAR","v":"SINAPI 100282"},"SINAPI","100282","TRANSPORTE HORIZONTAL MANUAL, DE TELHA DE CONCRETO OU CERÂMICA (UNIDADE: M2XKM). AF_07/2019","M2XKM","150,74",null,null,"C",{"$f":"IF($B11780=\"SINAPI\",IF(ISNUMBER(MATCH(Banco!$C11780,Analitico!$A:$A,0)),INDEX(Analitico!E:E,MATCH(Banco!$C11780,Analitico!$A:$A,0))&\"%\",\"\"),\"\")","v":"72,2778847%"},{"$f":"IF($B11780=\"SINAPI\",IF(ISNUMBER(MATCH(Banco!$C11780,Analitico!$A:$A,0)),INDEX(Analitico!F:F,MATCH(Banco!$C11780,Analitico!$A:$A,0))&\"%\",\"\"),\"\")","v":"%"}]
[{"$f":"CONCATENAR","v":"SINAPI 99805"},"SINAPI","99805","LIMPEZA DE PISO CERÂMICO OU COM PEDRAS RÚSTICAS UTILIZANDO ÁCIDO MURIÁTICO. AF_04/2019","M2","10,99",null,null,"CR",{"$f":"IF($B11789=\"SINAPI\",IF(ISNUMBER(MATCH(Banco!$C11789,Analitico!$A:$A,0)),INDEX(Analitico!E:E,MATCH(Banco!$C11789,Analitico!$A:$A,0))&\"%\",\"\"),\"\")","v":"67,0620438%"},{"$f":"IF($B11789=\"SINAPI\",IF(ISNUMBER(MATCH(Banco!$C11789,Analitico!$A:$A,0)),INDEX(Analitico!F:F,MATCH(Banco!$C11789,Analitico!$A:$A,0))&\"%\",\"\"),\"\")","v":"%"}]
[{"$f":"CONCATENAR","v":"SINAPI 99814"},"SINAPI","99814","LIMPEZA DE SUPERFÍCIE COM JATO DE ALTA PRESSÃO. AF_04/2019","M2","1,86",null,null,"CR",{"$f":"IF($B11798=\"SINAPI\",IF(ISNUMBER(MATCH(Banco!$C11798,Analitico!$A:$A,0)),INDEX(Analitico!E:E,MATCH(Banco!$C11798,Analitico!$A:$A,0))&\"%\",\"\"),\"\")","v":"72,9281769%"},{"$f":"IF($B11798=\"SINAPI\",IF(ISNUMBER(MATCH(Banco!$C11798,Analitico!$A:$A,0)),INDEX(Analitico!F:F,MATCH(Banco!$C11798,Analitico!$A:$A,0))&\"%\",\"\"),\"\")","v":"%"}]
[{"$f":"CONCATENAR","v":"SINAPI 99822"},"SINAPI","99822","LIMPEZA DE PORTA DE MADEIRA. AF_04/2019","M2","0,97",null,null,"C",{"$f":"IF($B11806=\"SINAPI\",IF(ISNUMBER(MATCH(Banco!$C11806,Analitico!$A:$A,0)),INDEX(Analitico!E:E,MATCH(Banco!$C11806,Analitico!$A:$A,0))&\"%\",\"\"),\"\")","v":"74,1935484%"},{"$f":"IF($B11806=\"SINAPI\",IF(ISNUMBER(MATCH(Banco!$C11806,Analitico!$A:$A,0)),INDEX(Analitico!F:F,MATCH(Banco!$C11806,Analitico!$A:$A,0))&\"%\",\"\"),\"\")","v":"%"}]
[{"$f":"CONCATENAR","v":"SINAPI 97031"},"SINAPI","97031","GUARDA-CORPO EM LAJE PÓS-DESFÔRMA COM ESCORAS DE MADEIRA ESTRONCADAS NA ESTRUTURA, TRAVESSÕES DE MADEIRA E FECHAMENTO EM TELA DE POLIPROPILENO PARA EDIFÍCIOS COM ATÉ 4 PAVIMENTOS (1 MONTAGEM). AF_03/2024","M","68,24",null,null,"CR",{"$f":"IF($B11817=\"SINAPI\",IF(ISNUMBER(MATCH(Banco!$C11817,Analitico!$A:$A,0)),INDEX(Analitico!E:E,MATCH(Banco!$C11817,Analitico!$A:$A,0))&\"%\",\"\"),\"\")","v":"17,6479224%"},{"$f":"IF($B11817=\"SINAPI\",IF(ISNUMBER(MATCH(Banco!$C11817,Analitico!$A:$A,0)),INDEX(Analitico!F:F,MATCH(Banco!$C11817,Analitico!$A:$A,0))&\"%\",\"\"),\"\")","v":"%"}]
[{"$f":"CONCATENAR","v":"SINAPI 97048"},"SINAPI","97048","PONTEIRAS DE PROTEÇÃO DE PONTAS E VERGALHÕES EXPOSTOS EM ALVENARIA ESTRUTURAL. AF_03/2024","M2","0,07",null,null,"CR",{"$f":"IF($B11826=\"SINAPI\",IF(ISNUMBER(MATCH(Banco!$C11826,Analitico!$A:$A,0)),INDEX(Analitico!E:E,MATCH(Banco!$C11826,Analitico!$A:$A,0))&\"%\",\"\"),\"\")","v":"16,6666666%"},{"$f":"IF($B11826=\"SINAPI\",IF(ISNUMBER(MATCH(Banco!$C11826,Analitico!$A:$A,0)),INDEX(Analitico!F:F,MATCH(Banco!$C11826,Analitico!$A:$A,0))&\"%\",\"\"),\"\")","v":"%"}]
[{"$f":"CONCATENAR","v":"SINAPI 97054"},"SINAPI","97054","INSTALAÇÃO DE SINALIZADOR NOTURNO LED. AF_03/2024","UN","26,88",null,null,"AS",{"$f":"IF($B11827=\"SINAPI\",IF(ISNUMBER(MATCH(Banco!$C11827,Analitico!$A:$A,0)),INDEX(Analitico!E:E,MATCH(Banco!$C11827,Analitico!$A:$A,0))&\"%\",\"\"),\"\")","v":"27,5475923%"},{"$f":"IF($B11827=\"SINAPI\",IF(ISNUMBER(MATCH(Banco!$C11827,Analitico!$A:$A,0)),INDEX(Analitico!F:F,MATCH(Banco!$C11827,Analitico!$A:$A,0))&\"%\",\"\"),\"\")","v":"%"}]
[{"$f":"CONCATENAR","v":"SINAPI 105103"},"SINAPI","105103","ASCENSÃO E DESCIDA DE ELEVADOR DE CREMALHEIRA. AF_03/2024","M","99,02",null,null,"CR",{"$f":"IF($B11836=\"SINAPI\",IF(ISNUMBER(MATCH(Banco!$C11836,Analitico!$A:$A,0)),INDEX(Analitico!E:E,MATCH(Banco!$C11836,Analitico!$A:$A,0))&\"%\",\"\"),\"\")","v":"80,6487470%"},{"$f":"IF($B11836=\"SINAPI\",IF(ISNUMBER(MATCH(Banco!$C11836,Analitico!$A:$A,0)),INDEX(Analitico!F:F,MATCH(Banco!$C11836,Analitico!$A:$A,0))&\"%\",\"\"),\"\")","v":"%"}]
[{"$f":"CONCATENAR","v":"SINAPI 97622"},"SINAPI","97622","DEMOLIÇÃO DE ALVENARIA DE BLOCO FURADO, DE FORMA MANUAL, SEM REAPROVEITAMENTO. AF_09/2023","M3","54,16",null,null,"C",{"$f":"IF($B11845=\"SINAPI\",IF(ISNUMBER(MATCH(Banco!$C11845,Analitico!$A:$A,0)),INDEX(Analitico!E:E,MATCH(Banco!$C11845,Analitico!$A:$A,0))&\"%\",\"\"),\"\")","v":"73,0214498%"},{"$f":"IF($B11845=\"SINAPI\",IF(ISNUMBER(MATCH(Banco!$C11845,Analitico!$A:$A,0)),INDEX(Analitico!F:F,MATCH(Banco!$C11845,Analitico!$A:$A,0))&\"%\",\"\"),\"\")","v":"%"}]
[{"$f":"CONCATENAR","v":"SINAPI 97636"},"SINAPI","97636","DEMOLIÇÃO PARCIAL DE PAVIMENTO ASFÁLTICO, DE FORMA MECANIZADA, SEM REAPROVEITAMENTO. AF_09/2023","M2","21,63",null,null,"AS",{"$f":"IF($B11858=\"SINAPI\",IF(ISNUMBER(MATCH(Banco!$C11858,Analitico!$A:$A,0)),INDEX(Analitico!E:E,MATCH(Banco!$C11858,Analitico!$A:$A,0))&\"%\",\"\"),\"\")","v":"37,3314737%"},{"$f":"IF($B11858=\"SINAPI\",IF(ISNUMBER(MATCH(Banco!$C11858,Analitico!$A:$A,0)),INDEX(Analitico!F:F,MATCH(Banco!$C11858,Analitico!$A:$A,0))&\"%\",\"\"),\"\")","v":"%"}]
[{"$f":"CONCATENAR","v":"SINAPI 97642"},"SINAPI","97642","REMOÇÃO DE TRAMA METÁLICA OU DE MADEIRA PARA FORRO, DE FORMA MANUAL, SEM REAPROVEITAMENTO. AF_09/2023","M2","2,83",null,null,"CR",{"$f":"IF($B11864=\"SINAPI\",IF(ISNUMBER(MATCH(Banco!$C11864,Analitico!$A:$A,0)),INDEX(Analitico!E:E,MATCH(Banco!$C11864,Analitico!$A:$A,0))&\"%\",\"\"),\"\")","v":"77,2563177%"},{"$f":"IF($B11864=\"SINAPI\",IF(ISNUMBER(MATCH(Banco!$C11864,Analitico!$A:$A,0)),INDEX(Analitico!F:F,MATCH(Banco!$C11864,Analitico!$A:$A,0))&\"%\",\"\"),\"\")","v":"%"}]
[{"$f":"CONCATENAR","v":"SINAPI 97652"},"SINAPI","97652","REMOÇÃO DE TESOURAS DE MADEIRA, COM VÃO MAIOR OU IGUAL A 8M, DE FORMA MANUAL, SEM REAPROVEITAMENTO. AF_09/2023","UN","179,42",null,null,"CR",{"$f":"IF($B11873=\"SINAPI\",IF(ISNUMBER(MATCH(Banco!$C11873,Analitico!$A:$A,0)),INDEX(Analitico!E:E,MATCH(Banco!$C11873,Analitico!$A:$A,0))&\"%\",\"\"),\"\")","v":"73,5210483%"},{"$f":"IF($B11873=\"SINAPI\",IF(ISNUMBER(MATCH(Banco!$C11873,Analitico!$A:$A,0)),INDEX(Analitico!F:F,MATCH(Banco!$C11873,Analitico!$A:$A,0))&\"%\",\"\"),\"\")","v":"%"}]
[{"$f":"CONCATENAR","v":"SINAPI 97661"},"SINAPI","97661","REMOÇÃO DE CABOS ELÉTRICOS, COM SEÇÃO DE 10 MM², FORMA MANUAL, SEM REAPROVEITAMENTO. AF_09/2023","M","0,67",null,null,"C",{"$f":"IF($B11882=\"SINAPI\",IF(ISNUMBER(MATCH(Banco!$C11882,Analitico!$A:$A,0)),INDEX(Analitico!E:E,MATCH(Banco!$C11882,Analitico!$A:$A,0))&\"%\",\"\"),\"\")","v":"77,4193549%"},{"$f":"IF($B11882=\"SINAPI\",IF(ISNUMBER(MATCH(Banco!$C11882,Analitico!$A:$A,0)),INDEX(Analitico!F:F,MATCH(Banco!$C11882,Analitico!$A:$A,0))&\"%\",\"\"),\"\")","v":"%"}]
[{"$f":"CONCATENAR","v":"SINAPI 104792"},"SINAPI","104792","REMOÇÃO DE CABOS ELÉTRICOS, COM SEÇÃO DE ATÉ 2,5 MM², DE FORMA MANUAL, SEM REAPROVEITAMENTO. AF_09/2023","M","0,37",null,null,"C",{"$f":"IF($B11891=\"SINAPI\",IF(ISNUMBER(MATCH(Banco!$C11891,Analitico!$A:$A,0)),INDEX(Analitico!E:E,MATCH(Banco!$C11891,Analitico!$A:$A,0))&\"%\",\"\"),\"\")","v":"86,6666667%"},{"$f":"IF($B11891=\"SINAPI\",IF(ISNUMBER(MATCH(Banco!$C11891,Analitico!$A:$A,0)),INDEX(Analitico!F:F,MATCH(Banco!$C11891,Analitico!$A:$A,0))&\"%\",\"\"),\"\")","v":"%"}]
[{"$f":"CONCATENAR","v":"SINAPI 104796"},"SINAPI","104796","DEMOLIÇÃO DE GUIAS, SARJETAS OU SARJETÕES, DE FORMA MECANIZADA, SEM REAPROVEITAMENTO. AF_09/2023","M","14,55",null,null,"AS",{"$f":"IF($B11895=\"SINAPI\",IF(ISNUMBER(MATCH(Banco!$C11895,Analitico!$A:$A,0)),INDEX(Analitico!E:E,MATCH(Banco!$C11895,Analitico!$A:$A,0))&\"%\",\"\"),\"\")","v":"57,8103209%"},{"$f":"IF($B11895=\"SINAPI\",IF(ISNUMBER(MATCH(Banco!$C11895,Analitico!$A:$A,0)),INDEX(Analitico!F:F,MATCH(Banco!$C11895,Analitico!$A:$A,0))&\"%\",\"\"),\"\")","v":"%"}]
[{"$f":"CONCATENAR","v":"SINAPI 104803"},"SINAPI","104803","REMOÇÃO CALHAS E RUFOS, DE FORMA MANUAL, SEM REAPROVEITAMENTO. AF_09/2023","M","4,30",null,null,"CR",{"$f":"IF($B11902=\"SINAPI\",IF(ISNUMBER(MATCH(Banco!$C11902,Analitico!$A:$A,0)),INDEX(Analitico!E:E,MATCH(Banco!$C11902,Analitico!$A:$A,0))&\"%\",\"\"),\"\")","v":"75,0593825%"},{"$f":"IF($B11902=\"SINAPI\",IF(ISNUMBER(MATCH(Banco!$C11902,Analitico!$A:$A,0)),INDEX(Analitico!F:F,MATCH(Banco!$C11902,Analitico!$A:$A,0))&\"%\",\"\"),\"\")","v":"%"}]
[{"$f":"CONCATENAR","v":"SINAPI 105011"},"SINAPI","105011","EXECUÇÃO DE LINHAS DE REFERÊNCIA EM GABARITO OU CAVALETE. AF_03/2024","M","0,51",null,null,"CR",{"$f":"IF($B11911=\"SINAPI\",IF(ISNUMBER(MATCH(Banco!$C11911,Analitico!$A:$A,0)),INDEX(Analitico!E:E,MATCH(Banco!$C11911,Analitico!$A:$A,0))&\"%\",\"\"),\"\")","v":"59,5744681%"},{"$f":"IF($B11911=\"SINAPI\",IF(ISNUMBER(MATCH(Banco!$C11911,Analitico!$A:$A,0)),INDEX(Analitico!F:F,MATCH(Banco!$C11911,Analitico!$A:$A,0))&\"%\",\"\"),\"\")","v":"%"}]
[{"$f":"CONCATENAR","v":"SINAPI 93596"},"SINAPI","93596","TRANSPORTE COM CAMINHÃO BASCULANTE DE 10 M³, EM VIA URBANA PAVIMENTADA, ADICIONAL PARA DMT EXCEDENTE A 30 KM (UNIDADE: TXKM). AF_07/2020","TXKM","0,67",null,null,"CR",{"$f":"IF($B11920=\"SINAPI\",IF(ISNUMBER(MATCH(Banco!$C11920,Analitico!$A:$A,0)),INDEX(Analitico!E:E,MATCH(Banco!$C11920,Analitico!$A:$A,0))&\"%\",\"\"),\"\")","v":"10,1694915%"},{"$f":"IF($B11920=\"SINAPI\",IF(ISNUMBER(MATCH(Banco!$C11920,Analitico!$A:$A,0)),INDEX(Analitico!F:F,MATCH(Banco!$C11920,Analitico!$A:$A,0))&\"%\",\"\"),\"\")","v":"%"}]
[{"$f":"CONCATENAR","v":"SINAPI 95430"},"SINAPI","95430","TRANSPORTE COM CAMINHÃO BASCULANTE DE 18 M³, EM VIA URBANA PAVIMENTADA, ADICIONAL PARA DMT EXCEDENTE A 30 KM (UNIDADE: TXKM). AF_07/2020","TXKM","0,50",null,null,"CR",{"$f":"IF($B11929=\"SINAPI\",IF(ISNUMBER(MATCH(Banco!$C11929,Analitico!$A:$A,0)),INDEX(Analitico!E:E,MATCH(Banco!$C11929,Analitico!$A:$A,0))&\"%\",\"\"),\"\")","v":"6,8181818%"},{"$f":"IF($B11929=\"SINAPI\",IF(ISNUMBER(MATCH(Banco!$C11929,Analitico!$A:$A,0)),INDEX(Analitico!F:F,MATCH(Banco!$C11929,Analitico!$A:$A,0))&\"%\",\"\"),\"\")","v":"%"}]
[{"$f":"CONCATENAR","v":"SINAPI 97913"},"SINAPI","97913","TRANSPORTE COM CAMINHÃO BASCULANTE DE 6 M³, EM VIA URBANA EM REVESTIMENTO PRIMÁRIO (UNIDADE: M3XKM). AF_07/2020","M3XKM","3,29",null,null,"CR",{"$f":"IF($B11937=\"SINAPI\",IF(ISNUMBER(MATCH(Banco!$C11937,Analitico!$A:$A,0)),INDEX(Analitico!E:E,MATCH(Banco!$C11937,Analitico!$A:$A,0))&\"%\",\"\"),\"\")","v":"13,5646687%"},{"$f":"IF($B11937=\"SINAPI\",IF(ISNUMBER(MATCH(Banco!$C11937,Analitico!$A:$A,0)),INDEX(Analitico!F:F,MATCH(Banco!$C11937,Analitico!$A:$A,0))&\"%\",\"\"),\"\")","v":"%"}]
[{"$f":"CONCATENAR","v":"SINAPI 100945"},"SINAPI","100945","TRANSPORTE COM CAMINHÃO CARROCERIA 9T, EM VIA URBANA EM LEITO NATURAL (UNIDADE: TXKM). AF_07/2020","TXKM","2,83",null,null,"CR",{"$f":"IF($B11948=\"SINAPI\",IF(ISNUMBER(MATCH(Banco!$C11948,Analitico!$A:$A,0)),INDEX(Analitico!E:E,MATCH(Banco!$C11948,Analitico!$A:$A,0))&\"%\",\"\"),\"\")","v":"11,3138686%"},{"$f":"IF($B11948=\"SINAPI\",IF(ISNUMBER(MATCH(Banco!$C11948,Analitico!$A:$A,0)),INDEX(Analitico!F:F,MATCH(Banco!$C11948,Analitico!$A:$A,0))&\"%\",\"\"),\"\")","v":"%"}]
[{"$f":"CONCATENAR","v":"SINAPI 100954"},"SINAPI","100954","TRANSPORTE COM CAMINHÃO CARROCERIA COM GUINDAUTO (MUNCK),  MOMENTO MÁXIMO DE CARGA 11,7 TM, EM VIA INTERNA (DENTRO DO CANTEIRO - UNIDADE: TXKM). AF_07/2020","TXKM","8,59",null,null,"CR",{"$f":"IF($B11957=\"SINAPI\",IF(ISNUMBER(MATCH(Banco!$C11957,Analitico!$A:$A,0)),INDEX(Analitico!E:E,MATCH(Banco!$C11957,Analitico!$A:$A,0))&\"%\",\"\"),\"\")","v":"10,8875739%"},{"$f":"IF($B11957=\"SINAPI\",IF(ISNUMBER(MATCH(Banco!$C11957,Analitico!$A:$A,0)),INDEX(Analitico!F:F,MATCH(Banco!$C11957,Analitico!$A:$A,0))&\"%\",\"\"),\"\")","v":"%"}]
[{"$f":"CONCATENAR","v":"SINAPI 100955"},"SINAPI","100955","TRANSPORTE COM CAMINHÃO PIPA DE 6 M³, EM VIA URBANA EM LEITO NATURAL (UNIDADE: M3XKM). AF_07/2020","M3XKM","4,90",null,null,"AS",{"$f":"IF($B11958=\"SINAPI\",IF(ISNUMBER(MATCH(Banco!$C11958,Analitico!$A:$A,0)),INDEX(Analitico!E:E,MATCH(Banco!$C11958,Analitico!$A:$A,0))&\"%\",\"\"),\"\")","v":"9,8532494%"},{"$f":"IF($B11958=\"SINAPI\",IF(ISNUMBER(MATCH(Banco!$C11958,Analitico!$A:$A,0)),INDEX(Analitico!F:F,MATCH(Banco!$C11958,Analitico!$A:$A,0))&\"%\",\"\"),\"\")","v":"%"}]
[{"$f":"CONCATENAR","v":"SINAPI 100964"},"SINAPI","100964","TRANSPORTE COM CAMINHÃO PIPA DE 10 M³, EM VIA INTERNA (DENTRO DO CANTEIRO - UNIDADE: M3XKM). AF_07/2020","M3XKM","8,80",null,null,"AS",{"$f":"IF($B11967=\"SINAPI\",IF(ISNUMBER(MATCH(Banco!$C11967,Analitico!$A:$A,0)),INDEX(Analitico!E:E,MATCH(Banco!$C11967,Analitico!$A:$A,0))&\"%\",\"\"),\"\")","v":"7,8341013%"},{"$f":"IF($B11967=\"SINAPI\",IF(ISNUMBER(MATCH(Banco!$C11967,Analitico!$A:$A,0)),INDEX(Analitico!F:F,MATCH(Banco!$C11967,Analitico!$A:$A,0))&\"%\",\"\"),\"\")","v":"%"}]
[{"$f":"CONCATENAR","v":"SINAPI 100970"},"SINAPI","100970","TRANSPORTE COM CAMINHÃO TANQUE DE TRANSPORTE DE MATERIAL ASFÁLTICO DE 20000 L, EM VIA URBANA EM  REVESTIMENTO PRIMÁRIO (UNIDADE: TXKM). AF_07/2020","TXKM","2,02",null,null,"AS",{"$f":"IF($B11974=\"SINAPI\",IF(ISNUMBER(MATCH(Banco!$C11974,Analitico!$A:$A,0)),INDEX(Analitico!E:E,MATCH(Banco!$C11974,Analitico!$A:$A,0))&\"%\",\"\"),\"\")","v":"7,2916666%"},{"$f":"IF($B11974=\"SINAPI\",IF(ISNUMBER(MATCH(Banco!$C11974,Analitico!$A:$A,0)),INDEX(Analitico!F:F,MATCH(Banco!$C11974,Analitico!$A:$A,0))&\"%\",\"\"),\"\")","v":"%"}]
[{"$f":"CONCATENAR","v":"SINAPI 100980"},"SINAPI","100980","CARGA, MANOBRA E DESCARGA DE SOLOS E MATERIAIS GRANULARES EM CAMINHÃO BASCULANTE 18 M³ - CARGA COM ESCAVADEIRA HIDRÁULICA (CAÇAMBA DE 1,20 M³ / 155 HP) E DESCARGA LIVRE (UNIDADE: M3). AF_07/2020","M3","6,59",null,null,"AS",{"$f":"IF($B11986=\"SINAPI\",IF(ISNUMBER(MATCH(Banco!$C11986,Analitico!$A:$A,0)),INDEX(Analitico!E:E,MATCH(Banco!$C11986,Analitico!$A:$A,0))&\"%\",\"\"),\"\")","v":"9,8283931%"},{"$f":"IF($B11986=\"SINAPI\",IF(ISNUMBER(MATCH(Banco!$C11986,Analitico!$A:$A,0)),INDEX(Analitico!F:F,MATCH(Banco!$C11986,Analitico!$A:$A,0))&\"%\",\"\"),\"\")","v":"%"}]
[{"$f":"CONCATENAR","v":"SINAPI 100989"},"SINAPI","100989","CARGA, MANOBRA E DESCARGA DE SOLOS E MATERIAIS GRANULARES EM CAMINHÃO BASCULANTE 6 M³ - CARGA COM PÁ CARREGADEIRA (CAÇAMBA DE 1,7 A 2,8 M³ / 128 HP) E DESCARGA LIVRE (UNIDADE: T). AF_07/2020","T","6,27",null,null,"CR",{"$f":"IF($B11995=\"SINAPI\",IF(ISNUMBER(MATCH(Banco!$C11995,Analitico!$A:$A,0)),INDEX(Analitico!E:E,MATCH(Banco!$C11995,Analitico!$A:$A,0))&\"%\",\"\"),\"\")","v":"17,9571663%"},{"$f":"IF($B11995=\"SINAPI\",IF(ISNUMBER(MATCH(Banco!$C11995,Analitico!$A:$A,0)),INDEX(Analitico!F:F,MATCH(Banco!$C11995,Analitico!$A:$A,0))&\"%\",\"\"),\"\")","v":"%"}]
[{"$f":"CONCATENAR","v":"SINAPI 100998"},"SINAPI","100998","CARGA, MANOBRA E DESCARGA DE ENTULHO EM CAMINHÃO BASCULANTE 10 M³ - CARGA COM ESCAVADEIRA HIDRÁULICA  (CAÇAMBA DE 0,80 M³ / 111 HP) E DESCARGA LIVRE (UNIDADE: T). AF_07/2020","T","6,08",null,null,"AS",{"$f":"IF($B12004=\"SINAPI\",IF(ISNUMBER(MATCH(Banco!$C12004,Analitico!$A:$A,0)),INDEX(Analitico!E:E,MATCH(Banco!$C12004,Analitico!$A:$A,0))&\"%\",\"\"),\"\")","v":"13,3561643%"},{"$f":"IF($B12004=\"SINAPI\",IF(ISNUMBER(MATCH(Banco!$C12004,Analitico!$A:$A,0)),INDEX(Analitico!F:F,MATCH(Banco!$C12004,Analitico!$A:$A,0))&\"%\",\"\"),\"\")","v":"%"}]
[{"$f":"CONCATENAR","v":"SINAPI 101007"},"SINAPI","101007","CARGA DE ÁGUA EM CAMINHÃO PIPA 6 M³. AF_07/2020","M3","5,41",null,null,"AS",{"$f":"IF($B12013=\"SINAPI\",IF(ISNUMBER(MATCH(Banco!$C12013,Analitico!$A:$A,0)),INDEX(Analitico!E:E,MATCH(Banco!$C12013,Analitico!$A:$A,0))&\"%\",\"\"),\"\")","v":"10,0378787%"},{"$f":"IF($B12013=\"SINAPI\",IF(ISNUMBER(MATCH(Banco!$C12013,Analitico!$A:$A,0)),INDEX(Analitico!F:F,MATCH(Banco!$C12013,Analitico!$A:$A,0))&\"%\",\"\"),\"\")","v":"%"}]
[{"$f":"CONCATENAR","v":"SINAPI 101016"},"SINAPI","101016","CARGA, MANOBRA E DESCARGA DE TUBOS METÁLICOS, DN MENOR OU IGUAL A 150 MM, EM CAMINHÃO CARROCERIA COM GUINDAUTO (MUNCK) 11,7 TM. AF_07/2020","T","39,40",null,null,"CR",{"$f":"IF($B12020=\"SINAPI\",IF(ISNUMBER(MATCH(Banco!$C12020,Analitico!$A:$A,0)),INDEX(Analitico!E:E,MATCH(Banco!$C12020,Analitico!$A:$A,0))&\"%\",\"\"),\"\")","v":"20,8312085%"},{"$f":"IF($B12020=\"SINAPI\",IF(ISNUMBER(MATCH(Banco!$C12020,Analitico!$A:$A,0)),INDEX(Analitico!F:F,MATCH(Banco!$C12020,Analitico!$A:$A,0))&\"%\",\"\"),\"\")","v":"%"}]
[{"$f":"CONCATENAR","v":"SINAPI 101464"},"SINAPI","101464","CARGA, MANOBRA E DESCARGA DE TUBOS DE CONCRETO, DN 700 MM, EM CAMINHÃO CARROCERIA COM GUINDAUTO (MUNCK) 11,7 TM. AF_07/2020","T","34,85",null,null,"CR",{"$f":"IF($B12024=\"SINAPI\",IF(ISNUMBER(MATCH(Banco!$C12024,Analitico!$A:$A,0)),INDEX(Analitico!E:E,MATCH(Banco!$C12024,Analitico!$A:$A,0))&\"%\",\"\"),\"\")","v":"20,8357348%"},{"$f":"IF($B12024=\"SINAPI\",IF(ISNUMBER(MATCH(Banco!$C12024,Analitico!$A:$A,0)),INDEX(Analitico!F:F,MATCH(Banco!$C12024,Analitico!$A:$A,0))&\"%\",\"\"),\"\")","v":"%"}]
[{"$f":"CONCATENAR","v":"SINAPI 101473"},"SINAPI","101473","CARGA, MANOBRA E DESCARGA DE TUBOS METÁLICOS, DN 600 MM, EM CAMINHÃO CARROCERIA COM GUINDAUTO (MUNCK) 11,7 TM. AF_07/2020","T","28,33",null,null,"CR",{"$f":"IF($B12033=\"SINAPI\",IF(ISNUMBER(MATCH(Banco!$C12033,Analitico!$A:$A,0)),INDEX(Analitico!E:E,MATCH(Banco!$C12033,Analitico!$A:$A,0))&\"%\",\"\"),\"\")","v":"20,8451704%"},{"$f":"IF($B12033=\"SINAPI\",IF(ISNUMBER(MATCH(Banco!$C12033,Analitico!$A:$A,0)),INDEX(Analitico!F:F,MATCH(Banco!$C12033,Analitico!$A:$A,0))&\"%\",\"\"),\"\")","v":"%"}]
[{"$f":"CONCATENAR","v":"SINAPI 101483"},"SINAPI","101483","CARGA, MANOBRA E DESCARGA DE TUBOS PLÁSTICOS, DN 500 MM, EM CAMINHÃO CARROCERIA COM GUINDAUTO (MUNCK) 11,7 TM. AF_07/2020","T","37,20",null,null,"CR",{"$f":"IF($B12042=\"SINAPI\",IF(ISNUMBER(MATCH(Banco!$C12042,Analitico!$A:$A,0)),INDEX(Analitico!E:E,MATCH(Banco!$C12042,Analitico!$A:$A,0))&\"%\",\"\"),\"\")","v":"20,8423326%"},{"$f":"IF($B12042=\"SINAPI\",IF(ISNUMBER(MATCH(Banco!$C12042,Analitico!$A:$A,0)),INDEX(Analitico!F:F,MATCH(Banco!$C12042,Analitico!$A:$A,0))&\"%\",\"\"),\"\")","v":"%"}]
[{"$f":"CONCATENAR","v":"SINAPI 101191"},"SINAPI","101191","CERCA COM MOURÕES DE CONCRETO, RETO, H=3,00 M, ESPAÇAMENTO DE 2,5 M, CRAVADOS 0,5 M, COM 4 FIOS DE ARAME MISTO - FORNECIMENTO E INSTALAÇÃO. AF_05/2020","M","66,84",null,null,"CR",{"$f":"IF($B12051=\"SINAPI\",IF(ISNUMBER(MATCH(Banco!$C12051,Analitico!$A:$A,0)),INDEX(Analitico!E:E,MATCH(Banco!$C12051,Analitico!$A:$A,0))&\"%\",\"\"),\"\")","v":"27,7786110%"},{"$f":"IF($B12051=\"SINAPI\",IF(ISNUMBER(MATCH(Banco!$C12051,Analitico!$A:$A,0)),INDEX(Analitico!F:F,MATCH(Banco!$C12051,Analitico!$A:$A,0))&\"%\",\"\"),\"\")","v":"%"}]
[{"$f":"CONCATENAR","v":"SINAPI 101199"},"SINAPI","101199","CERCA COM MOURÕES DE CONCRETO, SEÇÃO \"T\" PONTA INCLINADA, 10X10CM, ESPAÇAMENTO DE 2,5M, CRAVADOS 0,5M, COM 11 FIOS DE ARAME MISTO - FORNECIMENTO E INSTALAÇÃO. AF_05/2020","M","89,42",null,null,"CR",{"$f":"IF($B12057=\"SINAPI\",IF(ISNUMBER(MATCH(Banco!$C12057,Analitico!$A:$A,0)),INDEX(Analitico!E:E,MATCH(Banco!$C12057,Analitico!$A:$A,0))&\"%\",\"\"),\"\")","v":"33,0794219%"},{"$f":"IF($B12057=\"SINAPI\",IF(ISNUMBER(MATCH(Banco!$C12057,Analitico!$A:$A,0)),INDEX(Analitico!F:F,MATCH(Banco!$C12057,Analitico!$A:$A,0))&\"%\",\"\"),\"\")","v":"%"}]
[{"$f":"CONCATENAR","v":"SINAPI 98516"},"SINAPI","98516","PLANTIO DE PALMEIRA COM ALTURA DE MUDA MENOR OU IGUAL A 2,00 M . AF_07/2024","UN","290,27",null,null,"CR",{"$f":"IF($B12070=\"SINAPI\",IF(ISNUMBER(MATCH(Banco!$C12070,Analitico!$A:$A,0)),INDEX(Analitico!E:E,MATCH(Banco!$C12070,Analitico!$A:$A,0))&\"%\",\"\"),\"\")","v":"28,2556976%"},{"$f":"IF($B12070=\"SINAPI\",IF(ISNUMBER(MATCH(Banco!$C12070,Analitico!$A:$A,0)),INDEX(Analitico!F:F,MATCH(Banco!$C12070,Analitico!$A:$A,0))&\"%\",\"\"),\"\")","v":"%"}]
[{"$f":"CONCATENAR","v":"SINAPI 98505"},"SINAPI","98505","PLANTIO DE FORRAÇÃO. AF_07/2024","M2","64,57",null,null,"CR",{"$f":"IF($B12079=\"SINAPI\",IF(ISNUMBER(MATCH(Banco!$C12079,Analitico!$A:$A,0)),INDEX(Analitico!E:E,MATCH(Banco!$C12079,Analitico!$A:$A,0))&\"%\",\"\"),\"\")","v":"7,0686715%"},{"$f":"IF($B12079=\"SINAPI\",IF(ISNUMBER(MATCH(Banco!$C12079,Analitico!$A:$A,0)),INDEX(Analitico!F:F,MATCH(Banco!$C12079,Analitico!$A:$A,0))&\"%\",\"\"),\"\")","v":"%"}]
[{"$f":"CONCATENAR","v":"SINAPI 103186"},"SINAPI","103186","INSTALAÇÃO DE MULTIEXERCITADOR COM SEIS FUNÇÕES, EM TUBO DE AÇO CARBONO - EQUIPAMENTO DE GINÁSTICA PARA ACADEMIA AO AR LIVRE / ACADEMIA DA TERCEIRA IDADE - ATI, INSTALADO SOBRE PISO DE CONCRETO EXISTENTE. AF_10/2021","UN","6.482,54",null,null,"AS",{"$f":"IF($B12088=\"SINAPI\",IF(ISNUMBER(MATCH(Banco!$C12088,Analitico!$A:$A,0)),INDEX(Analitico!E:E,MATCH(Banco!$C12088,Analitico!$A:$A,0))&\"%\",\"\"),\"\")","v":"0,5607413%"},{"$f":"IF($B12088=\"SINAPI\",IF(ISNUMBER(MATCH(Banco!$C12088,Analitico!$A:$A,0)),INDEX(Analitico!F:F,MATCH(Banco!$C12088,Analitico!$A:$A,0))&\"%\",\"\"),\"\")","v":"%"}]
[{"$f":"CONCATENAR","v":"SINAPI 103187"},"SINAPI","103187","INSTALAÇÃO DE SIMULADOR DE CAMINHADA TRIPLO, EM TUBO DE AÇO CARBONO - EQUIPAMENTO DE GINÁSTICA PARA ACADEMIA AO AR LIVRE / ACADEMIA DA TERCEIRA IDADE - ATI, INSTALADO SOBRE PISO DE CONCRETO EXISTENTE. AF_10/2021","UN","4.869,88",null,null,"AS",{"$f":"IF($B12089=\"SINAPI\",IF(ISNUMBER(MATCH(Banco!$C12089,Analitico!$A:$A,0)),INDEX(Analitico!E:E,MATCH(Banco!$C12089,Analitico!$A:$A,0))&\"%\",\"\"),\"\")","v":"1,2464552%"},{"$f":"IF($B12089=\"SINAPI\",IF(ISNUMBER(MATCH(Banco!$C12089,Analitico!$A:$A,0)),INDEX(Analitico!F:F,MATCH(Banco!$C12089,Analitico!$A:$A,0))&\"%\",\"\"),\"\")","v":"%"}]
[{"$f":"CONCATENAR","v":"SINAPI 103210"},"SINAPI","103210","INSTALAÇÃO DE PLACA ORIENTATIVA SOBRE EXERCÍCIOS, 2,00M X 1,00M, EM TUBO DE AÇO CARBONO - PARA ACADEMIA AO AR LIVRE / ACADEMIA DA TERCEIRA IDADE - ATI, INSTALADO SOBRE PISO DE CONCRETO EXISTENTE. AF_10/2021","UN","2.296,36",null,null,"AS",{"$f":"IF($B12103=\"SINAPI\",IF(ISNUMBER(MATCH(Banco!$C12103,Analitico!$A:$A,0)),INDEX(Analitico!E:E,MATCH(Banco!$C12103,Analitico!$A:$A,0))&\"%\",\"\"),\"\")","v":"5,7816181%"},{"$f":"IF($B12103=\"SINAPI\",IF(ISNUMBER(MATCH(Banco!$C12103,Analitico!$A:$A,0)),INDEX(Analitico!F:F,MATCH(Banco!$C12103,Analitico!$A:$A,0))&\"%\",\"\"),\"\")","v":"%"}]
[{"$f":"CONCATENAR","v":"SINAPI 103315"},"SINAPI","103315","INSTALAÇÃO DE PERGOLADO DE MADEIRA, EM MAÇARANDUBA, ANGELIM OU EQUIVALENTE DA REGIÃO, FIXADO COM CONCRETO SOBRE SOLO. AF_11/2021","M2","164,36",null,null,"CR",{"$f":"IF($B12108=\"SINAPI\",IF(ISNUMBER(MATCH(Banco!$C12108,Analitico!$A:$A,0)),INDEX(Analitico!E:E,MATCH(Banco!$C12108,Analitico!$A:$A,0))&\"%\",\"\"),\"\")","v":"10,0700152%"},{"$f":"IF($B12108=\"SINAPI\",IF(ISNUMBER(MATCH(Banco!$C12108,Analitico!$A:$A,0)),INDEX(Analitico!F:F,MATCH(Banco!$C12108,Analitico!$A:$A,0))&\"%\",\"\"),\"\")","v":"%"}]
[{"$f":"CONCATENAR","v":"SINAPI 98532"},"SINAPI","98532","PODA EM ALTURA DE ÁRVORE COM DIÂMETRO DE TRONCO MENOR QUE 0,20 M. AF_03/2024","UN","30,08",null,null,"CR",{"$f":"IF($B12117=\"SINAPI\",IF(ISNUMBER(MATCH(Banco!$C12117,Analitico!$A:$A,0)),INDEX(Analitico!E:E,MATCH(Banco!$C12117,Analitico!$A:$A,0))&\"%\",\"\"),\"\")","v":"35,0184131%"},{"$f":"IF($B12117=\"SINAPI\",IF(ISNUMBER(MATCH(Banco!$C12117,Analitico!$A:$A,0)),INDEX(Analitico!F:F,MATCH(Banco!$C12117,Analitico!$A:$A,0))&\"%\",\"\"),\"\")","v":"%"}]
[{"$f":"CONCATENAR","v":"SINAPI 88243"},"SINAPI","88243","AJUDANTE ESPECIALIZADO COM ENCARGOS COMPLEMENTARES","H","21,54",null,null,"CR",{"$f":"IF($B12126=\"SINAPI\",IF(ISNUMBER(MATCH(Banco!$C12126,Analitico!$A:$A,0)),INDEX(Analitico!E:E,MATCH(Banco!$C12126,Analitico!$A:$A,0))&\"%\",\"\"),\"\")","v":"73,3983287%"},{"$f":"IF($B12126=\"SINAPI\",IF(ISNUMBER(MATCH(Banco!$C12126,Analitico!$A:$A,0)),INDEX(Analitico!F:F,MATCH(Banco!$C12126,Analitico!$A:$A,0))&\"%\",\"\"),\"\")","v":"%"}]
[{"$f":"CONCATENAR","v":"SINAPI 88253"},"SINAPI","88253","AUXILIAR DE TOPÓGRAFO COM ENCARGOS COMPLEMENTARES","H","15,71",null,null,"CR",{"$f":"IF($B12135=\"SINAPI\",IF(ISNUMBER(MATCH(Banco!$C12135,Analitico!$A:$A,0)),INDEX(Analitico!E:E,MATCH(Banco!$C12135,Analitico!$A:$A,0))&\"%\",\"\"),\"\")","v":"86,2507957%"},{"$f":"IF($B12135=\"SINAPI\",IF(ISNUMBER(MATCH(Banco!$C12135,Analitico!$A:$A,0)),INDEX(Analitico!F:F,MATCH(Banco!$C12135,Analitico!$A:$A,0))&\"%\",\"\"),\"\")","v":"%"}]
[{"$f":"CONCATENAR","v":"SINAPI 88261"},"SINAPI","88261","CARPINTEIRO DE ESQUADRIA COM ENCARGOS COMPLEMENTARES","H","23,46",null,null,"CR",{"$f":"IF($B12140=\"SINAPI\",IF(ISNUMBER(MATCH(Banco!$C12140,Analitico!$A:$A,0)),INDEX(Analitico!E:E,MATCH(Banco!$C12140,Analitico!$A:$A,0))&\"%\",\"\"),\"\")","v":"75,6606991%"},{"$f":"IF($B12140=\"SINAPI\",IF(ISNUMBER(MATCH(Banco!$C12140,Analitico!$A:$A,0)),INDEX(Analitico!F:F,MATCH(Banco!$C12140,Analitico!$A:$A,0))&\"%\",\"\"),\"\")","v":"%"}]
[{"$f":"CONCATENAR","v":"SINAPI 88279"},"SINAPI","88279","MONTADOR ELETROMECÃNICO COM ENCARGOS COMPLEMENTARES","H","39,03",null,null,"CR",{"$f":"IF($B12154=\"SINAPI\",IF(ISNUMBER(MATCH(Banco!$C12154,Analitico!$A:$A,0)),INDEX(Analitico!E:E,MATCH(Banco!$C12154,Analitico!$A:$A,0))&\"%\",\"\"),\"\")","v":"85,0371510%"},{"$f":"IF($B12154=\"SINAPI\",IF(ISNUMBER(MATCH(Banco!$C12154,Analitico!$A:$A,0)),INDEX(Analitico!F:F,MATCH(Banco!$C12154,Analitico!$A:$A,0))&\"%\",\"\"),\"\")","v":"%"}]
[{"$f":"CONCATENAR","v":"SINAPI 88281"},"SINAPI","88281","MOTORISTA DE BASCULANTE COM ENCARGOS COMPLEMENTARES","H","24,87",null,null,"CR",{"$f":"IF($B12155=\"SINAPI\",IF(ISNUMBER(MATCH(Banco!$C12155,Analitico!$A:$A,0)),INDEX(Analitico!E:E,MATCH(Banco!$C12155,Analitico!$A:$A,0))&\"%\",\"\"),\"\")","v":"81,2625654%"},{"$f":"IF($B12155=\"SINAPI\",IF(ISNUMBER(MATCH(Banco!$C12155,Analitico!$A:$A,0)),INDEX(Analitico!F:F,MATCH(Banco!$C12155,Analitico!$A:$A,0))&\"%\",\"\"),\"\")","v":"%"}]
[{"$f":"CONCATENAR","v":"SINAPI 88294"},"SINAPI","88294","OPERADOR DE ESCAVADEIRA COM ENCARGOS COMPLEMENTARES","H","32,70",null,null,"C",{"$f":"IF($B12164=\"SINAPI\",IF(ISNUMBER(MATCH(Banco!$C12164,Analitico!$A:$A,0)),INDEX(Analitico!E:E,MATCH(Banco!$C12164,Analitico!$A:$A,0))&\"%\",\"\"),\"\")","v":"85,7492355%"},{"$f":"IF($B12164=\"SINAPI\",IF(ISNUMBER(MATCH(Banco!$C12164,Analitico!$A:$A,0)),INDEX(Analitico!F:F,MATCH(Banco!$C12164,Analitico!$A:$A,0))&\"%\",\"\"),\"\")","v":"%"}]
[{"$f":"CONCATENAR","v":"SINAPI 88303"},"SINAPI","88303","OPERADOR DE ROLO COMPACTADOR COM ENCARGOS COMPLEMENTARES","H","29,90",null,null,"CR",{"$f":"IF($B12173=\"SINAPI\",IF(ISNUMBER(MATCH(Banco!$C12173,Analitico!$A:$A,0)),INDEX(Analitico!E:E,MATCH(Banco!$C12173,Analitico!$A:$A,0))&\"%\",\"\"),\"\")","v":"84,4147158%"},{"$f":"IF($B12173=\"SINAPI\",IF(ISNUMBER(MATCH(Banco!$C12173,Analitico!$A:$A,0)),INDEX(Analitico!F:F,MATCH(Banco!$C12173,Analitico!$A:$A,0))&\"%\",\"\"),\"\")","v":"%"}]
[{"$f":"CONCATENAR","v":"SINAPI 88317"},"SINAPI","88317","SOLDADOR COM ENCARGOS COMPLEMENTARES","H","28,78",null,null,"C",{"$f":"IF($B12186=\"SINAPI\",IF(ISNUMBER(MATCH(Banco!$C12186,Analitico!$A:$A,0)),INDEX(Analitico!E:E,MATCH(Banco!$C12186,Analitico!$A:$A,0))&\"%\",\"\"),\"\")","v":"76,3377346%"},{"$f":"IF($B12186=\"SINAPI\",IF(ISNUMBER(MATCH(Banco!$C12186,Analitico!$A:$A,0)),INDEX(Analitico!F:F,MATCH(Banco!$C12186,Analitico!$A:$A,0))&\"%\",\"\"),\"\")","v":"%"}]
[{"$f":"CONCATENAR","v":"SINAPI 88325"},"SINAPI","88325","VIDRACEIRO COM ENCARGOS COMPLEMENTARES","H","22,41",null,null,"CR",{"$f":"IF($B12192=\"SINAPI\",IF(ISNUMBER(MATCH(Banco!$C12192,Analitico!$A:$A,0)),INDEX(Analitico!E:E,MATCH(Banco!$C12192,Analitico!$A:$A,0))&\"%\",\"\"),\"\")","v":"73,8955824%"},{"$f":"IF($B12192=\"SINAPI\",IF(ISNUMBER(MATCH(Banco!$C12192,Analitico!$A:$A,0)),INDEX(Analitico!F:F,MATCH(Banco!$C12192,Analitico!$A:$A,0))&\"%\",\"\"),\"\")","v":"%"}]
[{"$f":"CONCATENAR","v":"SINAPI 90775"},"SINAPI","90775","DESENHISTA PROJETISTA COM ENCARGOS COMPLEMENTARES","H","28,82",null,null,"CR",{"$f":"IF($B12201=\"SINAPI\",IF(ISNUMBER(MATCH(Banco!$C12201,Analitico!$A:$A,0)),INDEX(Analitico!E:E,MATCH(Banco!$C12201,Analitico!$A:$A,0))&\"%\",\"\"),\"\")","v":"92,5052048%"},{"$f":"IF($B12201=\"SINAPI\",IF(ISNUMBER(MATCH(Banco!$C12201,Analitico!$A:$A,0)),INDEX(Analitico!F:F,MATCH(Banco!$C12201,Analitico!$A:$A,0))&\"%\",\"\"),\"\")","v":"%"}]
[{"$f":"CONCATENAR","v":"SINAPI 93563"},"SINAPI","93563","ALMOXARIFE COM ENCARGOS COMPLEMENTARES","MES","4.043,17",null,null,"CR",{"$f":"IF($B12210=\"SINAPI\",IF(ISNUMBER(MATCH(Banco!$C12210,Analitico!$A:$A,0)),INDEX(Analitico!E:E,MATCH(Banco!$C12210,Analitico!$A:$A,0))&\"%\",\"\"),\"\")","v":"89,6536629%"},{"$f":"IF($B12210=\"SINAPI\",IF(ISNUMBER(MATCH(Banco!$C12210,Analitico!$A:$A,0)),INDEX(Analitico!F:F,MATCH(Banco!$C12210,Analitico!$A:$A,0))&\"%\",\"\"),\"\")","v":"%"}]
[{"$f":"CONCATENAR","v":"SINAPI 93572"},"SINAPI","93572","ENCARREGADO GERAL DE OBRAS COM ENCARGOS COMPLEMENTARES","MES","9.811,28",null,null,"CR",{"$f":"IF($B12219=\"SINAPI\",IF(ISNUMBER(MATCH(Banco!$C12219,Analitico!$A:$A,0)),INDEX(Analitico!E:E,MATCH(Banco!$C12219,Analitico!$A:$A,0))&\"%\",\"\"),\"\")","v":"94,7582783%"},{"$f":"IF($B12219=\"SINAPI\",IF(ISNUMBER(MATCH(Banco!$C12219,Analitico!$A:$A,0)),INDEX(Analitico!F:F,MATCH(Banco!$C12219,Analitico!$A:$A,0))&\"%\",\"\"),\"\")","v":"%"}]
[{"$f":"CONCATENAR","v":"SINAPI 94295"},"SINAPI","94295","MESTRE DE OBRAS COM ENCARGOS COMPLEMENTARES","MES","16.090,22",null,null,"CR",{"$f":"IF($B12220=\"SINAPI\",IF(ISNUMBER(MATCH(Banco!$C12220,Analitico!$A:$A,0)),INDEX(Analitico!E:E,MATCH(Banco!$C12220,Analitico!$A:$A,0))&\"%\",\"\"),\"\")","v":"96,8037728%"},{"$f":"IF($B12220=\"SINAPI\",IF(ISNUMBER(MATCH(Banco!$C12220,Analitico!$A:$A,0)),INDEX(Analitico!F:F,MATCH(Banco!$C12220,Analitico!$A:$A,0))&\"%\",\"\"),\"\")","v":"%"}]
[{"$f":"CONCATENAR","v":"SINAPI 95320"},"SINAPI","95320","CURSO DE CAPACITAÇÃO PARA AUXILIAR DE SERRALHEIRO (ENCARGOS COMPLEMENTARES) - HORISTA","H","0,20",null,null,"CR",{"$f":"IF($B12234=\"SINAPI\",IF(ISNUMBER(MATCH(Banco!$C12234,Analitico!$A:$A,0)),INDEX(Analitico!E:E,MATCH(Banco!$C12234,Analitico!$A:$A,0))&\"%\",\"\"),\"\")","v":"100,0000000%"},{"$f":"IF($B12234=\"SINAPI\",IF(ISNUMBER(MATCH(Banco!$C12234,Analitico!$A:$A,0)),INDEX(Analitico!F:F,MATCH(Banco!$C12234,Analitico!$A:$A,0))&\"%\",\"\"),\"\")","v":"%"}]
[{"$f":"CONCATENAR","v":"SINAPI 95325"},"SINAPI","95325","CURSO DE CAPACITAÇÃO PARA BLASTER, DINAMITADOR OU CABO DE FOGO (ENCARGOS COMPLEMENTARES) - HORISTA","H","0,67",null,null,"CR",{"$f":"IF($B12239=\"SINAPI\",IF(ISNUMBER(MATCH(Banco!$C12239,Analitico!$A:$A,0)),INDEX(Analitico!E:E,MATCH(Banco!$C12239,Analitico!$A:$A,0))&\"%\",\"\"),\"\")","v":"100,0000000%"},{"$f":"IF($B12239=\"SINAPI\",IF(ISNUMBER(MATCH(Banco!$C12239,Analitico!$A:$A,0)),INDEX(Analitico!F:F,MATCH(Banco!$C12239,Analitico!$A:$A,0))&\"%\",\"\"),\"\")","v":"%"}]
[{"$f":"CONCATENAR","v":"SINAPI 95338"},"SINAPI","95338","CURSO DE CAPACITAÇÃO PARA IMPERMEABILIZADOR (ENCARGOS COMPLEMENTARES) - HORISTA","H","0,48",null,null,"CR",{"$f":"IF($B12248=\"SINAPI\",IF(ISNUMBER(MATCH(Banco!$C12248,Analitico!$A:$A,0)),INDEX(Analitico!E:E,MATCH(Banco!$C12248,Analitico!$A:$A,0))&\"%\",\"\"),\"\")","v":"100,0000000%"},{"$f":"IF($B12248=\"SINAPI\",IF(ISNUMBER(MATCH(Banco!$C12248,Analitico!$A:$A,0)),INDEX(Analitico!F:F,MATCH(Banco!$C12248,Analitico!$A:$A,0))&\"%\",\"\"),\"\")","v":"%"}]
[{"$f":"CONCATENAR","v":"SINAPI 95347"},"SINAPI","95347","CURSO DE CAPACITAÇÃO PARA MOTORISTA DE CAMINHÃO (ENCARGOS COMPLEMENTARES) - HORISTA","H","0,11",null,null,"C",{"$f":"IF($B12257=\"SINAPI\",IF(ISNUMBER(MATCH(Banco!$C12257,Analitico!$A:$A,0)),INDEX(Analitico!E:E,MATCH(Banco!$C12257,Analitico!$A:$A,0))&\"%\",\"\"),\"\")","v":"100,0000000%"},{"$f":"IF($B12257=\"SINAPI\",IF(ISNUMBER(MATCH(Banco!$C12257,Analitico!$A:$A,0)),INDEX(Analitico!F:F,MATCH(Banco!$C12257,Analitico!$A:$A,0))&\"%\",\"\"),\"\")","v":"%"}]
[{"$f":"CONCATENAR","v":"SINAPI 95358"},"SINAPI","95358","CURSO DE CAPACITAÇÃO PARA OPERADOR DE GUINCHO (ENCARGOS COMPLEMENTARES) - HORISTA","H","0,47",null,null,"CR",{"$f":"IF($B12266=\"SINAPI\",IF(ISNUMBER(MATCH(Banco!$C12266,Analitico!$A:$A,0)),INDEX(Analitico!E:E,MATCH(Banco!$C12266,Analitico!$A:$A,0))&\"%\",\"\"),\"\")","v":"100,0000000%"},{"$f":"IF($B12266=\"SINAPI\",IF(ISNUMBER(MATCH(Banco!$C12266,Analitico!$A:$A,0)),INDEX(Analitico!F:F,MATCH(Banco!$C12266,Analitico!$A:$A,0))&\"%\",\"\"),\"\")","v":"%"}]
[{"$f":"CONCATENAR","v":"SINAPI 95363"},"SINAPI","95363","CURSO DE CAPACITAÇÃO PARA OPERADOR DE MOTONIVELADORA (ENCARGOS COMPLEMENTARES) - HORISTA","H","0,39",null,null,"CR",{"$f":"IF($B12271=\"SINAPI\",IF(ISNUMBER(MATCH(Banco!$C12271,Analitico!$A:$A,0)),INDEX(Analitico!E:E,MATCH(Banco!$C12271,Analitico!$A:$A,0))&\"%\",\"\"),\"\")","v":"100,0000000%"},{"$f":"IF($B12271=\"SINAPI\",IF(ISNUMBER(MATCH(Banco!$C12271,Analitico!$A:$A,0)),INDEX(Analitico!F:F,MATCH(Banco!$C12271,Analitico!$A:$A,0))&\"%\",\"\"),\"\")","v":"%"}]
[{"$f":"CONCATENAR","v":"SINAPI 95377"},"SINAPI","95377","CURSO DE CAPACITAÇÃO PARA SERRALHEIRO (ENCARGOS COMPLEMENTARES) - HORISTA","H","0,24",null,null,"CR",{"$f":"IF($B12285=\"SINAPI\",IF(ISNUMBER(MATCH(Banco!$C12285,Analitico!$A:$A,0)),INDEX(Analitico!E:E,MATCH(Banco!$C12285,Analitico!$A:$A,0))&\"%\",\"\"),\"\")","v":"100,0000000%"},{"$f":"IF($B12285=\"SINAPI\",IF(ISNUMBER(MATCH(Banco!$C12285,Analitico!$A:$A,0)),INDEX(Analitico!F:F,MATCH(Banco!$C12285,Analitico!$A:$A,0))&\"%\",\"\"),\"\")","v":"%"}]
[{"$f":"CONCATENAR","v":"SINAPI 95378"},"SINAPI","95378","CURSO DE CAPACITAÇÃO PARA SERVENTE (ENCARGOS COMPLEMENTARES) - HORISTA","H","0,35",null,null,"C",{"$f":"IF($B12286=\"SINAPI\",IF(ISNUMBER(MATCH(Banco!$C12286,Analitico!$A:$A,0)),INDEX(Analitico!E:E,MATCH(Banco!$C12286,Analitico!$A:$A,0))&\"%\",\"\"),\"\")","v":"100,0000000%"},{"$f":"IF($B12286=\"SINAPI\",IF(ISNUMBER(MATCH(Banco!$C12286,Analitico!$A:$A,0)),INDEX(Analitico!F:F,MATCH(Banco!$C12286,Analitico!$A:$A,0))&\"%\",\"\"),\"\")","v":"%"}]
[{"$f":"CONCATENAR","v":"SINAPI 95390"},"SINAPI","95390","CURSO DE CAPACITAÇÃO PARA JARDINEIRO (ENCARGOS COMPLEMENTARES) - HORISTA","H","0,09",null,null,"CR",{"$f":"IF($B12295=\"SINAPI\",IF(ISNUMBER(MATCH(Banco!$C12295,Analitico!$A:$A,0)),INDEX(Analitico!E:E,MATCH(Banco!$C12295,Analitico!$A:$A,0))&\"%\",\"\"),\"\")","v":"100,0000000%"},{"$f":"IF($B12295=\"SINAPI\",IF(ISNUMBER(MATCH(Banco!$C12295,Analitico!$A:$A,0)),INDEX(Analitico!F:F,MATCH(Banco!$C12295,Analitico!$A:$A,0))&\"%\",\"\"),\"\")","v":"%"}]
[{"$f":"CONCATENAR","v":"SINAPI 95402"},"SINAPI","95402","CURSO DE CAPACITAÇÃO PARA ENGENHEIRO CIVIL DE OBRA JÚNIOR (ENCARGOS COMPLEMENTARES) - HORISTA","H","1,69",null,null,"C",{"$f":"IF($B12304=\"SINAPI\",IF(ISNUMBER(MATCH(Banco!$C12304,Analitico!$A:$A,0)),INDEX(Analitico!E:E,MATCH(Banco!$C12304,Analitico!$A:$A,0))&\"%\",\"\"),\"\")","v":"100,0000000%"},{"$f":"IF($B12304=\"SINAPI\",IF(ISNUMBER(MATCH(Banco!$C12304,Analitico!$A:$A,0)),INDEX(Analitico!F:F,MATCH(Banco!$C12304,Analitico!$A:$A,0))&\"%\",\"\"),\"\")","v":"%"}]
[{"$f":"CONCATENAR","v":"SINAPI 95419"},"SINAPI","95419","CURSO DE CAPACITAÇÃO PARA ARQUITETO JÚNIOR (ENCARGOS COMPLEMENTARES) - MENSALISTA","MES","123,20",null,null,"CR",{"$f":"IF($B12317=\"SINAPI\",IF(ISNUMBER(MATCH(Banco!$C12317,Analitico!$A:$A,0)),INDEX(Analitico!E:E,MATCH(Banco!$C12317,Analitico!$A:$A,0))&\"%\",\"\"),\"\")","v":"100,0000000%"},{"$f":"IF($B12317=\"SINAPI\",IF(ISNUMBER(MATCH(Banco!$C12317,Analitico!$A:$A,0)),INDEX(Analitico!F:F,MATCH(Banco!$C12317,Analitico!$A:$A,0))&\"%\",\"\"),\"\")","v":"%"}]
[{"$f":"CONCATENAR","v":"SINAPI 100288"},"SINAPI","100288","CURSO DE CAPACITAÇÃO PARA VIGIA DIURNO (ENCARGOS COMPLEMENTARES) - HORISTA","H","0,09",null,null,"CR",{"$f":"IF($B12323=\"SINAPI\",IF(ISNUMBER(MATCH(Banco!$C12323,Analitico!$A:$A,0)),INDEX(Analitico!E:E,MATCH(Banco!$C12323,Analitico!$A:$A,0))&\"%\",\"\"),\"\")","v":"100,0000000%"},{"$f":"IF($B12323=\"SINAPI\",IF(ISNUMBER(MATCH(Banco!$C12323,Analitico!$A:$A,0)),INDEX(Analitico!F:F,MATCH(Banco!$C12323,Analitico!$A:$A,0))&\"%\",\"\"),\"\")","v":"%"}]
[{"$f":"CONCATENAR","v":"SINAPI 100307"},"SINAPI","100307","MONTADOR DE ELETROELETRÔNICOS COM ENCARGOS COMPLEMENTARES","H","22,55",null,null,"CR",{"$f":"IF($B12332=\"SINAPI\",IF(ISNUMBER(MATCH(Banco!$C12332,Analitico!$A:$A,0)),INDEX(Analitico!E:E,MATCH(Banco!$C12332,Analitico!$A:$A,0))&\"%\",\"\"),\"\")","v":"74,1019956%"},{"$f":"IF($B12332=\"SINAPI\",IF(ISNUMBER(MATCH(Banco!$C12332,Analitico!$A:$A,0)),INDEX(Analitico!F:F,MATCH(Banco!$C12332,Analitico!$A:$A,0))&\"%\",\"\"),\"\")","v":"%"}]
[{"$f":"CONCATENAR","v":"SINAPI 101286"},"SINAPI","101286","CURSO DE CAPACITAÇÃO PARA AJUDANTE DE ARMADOR (ENCARGOS COMPLEMENTARES) - MENSALISTA","MES","27,35",null,null,"CR",{"$f":"IF($B12341=\"SINAPI\",IF(ISNUMBER(MATCH(Banco!$C12341,Analitico!$A:$A,0)),INDEX(Analitico!E:E,MATCH(Banco!$C12341,Analitico!$A:$A,0))&\"%\",\"\"),\"\")","v":"100,0000000%"},{"$f":"IF($B12341=\"SINAPI\",IF(ISNUMBER(MATCH(Banco!$C12341,Analitico!$A:$A,0)),INDEX(Analitico!F:F,MATCH(Banco!$C12341,Analitico!$A:$A,0))&\"%\",\"\"),\"\")","v":"%"}]
[{"$f":"CONCATENAR","v":"SINAPI 101295"},"SINAPI","101295","CURSO DE CAPACITAÇÃO PARA AUXILIAR DE AZULEJISTA (ENCARGOS COMPLEMENTARES) - MENSALISTA","MES","32,55",null,null,"CR",{"$f":"IF($B12350=\"SINAPI\",IF(ISNUMBER(MATCH(Banco!$C12350,Analitico!$A:$A,0)),INDEX(Analitico!E:E,MATCH(Banco!$C12350,Analitico!$A:$A,0))&\"%\",\"\"),\"\")","v":"100,0000000%"},{"$f":"IF($B12350=\"SINAPI\",IF(ISNUMBER(MATCH(Banco!$C12350,Analitico!$A:$A,0)),INDEX(Analitico!F:F,MATCH(Banco!$C12350,Analitico!$A:$A,0))&\"%\",\"\"),\"\")","v":"%"}]
[{"$f":"CONCATENAR","v":"SINAPI 101299"},"SINAPI","101299","CURSO DE CAPACITAÇÃO PARA AUXILIAR DE PEDREIRO (ENCARGOS COMPLEMENTARES) - MENSALISTA","MES","34,98",null,null,"CR",{"$f":"IF($B12354=\"SINAPI\",IF(ISNUMBER(MATCH(Banco!$C12354,Analitico!$A:$A,0)),INDEX(Analitico!E:E,MATCH(Banco!$C12354,Analitico!$A:$A,0))&\"%\",\"\"),\"\")","v":"100,0000000%"},{"$f":"IF($B12354=\"SINAPI\",IF(ISNUMBER(MATCH(Banco!$C12354,Analitico!$A:$A,0)),INDEX(Analitico!F:F,MATCH(Banco!$C12354,Analitico!$A:$A,0))&\"%\",\"\"),\"\")","v":"%"}]
[{"$f":"CONCATENAR","v":"SINAPI 101307"},"SINAPI","101307","CURSO DE CAPACITAÇÃO PARA CALCETEIRO (ENCARGOS COMPLEMENTARES) - MENSALISTA","MES","27,64",null,null,"CR",{"$f":"IF($B12361=\"SINAPI\",IF(ISNUMBER(MATCH(Banco!$C12361,Analitico!$A:$A,0)),INDEX(Analitico!E:E,MATCH(Banco!$C12361,Analitico!$A:$A,0))&\"%\",\"\"),\"\")","v":"100,0000000%"},{"$f":"IF($B12361=\"SINAPI\",IF(ISNUMBER(MATCH(Banco!$C12361,Analitico!$A:$A,0)),INDEX(Analitico!F:F,MATCH(Banco!$C12361,Analitico!$A:$A,0))&\"%\",\"\"),\"\")","v":"%"}]
[{"$f":"CONCATENAR","v":"SINAPI 101320"},"SINAPI","101320","CURSO DE CAPACITAÇÃO PARA MONTADOR DE MAQUINAS (ENCARGOS COMPLEMENTARES) - MENSALISTA","MES","40,28",null,null,"CR",{"$f":"IF($B12370=\"SINAPI\",IF(ISNUMBER(MATCH(Banco!$C12370,Analitico!$A:$A,0)),INDEX(Analitico!E:E,MATCH(Banco!$C12370,Analitico!$A:$A,0))&\"%\",\"\"),\"\")","v":"100,0000000%"},{"$f":"IF($B12370=\"SINAPI\",IF(ISNUMBER(MATCH(Banco!$C12370,Analitico!$A:$A,0)),INDEX(Analitico!F:F,MATCH(Banco!$C12370,Analitico!$A:$A,0))&\"%\",\"\"),\"\")","v":"%"}]
[{"$f":"CONCATENAR","v":"SINAPI 101331"},"SINAPI","101331","CURSO DE CAPACITAÇÃO PARA MARMORISTA / GRANITEIRO (ENCARGOS COMPLEMENTARES) - MENSALISTA","MES","41,32",null,null,"CR",{"$f":"IF($B12379=\"SINAPI\",IF(ISNUMBER(MATCH(Banco!$C12379,Analitico!$A:$A,0)),INDEX(Analitico!E:E,MATCH(Banco!$C12379,Analitico!$A:$A,0))&\"%\",\"\"),\"\")","v":"100,0000000%"},{"$f":"IF($B12379=\"SINAPI\",IF(ISNUMBER(MATCH(Banco!$C12379,Analitico!$A:$A,0)),INDEX(Analitico!F:F,MATCH(Banco!$C12379,Analitico!$A:$A,0))&\"%\",\"\"),\"\")","v":"%"}]
[{"$f":"CONCATENAR","v":"SINAPI 101341"},"SINAPI","101341","CURSO DE CAPACITAÇÃO PARA OPERADOR DE COMPRESSOR DE AR OU COMPRESSORISTA (ENCARGOS COMPLEMENTARES) - MENSALISTA","MES","23,86",null,null,"CR",{"$f":"IF($B12388=\"SINAPI\",IF(ISNUMBER(MATCH(Banco!$C12388,Analitico!$A:$A,0)),INDEX(Analitico!E:E,MATCH(Banco!$C12388,Analitico!$A:$A,0))&\"%\",\"\"),\"\")","v":"100,0000000%"},{"$f":"IF($B12388=\"SINAPI\",IF(ISNUMBER(MATCH(Banco!$C12388,Analitico!$A:$A,0)),INDEX(Analitico!F:F,MATCH(Banco!$C12388,Analitico!$A:$A,0))&\"%\",\"\"),\"\")","v":"%"}]
[{"$f":"CONCATENAR","v":"SINAPI 101353"},"SINAPI","101353","CURSO DE CAPACITAÇÃO PARA OPERADOR DE ROLO COMPACTADOR (ENCARGOS COMPLEMENTARES) - MENSALISTA","MES","31,41",null,null,"CR",{"$f":"IF($B12400=\"SINAPI\",IF(ISNUMBER(MATCH(Banco!$C12400,Analitico!$A:$A,0)),INDEX(Analitico!E:E,MATCH(Banco!$C12400,Analitico!$A:$A,0))&\"%\",\"\"),\"\")","v":"100,0000000%"},{"$f":"IF($B12400=\"SINAPI\",IF(ISNUMBER(MATCH(Banco!$C12400,Analitico!$A:$A,0)),INDEX(Analitico!F:F,MATCH(Banco!$C12400,Analitico!$A:$A,0))&\"%\",\"\"),\"\")","v":"%"}]
[{"$f":"CONCATENAR","v":"SINAPI 101361"},"SINAPI","101361","CURSO DE CAPACITAÇÃO PARA POCEIRO / ESCAVADOR DE VALAS E TUBULOES (ENCARGOS COMPLEMENTARES) - MENSALISTA","MES","66,08",null,null,"CR",{"$f":"IF($B12407=\"SINAPI\",IF(ISNUMBER(MATCH(Banco!$C12407,Analitico!$A:$A,0)),INDEX(Analitico!E:E,MATCH(Banco!$C12407,Analitico!$A:$A,0))&\"%\",\"\"),\"\")","v":"100,0000000%"},{"$f":"IF($B12407=\"SINAPI\",IF(ISNUMBER(MATCH(Banco!$C12407,Analitico!$A:$A,0)),INDEX(Analitico!F:F,MATCH(Banco!$C12407,Analitico!$A:$A,0))&\"%\",\"\"),\"\")","v":"%"}]
[{"$f":"CONCATENAR","v":"SINAPI 101372"},"SINAPI","101372","CURSO DE CAPACITAÇÃO PARA VIGIA DIURNO (ENCARGOS COMPLEMENTARES) - MENSALISTA","MES","12,54",null,null,"CR",{"$f":"IF($B12416=\"SINAPI\",IF(ISNUMBER(MATCH(Banco!$C12416,Analitico!$A:$A,0)),INDEX(Analitico!E:E,MATCH(Banco!$C12416,Analitico!$A:$A,0))&\"%\",\"\"),\"\")","v":"100,0000000%"},{"$f":"IF($B12416=\"SINAPI\",IF(ISNUMBER(MATCH(Banco!$C12416,Analitico!$A:$A,0)),INDEX(Analitico!F:F,MATCH(Banco!$C12416,Analitico!$A:$A,0))&\"%\",\"\"),\"\")","v":"%"}]
[{"$f":"CONCATENAR","v":"SINAPI 101374"},"SINAPI","101374","AJUDANTE DE ARMADOR COM ENCARGOS COMPLEMENTARES","MES","3.881,96",null,null,"CR",{"$f":"IF($B12417=\"SINAPI\",IF(ISNUMBER(MATCH(Banco!$C12417,Analitico!$A:$A,0)),INDEX(Analitico!E:E,MATCH(Banco!$C12417,Analitico!$A:$A,0))&\"%\",\"\"),\"\")","v":"71,6042927%"},{"$f":"IF($B12417=\"SINAPI\",IF(ISNUMBER(MATCH(Banco!$C12417,Analitico!$A:$A,0)),INDEX(Analitico!F:F,MATCH(Banco!$C12417,Analitico!$A:$A,0))&\"%\",\"\"),\"\")","v":"%"}]
[{"$f":"CONCATENAR","v":"SINAPI 101383"},"SINAPI","101383","AUXILIAR DE AZULEJISTA COM ENCARGOS COMPLEMENTARES","MES","3.695,87",null,null,"CR",{"$f":"IF($B12426=\"SINAPI\",IF(ISNUMBER(MATCH(Banco!$C12426,Analitico!$A:$A,0)),INDEX(Analitico!E:E,MATCH(Banco!$C12426,Analitico!$A:$A,0))&\"%\",\"\"),\"\")","v":"70,1745462%"},{"$f":"IF($B12426=\"SINAPI\",IF(ISNUMBER(MATCH(Banco!$C12426,Analitico!$A:$A,0)),INDEX(Analitico!F:F,MATCH(Banco!$C12426,Analitico!$A:$A,0))&\"%\",\"\"),\"\")","v":"%"}]
[{"$f":"CONCATENAR","v":"SINAPI 101395"},"SINAPI","101395","CARPINTEIRO AUXILIAR COM ENCARGOS COMPLEMENTARES","MES","3.863,26",null,null,"CR",{"$f":"IF($B12437=\"SINAPI\",IF(ISNUMBER(MATCH(Banco!$C12437,Analitico!$A:$A,0)),INDEX(Analitico!E:E,MATCH(Banco!$C12437,Analitico!$A:$A,0))&\"%\",\"\"),\"\")","v":"72,1483929%"},{"$f":"IF($B12437=\"SINAPI\",IF(ISNUMBER(MATCH(Banco!$C12437,Analitico!$A:$A,0)),INDEX(Analitico!F:F,MATCH(Banco!$C12437,Analitico!$A:$A,0))&\"%\",\"\"),\"\")","v":"%"}]
[{"$f":"CONCATENAR","v":"SINAPI 101408"},"SINAPI","101408","IMPERMEABILIZADOR COM ENCARGOS COMPLEMENTARES","MES","4.644,91",null,null,"CR",{"$f":"IF($B12445=\"SINAPI\",IF(ISNUMBER(MATCH(Banco!$C12445,Analitico!$A:$A,0)),INDEX(Analitico!E:E,MATCH(Banco!$C12445,Analitico!$A:$A,0))&\"%\",\"\"),\"\")","v":"76,2684315%"},{"$f":"IF($B12445=\"SINAPI\",IF(ISNUMBER(MATCH(Banco!$C12445,Analitico!$A:$A,0)),INDEX(Analitico!F:F,MATCH(Banco!$C12445,Analitico!$A:$A,0))&\"%\",\"\"),\"\")","v":"%"}]
[{"$f":"CONCATENAR","v":"SINAPI 101418"},"SINAPI","101418","MONTADOR DE ESTRUTURAS METÁLICAS COM ENCARGOS COMPLEMENTARES","MES","5.000,55",null,null,"CR",{"$f":"IF($B12454=\"SINAPI\",IF(ISNUMBER(MATCH(Banco!$C12454,Analitico!$A:$A,0)),INDEX(Analitico!E:E,MATCH(Banco!$C12454,Analitico!$A:$A,0))&\"%\",\"\"),\"\")","v":"82,4673286%"},{"$f":"IF($B12454=\"SINAPI\",IF(ISNUMBER(MATCH(Banco!$C12454,Analitico!$A:$A,0)),INDEX(Analitico!F:F,MATCH(Banco!$C12454,Analitico!$A:$A,0))&\"%\",\"\"),\"\")","v":"%"}]
[{"$f":"CONCATENAR","v":"SINAPI 101428"},"SINAPI","101428","OPERADOR DE BETONEIRA ESTACIONÁRIA COM ENCARGOS COMPLEMENTARES","MES","5.354,76",null,null,"CR",{"$f":"IF($B12463=\"SINAPI\",IF(ISNUMBER(MATCH(Banco!$C12463,Analitico!$A:$A,0)),INDEX(Analitico!E:E,MATCH(Banco!$C12463,Analitico!$A:$A,0))&\"%\",\"\"),\"\")","v":"83,6270907%"},{"$f":"IF($B12463=\"SINAPI\",IF(ISNUMBER(MATCH(Banco!$C12463,Analitico!$A:$A,0)),INDEX(Analitico!F:F,MATCH(Banco!$C12463,Analitico!$A:$A,0))&\"%\",\"\"),\"\")","v":"%"}]
[{"$f":"CONCATENAR","v":"SINAPI 101437"},"SINAPI","101437","OPERADOR DE MOTO SCRAPER COM ENCARGOS COMPLEMENTARES","MES","8.222,01",null,null,"CR",{"$f":"IF($B12472=\"SINAPI\",IF(ISNUMBER(MATCH(Banco!$C12472,Analitico!$A:$A,0)),INDEX(Analitico!E:E,MATCH(Banco!$C12472,Analitico!$A:$A,0))&\"%\",\"\"),\"\")","v":"89,3367924%"},{"$f":"IF($B12472=\"SINAPI\",IF(ISNUMBER(MATCH(Banco!$C12472,Analitico!$A:$A,0)),INDEX(Analitico!F:F,MATCH(Banco!$C12472,Analitico!$A:$A,0))&\"%\",\"\"),\"\")","v":"%"}]
[{"$f":"CONCATENAR","v":"SINAPI 101439"},"SINAPI","101439","OPERADOR DE PÁ CARREGADEIRA COM ENCARGOS COMPLEMENTARES","MES","6.289,81",null,null,"CR",{"$f":"IF($B12474=\"SINAPI\",IF(ISNUMBER(MATCH(Banco!$C12474,Analitico!$A:$A,0)),INDEX(Analitico!E:E,MATCH(Banco!$C12474,Analitico!$A:$A,0))&\"%\",\"\"),\"\")","v":"86,0611052%"},{"$f":"IF($B12474=\"SINAPI\",IF(ISNUMBER(MATCH(Banco!$C12474,Analitico!$A:$A,0)),INDEX(Analitico!F:F,MATCH(Banco!$C12474,Analitico!$A:$A,0))&\"%\",\"\"),\"\")","v":"%"}]
[{"$f":"CONCATENAR","v":"SINAPI 101449"},"SINAPI","101449","POCEIRO / ESCAVADOR DE VALAS COM ENCARGOS COMPLEMENTARES","MES","4.562,07",null,null,"CR",{"$f":"IF($B12483=\"SINAPI\",IF(ISNUMBER(MATCH(Banco!$C12483,Analitico!$A:$A,0)),INDEX(Analitico!E:E,MATCH(Banco!$C12483,Analitico!$A:$A,0))&\"%\",\"\"),\"\")","v":"80,7821888%"},{"$f":"IF($B12483=\"SINAPI\",IF(ISNUMBER(MATCH(Banco!$C12483,Analitico!$A:$A,0)),INDEX(Analitico!F:F,MATCH(Banco!$C12483,Analitico!$A:$A,0))&\"%\",\"\"),\"\")","v":"%"}]
[{"$f":"CONCATENAR","v":"SINAPI 101460"},"SINAPI","101460","VIGIA DIURNO COM ENCARGOS COMPLEMENTARES","MES","3.954,69",null,null,"CR",{"$f":"IF($B12492=\"SINAPI\",IF(ISNUMBER(MATCH(Banco!$C12492,Analitico!$A:$A,0)),INDEX(Analitico!E:E,MATCH(Banco!$C12492,Analitico!$A:$A,0))&\"%\",\"\"),\"\")","v":"72,7232729%"},{"$f":"IF($B12492=\"SINAPI\",IF(ISNUMBER(MATCH(Banco!$C12492,Analitico!$A:$A,0)),INDEX(Analitico!F:F,MATCH(Banco!$C12492,Analitico!$A:$A,0))&\"%\",\"\"),\"\")","v":"%"}]
[{"$f":"CONCATENAR","v":"SICRO 0308307"},"SICRO","0308307","Aparelho de apoio metálico elastomérico fixo com capacidade de 700 kN - fornecimento e instalação","un",4877.59]
[{"$f":"CONCATENAR","v":"SICRO 0308320"},"SICRO","0308320","Aparelho de apoio metálico elastomérico unidirecional com capacidade de 10.000 kN - fornecimento e instalação","un",45552.1]
[{"$f":"CONCATENAR","v":"SICRO 0308253"},"SICRO","0308253","Aparelho de apoio metálico esférico fixo com capacidade de 2.500 kN - fornecimento e instalação","un",14231.95]
[{"$f":"CONCATENAR","v":"SICRO 0308262"},"SICRO","0308262","Aparelho de apoio metálico esférico fixo com capacidade de 7.000 kN - fornecimento e instalação","un",54909.4]
[{"$f":"CONCATENAR","v":"SICRO 0308290"},"SICRO","0308290","Aparelho de apoio metálico esférico multidirecional com capacidade de 2.000 kN - fornecimento e instalação","un",16217.92]
[{"$f":"CONCATENAR","v":"SICRO 0308299"},"SICRO","0308299","Aparelho de apoio metálico esférico multidirecional com capacidade de 6.500 kN - fornecimento e instalação","un",50491.35]
[{"$f":"CONCATENAR","v":"SICRO 0308300"},"SICRO","0308300","Aparelho de apoio metálico esférico multidirecional com capacidade de 7.000 kN - fornecimento e instalação","un",54353.93]
[{"$f":"CONCATENAR","v":"SICRO 0308271"},"SICRO","0308271","Aparelho de apoio metálico esférico unidirecional com capacidade de 2.000 kN - fornecimento e instalação","un",16073.49]
[{"$f":"CONCATENAR","v":"SICRO 0308282"},"SICRO","0308282","Aparelho de apoio metálico esférico unidirecional com capacidade de 7.500 kN - fornecimento e instalação","un",62735.72]
[{"$f":"CONCATENAR","v":"SICRO 0307736"},"SICRO","0307736","Junta de dilatação em elastômero e perfil VV - L = 40 mm e H = 70 mm - fornecimento e instalação","m",550.54999999999995]
[{"$f":"CONCATENAR","v":"SICRO 0408038"},"SICRO","0408038","Luva de emenda com rosca cônica para aço CA-50 - D = 16 mm - fornecimento e instalação","un",32.729999999999997]
[{"$f":"CONCATENAR","v":"SICRO 0408067"},"SICRO","0408067","Tela de aço eletrossoldada - fornecimento, preparo e colocação","kg",10.67]
[{"$f":"CONCATENAR","v":"SICRO 0606789"},"SICRO","0606789","Arco metálico galvanizado tipo MP 152S - arco alto - vão = 10,54 m e altura = 6,05 m - aterro rodoviário mínimo = 1,20 m e máximo = 4,20 m - areia extraída e brita produzida","m",61529.1]
[{"$f":"CONCATENAR","v":"SICRO 0606792"},"SICRO","0606792","Arco metálico galvanizado tipo MP 152S - arco alto - vão = 10,57 m e altura = 5,41 m - aterro rodoviário mínimo = 1,20 m e máximo = 4,10 m - areia extraída e brita produzida","m",72315.399999999994]
[{"$f":"CONCATENAR","v":"SICRO 0607147"},"SICRO","0607147","Arco metálico galvanizado tipo MP 152S - arco alto - vão = 11,58 m e altura = 7,16 m - aterro rodoviário mínimo = 1,20 m e máximo = 6,40 m - areia e brita comerciais","m",90552.55]
[{"$f":"CONCATENAR","v":"SICRO 0606764"},"SICRO","0606764","Arco metálico galvanizado tipo MP 152S - arco alto - vão = 6,78 m e altura = 3,61 m - aterro rodoviário mínimo = 0,75 m e máximo = 4,80 m - areia extraída e brita produzida","m",36029.51]
[{"$f":"CONCATENAR","v":"SICRO 0607119"},"SICRO","0607119","Arco metálico galvanizado tipo MP 152S - arco alto - vão = 7,42 m e altura = 4,52 m - aterro rodoviário mínimo = 0,90 m e máximo = 6,40 m - areia e brita comerciais","m",43213.57]
[{"$f":"CONCATENAR","v":"SICRO 0606773"},"SICRO","0606773","Arco metálico galvanizado tipo MP 152S - arco alto - vão = 7,90 m e altura = 4,04 m - aterro rodoviário mínimo = 0,90 m e máximo = 4,00 m - areia extraída e brita produzida","m",41193.29]
[{"$f":"CONCATENAR","v":"SICRO 0606776"},"SICRO","0606776","Arco metálico galvanizado tipo MP 152S - arco alto - vão = 8,97 m e altura = 5,00 m - aterro rodoviário mínimo = 0,90 m e máximo = 5,80 m - areia extraída e brita produzida","m",48804.36]
[{"$f":"CONCATENAR","v":"SICRO 0607134"},"SICRO","0607134","Arco metálico galvanizado tipo MP 152S - arco alto - vão = 9,65 m e altura = 5,41 m - aterro rodoviário mínimo = 0,90 m e máximo = 4,70 m - areia e brita comerciais","m",53991.86]
[{"$f":"CONCATENAR","v":"SICRO 0606832"},"SICRO","0606832","Arco metálico galvanizado tipo MP 152S - ovoide - vão = 7,21 m e altura = 7,82 m - aterro rodoviário mínimo = 0,75 m e máximo = 6,70 m - areia extraída e brita produzida","m",67166.759999999995]
[{"$f":"CONCATENAR","v":"SICRO 0606846"},"SICRO","0606846","Arco metálico galvanizado tipo MP 152S - ovoide - vão = 8,36 m e altura = 8,23 m - aterro rodoviário mínimo = 0,90 m e máximo = 4,30 m - areia e brita comerciais","m",76710.929999999993]
[{"$f":"CONCATENAR","v":"SICRO 0606836"},"SICRO","0606836","Arco metálico galvanizado tipo MP 152S - ovoide - vão = 8,36 m e altura = 8,23 m - aterro rodoviário mínimo = 0,90 m e máximo = 4,30 m - areia extraída e brita produzida","m",76349.42]
[{"$f":"CONCATENAR","v":"SICRO 0605604"},"SICRO","0605604","Argamassa de solo-cimento com 10% de cimento e material de jazida - preparo e injeção em tunnel liner","m³",312.73]
[{"$f":"CONCATENAR","v":"SICRO 0605611"},"SICRO","0605611","Bueiro metálico com chapas múltiplas MP 100 com revestimento em epóxi - D = 1,00 m - brita produzida","m",2499.75]
[{"$f":"CONCATENAR","v":"SICRO 0605704"},"SICRO","0605704","Bueiro metálico com chapas múltiplas MP 100 com revestimento em epóxi - D = 1,50 m - brita comercial","m",3791.72]
[{"$f":"CONCATENAR","v":"SICRO 0605620"},"SICRO","0605620","Bueiro metálico com chapas múltiplas MP 100 com revestimento em epóxi - D = 1,90 m - brita produzida","m",5447.74]
[{"$f":"CONCATENAR","v":"SICRO 0605713"},"SICRO","0605713","Bueiro metálico com chapas múltiplas MP 100 com revestimento em epóxi - D = 2,40 m - brita comercial","m",9054.73]
[{"$f":"CONCATENAR","v":"SICRO 0605627"},"SICRO","0605627","Bueiro metálico com chapas múltiplas MP 100 com revestimento em epóxi - D = 2,60 m - brita produzida","m",12087.67]
[{"$f":"CONCATENAR","v":"SICRO 0605464"},"SICRO","0605464","Bueiro metálico com chapas múltiplas MP 100 galvanizadas - D = 1,00 m - brita produzida","m",2357.73]
[{"$f":"CONCATENAR","v":"SICRO 0605656"},"SICRO","0605656","Bueiro metálico com chapas múltiplas MP 100 galvanizadas - D = 1,10 m - brita comercial","m",2706.69]
[{"$f":"CONCATENAR","v":"SICRO 0605469"},"SICRO","0605469","Bueiro metálico com chapas múltiplas MP 100 galvanizadas - D = 1,50 m - brita produzida","m",3522.94]
[{"$f":"CONCATENAR","v":"SICRO 0605665"},"SICRO","0605665","Bueiro metálico com chapas múltiplas MP 100 galvanizadas - D = 2,00 m - brita comercial","m",5463.36]
[{"$f":"CONCATENAR","v":"SICRO 0605480"},"SICRO","0605480","Bueiro metálico com chapas múltiplas MP 100 galvanizadas - D = 2,60 m - brita produzida","m",11198.65]
[{"$f":"CONCATENAR","v":"SICRO 0605630"},"SICRO","0605630","Bueiro metálico com chapas múltiplas MP 152 com revestimento em epóxi - D = 1,50 m - brita produzida","m",7499.37]
[{"$f":"CONCATENAR","v":"SICRO 0605723"},"SICRO","0605723","Bueiro metálico com chapas múltiplas MP 152 com revestimento em epóxi - D = 2,65 m - brita comercial","m",13548.88]
[{"$f":"CONCATENAR","v":"SICRO 0605639"},"SICRO","0605639","Bueiro metálico com chapas múltiplas MP 152 com revestimento em epóxi - D = 3,65 m - brita produzida","m",18504.91]
[{"$f":"CONCATENAR","v":"SICRO 0605732"},"SICRO","0605732","Bueiro metálico com chapas múltiplas MP 152 com revestimento em epóxi - D = 5,00 m - brita comercial","m",30402.43]
[{"$f":"CONCATENAR","v":"SICRO 0605734"},"SICRO","0605734","Bueiro metálico com chapas múltiplas MP 152 com revestimento em epóxi - D = 5,70 m - brita comercial","m",39780.79]
[{"$f":"CONCATENAR","v":"SICRO 0605649"},"SICRO","0605649","Bueiro metálico com chapas múltiplas MP 152 com revestimento em epóxi - D = 6,85 m - brita produzida","m",66369.820000000007]
[{"$f":"CONCATENAR","v":"SICRO 0605677"},"SICRO","0605677","Bueiro metálico com chapas múltiplas MP 152 galvanizadas - D = 2,15 m - brita comercial","m",10570.41]
[{"$f":"CONCATENAR","v":"SICRO 0605490"},"SICRO","0605490","Bueiro metálico com chapas múltiplas MP 152 galvanizadas - D = 3,20 m - brita produzida","m",15765.52]
[{"$f":"CONCATENAR","v":"SICRO 0605686"},"SICRO","0605686","Bueiro metálico com chapas múltiplas MP 152 galvanizadas - D = 4,60 m - brita comercial","m",22432.54]
[{"$f":"CONCATENAR","v":"SICRO 0605692"},"SICRO","0605692","Bueiro metálico com chapas múltiplas MP 152 galvanizadas - D = 6,50 m - brita comercial","m",52573.37]
[{"$f":"CONCATENAR","v":"SICRO 0606343"},"SICRO","0606343","Bueiro metálico com chapas múltiplas MP 152 galvanizadas - lenticular - vão = 1,95 m e altura = 1,40 m - aterro rodoviário mínimo = 0,60 m e máximo = 8,40 m - brita produzida","m",8730.36]
[{"$f":"CONCATENAR","v":"SICRO 0606438"},"SICRO","0606438","Bueiro metálico com chapas múltiplas MP 152 galvanizadas - lenticular - vão = 2,75 m e altura = 1,90 m - aterro rodoviário mínimo = 0,60 m e máximo = 6,50 m - brita comercial","m",12545.67]
[{"$f":"CONCATENAR","v":"SICRO 0606348"},"SICRO","0606348","Bueiro metálico com chapas múltiplas MP 152 galvanizadas - lenticular - vão = 2,75 m e altura = 1,90 m - aterro rodoviário mínimo = 0,60 m e máximo = 6,50 m - brita produzida","m",12459.97]
[{"$f":"CONCATENAR","v":"SICRO 0606443"},"SICRO","0606443","Bueiro metálico com chapas múltiplas MP 152 galvanizadas - lenticular - vão = 3,70 m e altura = 2,35 m - aterro rodoviário mínimo = 0,60 m e máximo = 4,90 m - brita comercial","m",16037.79]
[{"$f":"CONCATENAR","v":"SICRO 0606358"},"SICRO","0606358","Bueiro metálico com chapas múltiplas MP 152 galvanizadas - lenticular - vão = 4,60 m e altura = 3,00 m - aterro rodoviário mínimo = 0,60 m e máximo = 6,10 m - brita produzida","m",19515.12]
[{"$f":"CONCATENAR","v":"SICRO 0606362"},"SICRO","0606362","Bueiro metálico com chapas múltiplas MP 152 galvanizadas - lenticular - vão = 5,45 m e altura = 3,35 m - aterro rodoviário mínimo = 0,90 m e máximo = 5,10 m - brita produzida","m",29503.87]
[{"$f":"CONCATENAR","v":"SICRO 0606457"},"SICRO","0606457","Bueiro metálico com chapas múltiplas MP 152 galvanizadas - lenticular - vão = 6,25 m e altura = 3,65 m - aterro rodoviário mínimo = 0,90 m e máximo = 4,30 m - brita comercial","m",38606.230000000003]
[{"$f":"CONCATENAR","v":"SICRO 0606461"},"SICRO","0606461","Bueiro metálico com chapas múltiplas MP 152 galvanizadas - passagem de gado - vão = 2,90 m e altura = 3,10 m - aterro rodoviário mínimo = 0,60 m e máximo = 11,40 m - brita produzida","m",15977.1]
[{"$f":"CONCATENAR","v":"SICRO 0606485"},"SICRO","0606485","Bueiro metálico com chapas múltiplas MP 152 galvanizadas - passagem inferior - vão = 4,25 m e altura = 4,10 m - aterro rodoviário mínimo = 0,60 m e máximo = 8,90 m - brita comercial","m",21543.200000000001]
[{"$f":"CONCATENAR","v":"SICRO 0606470"},"SICRO","0606470","Bueiro metálico com chapas múltiplas MP 152 galvanizadas - passagem inferior - vão = 4,80 m e altura = 4,75 m - aterro rodoviário mínimo = 0,90 m e máximo = 9,00 m - brita produzida","m",29993.1]
[{"$f":"CONCATENAR","v":"SICRO 0606472"},"SICRO","0606472","Bueiro metálico com chapas múltiplas MP 152 galvanizadas - passagem inferior - vão = 5,15 m e altura = 4,90 m - aterro rodoviário mínimo = 0,90 m e máximo = 8,50 m - brita produzida","m",31732.91]
[{"$f":"CONCATENAR","v":"SICRO 0606495"},"SICRO","0606495","Bueiro metálico com chapas múltiplas MP 152 galvanizadas - passagem inferior - vão = 5,85 m e altura = 5,30 m - aterro rodoviário mínimo = 0,90 m e máximo = 8,40 m - brita comercial","m",46707.69]
[{"$f":"CONCATENAR","v":"SICRO 0605582"},"SICRO","0605582","Bueiro metálico sem interrupção de tráfego - D = 1,20 m - chapa com epóxi - escavado em material de 2ª categoria - aterro rodoviário máximo = 9,00 m","m",6794.85]
[{"$f":"CONCATENAR","v":"SICRO 0605836"},"SICRO","0605836","Bueiro metálico sem interrupção de tráfego - D = 1,40 m - chapa com epóxi - escavado em material de 1ª categoria - aterro ferroviário máximo = 11,00 m","m",8119.05]
[{"$f":"CONCATENAR","v":"SICRO 0605525"},"SICRO","0605525","Bueiro metálico sem interrupção de tráfego - D = 1,40 m - chapa galvanizada - escavado em material de 2ª categoria - aterro rodoviário máximo = 7,70 m","m",7480.19]
[{"$f":"CONCATENAR","v":"SICRO 0605526"},"SICRO","0605526","Bueiro metálico sem interrupção de tráfego - D = 1,60 m - chapa galvanizada - escavado em material de 2ª categoria - aterro rodoviário máximo = 6,70 m","m",9068.27]
[{"$f":"CONCATENAR","v":"SICRO 0605892"},"SICRO","0605892","Bueiro metálico sem interrupção de tráfego - D = 1,80 m - chapa com epóxi - escavado em material de 3ª categoria - aterro ferroviário máximo = 8,00 m","m",13534.16]
[{"$f":"CONCATENAR","v":"SICRO 0605575"},"SICRO","0605575","Bueiro metálico sem interrupção de tráfego - D = 2,00 m - chapa com epóxi - escavado em material de 1ª categoria - aterro rodoviário máximo = 5,40 m","m",11232.05]
[{"$f":"CONCATENAR","v":"SICRO 0605854"},"SICRO","0605854","Bueiro metálico sem interrupção de tráfego - D = 2,00 m - chapa com epóxi - escavado em material de 2ª categoria - aterro ferroviário máximo = 6,90 m","m",13516.44]
[{"$f":"CONCATENAR","v":"SICRO 0605548"},"SICRO","0605548","Bueiro metálico sem interrupção de tráfego - D = 2,00 m - chapa galvanizada - escavado em material de 3ª categoria - aterro rodoviário máximo = 5,40 m","m",13777.56]
[{"$f":"CONCATENAR","v":"SICRO 0605820"},"SICRO","0605820","Bueiro metálico sem interrupção de tráfego - D = 2,20 m - chapa galvanizada - escavado em material de 3ª categoria - aterro ferroviário máximo = 7,90 m","m",18834.93]
[{"$f":"CONCATENAR","v":"SICRO 0605745"},"SICRO","0605745","Bueiro metálico sem interrupção de tráfego - D = 2,40 m - chapa galvanizada - escavado em material de 1ª categoria - aterro ferroviário máximo = 7,00 m","m",16625.68]
[{"$f":"CONCATENAR","v":"SICRO 0605589"},"SICRO","0605589","Bueiro metálico sem interrupção de tráfego - D = 2,60 m - chapa com epóxi - escavado em material de 2ª categoria - aterro rodoviário máximo = 4,10 m","m",17161.96]
[{"$f":"CONCATENAR","v":"SICRO 0605843"},"SICRO","0605843","Bueiro metálico sem interrupção de tráfego - D = 2,80 m - chapa com epóxi - escavado em material de 1ª categoria - aterro ferroviário máximo = 5,50 m","m",20923.150000000001]
[{"$f":"CONCATENAR","v":"SICRO 0605532"},"SICRO","0605532","Bueiro metálico sem interrupção de tráfego - D = 2,80 m - chapa galvanizada - escavado em material de 2ª categoria - aterro rodoviário máximo = 3,80 m","m",17940.169999999998]
[{"$f":"CONCATENAR","v":"SICRO 0605552"},"SICRO","0605552","Bueiro metálico sem interrupção de tráfego - D = 2,80 m - chapa galvanizada - escavado em material de 3ª categoria - aterro rodoviário máximo = 3,80 m","m",21561.91]
[{"$f":"CONCATENAR","v":"SICRO 0605804"},"SICRO","0605804","Bueiro metálico sem interrupção de tráfego - D = 3,00 m - chapa galvanizada - escavado em material de 2ª categoria - aterro ferroviário máximo = 4,70 m","m",23989.24]
[{"$f":"CONCATENAR","v":"SICRO 0605603"},"SICRO","0605603","Bueiro metálico sem interrupção de tráfego - D = 3,20 m - chapa com epóxi - escavado em material de 3ª categoria - aterro rodoviário máximo = 4,80 m","m",29061.53]
[{"$f":"CONCATENAR","v":"SICRO 0605806"},"SICRO","0605806","Bueiro metálico sem interrupção de tráfego - D = 3,40 m - chapa galvanizada - escavado em material de 2ª categoria - aterro ferroviário máximo = 7,00 m","m",30427.53]
[{"$f":"CONCATENAR","v":"SICRO 0605556"},"SICRO","0605556","Bueiro metálico sem interrupção de tráfego - D = 3,60 m - chapa galvanizada - escavado em material de 3ª categoria - aterro rodoviário máximo = 4,30 m","m",33443.51]
[{"$f":"CONCATENAR","v":"SICRO 0605538"},"SICRO","0605538","Bueiro metálico sem interrupção de tráfego - D = 4,00 m - chapa galvanizada - escavado em material de 2ª categoria - aterro rodoviário máximo = 3,10 m","m",31681.82]
[{"$f":"CONCATENAR","v":"SICRO 0605777"},"SICRO","0605777","Bueiro metálico sem interrupção de tráfego - D = 4,40 m - chapa galvanizada - escavado em material de 1ª categoria - aterro ferroviário máximo = 4,20 m","m",37580.120000000003]
[{"$f":"CONCATENAR","v":"SICRO 0605541"},"SICRO","0605541","Bueiro metálico sem interrupção de tráfego - D = 4,60 m - chapa galvanizada - escavado em material de 2ª categoria - aterro rodoviário máximo = 4,00 m","m",42489.27]
[{"$f":"CONCATENAR","v":"SICRO 0605780"},"SICRO","0605780","Bueiro metálico sem interrupção de tráfego - D = 5,00 m - chapa galvanizada - escavado em material de 1ª categoria - aterro ferroviário máximo = 4,80 m","m",48755.98]
[{"$f":"CONCATENAR","v":"SICRO 0605523"},"SICRO","0605523","Bueiro metálico sem interrupção de tráfego - D = 5,00 m - chapa galvanizada - escavado em material de 1ª categoria - aterro rodoviário máximo = 5,30 m","m",44182.52]
[{"$f":"CONCATENAR","v":"SICRO 0705315"},"SICRO","0705315","Boca de BDCC 1,50 x 1,50 m - esconsidade 15° - areia extraída e brita produzida","un",12961.11]
[{"$f":"CONCATENAR","v":"SICRO 0705325"},"SICRO","0705325","Boca de BDCC 2,00 x 2,00 m - esconsidade 30° - areia extraída e brita produzida","un",21462.98]
[{"$f":"CONCATENAR","v":"SICRO 0705336"},"SICRO","0705336","Boca de BDCC 2,50 x 2,50 m - esconsidade 45° - areia e brita comerciais","un",43420.03]
[{"$f":"CONCATENAR","v":"SICRO 0705343"},"SICRO","0705343","Boca de BDCC 3,00 x 3,00 m - esconsidade 45° - areia extraída e brita produzida","un",57500.44]
[{"$f":"CONCATENAR","v":"SICRO 0705233"},"SICRO","0705233","Boca de BSCC 2,00 x 2,00 m - esconsidade 0° - areia e brita comerciais","un",17261.79]
[{"$f":"CONCATENAR","v":"SICRO 0705240"},"SICRO","0705240","Boca de BSCC 2,50 x 2,50 m - esconsidade 0° - areia extraída e brita produzida","un",21150.76]
[{"$f":"CONCATENAR","v":"SICRO 0705250"},"SICRO","0705250","Boca de BSCC 3,00 x 3,00 m - esconsidade 15° - areia extraída e brita produzida","un",31935.51]
[{"$f":"CONCATENAR","v":"SICRO 0705253"},"SICRO","0705253","Boca de BSCC 3,00 x 3,00 m - esconsidade 30° - areia e brita comerciais","un",38439.57]
[{"$f":"CONCATENAR","v":"SICRO 0705406"},"SICRO","0705406","Boca de BTCC 1,50 x 1,50 m - esconsidade 30° - areia extraída e brita produzida","un",16665.02]
[{"$f":"CONCATENAR","v":"SICRO 0705417"},"SICRO","0705417","Boca de BTCC 2,00 x 2,00 m - esconsidade 45° - areia e brita comerciais","un",36922.33]
[{"$f":"CONCATENAR","v":"SICRO 0705425"},"SICRO","0705425","Boca de BTCC 2,50 x 2,50 m - esconsidade 45° - areia e brita comerciais","un",54010.87]
[{"$f":"CONCATENAR","v":"SICRO 0705256"},"SICRO","0705256","Corpo de BDCC 1,50 x 1,50 m - moldado no local - altura do aterro 0,00 a 1,00 m - areia extraída e brita produzida","m",3545.4]
[{"$f":"CONCATENAR","v":"SICRO 0705263"},"SICRO","0705263","Corpo de BDCC 1,50 x 1,50 m - moldado no local - altura do aterro 5,00 a 7,50 m - areia e brita comerciais","m",4029.98]
[{"$f":"CONCATENAR","v":"SICRO 0705280"},"SICRO","0705280","Corpo de BDCC 2,00 x 2,00 m - moldado no local - altura do aterro 10,00 a 12,50 m - areia extraída e brita produzida","m",6961.42]
[{"$f":"CONCATENAR","v":"SICRO 0705285"},"SICRO","0705285","Corpo de BDCC 2,50 x 2,50 m - moldado no local - altura do aterro 0,00 a 1,00 m - areia e brita comerciais","m",7069.92]
[{"$f":"CONCATENAR","v":"SICRO 0705289"},"SICRO","0705289","Corpo de BDCC 2,50 x 2,50 m - moldado no local - altura do aterro 2,50 a 5,00 m - areia e brita comerciais","m",7340.42]
[{"$f":"CONCATENAR","v":"SICRO 0705290"},"SICRO","0705290","Corpo de BDCC 2,50 x 2,50 m - moldado no local - altura do aterro 5,00 a 7,50 m - areia extraída e brita produzida","m",7709]
[{"$f":"CONCATENAR","v":"SICRO 0705311"},"SICRO","0705311","Corpo de BDCC 3,00 x 3,00 m - moldado no local - altura do aterro 12,50 a 15,00 m - areia e brita comerciais","m",13669.03]
[{"$f":"CONCATENAR","v":"SICRO 0705168"},"SICRO","0705168","Corpo de BSCC 1,50 x 1,50 m - moldado no local - altura do aterro 0,00 a 1,00 m - areia extraída e brita produzida","m",2134.84]
[{"$f":"CONCATENAR","v":"SICRO 0705175"},"SICRO","0705175","Corpo de BSCC 1,50 x 1,50 m - moldado no local - altura do aterro 5,00 a 7,50 m - areia e brita comerciais","m",2471.5500000000002]
[{"$f":"CONCATENAR","v":"SICRO 0705192"},"SICRO","0705192","Corpo de BSCC 2,00 x 2,00 m - moldado no local - altura do aterro 10,00 a 12,50 m - areia extraída e brita produzida","m",4065.84]
[{"$f":"CONCATENAR","v":"SICRO 0705197"},"SICRO","0705197","Corpo de BSCC 2,50 x 2,50 m - moldado no local - altura do aterro 0,00 a 1,00 m - areia e brita comerciais","m",4386.1099999999997]
[{"$f":"CONCATENAR","v":"SICRO 0705203"},"SICRO","0705203","Corpo de BSCC 2,50 x 2,50 m - moldado no local - altura do aterro 5,00 a 7,50 m - areia e brita comerciais","m",5236.08]
[{"$f":"CONCATENAR","v":"SICRO 0705202"},"SICRO","0705202","Corpo de BSCC 2,50 x 2,50 m - moldado no local - altura do aterro 5,00 a 7,50 m - areia extraída e brita produzida","m",4814.6400000000003]
[{"$f":"CONCATENAR","v":"SICRO 0705223"},"SICRO","0705223","Corpo de BSCC 3,00 x 3,00 m - moldado no local - altura do aterro 12,50 a 15,00 m - areia e brita comerciais","m",9283.1]
[{"$f":"CONCATENAR","v":"SICRO 0705345"},"SICRO","0705345","Corpo de BTCC 1,50 x 1,50 m - moldado no local - altura do aterro 0,00 a 1,00 m - areia extraída e brita produzida","m",4861.1499999999996]
[{"$f":"CONCATENAR","v":"SICRO 0705349"},"SICRO","0705349","Corpo de BTCC 1,50 x 1,50 m - moldado no local - altura do aterro 2,50 a 5,00 m - areia extraída e brita produzida","m",4765.83]
[{"$f":"CONCATENAR","v":"SICRO 0705372"},"SICRO","0705372","Corpo de BTCC 2,00 x 2,00 m - moldado no local - altura do aterro 12,50 a 15,00 m - areia e brita comerciais","m",10995.11]
[{"$f":"CONCATENAR","v":"SICRO 0705373"},"SICRO","0705373","Corpo de BTCC 2,50 x 2,50 m - moldado no local - altura do aterro 0,00 a 1,00 m - areia extraída e brita produzida","m",9293.44]
[{"$f":"CONCATENAR","v":"SICRO 0705380"},"SICRO","0705380","Corpo de BTCC 2,50 x 2,50 m - moldado no local - altura do aterro 5,00 a 7,50 m - areia e brita comerciais","m",11575.79]
[{"$f":"CONCATENAR","v":"SICRO 0705398"},"SICRO","0705398","Corpo de BTCC 3,00 x 3,00 m - moldado no local - altura do aterro 10,00 a 12,50 m - areia extraída e brita produzida","m",16765.97]
[{"$f":"CONCATENAR","v":"SICRO 0705396"},"SICRO","0705396","Corpo de BTCC 3,00 x 3,00 m - moldado no local - altura do aterro 7,50 a 10,00 m - areia extraída e brita produzida","m",15412.47]
[{"$f":"CONCATENAR","v":"SICRO 0804217"},"SICRO","0804217","Boca de BDTC D = 0,80 m - esconsidade 10° - areia e brita comerciais - alas retas","un",1491.87]
[{"$f":"CONCATENAR","v":"SICRO 0804224"},"SICRO","0804224","Boca de BDTC D = 0,80 m - esconsidade 30° - areia extraída e brita produzida - alas retas","un",1308.68]
[{"$f":"CONCATENAR","v":"SICRO 0804417"},"SICRO","0804417","Boca de BDTC D = 1,00 m - esconsidade 0° - areia e brita comerciais - alas esconsas","un",3840.55]
[{"$f":"CONCATENAR","v":"SICRO 0804238"},"SICRO","0804238","Boca de BDTC D = 1,00 m - esconsidade 15° - areia extraída e brita produzida - alas retas","un",1843.63]
[{"$f":"CONCATENAR","v":"SICRO 0804420"},"SICRO","0804420","Boca de BDTC D = 1,00 m - esconsidade 30° - areia extraída e brita produzida - alas esconsas","un",3704.62]
[{"$f":"CONCATENAR","v":"SICRO 0804425"},"SICRO","0804425","Boca de BDTC D = 1,20 m - esconsidade 0° - areia e brita comerciais - alas esconsas","un",5600.55]
[{"$f":"CONCATENAR","v":"SICRO 0804258"},"SICRO","0804258","Boca de BDTC D = 1,20 m - esconsidade 15° - areia extraída e brita produzida - alas retas","un",2551.88]
[{"$f":"CONCATENAR","v":"SICRO 0804261"},"SICRO","0804261","Boca de BDTC D = 1,20 m - esconsidade 20° - areia e brita comerciais - alas retas","un",3164.3]
[{"$f":"CONCATENAR","v":"SICRO 0804266"},"SICRO","0804266","Boca de BDTC D = 1,20 m - esconsidade 35° - areia extraída e brita produzida - alas retas","un",2754.61]
[{"$f":"CONCATENAR","v":"SICRO 0804435"},"SICRO","0804435","Boca de BDTC D = 1,50 m - esconsidade 15° - areia e brita comerciais - alas esconsas","un",10474.64]
[{"$f":"CONCATENAR","v":"SICRO 0804281"},"SICRO","0804281","Boca de BDTC D = 1,50 m - esconsidade 20° - areia e brita comerciais - alas retas","un",5436.26]
[{"$f":"CONCATENAR","v":"SICRO 0804286"},"SICRO","0804286","Boca de BDTC D = 1,50 m - esconsidade 35° - areia extraída e brita produzida - alas retas","un",4648.82]
[{"$f":"CONCATENAR","v":"SICRO 0804061"},"SICRO","0804061","Boca de BSTC D = 0,40 m - esconsidade 0° - areia e brita comerciais - alas retas","un",355.76]
[{"$f":"CONCATENAR","v":"SICRO 0804070"},"SICRO","0804070","Boca de BSTC D = 0,40 m - esconsidade 25° - areia extraída e brita produzida - alas retas","un",309.27999999999997]
[{"$f":"CONCATENAR","v":"SICRO 0804076"},"SICRO","0804076","Boca de BSTC D = 0,40 m - esconsidade 40° - areia extraída e brita produzida - alas retas","un",327.93]
[{"$f":"CONCATENAR","v":"SICRO 0804377"},"SICRO","0804377","Boca de BSTC D = 0,60 m - esconsidade 0° - areia e brita comerciais - alas esconsas","un",1053.25]
[{"$f":"CONCATENAR","v":"SICRO 0804086"},"SICRO","0804086","Boca de BSTC D = 0,60 m - esconsidade 15° - areia extraída e brita produzida - alas retas","un",607.04]
[{"$f":"CONCATENAR","v":"SICRO 0804095"},"SICRO","0804095","Boca de BSTC D = 0,60 m - esconsidade 35° - areia e brita comerciais - alas retas","un",759.29]
[{"$f":"CONCATENAR","v":"SICRO 0804082"},"SICRO","0804082","Boca de BSTC D = 0,60 m - esconsidade 5° - areia extraída e brita produzida - alas retas","un",602.54999999999995]
[{"$f":"CONCATENAR","v":"SICRO 0804106"},"SICRO","0804106","Boca de BSTC D = 0,80 m - esconsidade 15° - areia extraída e brita produzida - alas retas","un",1025.8599999999999]
[{"$f":"CONCATENAR","v":"SICRO 0804115"},"SICRO","0804115","Boca de BSTC D = 0,80 m - esconsidade 35° - areia e brita comerciais - alas retas","un",1290.3800000000001]
[{"$f":"CONCATENAR","v":"SICRO 0804102"},"SICRO","0804102","Boca de BSTC D = 0,80 m - esconsidade 5° - areia extraída e brita produzida - alas retas","un",1018.28]
[{"$f":"CONCATENAR","v":"SICRO 0804394"},"SICRO","0804394","Boca de BSTC D = 1,00 m - esconsidade 15° - areia extraída e brita produzida - alas esconsas","un",2398.5300000000002]
[{"$f":"CONCATENAR","v":"SICRO 0804126"},"SICRO","0804126","Boca de BSTC D = 1,00 m - esconsidade 15° - areia extraída e brita produzida - alas retas","un",1527.8]
[{"$f":"CONCATENAR","v":"SICRO 0804135"},"SICRO","0804135","Boca de BSTC D = 1,00 m - esconsidade 35° - areia e brita comerciais - alas retas","un",1930.75]
[{"$f":"CONCATENAR","v":"SICRO 0804401"},"SICRO","0804401","Boca de BSTC D = 1,20 m - esconsidade 0° - areia e brita comerciais - alas esconsas","un",3997.49]
[{"$f":"CONCATENAR","v":"SICRO 0804146"},"SICRO","0804146","Boca de BSTC D = 1,20 m - esconsidade 15° - areia extraída e brita produzida - alas retas","un",2114.33]
[{"$f":"CONCATENAR","v":"SICRO 0804155"},"SICRO","0804155","Boca de BSTC D = 1,20 m - esconsidade 35° - areia e brita comerciais - alas retas","un",2697.48]
[{"$f":"CONCATENAR","v":"SICRO 0804142"},"SICRO","0804142","Boca de BSTC D = 1,20 m - esconsidade 5° - areia extraída e brita produzida - alas retas","un",2098.14]
[{"$f":"CONCATENAR","v":"SICRO 0804410"},"SICRO","0804410","Boca de BSTC D = 1,50 m - esconsidade 15° - areia extraída e brita produzida - alas esconsas","un",6206.63]
[{"$f":"CONCATENAR","v":"SICRO 0804175"},"SICRO","0804175","Boca de BSTC D = 1,50 m - esconsidade 35° - areia e brita comerciais - alas retas","un",4616.78]
[{"$f":"CONCATENAR","v":"SICRO 0804174"},"SICRO","0804174","Boca de BSTC D = 1,50 m - esconsidade 35° - areia extraída e brita produzida - alas retas","un",3763.31]
[{"$f":"CONCATENAR","v":"SICRO 0804441"},"SICRO","0804441","Boca de BTTC D = 1,00 m - esconsidade 0° - areia e brita comerciais - alas esconsas","un",4932.18]
[{"$f":"CONCATENAR","v":"SICRO 0804322"},"SICRO","0804322","Boca de BTTC D = 1,00 m - esconsidade 15° - areia extraída e brita produzida - alas retas","un",2242.87]
[{"$f":"CONCATENAR","v":"SICRO 0804331"},"SICRO","0804331","Boca de BTTC D = 1,00 m - esconsidade 35° - areia e brita comerciais - alas retas","un",2969.89]
[{"$f":"CONCATENAR","v":"SICRO 0804335"},"SICRO","0804335","Boca de BTTC D = 1,00 m - esconsidade 45° - areia e brita comerciais - alas retas","un",3220.97]
[{"$f":"CONCATENAR","v":"SICRO 0804342"},"SICRO","0804342","Boca de BTTC D = 1,20 m - esconsidade 15° - areia extraída e brita produzida - alas retas","un",3057.32]
[{"$f":"CONCATENAR","v":"SICRO 0804351"},"SICRO","0804351","Boca de BTTC D = 1,20 m - esconsidade 35° - areia e brita comerciais - alas retas","un",4112.93]
[{"$f":"CONCATENAR","v":"SICRO 0804338"},"SICRO","0804338","Boca de BTTC D = 1,20 m - esconsidade 5° - areia extraída e brita produzida - alas retas","un",3007.29]
[{"$f":"CONCATENAR","v":"SICRO 0804457"},"SICRO","0804457","Boca de BTTC D = 1,50 m - esconsidade 0° - areia e brita comerciais - alas esconsas","un",12708.37]
[{"$f":"CONCATENAR","v":"SICRO 0804362"},"SICRO","0804362","Boca de BTTC D = 1,50 m - esconsidade 15° - areia extraída e brita produzida - alas retas","un",5119.0600000000004]
[{"$f":"CONCATENAR","v":"SICRO 0804373"},"SICRO","0804373","Boca de BTTC D = 1,50 m - esconsidade 40° - areia e brita comerciais - alas retas","un",7135.37]
[{"$f":"CONCATENAR","v":"SICRO 0804465"},"SICRO","0804465","Confecção de tubos de concreto armado D = 0,60 m PA1 - areia e brita comerciais","m",127.56]
[{"$f":"CONCATENAR","v":"SICRO 0804466"},"SICRO","0804466","Confecção de tubos de concreto armado D = 0,80 m PA1 - areia extraída e brita produzida","m",166.03]
[{"$f":"CONCATENAR","v":"SICRO 0804479"},"SICRO","0804479","Confecção de tubos de concreto armado D = 1,00 m PA2 - areia e brita comerciais","m",391.53]
[{"$f":"CONCATENAR","v":"SICRO 0804480"},"SICRO","0804480","Confecção de tubos de concreto armado D = 1,20 m PA2 - areia extraída e brita produzida","m",522.26]
[{"$f":"CONCATENAR","v":"SICRO 0804492"},"SICRO","0804492","Confecção de tubos de concreto armado D = 1,50 m PA3 - areia extraída e brita produzida","m",1105.29]
[{"$f":"CONCATENAR","v":"SICRO 0804503"},"SICRO","0804503","Confecção de tubos de concreto armado D = 1,50 m PA4 - areia e brita comerciais","m",1454.77]
[{"$f":"CONCATENAR","v":"SICRO 0804187"},"SICRO","0804187","Corpo de BDTC D = 0,80 m PA4 - areia, brita e pedra de mão comerciais","m",1777.49]
[{"$f":"CONCATENAR","v":"SICRO 0804196"},"SICRO","0804196","Corpo de BDTC D = 1,20 m PA1 - areia extraída e brita e pedra de mão produzidas","m",2371.6799999999998]
[{"$f":"CONCATENAR","v":"SICRO 0804204"},"SICRO","0804204","Corpo de BDTC D = 1,50 m PA1 - areia extraída e brita e pedra de mão produzidas","m",3176.24]
[{"$f":"CONCATENAR","v":"SICRO 0804015"},"SICRO","0804015","Corpo de BSTC D = 0,40 m PA2 - areia, brita e pedra de mão comerciais","m",282.2]
[{"$f":"CONCATENAR","v":"SICRO 0804024"},"SICRO","0804024","Corpo de BSTC D = 0,60 m PA3 - areia extraída e brita e pedra de mão produzidas","m",424.09]
[{"$f":"CONCATENAR","v":"SICRO 0804033"},"SICRO","0804033","Corpo de BSTC D = 0,80 m PA3 - areia, brita e pedra de mão comerciais","m",745.76]
[{"$f":"CONCATENAR","v":"SICRO 0804042"},"SICRO","0804042","Corpo de BSTC D = 1,00 m PA4 - areia extraída e brita e pedra de mão produzidas","m",1172.56]
[{"$f":"CONCATENAR","v":"SICRO 0804050"},"SICRO","0804050","Corpo de BSTC D = 1,20 m PA4 - areia extraída e brita e pedra de mão produzidas","m",1344.13]
[{"$f":"CONCATENAR","v":"SICRO 0804053"},"SICRO","0804053","Corpo de BSTC D = 1,50 m PA1 - areia, brita e pedra de mão comerciais","m",1702.95]
[{"$f":"CONCATENAR","v":"SICRO 0804294"},"SICRO","0804294","Corpo de BTTC D = 1,00 m PA2 - areia extraída e brita e pedra de mão produzidas","m",2618.3200000000002]
[{"$f":"CONCATENAR","v":"SICRO 0804303"},"SICRO","0804303","Corpo de BTTC D = 1,20 m PA2 - areia, brita e pedra de mão comerciais","m",4084.43]
[{"$f":"CONCATENAR","v":"SICRO 0804312"},"SICRO","0804312","Corpo de BTTC D = 1,50 m PA3 - areia extraída e brita e pedra de mão produzidas","m",5223.0200000000004]
[{"$f":"CONCATENAR","v":"SICRO 0805449"},"SICRO","0805449","Dentes para bueiros duplos D = 1,00 m - areia, brita e pedra de mão comerciais","un",63.7]
[{"$f":"CONCATENAR","v":"SICRO 0805441"},"SICRO","0805441","Dentes para bueiros simples D = 1,00 m - areia, brita e pedra de mão comerciais","un",32.049999999999997]
[{"$f":"CONCATENAR","v":"SICRO 0805458"},"SICRO","0805458","Dentes para bueiros triplos D = 1,50 m - areia extraída e brita e pedra de mão produzidas","un",99.48]
[{"$f":"CONCATENAR","v":"SICRO 0805459"},"SICRO","0805459","Dentes para bueiros triplos D = 1,50 m - areia, brita e pedra de mão comerciais","un",130.6]
[{"$f":"CONCATENAR","v":"SICRO 0903789"},"SICRO","0903789","Emboço com argamassa de cimento, cal hidratada e areia 1:2:8 com espessura de 2 cm - aplicação manual","m²",30.59]
[{"$f":"CONCATENAR","v":"SICRO 0919008"},"SICRO","0919008","Montagem e desmontagem da usina de pré-misturado a frio com capacidade de 60 t/h - inclusive construção e demolição de bases, rampas, depósitos de agregados e bacia de contenção","un",90475.27]
[{"$f":"CONCATENAR","v":"SICRO 0919210"},"SICRO","0919210","Rampa de lavagem - inclusive demolição","un",21770.34]
[{"$f":"CONCATENAR","v":"SICRO 0903818"},"SICRO","0903818","Tinta látex - duas camadas com aplicação manual","m²",14.26]
[{"$f":"CONCATENAR","v":"SICRO 1108060"},"SICRO","1108060","Argamassa de cimento e areia 1:3 com 8% de microssílica - confecção em betoneira e lançamento manual - areia comercial","m³",617.97]
[{"$f":"CONCATENAR","v":"SICRO 1109698"},"SICRO","1109698","Argamassa de cimento, cal hidratada e areia 1:0,5:8 - confecção em betoneira e lançamento manual - areia extraída","m³",227.87]
[{"$f":"CONCATENAR","v":"SICRO 1109690"},"SICRO","1109690","Argamassa de cimento, cal hidratada e areia 1:2:6 - confecção em betoneira e lançamento manual - areia extraída","m³",330.52]
[{"$f":"CONCATENAR","v":"SICRO 1109676"},"SICRO","1109676","Argamassa de cimento, cal hidratada e areia 1:2:9 - confecção em betoneira e lançamento manual - areia comercial","m³",376.14]
[{"$f":"CONCATENAR","v":"SICRO 1107902"},"SICRO","1107902","Concreto autoadensável com silicato de alumínio fck = 30 MPa - confecção em central dosadora de 30 m³/h - areia e brita comerciais","m³",590.70000000000005]
[{"$f":"CONCATENAR","v":"SICRO 1108111"},"SICRO","1108111","Concreto com 8% de microssílica fck = 25 MPa - confecção em central dosadora de 30 m³/h - areia e brita comerciais","m³",457.81]
[{"$f":"CONCATENAR","v":"SICRO 1107891"},"SICRO","1107891","Concreto fck = 20 MPa - confecção em betoneira e lançamento manual - areia extraída e brita produzida","m³",336.38]
[{"$f":"CONCATENAR","v":"SICRO 1106136"},"SICRO","1106136","Concreto fck = 25 MPa - confecção em central dosadora de 40 m³/h - areia e brita comerciais","m³",360.38]
[{"$f":"CONCATENAR","v":"SICRO 1106138"},"SICRO","1106138","Concreto fck = 30 MPa - confecção em central dosadora de 30 m³/h - areia extraída e brita produzida","m³",314.01]
[{"$f":"CONCATENAR","v":"SICRO 1106378"},"SICRO","1106378","Concreto para bombeamento fck = 25 MPa - confecção em central dosadora de 30 m³/h - areia extraída e brita produzida","m³",327.48]
[{"$f":"CONCATENAR","v":"SICRO 1116265"},"SICRO","1116265","Concreto para bombeamento fck = 35 MPa - confecção em central dosadora de 40 m³/h - areia e brita comerciais","m³",421.16]
[{"$f":"CONCATENAR","v":"SICRO 1116269"},"SICRO","1116269","Concreto para bombeamento fck = 35 MPa - confecção em central dosadora de 40 m³/h - areia extraída e brita produzida","m³",302.89999999999998]
[{"$f":"CONCATENAR","v":"SICRO 1106284"},"SICRO","1106284","Concreto submerso fck = 20 MPa - confecção em central dosadora de 30 m³/h - areia e brita comerciais","m³",478.83]
[{"$f":"CONCATENAR","v":"SICRO 1207701"},"SICRO","1207701","Concreto fck = 25 MPa para projeção via seca - confecção em betoneira - areia e brita comerciais","m³",615.77]
[{"$f":"CONCATENAR","v":"SICRO 1207709"},"SICRO","1207709","Concreto fck = 40 MPa para projeção via úmida - confecção em central dosadora de 30 m³/h - areia e brita comerciais","m³",690.63]
[{"$f":"CONCATENAR","v":"SICRO 1207721"},"SICRO","1207721","Concreto projetado via seca fck = 30 MPa aplicado em teto","m³",1822.71]
[{"$f":"CONCATENAR","v":"SICRO 1207684"},"SICRO","1207684","Concreto projetado via úmida fck = 30 MPa aplicado em túneis classe II com seção de 40 a 60 m²","m³",885.03]
[{"$f":"CONCATENAR","v":"SICRO 1207695"},"SICRO","1207695","Concreto projetado via úmida fck = 30 MPa aplicado em túneis classe IV com seção de 60 a 90 m²","m³",946.99]
[{"$f":"CONCATENAR","v":"SICRO 1207669"},"SICRO","1207669","Concreto projetado via úmida fck = 30 MPa aplicado em túneis classe VI com seção de 20 a 40 m²","m³",1291.33]
[{"$f":"CONCATENAR","v":"SICRO 1207681"},"SICRO","1207681","Concreto projetado via úmida fck = 40 MPa aplicado em túneis classe I com seção de 40 a 60 m²","m³",957.93]
[{"$f":"CONCATENAR","v":"SICRO 1207692"},"SICRO","1207692","Concreto projetado via úmida fck = 40 MPa aplicado em túneis classe III com seção de 60 a 90 m²","m³",1017.8]
[{"$f":"CONCATENAR","v":"SICRO 1208365"},"SICRO","1208365","Concreto projetado via úmida fck = 40 MPa aplicado em túneis classe V com seção superior a 90 m²","m³",1206.8399999999999]
[{"$f":"CONCATENAR","v":"SICRO 1416201"},"SICRO","1416201","Corte de barras de aço CA-50 com maçarico oxiacetileno","cm²",0.21]
[{"$f":"CONCATENAR","v":"SICRO 1400973"},"SICRO","1400973","Corte de chapas de aço com espessura de 3 mm com maçarico oxiacetileno","m",1.48]
[{"$f":"CONCATENAR","v":"SICRO 1407069"},"SICRO","1407069","Furação de trilho TR68 com utilização de equipamento leve","un",2.98]
[{"$f":"CONCATENAR","v":"SICRO 1400978"},"SICRO","1400978","Solda tipo MIG/MAG manual","kg",193.96]
[{"$f":"CONCATENAR","v":"SICRO 1516312"},"SICRO","1516312","Geocélula em PEAD, paredes perfuradas, soldadas - altura de 100 mm e 1.206 cm² de área de célula - fornecimento e instalação","m²",41.27]
[{"$f":"CONCATENAR","v":"SICRO 1516304"},"SICRO","1516304","Geocélula em PEAD, paredes perfuradas, soldadas - altura de 100 mm e 289 cm² de área de célula - fornecimento e instalação","m²",52.76]
[{"$f":"CONCATENAR","v":"SICRO 1516300"},"SICRO","1516300","Geogrelha unidirecional com resistência à tração de 200 kN/m - fornecimento e instalação","m²",40.42]
[{"$f":"CONCATENAR","v":"SICRO 1505848"},"SICRO","1505848","Muro em blocos segmentais de face pré-moldados - C = 40 cm, L = 40 cm, e H = 20 cm com altura de 6 a 8 m - confecção e assentamento","m²",174.72]
[{"$f":"CONCATENAR","v":"SICRO 1600408"},"SICRO","1600408","Apicoamento manual de concreto","m²",18.61]
[{"$f":"CONCATENAR","v":"SICRO 1619003"},"SICRO","1619003","Demolição mecânica de concreto armado com escavadeira hidráulica","m³",66.260000000000005]
[{"$f":"CONCATENAR","v":"SICRO 1608144"},"SICRO","1608144","Perfuração em concreto com coroa diamantada - D = 44 mm","m",125.67]
[{"$f":"CONCATENAR","v":"SICRO 1608019"},"SICRO","1608019","Perfuração em concreto com martelete elétrico - D = 10 mm","m",19.010000000000002]
[{"$f":"CONCATENAR","v":"SICRO 1716616"},"SICRO","1716616","Derrocagem subaquática de material de 3ª categoria - carga e limpeza - plataforma com clamshell - flutuante e batelão rebocado de 100 t montado na obra - DMT de 2.500 a 3.000 m","m³",117.91]
[{"$f":"CONCATENAR","v":"SICRO 1716606"},"SICRO","1716606","Derrocagem subaquática de material de 3ª categoria - carga e limpeza - plataforma com clamshell - flutuante e batelão rebocado de 100 t montado na obra - DMT de 200 a 400 m","m³",110.22]
[{"$f":"CONCATENAR","v":"SICRO 1716630"},"SICRO","1716630","Derrocagem subaquática de material de 3ª categoria - carga e limpeza - plataforma flutuante com clamshell e batelão rebocado de 100 t - DMT de 1.200 a 1.400 m","m³",112.05]
[{"$f":"CONCATENAR","v":"SICRO 1716627"},"SICRO","1716627","Derrocagem subaquática de material de 3ª categoria - carga e limpeza - plataforma flutuante com clamshell e batelão rebocado de 100 t - DMT de 600 a 800 m","m³",110.51]
[{"$f":"CONCATENAR","v":"SICRO 1716653"},"SICRO","1716653","Derrocagem subaquática de material de 3ª categoria - carga e limpeza com draga backhoe de 7 m³ - transporte com batelão autopropelido de 300 m³ - DMT de 3.000 m","m³",40.4]
[{"$f":"CONCATENAR","v":"SICRO 1716621"},"SICRO","1716621","Derrocagem subaquática de material de 3ª categoria - malha de 1,5 m² - perfuração e detonação - plataforma flutuante com três torres de perfuração","m³",100.28]
[{"$f":"CONCATENAR","v":"SICRO 1817720"},"SICRO","1817720","Levantamento batimétrico multifeixe","km",94.47]
[{"$f":"CONCATENAR","v":"SICRO 1917528"},"SICRO","1917528","Dragagem de areia fina com draga de sucção e recalque - bomba de 1.350 kW e cortador de 170 kW - distância de recalque de 10.100 a 10.300 m","m³",29.53]
[{"$f":"CONCATENAR","v":"SICRO 1917537"},"SICRO","1917537","Dragagem de areia fina com draga de sucção e recalque - bomba de 1.350 kW e cortador de 170 kW - distância de recalque de 11.900 a 12.100 m","m³",41.42]
[{"$f":"CONCATENAR","v":"SICRO 1917490"},"SICRO","1917490","Dragagem de areia fina com draga de sucção e recalque - bomba de 1.350 kW e cortador de 170 kW - distância de recalque de 2.500 a 2.700 m","m³",6.61]
[{"$f":"CONCATENAR","v":"SICRO 1917498"},"SICRO","1917498","Dragagem de areia fina com draga de sucção e recalque - bomba de 1.350 kW e cortador de 170 kW - distância de recalque de 4.100 a 4.300 m","m³",9.2899999999999991]
[{"$f":"CONCATENAR","v":"SICRO 1917507"},"SICRO","1917507","Dragagem de areia fina com draga de sucção e recalque - bomba de 1.350 kW e cortador de 170 kW - distância de recalque de 5.900 a 6.100 m","m³",12.8]
[{"$f":"CONCATENAR","v":"SICRO 1917515"},"SICRO","1917515","Dragagem de areia fina com draga de sucção e recalque - bomba de 1.350 kW e cortador de 170 kW - distância de recalque de 7.500 a 7.700 m","m³",16.86]
[{"$f":"CONCATENAR","v":"SICRO 1917523"},"SICRO","1917523","Dragagem de areia fina com draga de sucção e recalque - bomba de 1.350 kW e cortador de 170 kW - distância de recalque de 9.100 a 9.300 m","m³",23.81]
[{"$f":"CONCATENAR","v":"SICRO 1917224"},"SICRO","1917224","Dragagem de areia fina com draga de sucção e recalque - bomba de 294 kW e cortador de 30 kW - distância de recalque de 1.900 a 2.100 m","m³",8.09]
[{"$f":"CONCATENAR","v":"SICRO 1917232"},"SICRO","1917232","Dragagem de areia fina com draga de sucção e recalque - bomba de 294 kW e cortador de 30 kW - distância de recalque de 3.500 a 3.700 m","m³",12.1]
[{"$f":"CONCATENAR","v":"SICRO 1917276"},"SICRO","1917276","Dragagem de areia fina com draga de sucção e recalque - bomba de 483 kW e cortador de 55 kW - distância de recalque de 1.500 a 1.700 m","m³",5.55]
[{"$f":"CONCATENAR","v":"SICRO 1917277"},"SICRO","1917277","Dragagem de areia fina com draga de sucção e recalque - bomba de 483 kW e cortador de 55 kW - distância de recalque de 1.700 a 1.900 m","m³",5.94]
[{"$f":"CONCATENAR","v":"SICRO 1917286"},"SICRO","1917286","Dragagem de areia fina com draga de sucção e recalque - bomba de 483 kW e cortador de 55 kW - distância de recalque de 3.500 a 3.700 m","m³",9.69]
[{"$f":"CONCATENAR","v":"SICRO 1917295"},"SICRO","1917295","Dragagem de areia fina com draga de sucção e recalque - bomba de 483 kW e cortador de 55 kW - distância de recalque de 5.300 a 5.500 m","m³",15.1]
[{"$f":"CONCATENAR","v":"SICRO 1917306"},"SICRO","1917306","Dragagem de areia fina com draga de sucção e recalque - bomba de 483 kW e cortador de 55 kW - distância de recalque de 7.500 a 7.700 m","m³",32.18]
[{"$f":"CONCATENAR","v":"SICRO 1917369"},"SICRO","1917369","Dragagem de areia fina com draga de sucção e recalque - bomba de 746 kW e cortador de 110 kW - distância de recalque de 1.500 a 1.700 m","m³",5.2]
[{"$f":"CONCATENAR","v":"SICRO 1917378"},"SICRO","1917378","Dragagem de areia fina com draga de sucção e recalque - bomba de 746 kW e cortador de 110 kW - distância de recalque de 3.300 a 3.500 m","m³",7.83]
[{"$f":"CONCATENAR","v":"SICRO 1917387"},"SICRO","1917387","Dragagem de areia fina com draga de sucção e recalque - bomba de 746 kW e cortador de 110 kW - distância de recalque de 5.100 a 5.300 m","m³",11.82]
[{"$f":"CONCATENAR","v":"SICRO 1917395"},"SICRO","1917395","Dragagem de areia fina com draga de sucção e recalque - bomba de 746 kW e cortador de 110 kW - distância de recalque de 6.700 a 6.900 m","m³",18.75]
[{"$f":"CONCATENAR","v":"SICRO 1917398"},"SICRO","1917398","Dragagem de areia fina com draga de sucção e recalque - bomba de 746 kW e cortador de 110 kW - distância de recalque de 7.300 a 7.500 m","m³",22.22]
[{"$f":"CONCATENAR","v":"SICRO 1917405"},"SICRO","1917405","Dragagem de areia fina com draga de sucção e recalque - bomba de 746 kW e cortador de 110 kW - distância de recalque de 8.700 a 8.900 m","m³",33.19]
[{"$f":"CONCATENAR","v":"SICRO 1917043"},"SICRO","1917043","Dragagem de areia fina com draga hopper - capacidade da cisterna de 1.000 m³ - DMT de 1.500 a 1.800 m","m³",12.1]
[{"$f":"CONCATENAR","v":"SICRO 1901521"},"SICRO","1901521","Dragagem de areia fina com draga hopper - capacidade da cisterna de 10.000 m³ - DMT de 2.400 a 2.700 m","m³",8.36]
[{"$f":"CONCATENAR","v":"SICRO 1917079"},"SICRO","1917079","Dragagem de areia fina com draga hopper - capacidade da cisterna de 2.000 m³ - DMT de 1.500 a 1.800 m","m³",8.5500000000000007]
[{"$f":"CONCATENAR","v":"SICRO 1901534"},"SICRO","1901534","Dragagem de areia fina com draga hopper - capacidade da cisterna de 20.000 m³ - DMT de 3.000 m","m³",13.88]
[{"$f":"CONCATENAR","v":"SICRO 1917152"},"SICRO","1917152","Dragagem de areia fina com draga hopper - capacidade da cisterna de 4.000 m³ - DMT de 1.800 a 2.100 m","m³",7.92]
[{"$f":"CONCATENAR","v":"SICRO 1917191"},"SICRO","1917191","Dragagem de areia fina com draga hopper - capacidade da cisterna de 5.000 m³ - DMT de 2.700 a 3.000 m","m³",9.06]
[{"$f":"CONCATENAR","v":"SICRO 1917192"},"SICRO","1917192","Dragagem de areia fina com draga hopper - capacidade da cisterna de 5.000 m³ - DMT de 3.000 m","m³",9.11]
[{"$f":"CONCATENAR","v":"SICRO 1917580"},"SICRO","1917580","Dragagem de areia grossa com draga de sucção e recalque - bomba de 1.350 kW e cortador de 170 kW - distância de recalque de 1.500 a 1.700 m","m³",7.1]
[{"$f":"CONCATENAR","v":"SICRO 1917590"},"SICRO","1917590","Dragagem de areia grossa com draga de sucção e recalque - bomba de 1.350 kW e cortador de 170 kW - distância de recalque de 3.500 a 3.700 m","m³",15.77]
[{"$f":"CONCATENAR","v":"SICRO 1917599"},"SICRO","1917599","Dragagem de areia grossa com draga de sucção e recalque - bomba de 1.350 kW e cortador de 170 kW - distância de recalque de 5.300 a 5.500 m","m³",43.65]
[{"$f":"CONCATENAR","v":"SICRO 1917255"},"SICRO","1917255","Dragagem de areia grossa com draga de sucção e recalque - bomba de 294 kW e cortador de 30 kW - distância de recalque de 1.500 a 1.700 m","m³",8.86]
[{"$f":"CONCATENAR","v":"SICRO 1917335"},"SICRO","1917335","Dragagem de areia grossa com draga de sucção e recalque - bomba de 483 kW e cortador de 55 kW - distância de recalque de 1.100 a 1.300 m","m³",5.61]
[{"$f":"CONCATENAR","v":"SICRO 1917344"},"SICRO","1917344","Dragagem de areia grossa com draga de sucção e recalque - bomba de 483 kW e cortador de 55 kW - distância de recalque de 2.900 a 3.100 m","m³",23.94]
[{"$f":"CONCATENAR","v":"SICRO 1917334"},"SICRO","1917334","Dragagem de areia grossa com draga de sucção e recalque - bomba de 483 kW e cortador de 55 kW - distância de recalque de 900 a 1.100 m","m³",5.18]
[{"$f":"CONCATENAR","v":"SICRO 1917446"},"SICRO","1917446","Dragagem de areia grossa com draga de sucção e recalque - bomba de 746 kW e cortador de 110 kW - distância de recalque de 1.700 a 1.900 m","m³",7.88]
[{"$f":"CONCATENAR","v":"SICRO 1917455"},"SICRO","1917455","Dragagem de areia grossa com draga de sucção e recalque - bomba de 746 kW e cortador de 110 kW - distância de recalque de 3.500 a 3.700 m","m³",27.35]
[{"$f":"CONCATENAR","v":"SICRO 1917055"},"SICRO","1917055","Dragagem de areia grossa com draga hopper - capacidade da cisterna de 1.000 m³ - DMT de 1.500 a 1.800 m","m³",11.02]
[{"$f":"CONCATENAR","v":"SICRO 1901539"},"SICRO","1901539","Dragagem de areia grossa com draga hopper - capacidade da cisterna de 10.000 m³ - DMT de 2.400 a 2.700 m","m³",7.53]
[{"$f":"CONCATENAR","v":"SICRO 1901544"},"SICRO","1901544","Dragagem de areia grossa com draga hopper - capacidade da cisterna de 15.000 m³ - DMT de 2.100 a 2.400 m","m³",9.81]
[{"$f":"CONCATENAR","v":"SICRO 1901552"},"SICRO","1901552","Dragagem de areia grossa com draga hopper - capacidade da cisterna de 20.000 m³ - DMT de 2.700 a 3.000 m","m³",12.34]
[{"$f":"CONCATENAR","v":"SICRO 1917164"},"SICRO","1917164","Dragagem de areia grossa com draga hopper - capacidade da cisterna de 4.000 m³ - DMT de 1.800 a 2.100 m","m³",7.17]
[{"$f":"CONCATENAR","v":"SICRO 1917203"},"SICRO","1917203","Dragagem de areia grossa com draga hopper - capacidade da cisterna de 5.000 m³ - DMT de 2.700 a 3.000 m","m³",8.19]
[{"$f":"CONCATENAR","v":"SICRO 1917204"},"SICRO","1917204","Dragagem de areia grossa com draga hopper - capacidade da cisterna de 5.000 m³ - DMT de 3.000 m","m³",8.24]
[{"$f":"CONCATENAR","v":"SICRO 1917547"},"SICRO","1917547","Dragagem de areia média com draga de sucção e recalque - bomba de 1.350 kW e cortador de 170 kW - distância de recalque de 2.300 a 2.500 m","m³",7.99]
[{"$f":"CONCATENAR","v":"SICRO 1917553"},"SICRO","1917553","Dragagem de areia média com draga de sucção e recalque - bomba de 1.350 kW e cortador de 170 kW - distância de recalque de 3.500 a 3.700 m","m³",10.42]
[{"$f":"CONCATENAR","v":"SICRO 1917562"},"SICRO","1917562","Dragagem de areia média com draga de sucção e recalque - bomba de 1.350 kW e cortador de 170 kW - distância de recalque de 5.300 a 5.500 m","m³",21.35]
[{"$f":"CONCATENAR","v":"SICRO 1917570"},"SICRO","1917570","Dragagem de areia média com draga de sucção e recalque - bomba de 1.350 kW e cortador de 170 kW - distância de recalque de 6.900 a 7.100 m","m³",42.42]
[{"$f":"CONCATENAR","v":"SICRO 1917239"},"SICRO","1917239","Dragagem de areia média com draga de sucção e recalque - bomba de 294 kW e cortador de 30 kW - distância de recalque de 1.300 a 1.500 m","m³",7.44]
[{"$f":"CONCATENAR","v":"SICRO 1917243"},"SICRO","1917243","Dragagem de areia média com draga de sucção e recalque - bomba de 294 kW e cortador de 30 kW - distância de recalque de 2.100 a 2.300 m","m³",9.34]
[{"$f":"CONCATENAR","v":"SICRO 1917315"},"SICRO","1917315","Dragagem de areia média com draga de sucção e recalque - bomba de 483 kW e cortador de 55 kW - distância de recalque de 1.900 a 2.100 m","m³",7.48]
[{"$f":"CONCATENAR","v":"SICRO 1917316"},"SICRO","1917316","Dragagem de areia média com draga de sucção e recalque - bomba de 483 kW e cortador de 55 kW - distância de recalque de 2.100 a 2.300 m","m³",7.99]
[{"$f":"CONCATENAR","v":"SICRO 1917325"},"SICRO","1917325","Dragagem de areia média com draga de sucção e recalque - bomba de 483 kW e cortador de 55 kW - distância de recalque de 3.900 a 4.100 m","m³",24.33]
[{"$f":"CONCATENAR","v":"SICRO 1917730"},"SICRO","1917730","Dragagem de areia média com draga de sucção e recalque - bomba de 483 kW e cortador de 55 kW - distância de recalque de até 500 m","m³",4.29]
[{"$f":"CONCATENAR","v":"SICRO 1917426"},"SICRO","1917426","Dragagem de areia média com draga de sucção e recalque - bomba de 746 kW e cortador de 110 kW - distância de recalque de 3.300 a 3.500 m","m³",11.26]
[{"$f":"CONCATENAR","v":"SICRO 1917433"},"SICRO","1917433","Dragagem de areia média com draga de sucção e recalque - bomba de 746 kW e cortador de 110 kW - distância de recalque de 4.700 a 4.900 m","m³",27.26]
[{"$f":"CONCATENAR","v":"SICRO 1917414"},"SICRO","1917414","Dragagem de areia média com draga de sucção e recalque - bomba de 746 kW e cortador de 110 kW - distância de recalque de 900 a 1.100 m","m³",4.9000000000000004]
[{"$f":"CONCATENAR","v":"SICRO 1901554"},"SICRO","1901554","Dragagem de areia média com draga hopper - capacidade da cisterna de 10.000 m³ - DMT de 1.800 a 2.100 m","m³",7.68]
[{"$f":"CONCATENAR","v":"SICRO 1901564"},"SICRO","1901564","Dragagem de areia média com draga hopper - capacidade da cisterna de 15.000 m³ - DMT de 2.700 a 3.000 m","m³",10.33]
[{"$f":"CONCATENAR","v":"SICRO 1901559"},"SICRO","1901559","Dragagem de areia média com draga hopper - capacidade da cisterna de 15.000 m³ - DMT de 3.000 m","m³",10.36]
[{"$f":"CONCATENAR","v":"SICRO 1917121"},"SICRO","1917121","Dragagem de areia média com draga hopper - capacidade da cisterna de 3.000 m³ - DMT de 1.500 a 1.800 m","m³",7.7]
[{"$f":"CONCATENAR","v":"SICRO 1917157"},"SICRO","1917157","Dragagem de areia média com draga hopper - capacidade da cisterna de 4.000 m³ - DMT de 1.500 a 1.800 m","m³",7.33]
[{"$f":"CONCATENAR","v":"SICRO 1917196"},"SICRO","1917196","Dragagem de areia média com draga hopper - capacidade da cisterna de 5.000 m³ - DMT de 2.400 a 2.700 m","m³",8.39]
[{"$f":"CONCATENAR","v":"SICRO 1917623"},"SICRO","1917623","Dragagem de cascalho com draga de sucção e recalque - bomba de 1.350 kW e cortador de 170 kW - distância de recalque de 1.100 a 1.300 m","m³",18.12]
[{"$f":"CONCATENAR","v":"SICRO 1917741"},"SICRO","1917741","Dragagem de cascalho com draga de sucção e recalque - bomba de 1.350 kW e cortador de 170 kW - distância de recalque de até 500 m","m³",7.88]
[{"$f":"CONCATENAR","v":"SICRO 1917267"},"SICRO","1917267","Dragagem de cascalho com draga de sucção e recalque - bomba de 294 kW e cortador de 30 kW - distância de recalque de 700 a 900 m","m³",10.55]
[{"$f":"CONCATENAR","v":"SICRO 1917475"},"SICRO","1917475","Dragagem de cascalho com draga de sucção e recalque - bomba de 746 kW e cortador de 110 kW - distância de recalque de 900 a 1.100 m","m³",18.21]
[{"$f":"CONCATENAR","v":"SICRO 1917736"},"SICRO","1917736","Dragagem de cascalho com draga de sucção e recalque - bomba de 746 kW e cortador de 110 kW - distância de recalque de até 500 m","m³",8]
[{"$f":"CONCATENAR","v":"SICRO 1901574"},"SICRO","1901574","Dragagem de cascalho com draga hopper - capacidade da cisterna de 10.000 m³ - DMT de 2.100 a 2.400 m","m³",7.1]
[{"$f":"CONCATENAR","v":"SICRO 1901577"},"SICRO","1901577","Dragagem de cascalho com draga hopper - capacidade da cisterna de 15.000 m³ - DMT de 3.000 m","m³",9.44]
[{"$f":"CONCATENAR","v":"SICRO 1901588"},"SICRO","1901588","Dragagem de cascalho com draga hopper - capacidade da cisterna de 20.000 m³ - DMT de 3.000 m","m³",11.66]
[{"$f":"CONCATENAR","v":"SICRO 1917175"},"SICRO","1917175","Dragagem de cascalho com draga hopper - capacidade da cisterna de 4.000 m³ - DMT de 1.500 a 1.800 m","m³",6.78]
[{"$f":"CONCATENAR","v":"SICRO 1917214"},"SICRO","1917214","Dragagem de cascalho com draga hopper - capacidade da cisterna de 5.000 m³ - DMT de 2.400 a 2.700 m","m³",7.74]
[{"$f":"CONCATENAR","v":"SICRO 1917605"},"SICRO","1917605","Dragagem de cascalho fino com draga de sucção e recalque - bomba de 1.350 kW e cortador de 170 kW - distância de recalque de 1.100 a 1.300 m","m³",8.08]
[{"$f":"CONCATENAR","v":"SICRO 1917614"},"SICRO","1917614","Dragagem de cascalho fino com draga de sucção e recalque - bomba de 1.350 kW e cortador de 170 kW - distância de recalque de 2.900 a 3.100 m","m³",26.1]
[{"$f":"CONCATENAR","v":"SICRO 1917617"},"SICRO","1917617","Dragagem de cascalho fino com draga de sucção e recalque - bomba de 1.350 kW e cortador de 170 kW - distância de recalque de 3.500 a 3.700 m","m³",39.03]
[{"$f":"CONCATENAR","v":"SICRO 1917264"},"SICRO","1917264","Dragagem de cascalho fino com draga de sucção e recalque - bomba de 294 kW e cortador de 30 kW - distância de recalque de 1.300 a 1.500 m","m³",12.73]
[{"$f":"CONCATENAR","v":"SICRO 1917354"},"SICRO","1917354","Dragagem de cascalho fino com draga de sucção e recalque - bomba de 483 kW e cortador de 55 kW - distância de recalque de 1.700 a 1.900 m","m³",19.79]
[{"$f":"CONCATENAR","v":"SICRO 1917464"},"SICRO","1917464","Dragagem de cascalho fino com draga de sucção e recalque - bomba de 746 kW e cortador de 110 kW - distância de recalque de 1.300 a 1.500 m","m³",10.53]
[{"$f":"CONCATENAR","v":"SICRO 1917460"},"SICRO","1917460","Dragagem de cascalho fino com draga de sucção e recalque - bomba de 746 kW e cortador de 110 kW - distância de recalque de 500 a 700 m","m³",5.25]
[{"$f":"CONCATENAR","v":"SICRO 1901591"},"SICRO","1901591","Dragagem de cascalho fino com draga hopper - capacidade da cisterna de 10.000 m³ - DMT de 1.800 a 2.100 m","m³",7.16]
[{"$f":"CONCATENAR","v":"SICRO 1901599"},"SICRO","1901599","Dragagem de cascalho fino com draga hopper - capacidade da cisterna de 15.000 m³ - DMT de 2.400 a 2.700 m","m³",9.52]
[{"$f":"CONCATENAR","v":"SICRO 1901601"},"SICRO","1901601","Dragagem de cascalho fino com draga hopper - capacidade da cisterna de 20.000 m³ - DMT de 1.500 a 1.800 m","m³",11.65]
[{"$f":"CONCATENAR","v":"SICRO 1901602"},"SICRO","1901602","Dragagem de cascalho fino com draga hopper - capacidade da cisterna de 20.000 m³ - DMT de 1.800 a 2.100 m","m³",11.7]
[{"$f":"CONCATENAR","v":"SICRO 1917137"},"SICRO","1917137","Dragagem de cascalho fino com draga hopper - capacidade da cisterna de 3.000 m³ - DMT de 2.700 a 3.000 m","m³",7.68]
[{"$f":"CONCATENAR","v":"SICRO 1917207"},"SICRO","1917207","Dragagem de cascalho fino com draga hopper - capacidade da cisterna de 5.000 m³ - DMT de 2.100 a 2.400 m","m³",7.77]
[{"$f":"CONCATENAR","v":"SICRO 1917030"},"SICRO","1917030","Dragagem de cascalho fino com draga hopper - capacidade da cisterna de 750 m³ - DMT de 3.000 m","m³",16.02]
[{"$f":"CONCATENAR","v":"SICRO 1917631"},"SICRO","1917631","Dragagem de material de 1ª categoria com clamshell sobre pontão flutuante - capacidade da caçamba de 4,6 m³ - transporte com batelão sem propulsão com capacidade de 100 t - DMT 600 a 900 m","m³",14.21]
[{"$f":"CONCATENAR","v":"SICRO 1917652"},"SICRO","1917652","Dragagem de material de 1ª categoria com dragline - caçamba de 2,1 m³ - caminho de serviço em leito natural - DMT 2.500 a 3.000 m - com caminhão de 14 m³ e carregadeira","m³",21.96]
[{"$f":"CONCATENAR","v":"SICRO 1917661"},"SICRO","1917661","Dragagem de material de 1ª categoria com dragline - caçamba de 2,1 m³ - caminho de serviço em revestimento primário - DMT 1.400 a 1.600 m - com caminhão de 14 m³ e carregadeira","m³",17.829999999999998]
[{"$f":"CONCATENAR","v":"SICRO 1917666"},"SICRO","1917666","Dragagem de material de 1ª categoria com dragline - caçamba de 2,1 m³ - caminho de serviço em revestimento primário - DMT de 3.000 m - com caminhão de 14 m³ e carregadeira","m³",19.149999999999999]
[{"$f":"CONCATENAR","v":"SICRO 1917672"},"SICRO","1917672","Dragagem de material de 1ª categoria com dragline - caçamba de 2,1 m³ - caminho de serviço pavimentado - DMT 1.000 a 1.200 m - com caminhão de 14 m³ e carregadeira","m³",17.48]
[{"$f":"CONCATENAR","v":"SICRO 1917667"},"SICRO","1917667","Dragagem de material de 1ª categoria com dragline - caçamba de 2,1 m³ - caminho de serviço pavimentado - DMT 50 a 200 m - com caminhão de 14 m³ e carregadeira","m³",15.12]
[{"$f":"CONCATENAR","v":"SICRO 1917690"},"SICRO","1917690","Dragagem de material de 1ª categoria com escavadeira hidráulica - capacidade de caçamba de 1,56 m³ - caminho de serviço em leito natural - DMT 1.800 a 2.000 m","m³",11.71]
[{"$f":"CONCATENAR","v":"SICRO 1917699"},"SICRO","1917699","Dragagem de material de 1ª categoria com escavadeira hidráulica - capacidade de caçamba de 1,56 m³ - caminho de serviço em revestimento primário - DMT 1.000 a 1.200 m","m³",9.1300000000000008]
[{"$f":"CONCATENAR","v":"SICRO 1917696"},"SICRO","1917696","Dragagem de material de 1ª categoria com escavadeira hidráulica - capacidade de caçamba de 1,56 m³ - caminho de serviço em revestimento primário - DMT 400 a 600 m","m³",8.58]
[{"$f":"CONCATENAR","v":"SICRO 1917718"},"SICRO","1917718","Dragagem de material de 1ª categoria com escavadeira hidráulica - capacidade de caçamba de 1,56 m³ - caminho de serviço pavimentado - DMT 2.500 a 3.000 m","m³",11.13]
[{"$f":"CONCATENAR","v":"SICRO 1901611"},"SICRO","1901611","Dragagem de material de 1ª categoria com escavadeira hidráulica sobre pontão flutuante - capacidade da caçamba de 1,56 m³ - transporte com batelão sem propulsão com capacidade de 100 t - DMT 1.200 a 1.500 m","m³",17.329999999999998]
[{"$f":"CONCATENAR","v":"SICRO 1901617"},"SICRO","1901617","Dragagem de material de 1ª categoria com escavadeira hidráulica sobre pontão flutuante - capacidade da caçamba de 1,56 m³ - transporte com batelão sem propulsão com capacidade de 100 t - DMT de 3.000 m","m³",19.21]
[{"$f":"CONCATENAR","v":"SICRO 1917037"},"SICRO","1917037","Dragagem de silte com draga hopper - capacidade da cisterna de 1.000 m³ - DMT de 1.500 a 1.800 m","m³",17.899999999999999]
[{"$f":"CONCATENAR","v":"SICRO 1901622"},"SICRO","1901622","Dragagem de silte com draga hopper - capacidade da cisterna de 10.000 m³ - DMT de 2.400 a 2.700 m","m³",10.38]
[{"$f":"CONCATENAR","v":"SICRO 1917074"},"SICRO","1917074","Dragagem de silte com draga hopper - capacidade da cisterna de 2.000 m³ - DMT de 1.800 a 2.100 m","m³",12.76]
[{"$f":"CONCATENAR","v":"SICRO 1901635"},"SICRO","1901635","Dragagem de silte com draga hopper - capacidade da cisterna de 20.000 m³ - DMT de 2.700 a 3.000 m","m³",14.61]
[{"$f":"CONCATENAR","v":"SICRO 1917146"},"SICRO","1917146","Dragagem de silte com draga hopper - capacidade da cisterna de 4.000 m³ - DMT de 1.800 a 2.100 m","m³",10.84]
[{"$f":"CONCATENAR","v":"SICRO 1917185"},"SICRO","1917185","Dragagem de silte com draga hopper - capacidade da cisterna de 5.000 m³ - DMT de 2.700 a 3.000 m","m³",11.98]
[{"$f":"CONCATENAR","v":"SICRO 2009618"},"SICRO","2009618","Alvenaria de blocos de concreto 19 x 19 x 39 cm com espessura de 20 cm - areia extraída","m²",115.05]
[{"$f":"CONCATENAR","v":"SICRO 2003635"},"SICRO","2003635","Boca de lobo dupla - grelha de concreto - BLDG 02 - areia extraída e brita produzida","un",1984.05]
[{"$f":"CONCATENAR","v":"SICRO 2003638"},"SICRO","2003638","Boca de lobo dupla - grelha de concreto - BLDG 03 - areia e brita comerciais","un",2484.3200000000002]
[{"$f":"CONCATENAR","v":"SICRO 2003625"},"SICRO","2003625","Boca de lobo simples - grelha de concreto - BLSG 01 - areia extraída e brita produzida","un",833.76]
[{"$f":"CONCATENAR","v":"SICRO 2003919"},"SICRO","2003919","Boca de saída para dreno longitudinal profundo - BSD 01 - tubo de PEAD - areia e brita comerciais","un",194.51]
[{"$f":"CONCATENAR","v":"SICRO 2003926"},"SICRO","2003926","Boca de saída para dreno sub-horizontal em material de 2ª categoria - BSD 04 - areia extraída e brita produzida","un",19.5]
[{"$f":"CONCATENAR","v":"SICRO 2003519"},"SICRO","2003519","Caixa coletora de sarjeta - CCS 02 - com grelha de ferro - TCC 02 - areia e brita comerciais","un",3989.75]
[{"$f":"CONCATENAR","v":"SICRO 2003485"},"SICRO","2003485","Caixa coletora de sarjeta - CCS 05 - com grelha de concreto - TCC 01 - areia e brita comerciais","un",4814.09]
[{"$f":"CONCATENAR","v":"SICRO 2003488"},"SICRO","2003488","Caixa coletora de sarjeta - CCS 07 - com grelha de concreto - TCC 01 - areia extraída e brita produzida","un",4376.7]
[{"$f":"CONCATENAR","v":"SICRO 2003533"},"SICRO","2003533","Caixa coletora de sarjeta - CCS 09 - com grelha de ferro - TCC 02 - areia e brita comerciais","un",6056.62]
[{"$f":"CONCATENAR","v":"SICRO 2003532"},"SICRO","2003532","Caixa coletora de sarjeta - CCS 09 - com grelha de ferro - TCC 02 - areia extraída e brita produzida","un",5626.63]
[{"$f":"CONCATENAR","v":"SICRO 2003536"},"SICRO","2003536","Caixa coletora de sarjeta - CCS 11 - com grelha de ferro - TCC 02 - areia extraída e brita produzida","un",5559.36]
[{"$f":"CONCATENAR","v":"SICRO 2003543"},"SICRO","2003543","Caixa coletora de sarjeta - CCS 14 - com grelha de ferro - TCC 02 - areia e brita comerciais","un",7160.69]
[{"$f":"CONCATENAR","v":"SICRO 2003546"},"SICRO","2003546","Caixa coletora de sarjeta - CCS 16 - com grelha de ferro - TCC 02 - areia extraída e brita produzida","un",6604.79]
[{"$f":"CONCATENAR","v":"SICRO 2003513"},"SICRO","2003513","Caixa coletora de sarjeta - CCS 19 - com grelha de concreto - TCC 01 - areia e brita comerciais","un",7767.95]
[{"$f":"CONCATENAR","v":"SICRO 2003727"},"SICRO","2003727","Caixa coletora de talvegue - CCT 01 - areia extraída e brita produzida","un",3170.56]
[{"$f":"CONCATENAR","v":"SICRO 2003735"},"SICRO","2003735","Caixa coletora de talvegue - CCT 05 - areia extraída e brita produzida","un",4193.38]
[{"$f":"CONCATENAR","v":"SICRO 2003748"},"SICRO","2003748","Caixa coletora de talvegue - CCT 11 - areia e brita comerciais","un",5396.58]
[{"$f":"CONCATENAR","v":"SICRO 2003747"},"SICRO","2003747","Caixa coletora de talvegue - CCT 11 - areia extraída e brita produzida","un",4983.53]
[{"$f":"CONCATENAR","v":"SICRO 2003758"},"SICRO","2003758","Caixa coletora de talvegue - CCT 16 - areia e brita comerciais","un",6495.98]
[{"$f":"CONCATENAR","v":"SICRO 2003765"},"SICRO","2003765","Caixa coletora de talvegue - CCT 20 - areia extraída e brita produzida","un",6924.67]
[{"$f":"CONCATENAR","v":"SICRO 2003648"},"SICRO","2003648","Caixa de ligação e passagem - CLP 04 - areia e brita comerciais","un",2664.79]
[{"$f":"CONCATENAR","v":"SICRO 2003660"},"SICRO","2003660","Caixa de ligação e passagem - CLP 10 - areia e brita comerciais","un",3032.13]
[{"$f":"CONCATENAR","v":"SICRO 2003667"},"SICRO","2003667","Caixa de ligação e passagem - CLP 14 - areia extraída e brita produzida","un",1862.97]
[{"$f":"CONCATENAR","v":"SICRO 2003854"},"SICRO","2003854","Camada drenante para proteção de muros de contenção - areia comercial","m³",147.88]
[{"$f":"CONCATENAR","v":"SICRO 2019777"},"SICRO","2019777","Canal em polietileno e polipropileno com efeito autolimpante e grelha de encaixe em ferro fundido dúctil - carga de controle de 400 kN - 100,0 x 24,7 x 23,6 cm - fornecimento e instalação em pavimento de asfalto","m",1370.45]
[{"$f":"CONCATENAR","v":"SICRO 2019780"},"SICRO","2019780","Canal em polietileno e polipropileno com efeito autolimpante e grelha de encaixe em ferro fundido dúctil - carga de controle de 600 kN - 100,0 x 21,2 x 21,0 cm - fornecimento e instalação em pavimento de asfalto","m",989.84]
[{"$f":"CONCATENAR","v":"SICRO 2019765"},"SICRO","2019765","Canal monobloco com corpo e grelha em concreto polímero com efeito autolimpante - carga de controle de 400 kN - 100,0 x 25,0 x 32,0 cm - fornecimento e instalação em pavimento de concreto","m",804.18]
[{"$f":"CONCATENAR","v":"SICRO 2019761"},"SICRO","2019761","Canal monobloco com corpo e grelha em concreto polímero com efeito autolimpante - carga de controle de 900 kN - 100,0 x 26,0 x 33,0 cm - fornecimento e instalação em pavimento de asfalto","m",962.28]
[{"$f":"CONCATENAR","v":"SICRO 2003814"},"SICRO","2003814","Canaleta de concreto - CAU 04 - seção de 35 x 35 cm - espessura de 10 cm - apoiada em toda a extensão","m",212.76]
[{"$f":"CONCATENAR","v":"SICRO 2003713"},"SICRO","2003713","Chaminé dos poços de visita - CPV 01 - areia extraída e brita produzida","un",1483.28]
[{"$f":"CONCATENAR","v":"SICRO 2003726"},"SICRO","2003726","Chaminé dos poços de visita - CPV 07 - areia e brita comerciais","un",3081.39]
[{"$f":"CONCATENAR","v":"SICRO 2003406"},"SICRO","2003406","Descida d'água de aterros em degraus - DAD 02 - areia extraída e brita produzida","m",239.47]
[{"$f":"CONCATENAR","v":"SICRO 2003417"},"SICRO","2003417","Descida d'água de aterros em degraus - DAD 07 - areia e brita comerciais","m",841.31]
[{"$f":"CONCATENAR","v":"SICRO 2003416"},"SICRO","2003416","Descida d'água de aterros em degraus - DAD 07 - areia extraída e brita produzida","m",701.89]
[{"$f":"CONCATENAR","v":"SICRO 2003427"},"SICRO","2003427","Descida d'água de aterros em degraus - DAD 12 - areia e brita comerciais","m",1702.14]
[{"$f":"CONCATENAR","v":"SICRO 2003437"},"SICRO","2003437","Descida d'água de aterros em degraus - DAD 17 - areia e brita comerciais","m",3045.74]
[{"$f":"CONCATENAR","v":"SICRO 2003392"},"SICRO","2003392","Descida d'água de aterros tipo rápido - DAR 03 - areia extraída e brita produzida","m",204.23]
[{"$f":"CONCATENAR","v":"SICRO 2003403"},"SICRO","2003403","Descida d'água de cortes em degraus - DCD 04 - areia e brita comerciais","m",717.9]
[{"$f":"CONCATENAR","v":"SICRO 2003455"},"SICRO","2003455","Dissipador de energia - DEB 04 - areia, brita e pedra de mão comerciais","un",2008.42]
[{"$f":"CONCATENAR","v":"SICRO 2003464"},"SICRO","2003464","Dissipador de energia - DEB 09 - areia extraída e brita e pedra de mão produzidas","un",3671.91]
[{"$f":"CONCATENAR","v":"SICRO 2003473"},"SICRO","2003473","Dissipador de energia - DEB 13 - areia, brita e pedra de mão comerciais","un",8486.75]
[{"$f":"CONCATENAR","v":"SICRO 2003445"},"SICRO","2003445","Dissipador de energia - DES 03 - areia e pedra de mão comerciais","un",309.70999999999998]
[{"$f":"CONCATENAR","v":"SICRO 2004516"},"SICRO","2004516","Dreno de pavimento em microvala com geocomposto drenante H = 0,40 m - inclusive corte, enchimento com areia e selo asfáltico","m",32.72]
[{"$f":"CONCATENAR","v":"SICRO 2004511"},"SICRO","2004511","Dreno longitudinal de pavimento H = 1,00 m - com geocomposto drenante","m",58.49]
[{"$f":"CONCATENAR","v":"SICRO 2003591"},"SICRO","2003591","Dreno longitudinal profundo para corte em rocha - DPR 02 - tubo PEAD e brita comercial","m",133.77000000000001]
[{"$f":"CONCATENAR","v":"SICRO 2003580"},"SICRO","2003580","Dreno longitudinal profundo para corte em solo - DPS 01 - tubo PEAD e areia extraída","m",64.989999999999995]
[{"$f":"CONCATENAR","v":"SICRO 2003582"},"SICRO","2003582","Dreno longitudinal profundo para corte em solo - DPS 03 - tubo PEAD, areia extraída e brita produzida - madeira com utilização de 5 vezes","m",115.75]
[{"$f":"CONCATENAR","v":"SICRO 2003571"},"SICRO","2003571","Dreno longitudinal profundo para corte em solo - DPS 08 - tubo de concreto perfurado e brita comercial","m",188.75]
[{"$f":"CONCATENAR","v":"SICRO 2003922"},"SICRO","2003922","Dreno subsuperficial - DSS 01 - tubo de concreto perfurado e areia extraída","m",36.380000000000003]
[{"$f":"CONCATENAR","v":"SICRO 2003605"},"SICRO","2003605","Dreno subsuperficial - DSS 01 - tubo PEAD e areia comercial","m",44.89]
[{"$f":"CONCATENAR","v":"SICRO 2003610"},"SICRO","2003610","Dreno subsuperficial - DSS 04 - tubo PEAD e brita produzida","m",50.26]
[{"$f":"CONCATENAR","v":"SICRO 2003336"},"SICRO","2003336","Entrada para descida d'água - EDA 04 - areia e brita comerciais","un",1562.7]
[{"$f":"CONCATENAR","v":"SICRO 2003864"},"SICRO","2003864","Esgotamento de água com bomba submersa","h",12.94]
[{"$f":"CONCATENAR","v":"SICRO 2003850"},"SICRO","2003850","Lastro de brita comercial compactado com soquete vibratório - espalhamento manual","m³",148.41999999999999]
[{"$f":"CONCATENAR","v":"SICRO 2003941"},"SICRO","2003941","Meio-fio de concreto - MFC 02 moldado no local com extrusora e concreto usinado - areia e brita comerciais","m",64.13]
[{"$f":"CONCATENAR","v":"SICRO 2003946"},"SICRO","2003946","Meio-fio de concreto - MFC 04 moldado no local com extrusora e concreto usinado - areia extraída e brita produzida","m",18.63]
[{"$f":"CONCATENAR","v":"SICRO 2003380"},"SICRO","2003380","Meio-fio de concreto - MFC 07 - areia extraída e brita produzida - fôrma de madeira","m",48.18]
[{"$f":"CONCATENAR","v":"SICRO 2003951"},"SICRO","2003951","Meio-fio de concreto - MFC 07 moldado no local com extrusora e concreto usinado - areia e brita comerciais","m",27.81]
[{"$f":"CONCATENAR","v":"SICRO 2005764"},"SICRO","2005764","Perfuração para dreno sub-horizontal em material de 2ª categoria com D = 75 mm (linha NW)","m",63.81]
[{"$f":"CONCATENAR","v":"SICRO 2003686"},"SICRO","2003686","Poço de visita - PVI 05 - areia e brita comerciais","un",3315.1]
[{"$f":"CONCATENAR","v":"SICRO 2003693"},"SICRO","2003693","Poço de visita - PVI 09 - areia extraída e brita produzida","un",2387.88]
[{"$f":"CONCATENAR","v":"SICRO 2003704"},"SICRO","2003704","Poço de visita - PVI 14 - areia e brita comerciais","un",2721.63]
[{"$f":"CONCATENAR","v":"SICRO 2004505"},"SICRO","2004505","Reaterro e compactação em vala de dreno com geocomposto","m³",19.14]
[{"$f":"CONCATENAR","v":"SICRO 2003345"},"SICRO","2003345","Sarjeta trapezoidal de concreto - SZC 60-20 - escavação mecânica - areia e brita comerciais","m",64.75]
[{"$f":"CONCATENAR","v":"SICRO 2003346"},"SICRO","2003346","Sarjeta trapezoidal de grama - SZG 90-30 - escavação mecânica","m",20.239999999999998]
[{"$f":"CONCATENAR","v":"SICRO 2003933"},"SICRO","2003933","Sarjeta trapezoidal sem revestimento - SZT 60-20 - escavação mecânica","m",7.32]
[{"$f":"CONCATENAR","v":"SICRO 2003977"},"SICRO","2003977","Sarjeta triangular de canteiro central de concreto - STCC 140-35 moldada no local com extrusora e concreto usinado - areia e brita comerciais","m",95.16]
[{"$f":"CONCATENAR","v":"SICRO 2003282"},"SICRO","2003282","Sarjeta triangular de concreto - STC 100-21 - escavação mecânica - areia extraída e brita produzida","m",53.69]
[{"$f":"CONCATENAR","v":"SICRO 2003955"},"SICRO","2003955","Sarjeta triangular de concreto - STC 125-25 moldada no local com extrusora e concreto usinado - escavação mecânica - areia e brita comerciais","m",90.19]
[{"$f":"CONCATENAR","v":"SICRO 2003256"},"SICRO","2003256","Sarjeta triangular de concreto - STC 150-30 moldada no local com extrusora e concreto usinado - escavação mecânica - areia extraída e brita produzida","m",88.17]
[{"$f":"CONCATENAR","v":"SICRO 2003261"},"SICRO","2003261","Sarjeta triangular de concreto - STC 80-15 - escavação mecânica - areia e brita comerciais","m",53.58]
[{"$f":"CONCATENAR","v":"SICRO 2003265"},"SICRO","2003265","Sarjeta triangular de concreto - STC 88-20 - escavação mecânica - areia e brita comerciais","m",77.17]
[{"$f":"CONCATENAR","v":"SICRO 2003357"},"SICRO","2003357","Transposição de segmentos de sarjeta - TSS 01 - areia e brita comerciais","m",210.94]
[{"$f":"CONCATENAR","v":"SICRO 2003356"},"SICRO","2003356","Transposição de segmentos de sarjeta - TSS 01 - areia extraída e brita produzida","m",167.55]
[{"$f":"CONCATENAR","v":"SICRO 2003367"},"SICRO","2003367","Transposição de segmentos de sarjeta - TSS 06 - areia e brita comerciais","m",365.8]
[{"$f":"CONCATENAR","v":"SICRO 2003873"},"SICRO","2003873","Tubo de concreto PA1 produzido na obra para drenagem - D = 0,60 m - areia extraída e brita produzida - fornecimento e instalação","m",158.63]
[{"$f":"CONCATENAR","v":"SICRO 2003784"},"SICRO","2003784","Tubo de concreto PA1 produzido na obra para drenagem - D = 1,50 m - areia e brita comerciais - fornecimento e instalação","m",873.06]
[{"$f":"CONCATENAR","v":"SICRO 2003777"},"SICRO","2003777","Tubo de concreto PA2 produzido na obra para drenagem - D = 1,00 m - areia e brita comerciais - fornecimento e instalação","m",473.56]
[{"$f":"CONCATENAR","v":"SICRO 2003832"},"SICRO","2003832","Tubo de concreto PA3 comercial para drenagem - D = 1,00 m - fornecimento e instalação","m",719.48]
[{"$f":"CONCATENAR","v":"SICRO 2003782"},"SICRO","2003782","Tubo de concreto PA3 produzido na obra para drenagem - D = 1,20 m - areia e brita comerciais - fornecimento e instalação","m",864.44]
[{"$f":"CONCATENAR","v":"SICRO 2003841"},"SICRO","2003841","Tubo de concreto PA4 comercial para drenagem - D = 1,50 m - fornecimento e instalação","m",1567.01]
[{"$f":"CONCATENAR","v":"SICRO 2003783"},"SICRO","2003783","Tubo de concreto PA4 produzido na obra para drenagem - D = 1,20 m - areia e brita comerciais - fornecimento e instalação","m",1018.25]
[{"$f":"CONCATENAR","v":"SICRO 2003851"},"SICRO","2003851","Tubo de concreto perfurado produzido na obra para drenagem - D = 0,40 m - fornecimento e instalação","m",91.85]
[{"$f":"CONCATENAR","v":"SICRO 2003985"},"SICRO","2003985","Tubo PEAD para drenagem - D = 500 mm - fornecimento e instalação","m",365.92]
[{"$f":"CONCATENAR","v":"SICRO 2003313"},"SICRO","2003313","Valeta de proteção de aterros com revestimento de concreto - VPAC 160-30 - escavação mecânica - areia e brita comerciais","m",132.97999999999999]
[{"$f":"CONCATENAR","v":"SICRO 2003306"},"SICRO","2003306","Valeta de proteção de cortes com revestimento de concreto - VPCC 160-30 - escavação mecânica - areia extraída e brita produzida","m",112.18]
[{"$f":"CONCATENAR","v":"SICRO 2108167"},"SICRO","2108167","Escoramento com pontaletes D = 10 cm - utilização de 3 vezes - confecção, instalação e retirada","m³",20.12]
[{"$f":"CONCATENAR","v":"SICRO 2106235"},"SICRO","2106235","Escoramento metálico com quadro tubular contraventado - capacidade de carga até 3,8 t/m² - quadro de 1,0 x 1,0 x 1,25 m - utilização de 50 vezes - fornecimento, instalação e retirada","m³",3.18]
[{"$f":"CONCATENAR","v":"SICRO 2306729"},"SICRO","2306729","Apoio náutico para a escavação com perfuratriz tipo Wirth em rocha de alta dureza e alta abrasão - resistência à compressão acima de 80 MPa - D = 600 a 1.800 mm","m",1913.39]
[{"$f":"CONCATENAR","v":"SICRO 2306727"},"SICRO","2306727","Apoio náutico para a escavação com perfuratriz tipo Wirth em solo D = 600 a 1.800 mm","m",367.5]
[{"$f":"CONCATENAR","v":"SICRO 2306652"},"SICRO","2306652","Camisa metálica com espessura de 12,5 mm D = 1.500 mm - cravada com martelo vibratório - sem escavação - cravação","m",6954.66]
[{"$f":"CONCATENAR","v":"SICRO 2306683"},"SICRO","2306683","Camisa metálica com espessura de 16 mm D = 1.500 mm - para passagem de lâmina d'água - posicionamento","m",9469.27]
[{"$f":"CONCATENAR","v":"SICRO 2306637"},"SICRO","2306637","Camisa metálica com espessura de 6,3 mm D = 1.000 mm - cravada com martelo vibratório - sem escavação - cravação","m",2339.33]
[{"$f":"CONCATENAR","v":"SICRO 2306636"},"SICRO","2306636","Camisa metálica com espessura de 6,3 mm D = 900 mm - cravada com martelo vibratório - sem escavação - cravação","m",1844.52]
[{"$f":"CONCATENAR","v":"SICRO 2306665"},"SICRO","2306665","Camisa metálica com espessura de 8 mm D = 700 mm - para passagem de lâmina d'água - posicionamento","m",1718.89]
[{"$f":"CONCATENAR","v":"SICRO 2306647"},"SICRO","2306647","Camisa metálica com espessura de 9,5 mm D = 1.200 mm - cravada com martelo vibratório - sem escavação - cravação","m",3606.74]
[{"$f":"CONCATENAR","v":"SICRO 2306671"},"SICRO","2306671","Camisa metálica com espessura de 9,5 mm D = 900 mm - para passagem de lâmina d'água - posicionamento","m",2580.86]
[{"$f":"CONCATENAR","v":"SICRO 2306144"},"SICRO","2306144","Coluna de brita D = 80 cm executada com perfuratriz tipo bottom feed - brita comercial - confecção e cravação","m",121.11]
[{"$f":"CONCATENAR","v":"SICRO 2306626"},"SICRO","2306626","Confecção de camisa metálica em aço ASTM A36 com espessura de 12,5 mm - D = 1.600 mm","m",6710.03]
[{"$f":"CONCATENAR","v":"SICRO 2306605"},"SICRO","2306605","Confecção de camisa metálica em aço ASTM A36 com espessura de 6,3 mm - D = 500 mm","m",956.74]
[{"$f":"CONCATENAR","v":"SICRO 2306612"},"SICRO","2306612","Confecção de camisa metálica em aço ASTM A36 com espessura de 8 mm - D = 800 mm","m",2076.9499999999998]
[{"$f":"CONCATENAR","v":"SICRO 2306014"},"SICRO","2306014","Contraventamento de grupo de estacas submersas em aço ASTM A36 - confecção e instalação","kg",11.9]
[{"$f":"CONCATENAR","v":"SICRO 2306715"},"SICRO","2306715","Escavação com perfuratriz tipo Wirth em rocha com média dureza e média abrasão - resistência à compressão menor que 80 MPa - D = 1.500 mm","m",2566.46]
[{"$f":"CONCATENAR","v":"SICRO 2306716"},"SICRO","2306716","Escavação com perfuratriz tipo Wirth em rocha de alta dureza e alta abrasão - resistência à compressão acima de 80 MPa - D = 1.500 mm","m",4766.42]
[{"$f":"CONCATENAR","v":"SICRO 2306702"},"SICRO","2306702","Escavação com perfuratriz tipo Wirth em solo - D = 1.100 mm","m",327.31]
[{"$f":"CONCATENAR","v":"SICRO 2306705"},"SICRO","2306705","Escavação com perfuratriz tipo Wirth em solo - D = 1.200 mm","m",344.69]
[{"$f":"CONCATENAR","v":"SICRO 2306693"},"SICRO","2306693","Escavação com perfuratriz tipo Wirth em solo - D = 800 mm","m",287.99]
[{"$f":"CONCATENAR","v":"SICRO 2306082"},"SICRO","2306082","Estaca Franki com fuste apiloado D = 45 cm - confecção","m",145.31]
[{"$f":"CONCATENAR","v":"SICRO 2306095"},"SICRO","2306095","Estaca hélice de deslocamento - confecção","m³",228.49]
[{"$f":"CONCATENAR","v":"SICRO 2306002"},"SICRO","2306002","Estaca pré-moldada de concreto armado centrifugado com compressão admissível de 230 t - sem emenda - fornecimento e cravação","m",704.99]
[{"$f":"CONCATENAR","v":"SICRO 2306106"},"SICRO","2306106","Estaca pré-moldada de concreto protendido 25 x 25 cm - produzida - sem emenda - cravação","m",101.32]
[{"$f":"CONCATENAR","v":"SICRO 2306100"},"SICRO","2306100","Estaca pré-moldada de concreto protendido com compressão admissível de 100 t - comercial - sem emenda - fornecimento e cravação","m",273.95]
[{"$f":"CONCATENAR","v":"SICRO 2306067"},"SICRO","2306067","Estaca raiz perfurada na rocha com D = 16 cm - confecção","m",459.2]
[{"$f":"CONCATENAR","v":"SICRO 2306062"},"SICRO","2306062","Estaca raiz perfurada no solo com D = 16 cm - confecção","m",83.05]
[{"$f":"CONCATENAR","v":"SICRO 2306012"},"SICRO","2306012","Estaca Strauss D = 45 cm - confecção","m",26.26]
[{"$f":"CONCATENAR","v":"SICRO 2306126"},"SICRO","2306126","Estaca triplo trilho TR 57 - com emenda - fornecimento e cravação","m",935.69]
[{"$f":"CONCATENAR","v":"SICRO 2306307"},"SICRO","2306307","Fabricação de estaca pré-moldada de concreto protendida seção 30 x 30 cm","m",65.08]
[{"$f":"CONCATENAR","v":"SICRO 2408069"},"SICRO","2408069","Jateamento de chapa de aço com o uso de granalhas de aço grau Sa 2","m²",5.26]
[{"$f":"CONCATENAR","v":"SICRO 2407981"},"SICRO","2407981","Pintura com selante epóxi vinílico com pistola airless, uma demão, espessura de 80 µm","m²",18.170000000000002]
[{"$f":"CONCATENAR","v":"SICRO 2407977"},"SICRO","2407977","Pintura de fundo com tinta anticorrosiva à base de epóxi poliamida de dois componentes com pistola airless, uma demão, espessura de 160 µm","m²",15.92]
[{"$f":"CONCATENAR","v":"SICRO 2607183"},"SICRO","2607183","Alinhamento manual da grade do AMV para qualquer abertura e qualquer bitola","un",323.04000000000002]
[{"$f":"CONCATENAR","v":"SICRO 2607226"},"SICRO","2607226","Assentamento dos materiais metálicos do AMV 1:10, TR 45, bitola larga","un",349268.94]
[{"$f":"CONCATENAR","v":"SICRO 2607227"},"SICRO","2607227","Assentamento dos materiais metálicos do AMV 1:12, TR 45, bitola larga","un",383925.45]
[{"$f":"CONCATENAR","v":"SICRO 2607218"},"SICRO","2607218","Assentamento dos materiais metálicos do AMV 1:12, TR 68, bitola métrica","un",504934.79]
[{"$f":"CONCATENAR","v":"SICRO 2607215"},"SICRO","2607215","Assentamento dos materiais metálicos do AMV 1:14, TR 57, bitola métrica","un",464213.48]
[{"$f":"CONCATENAR","v":"SICRO 2607216"},"SICRO","2607216","Assentamento dos materiais metálicos do AMV 1:20, TR 57, bitola métrica","un",558706.68999999994]
[{"$f":"CONCATENAR","v":"SICRO 2607208"},"SICRO","2607208","Assentamento dos materiais metálicos do AMV 1:8, TR 45, bitola métrica","un",276805.83]
[{"$f":"CONCATENAR","v":"SICRO 2607349"},"SICRO","2607349","Nivelamento de AMV com socaria com grupo vibrador e levante de até 10 cm, abertura 1:10, bitola mista, dormente de madeira ou concreto","un",356.76]
[{"$f":"CONCATENAR","v":"SICRO 2607341"},"SICRO","2607341","Nivelamento de AMV com socaria com grupo vibrador e levante de até 10 cm, abertura 1:14, bitola métrica, dormente de madeira ou concreto","un",216.22]
[{"$f":"CONCATENAR","v":"SICRO 2607338"},"SICRO","2607338","Nivelamento de AMV com socaria com grupo vibrador e levante de até 10 cm, abertura 1:8, bitola métrica, dormente de madeira","un",137.27000000000001]
[{"$f":"CONCATENAR","v":"SICRO 2607326"},"SICRO","2607326","Nivelamento de AMV com socaria manual e levante de até 10 cm, abertura 1:14, bitola métrica, dormente de madeira ou concreto","un",498.17]
[{"$f":"CONCATENAR","v":"SICRO 2607102"},"SICRO","2607102","Posicionamento de jogo de dormentes de concreto para AMV 1:10, bitola métrica","jg",45041.73]
[{"$f":"CONCATENAR","v":"SICRO 2607105"},"SICRO","2607105","Posicionamento de jogo de dormentes de concreto para AMV 1:20, bitola métrica","jg",75326.73]
[{"$f":"CONCATENAR","v":"SICRO 2607101"},"SICRO","2607101","Posicionamento de jogo de dormentes de madeira para AMV 1:20, bitola mista","jg",67606.23]
[{"$f":"CONCATENAR","v":"SICRO 2809183"},"SICRO","2809183","Demolição de AMV 1:10 TR 45, em bitola larga, dormente de madeira, com separação e empilhamento","un",2771.06]
[{"$f":"CONCATENAR","v":"SICRO 2809184"},"SICRO","2809184","Demolição de AMV 1:12 TR 45, em bitola larga, dormente de madeira, com separação e empilhamento","un",3126.48]
[{"$f":"CONCATENAR","v":"SICRO 2809185"},"SICRO","2809185","Demolição de AMV 1:14 TR 45, em bitola larga, dormente de madeira, com separação e empilhamento","un",3600.04]
[{"$f":"CONCATENAR","v":"SICRO 2809176"},"SICRO","2809176","Demolição de AMV 1:14 TR 45, em bitola métrica, dormente de madeira, com separação e empilhamento","un",2637.31]
[{"$f":"CONCATENAR","v":"SICRO 2809169"},"SICRO","2809169","Demolição de AMV 1:8 TR 37, em bitola métrica, dormente de madeira, com separação e empilhamento","un",1644.57]
[{"$f":"CONCATENAR","v":"SICRO 2809219"},"SICRO","2809219","Demolição de via, bitola larga, 1.667 dormentes de madeira/km, trilho TR 45, barra com 12 m de comprimento, com separação e empilhamento","km",23197.200000000001]
[{"$f":"CONCATENAR","v":"SICRO 2809160"},"SICRO","2809160","Demolição de via, bitola métrica, 1.750 dormentes de madeira/km, trilho TR 37, barra com 12 m de comprimento, com separação e empilhamento","km",22587.15]
[{"$f":"CONCATENAR","v":"SICRO 2809158"},"SICRO","2809158","Retirada manual de dormente de madeira, bitola larga ou mista, com separação e empilhamento","un",10.82]
[{"$f":"CONCATENAR","v":"SICRO 2909380"},"SICRO","2909380","Nivelamento de via com grupo gerador/vibrador e levante de até 10 cm - bitola mista com dormente de madeira ou concreto e taxa de dormentação de 1.667 un/km","km",8787.26]
[{"$f":"CONCATENAR","v":"SICRO 2909375"},"SICRO","2909375","Nivelamento de via com socaria manual e levante de até 10 cm - bitola métrica ou larga com dormente de madeira ou concreto e taxa de dormentação de 1.667 un/km","km",9608.43]
[{"$f":"CONCATENAR","v":"SICRO 3009344"},"SICRO","3009344","Alívio de tensão, com martelo de bronze, em TLS com 120 de comprimento de TR68, taxa de dormentação de 1.667 un/km, para qualquer bitola e fixação elástica","un",97.62]
[{"$f":"CONCATENAR","v":"SICRO 3009345"},"SICRO","3009345","Alívio de tensão, com martelo de bronze, em TLS com 120 de comprimento de TR68, taxa de dormentação de 1.750 un/km, para qualquer bitola e fixação elástica","un",100.2]
[{"$f":"CONCATENAR","v":"SICRO 3009350"},"SICRO","3009350","Alívio de tensão, com martelo de bronze, em TLS com 240 de comprimento de UIC60, taxa de dormentação de 1.667 un/km, para qualquer bitola e fixação elástica","un",186.15]
[{"$f":"CONCATENAR","v":"SICRO 3009086"},"SICRO","3009086","Contratrilho TR57, comprimento de 12 m, sobre dormente de madeira, taxa de dormentação de 1.750 un/km, tala de junção de 6 furos e fixação rígida - posicionamento e assentamento manual","m",2117.9899999999998]
[{"$f":"CONCATENAR","v":"SICRO 3009334"},"SICRO","3009334","Dormente de concreto monobloco protendido para AMV bitola métrica - confecção","un",751.09]
[{"$f":"CONCATENAR","v":"SICRO 3009064"},"SICRO","3009064","Dormente de concreto monobloco, bitola mista, taxa de dormentação de 1.750 un/km, fixação elástica Pandrol - posicionamento mecanizado com pórtico","km",977969.67]
[{"$f":"CONCATENAR","v":"SICRO 3009284"},"SICRO","3009284","Dormente de madeira, bitola métrica, taxa de dormentação de 1.667 un/km - posicionamento mecanizado com carregadeira","km",334726.77]
[{"$f":"CONCATENAR","v":"SICRO 3009323"},"SICRO","3009323","Solda aluminotérmica para TR68 com cadinho descartável, executada no campo, para formação de trilho longo soldado (TLS)","un",1521.26]
[{"$f":"CONCATENAR","v":"SICRO 3009288"},"SICRO","3009288","Trilho TR45, comprimento de 12 m, sobre dormente de madeira, bitola métrica ou larga, taxa de dormentação de 1.667 un/km, tala de junção de 6 furos e fixação rígida - posicionamento e assentamento manual","km",2129159.08]
[{"$f":"CONCATENAR","v":"SICRO 3009030"},"SICRO","3009030","Trilho TR45, comprimento de 120 m (TLS), sobre dormente de concreto, bitola mista, taxa de dormentação de 1.750 un/km, tala de junção de 6 furos e fixação elástica Pandrol - posicionamento e assentamento mecanizado","km",2491408.85]
[{"$f":"CONCATENAR","v":"SICRO 3009042"},"SICRO","3009042","Trilho TR45, comprimento de 120 m (TLS), sobre dormente de madeira, bitola métrica ou larga, taxa de dormentação de 1.750 un/km, tala de junção de 6 furos e fixação rígida - posicionamento e assentamento mecanizado","km",2051067.72]
[{"$f":"CONCATENAR","v":"SICRO 3009266"},"SICRO","3009266","Trilho TR45, comprimento de 240 m (TLS), sobre dormente de madeira, bitola métrica ou larga, taxa de dormentação de 1.667 un/km, tala de junção de 6 furos e fixação rígida - posicionamento e assentamento mecanizado","km",2019968.3]
[{"$f":"CONCATENAR","v":"SICRO 3009289"},"SICRO","3009289","Trilho TR57, comprimento de 12 m, sobre dormente de madeira, bitola métrica ou larga, taxa de dormentação de 1.667 un/km, tala de junção de 6 furos e fixação rígida - posicionamento e assentamento manual","km",2818902.58]
[{"$f":"CONCATENAR","v":"SICRO 3009255"},"SICRO","3009255","Trilho TR57, comprimento de 120 m (TLS), sobre dormente de madeira, bitola métrica ou larga, taxa de dormentação de 1.667 un/km, tala de junção de 6 furos e fixação elástica Pandrol - posicionamento e assentamento mecanizado","km",2685091.59]
[{"$f":"CONCATENAR","v":"SICRO 3009103"},"SICRO","3009103","Trilho TR57, comprimento de 240 m (TLS), formado por trilhos curtos de 12 m soldados por caldeamento - confecção em estaleiro","un",227271.54]
[{"$f":"CONCATENAR","v":"SICRO 3009232"},"SICRO","3009232","Trilho TR68, comprimento de 12 m, sobre dormente de concreto, bitola mista, taxa de dormentação de 1.667 un/km, tala de junção de 6 furos e fixação elástica Pandrol - posicionamento e assentamento manual","km",3830525.61]
[{"$f":"CONCATENAR","v":"SICRO 3009306"},"SICRO","3009306","Trilho TR68, comprimento de 120 m (TLS), sobre dormente de concreto, bitola mista, taxa de dormentação de 1.667 un/km, tala de junção de 6 furos e fixação elástica Pandrol - posicionamento e assentamento mecanizado","km",3608364.29]
[{"$f":"CONCATENAR","v":"SICRO 3009032"},"SICRO","3009032","Trilho TR68, comprimento de 120 m (TLS), sobre dormente de concreto, bitola mista, taxa de dormentação de 1.750 un/km, tala de junção de 6 furos e fixação elástica Pandrol - posicionamento e assentamento mecanizado","km",3619010.69]
[{"$f":"CONCATENAR","v":"SICRO 3009210"},"SICRO","3009210","Trilho TR68, comprimento de 240 m (TLS), sobre dormente de concreto, bitola métrica ou larga, taxa de dormentação de 1.750 un/km, tala de junção de 6 furos e fixação elástica Pandrol - posicionamento e assentamento mecanizado","km",2404980.41]
[{"$f":"CONCATENAR","v":"SICRO 3009016"},"SICRO","3009016","Trilho UIC60, comprimento de 12 m, sobre dormente de madeira, bitola métrica ou larga, taxa de dormentação de 1.750 un/km, tala de junção de 6 furos e fixação rígida - posicionamento e assentamento manual","km",3025878.53]
[{"$f":"CONCATENAR","v":"SICRO 3009029"},"SICRO","3009029","Trilho UIC60, comprimento de 120 m (TLS), sobre dormente de concreto, bitola métrica ou larga, taxa de dormentação de 1.750 un/km, tala de junção de 6 furos e fixação elástica Pandrol - posicionamento e assentamento mecanizado","km",2191015.2999999998]
[{"$f":"CONCATENAR","v":"SICRO 3009107"},"SICRO","3009107","Trilho UIC60, comprimento de 240 m (TLS), formado por trilhos curtos de 12 m soldados por caldeamento - confecção em estaleiro","un",242492.29]
[{"$f":"CONCATENAR","v":"SICRO 3009277"},"SICRO","3009277","Trilho UIC60, comprimento de 240 m (TLS), sobre dormente de madeira, bitola mista, taxa de dormentação de 1.667 un/km, tala de junção de 6 furos e fixação elástica Pandrol - posicionamento e assentamento mecanizado","km",4245678.49]
[{"$f":"CONCATENAR","v":"SICRO 3108072"},"SICRO","3108072","Fôrma metálica em chapa 3/16\" reforçada com nervuras de 40 mm x 3/16\" dispostas em grelhas de 40 x 60 cm - utilização de 100 vezes - confecção, instalação e retirada","m²",14.72]
[{"$f":"CONCATENAR","v":"SICRO 3106552"},"SICRO","3106552","Fôrma metálica para Xbloc - utilização de 100 vezes - confecção, instalação e retirada","m²",10.24]
[{"$f":"CONCATENAR","v":"SICRO 3108011"},"SICRO","3108011","Fôrmas de compensado plastificado 12 mm - uso geral - utilização de 1 vez - confecção, instalação e retirada","m²",142.44999999999999]
[{"$f":"CONCATENAR","v":"SICRO 3107999"},"SICRO","3107999","Fôrmas de compensado resinado 12 mm - uso geral - utilização de 1 vez - confecção, instalação e retirada","m²",129.27000000000001]
[{"$f":"CONCATENAR","v":"SICRO 3103302"},"SICRO","3103302","Fôrmas de tábuas de pinho para dispositivos de drenagem - utilização de 3 vezes - confecção, instalação e retirada","m²",69.150000000000006]
[{"$f":"CONCATENAR","v":"SICRO 3205867"},"SICRO","3205867","Gabião caixa 2 x 1 x 0,50 m Zn/Al - D = 2,7 mm - pedra de mão produzida - confecção e assentamento","m³",764.95]
[{"$f":"CONCATENAR","v":"SICRO 3205876"},"SICRO","3205876","Gabião colchão espessura 0,30 m - Zn/Al + PVC - D = 2,0 mm - pedra de mão comercial - fornecimento e assentamento","m²",323.52999999999997]
[{"$f":"CONCATENAR","v":"SICRO 3606584"},"SICRO","3606584","Carga, transporte e descarga de material pétreo para molhes com o uso de batelões e escavadeira hidráulica - DMT de 1.500 a 1.800 m","m³",21.5]
[{"$f":"CONCATENAR","v":"SICRO 3606531"},"SICRO","3606531","Escavação, carga e transporte de material pétreo para a subcarapaça - caminho de serviço em leito natural - DMT de 1.800 a 2.000 m - com caminhão basculante de 8 m³","m³",52.85]
[{"$f":"CONCATENAR","v":"SICRO 3606540"},"SICRO","3606540","Escavação, carga e transporte de material pétreo para a subcarapaça - caminho de serviço em revestimento primário - DMT de 2.000 a 2.500 m - com caminhão basculante de 8 m³","m³",50.33]
[{"$f":"CONCATENAR","v":"SICRO 3606541"},"SICRO","3606541","Escavação, carga e transporte de material pétreo para a subcarapaça - caminho de serviço em revestimento primário - DMT de 2.500 a 3.000 m - com caminhão basculante de 8 m³","m³",51.66]
[{"$f":"CONCATENAR","v":"SICRO 3606550"},"SICRO","3606550","Escavação, carga e transporte de material pétreo para a subcarapaça - caminho de serviço pavimentado - DMT de 3.000 m - com caminhão basculante de 8 m³","m³",50.77]
[{"$f":"CONCATENAR","v":"SICRO 3606514"},"SICRO","3606514","Escavação, carga e transporte de material pétreo para o núcleo - caminho de serviço em revestimento primário - DMT de 2.000 a 2.500 m - com caminhão basculante de 8 m³","m³",46.93]
[{"$f":"CONCATENAR","v":"SICRO 3606520"},"SICRO","3606520","Escavação, carga e transporte de material pétreo para o núcleo - caminho de serviço pavimentado - DMT de 1.400 a 1.600 m - com caminhão basculante de 8 m³","m³",42.26]
[{"$f":"CONCATENAR","v":"SICRO 3606556"},"SICRO","3606556","Fabricação de tetrápode de 10 t - concreto fck = 20 MPa - areia extraída e brita produzida","un",1635.76]
[{"$f":"CONCATENAR","v":"SICRO 3606571"},"SICRO","3606571","Fabricação de Xbloc de 10 t - concreto fck = 20 MPa - areia e brita comerciais","un",2152.1]
[{"$f":"CONCATENAR","v":"SICRO 3606565"},"SICRO","3606565","Fabricação de Xbloc de 9 t - concreto fck = 20 MPa - areia extraída e brita produzida","un",1453.37]
[{"$f":"CONCATENAR","v":"SICRO 3713601"},"SICRO","3713601","Ancoragem de defensa maleável simples - fornecimento e implantação","m",831.63]
[{"$f":"CONCATENAR","v":"SICRO 3713619"},"SICRO","3713619","Barreira dupla de concreto, não armada, moldada no local (perfil New Jersey) - H = 810 + 100 mm","m",64.62]
[{"$f":"CONCATENAR","v":"SICRO 3713610"},"SICRO","3713610","Cerca com 4 fios de arame farpado e mourão de concreto de seção quadrada de 11 cm a cada 2,5 m e esticador de 15 cm a cada 50 m - areia e brita comerciais","m",33.25]
[{"$f":"CONCATENAR","v":"SICRO 3713823"},"SICRO","3713823","Confecção de barreira simples de concreto, armada, pré-moldada (perfil New Jersey) - L > 3,00 m e H = 810 mm","m",181.49]
[{"$f":"CONCATENAR","v":"SICRO 3716131"},"SICRO","3716131","Fabricação de mourão de concreto suporte - seção quadrada de 11 cm - areia e brita comerciais","un",32.369999999999997]
[{"$f":"CONCATENAR","v":"SICRO 3713697"},"SICRO","3713697","Fornecimento e implantação de amortecedor retrátil (v <= 100 km/h) tipo TAU II combinado - fixado em barreira de concreto, com largura de âncora traseira de 1.680 mm","un",305348.15000000002]
[{"$f":"CONCATENAR","v":"SICRO 3713903"},"SICRO","3713903","Terminal absorvedor de energia de não abertura com nível de contenção TL3 para defensa metálica - fornecimento e implantação","un",62203.51]
[{"$f":"CONCATENAR","v":"SICRO 3713896"},"SICRO","3713896","Terminal de ancoragem para barreira simples de concreto, moldada no local, com extrusora (perfil F) - H = 810 + 250 mm","m",269.79000000000002]
[{"$f":"CONCATENAR","v":"SICRO 3807752"},"SICRO","3807752","Corte linear em superfície de concreto para fixação de barras de aço de 10 mm - L = 12 mm e H = 12 mm","m",8.7200000000000006]
[{"$f":"CONCATENAR","v":"SICRO 3807753"},"SICRO","3807753","Corte linear em superfície de concreto para fixação de barras de aço de 12,5 mm - L = 15 mm e H = 15 mm","m",12.54]
[{"$f":"CONCATENAR","v":"SICRO 3806397"},"SICRO","3806397","Fabricação de superestrutura metálica para passarela PL-30 - exceto piso de concreto","un",369558.11]
[{"$f":"CONCATENAR","v":"SICRO 3806401"},"SICRO","3806401","Lançamento de superestrutura de passarela metálica de 12 a 24 t com utilização de guindaste","un",14288.51]
[{"$f":"CONCATENAR","v":"SICRO 3806406"},"SICRO","3806406","Limpeza em junta de dilatação","m",5.71]
[{"$f":"CONCATENAR","v":"SICRO 3806428"},"SICRO","3806428","Plataforma de trabalho em aço tubular apoiada no solo - altura de até 4 m - utilização de 100 vezes - fornecimento, instalação e retirada","m³",38.96]
[{"$f":"CONCATENAR","v":"SICRO 3815600"},"SICRO","3815600","Recuperação de guarda-corpo metálico em ambiente agressivo","m²",65.8]
[{"$f":"CONCATENAR","v":"SICRO 3806414"},"SICRO","3806414","Remoção de concreto com jateamento d'água sob alta pressão","m³",571.97]
[{"$f":"CONCATENAR","v":"SICRO 4011305"},"SICRO","4011305","Base de solo-cal com 7% de cal e mistura na pista com material de jazida","m³",71.81]
[{"$f":"CONCATENAR","v":"SICRO 4011313"},"SICRO","4011313","Base de solo-cimento com 7% de cimento e mistura em usina com material de jazida","m³",104.78]
[{"$f":"CONCATENAR","v":"SICRO 4011255"},"SICRO","4011255","Base estabilizada granulometricamente com mistura solo brita (70% - 30%) na pista com material de jazida e brita produzida","m³",34.97]
[{"$f":"CONCATENAR","v":"SICRO 4011282"},"SICRO","4011282","Base ou sub-base de macadame hidráulico com brita comercial","m³",187.06]
[{"$f":"CONCATENAR","v":"SICRO 4011463"},"SICRO","4011463","Concreto asfáltico - faixa C - areia e brita comerciais","t",187.1]
[{"$f":"CONCATENAR","v":"SICRO 4011465"},"SICRO","4011465","Concreto asfáltico com asfalto polímero - faixa C - areia extraída e brita produzida","t",130.44999999999999]
[{"$f":"CONCATENAR","v":"SICRO 4011478"},"SICRO","4011478","Concreto asfáltico reciclado em usina com adição de asfalto - brita comercial","t",167.26]
[{"$f":"CONCATENAR","v":"SICRO 4011351"},"SICRO","4011351","Imprimação com asfalto diluído","m²",0.36]
[{"$f":"CONCATENAR","v":"SICRO 4011391"},"SICRO","4011391","Macadame betuminoso por penetração - faixa A - brita produzida","m³",123.9]
[{"$f":"CONCATENAR","v":"SICRO 4011393"},"SICRO","4011393","Macadame betuminoso por penetração - faixa B - brita produzida","m³",124.5]
[{"$f":"CONCATENAR","v":"SICRO 4011415"},"SICRO","4011415","Micro pré-misturado a quente com asfalto polímero - brita comercial","t",170.87]
[{"$f":"CONCATENAR","v":"SICRO 4011507"},"SICRO","4011507","Pavimento de concreto com equipamento de pequeno porte - areia extraída e brita produzida","m³",444.11]
[{"$f":"CONCATENAR","v":"SICRO 4011418"},"SICRO","4011418","Pré-misturado a frio - faixa A - areia e brita comerciais","m³",314.82]
[{"$f":"CONCATENAR","v":"SICRO 4011425"},"SICRO","4011425","Pré-misturado a frio com emulsão asfáltica com polímero - faixa A - areia extraída e brita produzida","m³",189.71]
[{"$f":"CONCATENAR","v":"SICRO 4011435"},"SICRO","4011435","Pré-misturado a quente com asfalto polímero - faixa II - camada porosa de atrito - areia extraída e brita produzida","t",120.36]
[{"$f":"CONCATENAR","v":"SICRO 4011485"},"SICRO","4011485","Reciclagem com incorporação do revestimento asfáltico à base e adição de 3% de cimento e de brita produzida","m³",91.41]
[{"$f":"CONCATENAR","v":"SICRO 4011342"},"SICRO","4011342","Reestabilização de camada de base com adição de 30% de brita comercial","m³",83.86]
[{"$f":"CONCATENAR","v":"SICRO 4011344"},"SICRO","4011344","Reestabilização de camada de base com adição de 30% de brita produzida","m³",51.97]
[{"$f":"CONCATENAR","v":"SICRO 4011217"},"SICRO","4011217","Sub-base de concreto adensado por vibração - areia extraída e brita produzida","m³",310.16000000000003]
[{"$f":"CONCATENAR","v":"SICRO 4011228"},"SICRO","4011228","Sub-base estabilizada granulometricamente com mistura de solos na pista com material de jazida","m³",12.38]
[{"$f":"CONCATENAR","v":"SICRO 4011377"},"SICRO","4011377","Tratamento superficial duplo com banho diluído com emulsão com polímero - brita produzida","m²",3.94]
[{"$f":"CONCATENAR","v":"SICRO 4011375"},"SICRO","4011375","Tratamento superficial duplo com emulsão com polímero - brita produzida","m²",3.43]
[{"$f":"CONCATENAR","v":"SICRO 4011358"},"SICRO","4011358","Tratamento superficial simples com emulsão - brita comercial","m²",1.76]
[{"$f":"CONCATENAR","v":"SICRO 4011379"},"SICRO","4011379","Tratamento superficial triplo com CAP - brita produzida","m²",3.19]
[{"$f":"CONCATENAR","v":"SICRO 4208158"},"SICRO","4208158","Ancoragem fixa para estais de 19 cordoalhas D = 15,7 mm - inclusive injeção de cera","un",17692.18]
[{"$f":"CONCATENAR","v":"SICRO 4208159"},"SICRO","4208159","Ancoragem fixa para estais de 31 cordoalhas D = 15,7 mm - inclusive injeção de cera","un",28381.68]
[{"$f":"CONCATENAR","v":"SICRO 4208151"},"SICRO","4208151","Ancoragem regulável para estais de 19 cordoalhas D = 15,7 mm - inclusive protensão, injeção de cera e regulagem final","un",29196.36]
[{"$f":"CONCATENAR","v":"SICRO 4208157"},"SICRO","4208157","Ancoragem regulável para estais de 91 cordoalhas D = 15,7 mm - inclusive protensão, injeção de cera e regulagem final","un",132147.46]
[{"$f":"CONCATENAR","v":"SICRO 4208136"},"SICRO","4208136","Tubo antivandalismo em aço galvanizado para estais de 19 cordoalhas D = 15,7 mm - fornecimento e instalação","m",2292.23]
[{"$f":"CONCATENAR","v":"SICRO 4208215"},"SICRO","4208215","Tubo antivandalismo em aço galvanizado para estais de 91 cordoalhas D = 15,7 mm - fornecimento e instalação","m",4823.62]
[{"$f":"CONCATENAR","v":"SICRO 4208225"},"SICRO","4208225","Tubo fôrma lado fixo em aço galvanizado para estais de 85 cordoalhas D = 15,7 mm - fornecimento e instalação","m",9505.6299999999992]
[{"$f":"CONCATENAR","v":"SICRO 4208234"},"SICRO","4208234","Tubo fôrma lado regulável em aço galvanizado para estais de 61 cordoalhas D = 15,7 mm - fornecimento e instalação","m",6429.41]
[{"$f":"CONCATENAR","v":"SICRO 4208133"},"SICRO","4208133","Tubo PEAD para estais - D = 225 mm - fornecimento e instalação","m",432.38]
[{"$f":"CONCATENAR","v":"SICRO 4208134"},"SICRO","4208134","Tubo PEAD para estais - D = 250 mm - fornecimento e instalação","m",482.05]
[{"$f":"CONCATENAR","v":"SICRO 4413026"},"SICRO","4413026","Dique de bambu para controle de erosão de taludes","m²",229.66]
[{"$f":"CONCATENAR","v":"SICRO 4413990"},"SICRO","4413990","Plantio de muda de arbusto com altura até 0,50 m em cova de 0,40 x 0,40 x 0,40 m","un",33.18]
[{"$f":"CONCATENAR","v":"SICRO 4413014"},"SICRO","4413014","Recuperação ambiental de pedreiras ou áreas degradadas com biomanta vegetal de fibras de coco","m²",16.760000000000002]
[{"$f":"CONCATENAR","v":"SICRO 4507754"},"SICRO","4507754","Ancoragem ativa com 10 cordoalhas aderentes D = 12,7 mm - fornecimento e instalação","un",871.14]
[{"$f":"CONCATENAR","v":"SICRO 4507762"},"SICRO","4507762","Ancoragem ativa com 22 cordoalhas aderentes D = 15,2 mm - fornecimento e instalação","un",3102.79]
[{"$f":"CONCATENAR","v":"SICRO 4507770"},"SICRO","4507770","Ancoragem ativa com 7 cordoalhas aderentes D = 12,7 mm - fornecimento e instalação","un",608.26]
[{"$f":"CONCATENAR","v":"SICRO 4507784"},"SICRO","4507784","Ancoragem ativa para lajes com 1 cordoalha engraxada D = 15,2 mm - fornecimento e instalação","un",114.13]
[{"$f":"CONCATENAR","v":"SICRO 4507778"},"SICRO","4507778","Ancoragem ativa para lajes com 2 cordoalhas aderentes D = 15,2 mm - fornecimento e instalação","un",243.36]
[{"$f":"CONCATENAR","v":"SICRO 4507788"},"SICRO","4507788","Ancoragem passiva com 15 cordoalhas aderentes D = 12,7 mm - fornecimento e instalação","un",218.47]
[{"$f":"CONCATENAR","v":"SICRO 4508190"},"SICRO","4508190","Ancoragem passiva com 31 cordoalhas aderentes D = 15,2 mm - fornecimento e instalação","un",511.06]
[{"$f":"CONCATENAR","v":"SICRO 4507804"},"SICRO","4507804","Ancoragem passiva com 9 cordoalhas aderentes D = 12,7 mm - fornecimento e instalação","un",137.69]
[{"$f":"CONCATENAR","v":"SICRO 4507810"},"SICRO","4507810","Ancoragem passiva para lajes com 3 cordoalhas aderentes D = 12,7 mm - fornecimento e instalação","un",49.96]
[{"$f":"CONCATENAR","v":"SICRO 4507858"},"SICRO","4507858","Bainha metálica ovalizada seção 22 x 73 mm para 4 cordoalhas D = 15,2 mm - fornecimento, instalação e injeção de nata de cimento","m",35.020000000000003]
[{"$f":"CONCATENAR","v":"SICRO 4507826"},"SICRO","4507826","Bainha metálica redonda D = 120 mm para 30 cordoalhas D = 15,2 mm - fornecimento, instalação e injeção de nata de cimento","m",78.09]
[{"$f":"CONCATENAR","v":"SICRO 4508182"},"SICRO","4508182","Bainha metálica redonda D = 45 mm para 5 cordoalhas D = 12,7 mm - fornecimento, instalação e injeção de nata de cimento","m",31.74]
[{"$f":"CONCATENAR","v":"SICRO 4508092"},"SICRO","4508092","Bainha metálica redonda D = 50 mm para 5 cordoalhas D = 15,2 mm - fornecimento, instalação e injeção de nata de cimento","m",33.86]
[{"$f":"CONCATENAR","v":"SICRO 4507838"},"SICRO","4507838","Bainha metálica redonda D = 70 mm para 9 cordoalhas D = 15,2 mm - fornecimento, instalação e injeção de nata de cimento","m",45.51]
[{"$f":"CONCATENAR","v":"SICRO 4507843"},"SICRO","4507843","Bainha metálica redonda D = 80 mm para 20 cordoalhas D = 12,7 mm - fornecimento, instalação e injeção de nata de cimento","m",50.63]
[{"$f":"CONCATENAR","v":"SICRO 4508176"},"SICRO","4508176","Bainha metálica redonda D = 95 mm para 19 cordoalhas D = 15,2 mm - fornecimento, instalação e injeção de nata de cimento","m",62.71]
[{"$f":"CONCATENAR","v":"SICRO 4805756"},"SICRO","4805756","Apiloamento manual de superfície com espessura de 15 cm","m²",4.8899999999999997]
[{"$f":"CONCATENAR","v":"SICRO 4816144"},"SICRO","4816144","Confecção de canaleta meia cana D = 0,30 m - areia extraída e brita produzida","m",24.74]
[{"$f":"CONCATENAR","v":"SICRO 4816121"},"SICRO","4816121","Confecção de tubos de concreto D = 0,20 m - areia e brita comerciais","m",31.24]
[{"$f":"CONCATENAR","v":"SICRO 4816102"},"SICRO","4816102","Confecção de tubos de concreto poroso D = 0,30 m - areia e brita comerciais","m",41.02]
[{"$f":"CONCATENAR","v":"SICRO 4816101"},"SICRO","4816101","Confecção de tubos de concreto poroso D = 0,30 m - areia extraída e brita produzida","m",39.450000000000003]
[{"$f":"CONCATENAR","v":"SICRO 4805751"},"SICRO","4805751","Escavação manual em material de 1ª categoria na profundidade de 1 a 2 m","m³",56.24]
[{"$f":"CONCATENAR","v":"SICRO 4805762"},"SICRO","4805762","Escavação mecânica de vala em material de 2ª categoria","m³",7.95]
[{"$f":"CONCATENAR","v":"SICRO 4816016"},"SICRO","4816016","Rachão ou pedra de mão produzida","m³",40.14]
[{"$f":"CONCATENAR","v":"SICRO 4816119"},"SICRO","4816119","Selo de argila apiloado (solo local)","m³",36.950000000000003]
[{"$f":"CONCATENAR","v":"SICRO 4915700"},"SICRO","4915700","Combate à exsudação - areia comercial","m²",1.1399999999999999]
[{"$f":"CONCATENAR","v":"SICRO 4915655"},"SICRO","4915655","Fresagem contínua de revestimento asfáltico - espessura de 3 cm","m³",84.17]
[{"$f":"CONCATENAR","v":"SICRO 4915664"},"SICRO","4915664","Fresagem descontínua de revestimento asfáltico - espessura de 6 cm","m³",62.88]
[{"$f":"CONCATENAR","v":"SICRO 4915665"},"SICRO","4915665","Fresagem descontínua de revestimento asfáltico - espessura de 7 cm","m³",56.98]
[{"$f":"CONCATENAR","v":"SICRO 4915634"},"SICRO","4915634","Limpeza e desobstrução mecanizada de bueiros com diâmetro acima de 1,00 até 1,50 m","m",59.77]
[{"$f":"CONCATENAR","v":"SICRO 4915759"},"SICRO","4915759","Limpeza e remoção de vegetação junto aos aparelhos de apoio de OAE com o uso de herbicida","un",7.32]
[{"$f":"CONCATENAR","v":"SICRO 4915801"},"SICRO","4915801","Mistura betuminosa","m³",0]
[{"$f":"CONCATENAR","v":"SICRO 4915719"},"SICRO","4915719","Recomposição de placa de sinalização","m²",33.46]
[{"$f":"CONCATENAR","v":"SICRO 4915732"},"SICRO","4915732","Recomposição parcial de cerca com mourão de madeira - arame","m",7.96]
[{"$f":"CONCATENAR","v":"SICRO 4915593"},"SICRO","4915593","Recomposição total de cerca com mourão de concreto seção quadrada - areia extraída e brita produzida","m",27.8]
[{"$f":"CONCATENAR","v":"SICRO 4915799"},"SICRO","4915799","Remoção de espécimes arbóreos de até 20 m tombados na pista","t",41]
[{"$f":"CONCATENAR","v":"SICRO 4915698"},"SICRO","4915698","Remoção de grãos, agregados e solos derramados na pista em rodovias","t",18.28]
[{"$f":"CONCATENAR","v":"SICRO 4915699"},"SICRO","4915699","Remoção de vidros, caixas e engradados derramados na pista em rodovia","t",28.32]
[{"$f":"CONCATENAR","v":"SICRO 4915669"},"SICRO","4915669","Remoção mecanizada de camada granular do pavimento","m³",7.28]
[{"$f":"CONCATENAR","v":"SICRO 4915623"},"SICRO","4915623","Solo brita para base de remendo profundo - brita comercial","m³",58.89]
[{"$f":"CONCATENAR","v":"SICRO 4915678"},"SICRO","4915678","Tapa buraco com pintura de ligação - demolição manual","m³",374.52]
[{"$f":"CONCATENAR","v":"SICRO 5213343"},"SICRO","5213343","Barreira de sinalização tipo I de direcionamento ou bloqueio - utilização de 150 ciclos - fornecimento, 01 implantação e 01 retirada diária","un.dia",3.62]
[{"$f":"CONCATENAR","v":"SICRO 5213834"},"SICRO","5213834","Barreira plástica para canalização de trânsito - 60 x 45 x 60 cm - utilização de 600 ciclos - fornecimento, 01 implantação e 01 retirada diária","un.dia",6.45]
[{"$f":"CONCATENAR","v":"SICRO 5213840"},"SICRO","5213840","Dispositivo de direcionamento ou bloqueio tipo tela plástica com suporte fixo - confecção","m²",35.61]
[{"$f":"CONCATENAR","v":"SICRO 5213841"},"SICRO","5213841","Dispositivo de direcionamento ou bloqueio tipo tela plástica com suporte móvel afixado em bloco de concreto - confecção","m²",63.55]
[{"$f":"CONCATENAR","v":"SICRO 5214011"},"SICRO","5214011","Manutenção/recomposição de sinalização - pintura de faixa com tinta acrílica emulsionada em água - espessura de 0,3 mm","m²",12.7]
[{"$f":"CONCATENAR","v":"SICRO 5214009"},"SICRO","5214009","Pintura de faixa com plástico a frio bicomponente à base de resinas metacrílicas por extrusão (plano) - espessura de 1,5 mm","m²",112.85]
[{"$f":"CONCATENAR","v":"SICRO 5213408"},"SICRO","5213408","Pintura de faixa com termoplástico por aspersão - espessura de 1,5 mm","m²",48.82]
[{"$f":"CONCATENAR","v":"SICRO 5213405"},"SICRO","5213405","Pintura de setas e zebrados com tinta acrílica - espessura de 0,6 mm","m²",45.47]
[{"$f":"CONCATENAR","v":"SICRO 5213469"},"SICRO","5213469","Placa de advertência em fibra, lado de 0,80 m - película retrorrefletiva tipo I + SI - fornecimento e implantação","un",410.08]
[{"$f":"CONCATENAR","v":"SICRO 5213441"},"SICRO","5213441","Placa de regulamentação em aço D = 0,80 m - película retrorrefletiva tipo I + SI - fornecimento e implantação","un",425.17]
[{"$f":"CONCATENAR","v":"SICRO 5213450"},"SICRO","5213450","Placa de regulamentação em aço, R2 lado 1,00 m - película retrorrefletiva tipo I + SI - fornecimento e implantação","un",378.5]
[{"$f":"CONCATENAR","v":"SICRO 5213451"},"SICRO","5213451","Placa de regulamentação em aço, R2 lado 1,20 m - película retrorrefletiva tipo III + SI - fornecimento e implantação","un",554.86]
[{"$f":"CONCATENAR","v":"SICRO 5213460"},"SICRO","5213460","Placa de regulamentação em fibra, R2 lado 0,60 m - película retrorrefletiva tipo I + SI - fornecimento e implantação","un",166.17]
[{"$f":"CONCATENAR","v":"SICRO 5213479"},"SICRO","5213479","Placa delineador em fibra - 0,30 x 0,90 m - película retrorrefletiva tipo I + IV - fornecimento e implantação","un",153.72]
[{"$f":"CONCATENAR","v":"SICRO 5213508"},"SICRO","5213508","Placa em aço - 3,00 x 1,50 m - película retrorrefletiva tipo III + III - fornecimento e implantação","un",2684.59]
[{"$f":"CONCATENAR","v":"SICRO 5213370"},"SICRO","5213370","Placa em aço - 4,00 x 2,00 m - película retrorrefletiva tipo I + X - fornecimento e implantação","un",4355.41]
[{"$f":"CONCATENAR","v":"SICRO 5213570"},"SICRO","5213570","Placa em aço - película I + I - fornecimento e implantação","m²",456.54]
[{"$f":"CONCATENAR","v":"SICRO 5213421"},"SICRO","5213421","Placa em aço nº 16 galvanizado com película retrorrefletiva tipo I + IV - confecção","m²",397.43]
[{"$f":"CONCATENAR","v":"SICRO 5213561"},"SICRO","5213561","Placa em aço, modulada - 2,00 x 1,00 m - película retrorrefletiva tipo III + III - fornecimento e implantação","un",1478.41]
[{"$f":"CONCATENAR","v":"SICRO 5213553"},"SICRO","5213553","Placa em aço, modulada - 3,00 x 1,50 m - película retrorrefletiva tipo I + III - fornecimento e implantação","un",2666.01]
[{"$f":"CONCATENAR","v":"SICRO 5213557"},"SICRO","5213557","Placa em aço, modulada - 4,00 x 3,00 m - película retrorrefletiva tipo I + III - fornecimento e implantação","un",7057.01]
[{"$f":"CONCATENAR","v":"SICRO 5213486"},"SICRO","5213486","Placa em alumínio composto, espessura de 3,0 mm, modulada, aérea - película retrorrefletiva tipo I + III - fornecimento e implantação","m²",945.29]
[{"$f":"CONCATENAR","v":"SICRO 5213436"},"SICRO","5213436","Placa em alumínio, espessura de 1,5 mm, modulada, aérea, com película retrorrefletiva tipo III + X - confecção","m²",837.3]
[{"$f":"CONCATENAR","v":"SICRO 5213525"},"SICRO","5213525","Placa em fibra - 2,00 x 1,00 m - película retrorrefletiva tipo I + III - fornecimento e implantação","un",942.99]
[{"$f":"CONCATENAR","v":"SICRO 5213521"},"SICRO","5213521","Placa em fibra - 4,00 x 3,00 m - película retrorrefletiva tipo I + I - fornecimento e implantação","un",4744.13]
[{"$f":"CONCATENAR","v":"SICRO 5213422"},"SICRO","5213422","Placa modulada em aço nº 18 galvanizado com película retrorrefletiva tipo I + I - confecção","m²",525.02]
[{"$f":"CONCATENAR","v":"SICRO 5213718"},"SICRO","5213718","Pórtico metálico com vão de 15,9 m, vento de 40 m/s e área de exposição de até 23,85 m² - fornecimento e implantação - areia e brita comerciais","un",112057.24]
[{"$f":"CONCATENAR","v":"SICRO 5213741"},"SICRO","5213741","Pórtico metálico com vão de 15,9 m, vento de 40 m/s e área de exposição de até 23,85 m² - fornecimento e implantação - areia extraída e brita produzida","un",112057.24]
[{"$f":"CONCATENAR","v":"SICRO 5213830"},"SICRO","5213830","Remoção de sinalização horizontal por fresagem","m²",4.7]
[{"$f":"CONCATENAR","v":"SICRO 5213630"},"SICRO","5213630","Semipórtico metálico com vão de 8,3 m, vento de 35 m/s e área de exposição de até 12,45 m² - fornecimento e implantação - areia e brita comerciais","un",59788.85]
[{"$f":"CONCATENAR","v":"SICRO 5213872"},"SICRO","5213872","Suporte duplo metálico galvanizado para placas - 4,00 x 3,00 m - fornecimento e implantação","un",5230.8500000000004]
[{"$f":"CONCATENAR","v":"SICRO 5213858"},"SICRO","5213858","Suporte metálico galvanizado para placa de regulamentação - R1 - lado de 0,497 m - fornecimento e implantação","un",442]
[{"$f":"CONCATENAR","v":"SICRO 5213350"},"SICRO","5213350","Suporte polimérico ecológico maciço colapsível quadrado de 10 cm para placa de sinalização - fornecimento e implantação","un",1932.03]
[{"$f":"CONCATENAR","v":"SICRO 5219610"},"SICRO","5219610","Tacha refletiva em plástico injetado - bidirecional tipo IV - com um pino - fornecimento e colocação","un",43.94]
[{"$f":"CONCATENAR","v":"SICRO 5219618"},"SICRO","5219618","Tacha refletiva em plástico injetado - monodirecional tipo IV - fornecimento e colocação","un",40.17]
[{"$f":"CONCATENAR","v":"SICRO 5219620"},"SICRO","5219620","Tacha refletiva em resina sintética - bidirecional tipo I - fornecimento e colocação","un",43.27]
[{"$f":"CONCATENAR","v":"SICRO 5219629"},"SICRO","5219629","Tacha refletiva em resina sintética - monodirecional tipo II - com um pino - fornecimento e colocação","un",49.49]
[{"$f":"CONCATENAR","v":"SICRO 5219636"},"SICRO","5219636","Tacha refletiva metálica - bidirecional tipo III - com um pino - fornecimento e colocação","un",31.32]
[{"$f":"CONCATENAR","v":"SICRO 5213362"},"SICRO","5213362","Tachão refletivo em plástico injetado - bidirecional - fornecimento e colocação","un",94.29]
[{"$f":"CONCATENAR","v":"SICRO 5300998"},"SICRO","5300998","Confecção de corpo de boia flutuante cilíndrico D = 1,42m - boia de amarração","un",6801.69]
[{"$f":"CONCATENAR","v":"SICRO 5301066"},"SICRO","5301066","Fornecimento e implantação de suporte duplo em madeira com travessa para placa de sinalização náutica em margem - altura total de 5,5 m","un",1174.01]
[{"$f":"CONCATENAR","v":"SICRO 5301054"},"SICRO","5301054","Fornecimento e implantação de suporte duplo polimérico ecológico maciço quadrado de 10 cm para placa de sinalização náutica em margem - altura total de 5,5 m - com embarcação","un",5944.18]
[{"$f":"CONCATENAR","v":"SICRO 5301063"},"SICRO","5301063","Fornecimento e implantação de suporte simples em madeira com travessa para placa de sinalização náutica em margem - altura total de 5,5 m","un",346.91]
[{"$f":"CONCATENAR","v":"SICRO 5301045"},"SICRO","5301045","Fornecimento e implantação de suporte simples em madeira com travessa para placa de sinalização náutica em margem - altura total de 5,5 m - com embarcação","un",1096.3800000000001]
[{"$f":"CONCATENAR","v":"SICRO 5301018"},"SICRO","5301018","Fornecimento e instalação de corrente 1/2\" para sistema de fundeio de boia de sinalização náutica","m",96.09]
[{"$f":"CONCATENAR","v":"SICRO 5301078"},"SICRO","5301078","Fornecimento e instalação de lanterna de sinalização náutica com alcance luminoso de 3 MN em obra de arte especial - com embarcação","un",5792.77]
[{"$f":"CONCATENAR","v":"SICRO 5301028"},"SICRO","5301028","Fornecimento e substituição de lanterna de sinalização náutica com alcance luminoso de 2 MN em boia","un",3958.72]
[{"$f":"CONCATENAR","v":"SICRO 5301086"},"SICRO","5301086","Fornecimento e substituição de lanterna de sinalização náutica com alcance luminoso de 8 MN em obra de arte especial - com embarcação","un",11573.41]
[{"$f":"CONCATENAR","v":"SICRO 5301088"},"SICRO","5301088","Poita de concreto com 1.000 kg para boia de sinalização náutica","un",341.22]
[{"$f":"CONCATENAR","v":"SICRO 5301009"},"SICRO","5301009","Reforma de mangrulho H = 0,90m","un",259.54000000000002]
[{"$f":"CONCATENAR","v":"SICRO 5406044"},"SICRO","5406044","Aterro compactado em solo reforçado com fita metálica galvanizada - taxa 12,40 kg/m³ - material de jazida","m³",226.2]
[{"$f":"CONCATENAR","v":"SICRO 5406045"},"SICRO","5406045","Aterro compactado em solo reforçado com fita metálica galvanizada - taxa 13,23 kg/m³ - material de jazida","m³",240.64]
[{"$f":"CONCATENAR","v":"SICRO 5405975"},"SICRO","5405975","Escoramento da primeira linha de escamas de concreto armado em solo reforçado com fita metálica – utilização de 3 vezes - confecção, instalação e retirada","m²",34.159999999999997]
[{"$f":"CONCATENAR","v":"SICRO 5406024"},"SICRO","5406024","Muro de escama de concreto armado em solo reforçado com fita metálica com altura até 4 m - tipo 2 - areia e brita comerciais","m²",367.79]
[{"$f":"CONCATENAR","v":"SICRO 5406025"},"SICRO","5406025","Muro de escama de concreto armado em solo reforçado com fita metálica com altura de 4,0 a 6 m - tipo 1 - areia e brita comerciais","m²",332.03]
[{"$f":"CONCATENAR","v":"SICRO 5405979"},"SICRO","5405979","Travamento e nivelamento de escama de concreto armado em solo reforçado com fita metálica","m²",15.33]
[{"$f":"CONCATENAR","v":"SICRO 5515739"},"SICRO","5515739","Desmonte de matacões ou bloco de rocha por meio de explosivos","m³",43.03]
[{"$f":"CONCATENAR","v":"SICRO 5502663"},"SICRO","5502663","Escavação e transporte de material de 3ª categoria - DMT de 0 a 50 m","m³",33.24]
[{"$f":"CONCATENAR","v":"SICRO 5502114"},"SICRO","5502114","Escavação, carga e transporte de material de 1ª categoria - DMT de 1.000 a 1.200 m - caminho de serviço em leito natural - com escavadeira e caminhão basculante de 14 m³","m³",7.64]
[{"$f":"CONCATENAR","v":"SICRO 5502115"},"SICRO","5502115","Escavação, carga e transporte de material de 1ª categoria - DMT de 1.200 a 1.400 m - caminho de serviço em leito natural - com escavadeira e caminhão basculante de 14 m³","m³",8.3000000000000007]
[{"$f":"CONCATENAR","v":"SICRO 5501882"},"SICRO","5501882","Escavação, carga e transporte de material de 1ª categoria - DMT de 1.400 a 1.600 m - caminho de serviço em leito natural - com carregadeira e caminhão basculante de 14 m³","m³",12.14]
[{"$f":"CONCATENAR","v":"SICRO 5502143"},"SICRO","5502143","Escavação, carga e transporte de material de 1ª categoria - DMT de 1.600 a 1.800 m - caminho de serviço em revestimento primário - com escavadeira e caminhão basculante de 14 m³","m³",7.32]
[{"$f":"CONCATENAR","v":"SICRO 5501885"},"SICRO","5501885","Escavação, carga e transporte de material de 1ª categoria - DMT de 2.000 a 2.500 m - caminho de serviço em leito natural - com carregadeira e caminhão basculante de 14 m³","m³",13.49]
[{"$f":"CONCATENAR","v":"SICRO 5502146"},"SICRO","5502146","Escavação, carga e transporte de material de 1ª categoria - DMT de 2.500 a 3.000 m - caminho de serviço em revestimento primário - com escavadeira e caminhão basculante de 14 m³","m³",8.6300000000000008]
[{"$f":"CONCATENAR","v":"SICRO 5501902"},"SICRO","5501902","Escavação, carga e transporte de material de 1ª categoria - DMT de 200 a 400 m - caminho de serviço em revestimento primário - com carregadeira e caminhão basculante de 14 m³","m³",9.27]
[{"$f":"CONCATENAR","v":"SICRO 5501927"},"SICRO","5501927","Escavação, carga e transporte de material de 1ª categoria - DMT de 50 a 200 m - caminho de serviço pavimentado - com carregadeira e caminhão basculante de 14 m³","m³",9.1]
[{"$f":"CONCATENAR","v":"SICRO 5502113"},"SICRO","5502113","Escavação, carga e transporte de material de 1ª categoria - DMT de 800 a 1.000 m - caminho de serviço em leito natural - com escavadeira e caminhão basculante de 14 m³","m³",7.37]
[{"$f":"CONCATENAR","v":"SICRO 5501905"},"SICRO","5501905","Escavação, carga e transporte de material de 1ª categoria - DMT de 800 a 1.000 m - caminho de serviço em revestimento primário - com carregadeira e caminhão basculante de 14 m³","m³",9.9]
[{"$f":"CONCATENAR","v":"SICRO 5502836"},"SICRO","5502836","Escavação, carga e transporte de material de 1ª categoria na distância de 3.000 m - caminho de serviço pavimentado - com escavadeira e caminhão basculante de 14 m³","m³",8.74]
[{"$f":"CONCATENAR","v":"SICRO 5502383"},"SICRO","5502383","Escavação, carga e transporte de material de 2ª categoria - DMT de 1.200 a 1.400 m - caminho de serviço em revestimento primário - com carregadeira e caminhão basculante de 14 m³","m³",16.5]
[{"$f":"CONCATENAR","v":"SICRO 5502359"},"SICRO","5502359","Escavação, carga e transporte de material de 2ª categoria - DMT de 1.600 a 1.800 m - caminho de serviço em leito natural - com carregadeira e caminhão basculante de 14 m³","m³",18.57]
[{"$f":"CONCATENAR","v":"SICRO 5502620"},"SICRO","5502620","Escavação, carga e transporte de material de 2ª categoria - DMT de 1.800 a 2.000 m - caminho de serviço em revestimento primário - com escavadeira e caminhão basculante de 14 m³","m³",10.039999999999999]
[{"$f":"CONCATENAR","v":"SICRO 5502362"},"SICRO","5502362","Escavação, carga e transporte de material de 2ª categoria - DMT de 2.500 a 3.000 m - caminho de serviço em leito natural - com carregadeira e caminhão basculante de 14 m³","m³",21.13]
[{"$f":"CONCATENAR","v":"SICRO 5502612"},"SICRO","5502612","Escavação, carga e transporte de material de 2ª categoria - DMT de 200 a 400 m - caminho de serviço em revestimento primário - com escavadeira e caminhão basculante de 14 m³","m³",7.82]
[{"$f":"CONCATENAR","v":"SICRO 5502351"},"SICRO","5502351","Escavação, carga e transporte de material de 2ª categoria - DMT de 50 a 200 m - caminho de serviço em leito natural - com carregadeira e caminhão basculante de 14 m³","m³",14.96]
[{"$f":"CONCATENAR","v":"SICRO 5502187"},"SICRO","5502187","Escavação, carga e transporte de material de 2ª categoria - DMT de 50 m","m³",7.09]
[{"$f":"CONCATENAR","v":"SICRO 5502406"},"SICRO","5502406","Escavação, carga e transporte de material de 2ª categoria - DMT de 600 a 800 m - caminho de serviço pavimentado - com carregadeira e caminhão basculante de 14 m³","m³",15.95]
[{"$f":"CONCATENAR","v":"SICRO 5502857"},"SICRO","5502857","Escavação, carga e transporte de material de 2ª categoria na distância de 3.000 m - caminho de serviço em leito natural com carregadeira e caminhão basculante de 14 m³","m³",21.53]
[{"$f":"CONCATENAR","v":"SICRO 5502774"},"SICRO","5502774","Escavação, carga e transporte de material de 3ª categoria - DMT de 1.200 a 1.400 m - caminho de serviço em revestimento primário - com caminhão basculante de 12 m³","m³",44.54]
[{"$f":"CONCATENAR","v":"SICRO 5502777"},"SICRO","5502777","Escavação, carga e transporte de material de 3ª categoria - DMT de 1.800 a 2.000 m - caminho de serviço em revestimento primário - com caminhão basculante de 12 m³","m³",45.37]
[{"$f":"CONCATENAR","v":"SICRO 5502753"},"SICRO","5502753","Escavação, carga e transporte de material de 3ª categoria - DMT de 2.500 a 3.000 m - caminho de serviço em leito natural com caminhão basculante de 12 m³","m³",51.08]
[{"$f":"CONCATENAR","v":"SICRO 5502797"},"SICRO","5502797","Escavação, carga e transporte de material de 3ª categoria - DMT de 600 a 800 m - caminho de serviço pavimentado - com caminhão basculante de 12 m³","m³",41.7]
[{"$f":"CONCATENAR","v":"SICRO 5502930"},"SICRO","5502930","Escavação, carga e transporte de solos moles - DMT de 1.000 a 1.200 m - caminho de serviço em revestimento primário - com caminhão basculante de 14 m³","m³",18.38]
[{"$f":"CONCATENAR","v":"SICRO 5502956"},"SICRO","5502956","Escavação, carga e transporte de solos moles - DMT de 1.000 a 1.200 m - caminho de serviço pavimentado - com caminhão basculante de 14 m³","m³",18.010000000000002]
[{"$f":"CONCATENAR","v":"SICRO 5502959"},"SICRO","5502959","Escavação, carga e transporte de solos moles - DMT de 1.600 a 1.800 m - caminho de serviço pavimentado - com caminhão basculante de 14 m³","m³",18.57]
[{"$f":"CONCATENAR","v":"SICRO 5502901"},"SICRO","5502901","Escavação, carga e transporte de solos moles - DMT de 400 a 600 m - caminho de serviço em leito natural - com caminhão basculante de 14 m³","m³",18.29]
[{"$f":"CONCATENAR","v":"SICRO 5502902"},"SICRO","5502902","Escavação, carga e transporte de solos moles - DMT de 600 a 800 m - caminho de serviço em leito natural - com caminhão basculante de 14 m³","m³",18.75]
[{"$f":"CONCATENAR","v":"SICRO 5501716"},"SICRO","5501716","Escavação, carga e transporte em material de 1ª categoria - DMT de 1.000 a 1.200 m com motoscraper","m³",19.62]
[{"$f":"CONCATENAR","v":"SICRO 5502977"},"SICRO","5502977","Fragmentação de blocos de rocha com escavadeira e rompedor hidráulico 1.700 kg","m³",8.5299999999999994]
[{"$f":"CONCATENAR","v":"SICRO 5613944"},"SICRO","5613944","Chumbador de aço CA-50 - D = 32 mm com martelete perfurador manual - ancorado na rocha com cartucho de cimento - fornecimento, perfuração e instalação","m",127.73]
[{"$f":"CONCATENAR","v":"SICRO 5605911"},"SICRO","5605911","Perfuração para tirante permanente protendido autoinjetável em material de 1ª categoria com diâmetro de até 120 mm","m",34.65]
[{"$f":"CONCATENAR","v":"SICRO 5605956"},"SICRO","5605956","Protensão de tirante com 12 cordoalhas D = 12,7 mm aço CP 190 RB, com capacidade de 1.040 kN - inclusive ancoragem e grauteamento da cabeça","un",873.57]
[{"$f":"CONCATENAR","v":"SICRO 5605910"},"SICRO","5605910","Protensão de tirante permanente protendido de aço D = 32 mm, tensão de escoamento = 500 MPa e tensão de ruptura = 550 MPa - inclusive ancoragem e grauteamento da cabeça","un",514.95000000000005]
[{"$f":"CONCATENAR","v":"SICRO 5605932"},"SICRO","5605932","Tirante de barra de aço ancorado na rocha com resina de poliéster, D = 19 mm, tensão de escoamento = 686 MPa e tensão de ruptura = 789 MPa - fornecimento, perfuração e instalação","m",128.35]
[{"$f":"CONCATENAR","v":"SICRO 5605960"},"SICRO","5605960","Tirante permanente protendido autoinjetável de aço D = 50 mm, seção de 1.330 mm², tensão de escoamento = 630 MPa e tensão de ruptura = 740 MPa - exceto perfuração","m",393.32]
[{"$f":"CONCATENAR","v":"SICRO 5605882"},"SICRO","5605882","Tirante permanente protendido de aço D = 32 mm, tensão de escoamento = 950 MPa e tensão de ruptura = 1.050 MPa - exceto perfuração","m",388.23]
[{"$f":"CONCATENAR","v":"SICRO 5914710"},"SICRO","5914710","Carga e manobra de dormentes de concreto de bitola larga com locomotiva diesel-elétrica e vagão plataforma com capacidade de 98 t - carga com carregadeira - bitola larga","t",10.42]
[{"$f":"CONCATENAR","v":"SICRO 5914647"},"SICRO","5914647","Carga, manobra e descarga de agregados ou solos em caminhão basculante de 10 m³ - carga com carregadeira de 3,40 m³ (exclusa) e descarga livre","t",1.7]
[{"$f":"CONCATENAR","v":"SICRO 5914351"},"SICRO","5914351","Carga, manobra e descarga de agregados ou solos em caminhão basculante de 14 m³ - carga com carregadeira de 3,40 m³ e descarga livre","t",2.5299999999999998]
[{"$f":"CONCATENAR","v":"SICRO 5914645"},"SICRO","5914645","Carga, manobra e descarga de agregados ou solos em caminhão basculante de 6 m³ - carga com carregadeira de 1,72 m³ (exclusa) e descarga em distribuidor autopropelido","t",2.74]
[{"$f":"CONCATENAR","v":"SICRO 5915405"},"SICRO","5915405","Carga, manobra e descarga de blocos de rocha em caminhão basculante de 8 m³ - carga com carregadeira de 1,72 m³ e descarga livre","t",5.42]
[{"$f":"CONCATENAR","v":"SICRO 5914646"},"SICRO","5914646","Carga, manobra e descarga de concreto asfáltico com borracha em caminhão basculante de 10 m³ - carga em usina de asfalto 100/140 t/h e descarga em vibroacabadora","t",8.3800000000000008]
[{"$f":"CONCATENAR","v":"SICRO 5914707"},"SICRO","5914707","Carga, manobra e descarga de dormentes de concreto de bitola mista com locomotiva diesel-elétrica e vagão plataforma com capacidade de 98 t - carga e descarga com carregadeira - bitola larga","t",18.91]
[{"$f":"CONCATENAR","v":"SICRO 5915015"},"SICRO","5915015","Carga, manobra e descarga de materiais diversos em caminhão carroceria com capacidade de 11 t e com guindauto de 45 t.m","t",20.68]
[{"$f":"CONCATENAR","v":"SICRO 5915019"},"SICRO","5915019","Carga, manobra e descarga de materiais metálicos para AMV de bitola larga, qualquer abertura, em cavalo mecânico com semirreboque com capacidade de 30 t - carga e descarga com carregadeira","t",13.03]
[{"$f":"CONCATENAR","v":"SICRO 5914304"},"SICRO","5914304","Carga, manobra e descarga de material fresado em caminhão basculante de 10 m³ - fresagem contínua em espessura de 3 cm - carga com fresadora e descarga livre","t",3.43]
[{"$f":"CONCATENAR","v":"SICRO 5914339"},"SICRO","5914339","Carga, manobra e descarga de material fresado em caminhão basculante de 6 m³ - fresagem descontínua em espessura de 5 cm - carga com fresadora e descarga livre","t",9.02]
[{"$f":"CONCATENAR","v":"SICRO 5914650"},"SICRO","5914650","Carga, manobra e descarga de mistura betuminosa a frio em caminhão basculante de 10 m³ - carga em usina de 60 t/h (PMF) e descarga em vibroacabadora","t",10.81]
[{"$f":"CONCATENAR","v":"SICRO 5914708"},"SICRO","5914708","Carga, manobra e descarga de TLS de TR45 de 120 m com locomotiva diesel-elétrica em vagão plataforma com capacidade de 82 t - carga e descarga com manipulador de TLS - bitola métrica","t",39.26]
[{"$f":"CONCATENAR","v":"SICRO 5914691"},"SICRO","5914691","Carga, manobra e descarga de TLS de TR68 de 120 m com locomotiva diesel-elétrica em vagão plataforma com capacidade de 98 t - carga e descarga com manipulador de TLS - bitola larga","t",25.67]
[{"$f":"CONCATENAR","v":"SICRO 5914694"},"SICRO","5914694","Carga, manobra e descarga de TLS de UIC60 de 240 m com locomotiva diesel-elétrica em vagão plataforma com capacidade de 98 t - carga e descarga com manipulador de TLS - bitola larga","t",31.08]
[{"$f":"CONCATENAR","v":"SICRO 5914344"},"SICRO","5914344","Transporte com caminhão basculante de 6 m³ - rodovia pavimentada","tkm",0.79]
[{"$f":"CONCATENAR","v":"SICRO 5914614"},"SICRO","5914614","Transporte com caminhão carroceria com capacidade de 7 t e com guindauto de 20 t.m - rodovia pavimentada","tkm",1.69]
[{"$f":"CONCATENAR","v":"SICRO 5915324"},"SICRO","5915324","Transporte com caminhão carroceria de 5 t - rodovia pavimentada","tkm",1.1499999999999999]
[{"$f":"CONCATENAR","v":"SICRO 5914640"},"SICRO","5914640","Transporte com cavalo mecânico com semirreboque com capacidade de 30 t - rodovia pavimentada","tkm",0.55000000000000004]
[{"$f":"CONCATENAR","v":"SICRO 5914619"},"SICRO","5914619","Transporte de água com caminhão tanque de 13.000 l - rodovia pavimentada","tkm",0.97]
[{"$f":"CONCATENAR","v":"SICRO 5915448"},"SICRO","5915448","Transporte de água com caminhão tanque de 8.000 l - rodovia em leito natural","tkm",1.93]
[{"$f":"CONCATENAR","v":"SICRO 5915449"},"SICRO","5915449","Transporte de água com caminhão tanque de 8.000 l - rodovia em revestimento primário","tkm",1.54]
[{"$f":"CONCATENAR","v":"SICRO 5915450"},"SICRO","5915450","Transporte de água com caminhão tanque de 8.000 l - rodovia pavimentada","tkm",1.24]
[{"$f":"CONCATENAR","v":"SICRO 5901641"},"SICRO","5901641","Transporte de areia fina com draga hopper - capacidade da cisterna de 1.000 m³","m³km",0.87]
[{"$f":"CONCATENAR","v":"SICRO 5901642"},"SICRO","5901642","Transporte de areia fina com draga hopper - capacidade da cisterna de 10.000 m³","m³km",0.26]
[{"$f":"CONCATENAR","v":"SICRO 5901643"},"SICRO","5901643","Transporte de areia fina com draga hopper - capacidade da cisterna de 15.000 m³","m³km",0.24]
[{"$f":"CONCATENAR","v":"SICRO 5901644"},"SICRO","5901644","Transporte de areia fina com draga hopper - capacidade da cisterna de 2.000 m³","m³km",0.54]
[{"$f":"CONCATENAR","v":"SICRO 5901645"},"SICRO","5901645","Transporte de areia fina com draga hopper - capacidade da cisterna de 20.000 m³","m³km",0.24]
[{"$f":"CONCATENAR","v":"SICRO 5901646"},"SICRO","5901646","Transporte de areia fina com draga hopper - capacidade da cisterna de 3.000 m³","m³km",0.44]
[{"$f":"CONCATENAR","v":"SICRO 5901647"},"SICRO","5901647","Transporte de areia fina com draga hopper - capacidade da cisterna de 4.000 m³","m³km",0.39]
[{"$f":"CONCATENAR","v":"SICRO 5901648"},"SICRO","5901648","Transporte de areia fina com draga hopper - capacidade da cisterna de 5.000 m³","m³km",0.35]
[{"$f":"CONCATENAR","v":"SICRO 5901649"},"SICRO","5901649","Transporte de areia fina com draga hopper - capacidade da cisterna de 750 m³","m³km",1.23]
[{"$f":"CONCATENAR","v":"SICRO 5901650"},"SICRO","5901650","Transporte de areia grossa com draga hopper - capacidade da cisterna de 1.000 m³","m³km",0.84]
[{"$f":"CONCATENAR","v":"SICRO 5901651"},"SICRO","5901651","Transporte de areia grossa com draga hopper - capacidade da cisterna de 10.000 m³","m³km",0.25]
[{"$f":"CONCATENAR","v":"SICRO 5901652"},"SICRO","5901652","Transporte de areia grossa com draga hopper - capacidade da cisterna de 15.000 m³","m³km",0.24]
[{"$f":"CONCATENAR","v":"SICRO 5901653"},"SICRO","5901653","Transporte de areia grossa com draga hopper - capacidade da cisterna de 2.000 m³","m³km",0.53]
[{"$f":"CONCATENAR","v":"SICRO 5901654"},"SICRO","5901654","Transporte de areia grossa com draga hopper - capacidade da cisterna de 20.000 m³","m³km",0.23]
[{"$f":"CONCATENAR","v":"SICRO 5901655"},"SICRO","5901655","Transporte de areia grossa com draga hopper - capacidade da cisterna de 3.000 m³","m³km",0.43]
[{"$f":"CONCATENAR","v":"SICRO 5901656"},"SICRO","5901656","Transporte de areia grossa com draga hopper - capacidade da cisterna de 4.000 m³","m³km",0.38]
[{"$f":"CONCATENAR","v":"SICRO 5901657"},"SICRO","5901657","Transporte de areia grossa com draga hopper - capacidade da cisterna de 5.000 m³","m³km",0.34]
[{"$f":"CONCATENAR","v":"SICRO 5901658"},"SICRO","5901658","Transporte de areia grossa com draga hopper - capacidade da cisterna de 750 m³","m³km",1.2]
[{"$f":"CONCATENAR","v":"SICRO 5901659"},"SICRO","5901659","Transporte de areia média com draga hopper - capacidade da cisterna de 1.000 m³","m³km",0.85]
[{"$f":"CONCATENAR","v":"SICRO 5901660"},"SICRO","5901660","Transporte de areia média com draga hopper - capacidade da cisterna de 10.000 m³","m³km",0.25]
[{"$f":"CONCATENAR","v":"SICRO 5901661"},"SICRO","5901661","Transporte de areia média com draga hopper - capacidade da cisterna de 15.000 m³","m³km",0.24]
[{"$f":"CONCATENAR","v":"SICRO 5901662"},"SICRO","5901662","Transporte de areia média com draga hopper - capacidade da cisterna de 2.000 m³","m³km",0.53]
[{"$f":"CONCATENAR","v":"SICRO 5901663"},"SICRO","5901663","Transporte de areia média com draga hopper - capacidade da cisterna de 20.000 m³","m³km",0.23]
[{"$f":"CONCATENAR","v":"SICRO 5901664"},"SICRO","5901664","Transporte de areia média com draga hopper - capacidade da cisterna de 3.000 m³","m³km",0.44]
[{"$f":"CONCATENAR","v":"SICRO 5901665"},"SICRO","5901665","Transporte de areia média com draga hopper - capacidade da cisterna de 4.000 m³","m³km",0.38]
[{"$f":"CONCATENAR","v":"SICRO 5901666"},"SICRO","5901666","Transporte de areia média com draga hopper - capacidade da cisterna de 5.000 m³","m³km",0.34]
[{"$f":"CONCATENAR","v":"SICRO 5901667"},"SICRO","5901667","Transporte de areia média com draga hopper - capacidade da cisterna de 750 m³","m³km",1.21]
[{"$f":"CONCATENAR","v":"SICRO 5914511"},"SICRO","5914511","Transporte de barras de trilho de 12 m com locomotiva diesel-elétrica em vagão plataforma com capacidade de 82 t - bitola métrica","tkm",0.26]
[{"$f":"CONCATENAR","v":"SICRO 5914510"},"SICRO","5914510","Transporte de barras de trilho de 12 m com locomotiva diesel-elétrica em vagão plataforma com capacidade de 98 t - bitola larga","tkm",0.23]
[{"$f":"CONCATENAR","v":"SICRO 5906597"},"SICRO","5906597","Transporte de blocos artificiais de concreto com 10 a 12 t para a execução de molhe com cavalo mecânico com semirreboque com capacidade de 30 t - rodovia em leito natural","unkm",12.52]
[{"$f":"CONCATENAR","v":"SICRO 5906598"},"SICRO","5906598","Transporte de blocos artificiais de concreto com 10 a 12 t para a execução de molhe com cavalo mecânico com semirreboque com capacidade de 30 t - rodovia em revestimento primário","unkm",10.02]
[{"$f":"CONCATENAR","v":"SICRO 5906599"},"SICRO","5906599","Transporte de blocos artificiais de concreto com 10 a 12 t para a execução de molhe com cavalo mecânico com semirreboque com capacidade de 30 t - rodovia pavimentada","unkm",8.07]
[{"$f":"CONCATENAR","v":"SICRO 5906594"},"SICRO","5906594","Transporte de blocos artificiais de concreto com 8 a 9 t para a execução de molhe com cavalo mecânico com semirreboque com capacidade de 30 t - rodovia em leito natural","unkm",8.35]
[{"$f":"CONCATENAR","v":"SICRO 5906595"},"SICRO","5906595","Transporte de blocos artificiais de concreto com 8 a 9 t para a execução de molhe com cavalo mecânico com semirreboque com capacidade de 30 t - rodovia em revestimento primário","unkm",6.68]
[{"$f":"CONCATENAR","v":"SICRO 5906596"},"SICRO","5906596","Transporte de blocos artificiais de concreto com 8 a 9 t para a execução de molhe com cavalo mecânico com semirreboque com capacidade de 30 t - rodovia pavimentada","unkm",5.38]
[{"$f":"CONCATENAR","v":"SICRO 5901668"},"SICRO","5901668","Transporte de cascalho com draga hopper - capacidade da cisterna de 1.000 m³","m³km",0.87]
[{"$f":"CONCATENAR","v":"SICRO 5901669"},"SICRO","5901669","Transporte de cascalho com draga hopper - capacidade da cisterna de 10.000 m³","m³km",0.26]
[{"$f":"CONCATENAR","v":"SICRO 5901670"},"SICRO","5901670","Transporte de cascalho com draga hopper - capacidade da cisterna de 15.000 m³","m³km",0.25]
[{"$f":"CONCATENAR","v":"SICRO 5901671"},"SICRO","5901671","Transporte de cascalho com draga hopper - capacidade da cisterna de 2.000 m³","m³km",0.55000000000000004]
[{"$f":"CONCATENAR","v":"SICRO 5901672"},"SICRO","5901672","Transporte de cascalho com draga hopper - capacidade da cisterna de 20.000 m³","m³km",0.24]
[{"$f":"CONCATENAR","v":"SICRO 5901673"},"SICRO","5901673","Transporte de cascalho com draga hopper - capacidade da cisterna de 3.000 m³","m³km",0.45]
[{"$f":"CONCATENAR","v":"SICRO 5901674"},"SICRO","5901674","Transporte de cascalho com draga hopper - capacidade da cisterna de 4.000 m³","m³km",0.39]
[{"$f":"CONCATENAR","v":"SICRO 5901675"},"SICRO","5901675","Transporte de cascalho com draga hopper - capacidade da cisterna de 5.000 m³","m³km",0.35]
[{"$f":"CONCATENAR","v":"SICRO 5901676"},"SICRO","5901676","Transporte de cascalho com draga hopper - capacidade da cisterna de 750 m³","m³km",1.24]
[{"$f":"CONCATENAR","v":"SICRO 5901677"},"SICRO","5901677","Transporte de cascalho fino com draga hopper - capacidade da cisterna de 1.000 m³","m³km",0.86]
[{"$f":"CONCATENAR","v":"SICRO 5901678"},"SICRO","5901678","Transporte de cascalho fino com draga hopper - capacidade da cisterna de 10.000 m³","m³km",0.26]
[{"$f":"CONCATENAR","v":"SICRO 5901679"},"SICRO","5901679","Transporte de cascalho fino com draga hopper - capacidade da cisterna de 15.000 m³","m³km",0.24]
[{"$f":"CONCATENAR","v":"SICRO 5901680"},"SICRO","5901680","Transporte de cascalho fino com draga hopper - capacidade da cisterna de 2.000 m³","m³km",0.54]
[{"$f":"CONCATENAR","v":"SICRO 5901681"},"SICRO","5901681","Transporte de cascalho fino com draga hopper - capacidade da cisterna de 20.000 m³","m³km",0.24]
[{"$f":"CONCATENAR","v":"SICRO 5901682"},"SICRO","5901682","Transporte de cascalho fino com draga hopper - capacidade da cisterna de 3.000 m³","m³km",0.44]
[{"$f":"CONCATENAR","v":"SICRO 5901683"},"SICRO","5901683","Transporte de cascalho fino com draga hopper - capacidade da cisterna de 4.000 m³","m³km",0.39]
[{"$f":"CONCATENAR","v":"SICRO 5901684"},"SICRO","5901684","Transporte de cascalho fino com draga hopper - capacidade da cisterna de 5.000 m³","m³km",0.34]
[{"$f":"CONCATENAR","v":"SICRO 5901685"},"SICRO","5901685","Transporte de cascalho fino com draga hopper - capacidade da cisterna de 750 m³","m³km",1.22]
[{"$f":"CONCATENAR","v":"SICRO 5914360"},"SICRO","5914360","Transporte de cimento com caminhão distribuidor de 17 m³ - rodovia em leito natural","tkm",1.1100000000000001]
[{"$f":"CONCATENAR","v":"SICRO 5914361"},"SICRO","5914361","Transporte de cimento com caminhão distribuidor de 17 m³ - rodovia em revestimento primário","tkm",0.89]
[{"$f":"CONCATENAR","v":"SICRO 5914362"},"SICRO","5914362","Transporte de cimento com caminhão distribuidor de 17 m³ - rodovia pavimentada","tkm",0.72]
[{"$f":"CONCATENAR","v":"SICRO 5914364"},"SICRO","5914364","Transporte de cimento ou cal hidratada a granel com caminhão silo de 30 m³ - rodovia em leito natural","tkm",0.87]
[{"$f":"CONCATENAR","v":"SICRO 5914365"},"SICRO","5914365","Transporte de cimento ou cal hidratada a granel com caminhão silo de 30 m³ - rodovia em revestimento primário","tkm",0.7]
[{"$f":"CONCATENAR","v":"SICRO 5914366"},"SICRO","5914366","Transporte de cimento ou cal hidratada a granel com caminhão silo de 30 m³ - rodovia pavimentada","tkm",0.56000000000000005]
[{"$f":"CONCATENAR","v":"SICRO 5914315"},"SICRO","5914315","Transporte de concreto com caminhão basculante de 7 m³ - rodovia em leito natural","tkm",1.05]
[{"$f":"CONCATENAR","v":"SICRO 5914330"},"SICRO","5914330","Transporte de concreto com caminhão basculante de 7 m³ - rodovia em revestimento primário","tkm",0.84]
[{"$f":"CONCATENAR","v":"SICRO 5914345"},"SICRO","5914345","Transporte de concreto com caminhão basculante de 7 m³ - rodovia pavimentada","tkm",0.68]
[{"$f":"CONCATENAR","v":"SICRO 5914367"},"SICRO","5914367","Transporte de detritos com caminhão de hidrojateamento de alta pressão e vácuo de 9 m³ - rodovia em leito natural","tkm",1.69]
[{"$f":"CONCATENAR","v":"SICRO 5914368"},"SICRO","5914368","Transporte de detritos com caminhão de hidrojateamento de alta pressão e vácuo de 9 m³ - rodovia em revestimento primário","tkm",1.35]
[{"$f":"CONCATENAR","v":"SICRO 5914369"},"SICRO","5914369","Transporte de detritos com caminhão de hidrojateamento de alta pressão e vácuo de 9 m³ - rodovia pavimentada","tkm",1.0900000000000001]
[{"$f":"CONCATENAR","v":"SICRO 5914489"},"SICRO","5914489","Transporte de dormentes de concreto monobloco protendido de bitola larga com locomotiva diesel-elétrica em vagão plataforma com capacidade de 98 t - bitola larga","tkm",0.23]
[{"$f":"CONCATENAR","v":"SICRO 5914491"},"SICRO","5914491","Transporte de dormentes de concreto monobloco protendido de bitola métrica com locomotiva diesel-elétrica em vagão plataforma com capacidade de 82 t - bitola métrica","tkm",0.26]
[{"$f":"CONCATENAR","v":"SICRO 5914490"},"SICRO","5914490","Transporte de dormentes de concreto monobloco protendido de bitola mista com locomotiva diesel-elétrica em vagão plataforma com capacidade de 98 t - bitola larga","tkm",0.23]
[{"$f":"CONCATENAR","v":"SICRO 5914495"},"SICRO","5914495","Transporte de dormentes de concreto monobloco protendido para AMV de bitola larga ou mista com locomotiva diesel-elétrica em vagão plataforma com capacidade de 98 t - bitola larga","tkm",1.5]
[{"$f":"CONCATENAR","v":"SICRO 5914494"},"SICRO","5914494","Transporte de dormentes de concreto monobloco protendido para AMV de bitola métrica com locomotiva diesel-elétrica em vagão plataforma com capacidade de 82 t - bitola métrica","tkm",3.34]
[{"$f":"CONCATENAR","v":"SICRO 5914487"},"SICRO","5914487","Transporte de dormentes de madeira de bitola larga com locomotiva diesel-elétrica em vagão plataforma com capacidade de 98 t - bitola larga","tkm",0.23]
[{"$f":"CONCATENAR","v":"SICRO 5914488"},"SICRO","5914488","Transporte de dormentes de madeira de bitola métrica com locomotiva diesel-elétrica em vagão plataforma com capacidade de 82 t - bitola métrica","tkm",0.26]
[{"$f":"CONCATENAR","v":"SICRO 5914493"},"SICRO","5914493","Transporte de dormentes de madeira para AMV de bitola larga ou mista com locomotiva diesel-elétrica em vagão plataforma com capacidade de 98 t - bitola larga","tkm",5.55]
[{"$f":"CONCATENAR","v":"SICRO 5914492"},"SICRO","5914492","Transporte de dormentes de madeira para AMV de bitola métrica com locomotiva diesel-elétrica em vagão plataforma com capacidade de 82 t - bitola métrica","tkm",13.27]
[{"$f":"CONCATENAR","v":"SICRO 5914482"},"SICRO","5914482","Transporte de lastro de brita com locomotiva diesel-elétrica em vagão hopper aberto com capacidade de 45 m³ - bitola métrica","tkm",0.59]
[{"$f":"CONCATENAR","v":"SICRO 5914483"},"SICRO","5914483","Transporte de lastro de brita com locomotiva diesel-elétrica em vagão hopper aberto com capacidade de 63 m³ - bitola larga","tkm",0.43]
[{"$f":"CONCATENAR","v":"SICRO 5914480"},"SICRO","5914480","Transporte de materiais metálicos e acessórios diversos com locomotiva diesel-elétrica em vagão fechado com capacidade de 64 t - bitola métrica","tkm",0.62]
[{"$f":"CONCATENAR","v":"SICRO 5914481"},"SICRO","5914481","Transporte de materiais metálicos e acessórios diversos com locomotiva diesel-elétrica em vagão fechado com capacidade de 99 t - bitola larga","tkm",0.4]
[{"$f":"CONCATENAR","v":"SICRO 5914485"},"SICRO","5914485","Transporte de materiais metálicos para AMV de bitola larga com locomotiva diesel-elétrica em vagão plataforma com capacidade de 98 t - bitola larga","tkm",3.82]
[{"$f":"CONCATENAR","v":"SICRO 5914486"},"SICRO","5914486","Transporte de materiais metálicos para AMV de bitola métrica com locomotiva diesel-elétrica em vagão plataforma com capacidade de 82 t - bitola métrica","tkm",4.7699999999999996]
[{"$f":"CONCATENAR","v":"SICRO 5914484"},"SICRO","5914484","Transporte de materiais metálicos para AMV de bitola mista com locomotiva diesel-elétrica em vagão plataforma com capacidade de 98 t - bitola larga","tkm",3.31]
[{"$f":"CONCATENAR","v":"SICRO 5914620"},"SICRO","5914620","Transporte de material betuminoso com caminhão tanque distribuidor - rodovia em leito natural","tkm",2.59]
[{"$f":"CONCATENAR","v":"SICRO 5914621"},"SICRO","5914621","Transporte de material betuminoso com caminhão tanque distribuidor - rodovia em revestimento primário","tkm",2.0699999999999998]
[{"$f":"CONCATENAR","v":"SICRO 5914622"},"SICRO","5914622","Transporte de material betuminoso com caminhão tanque distribuidor - rodovia pavimentada","tkm",1.67]
[{"$f":"CONCATENAR","v":"SICRO 5901695"},"SICRO","5901695","Transporte de material de 1ª categoria com batelão autopropelido com capacidade de 300 m³","m³km",0.71]
[{"$f":"CONCATENAR","v":"SICRO 5901696"},"SICRO","5901696","Transporte de material de 1ª categoria com batelão autopropelido com capacidade de 500 m³","m³km",0.53]
[{"$f":"CONCATENAR","v":"SICRO 5901697"},"SICRO","5901697","Transporte de material de 1ª categoria com batelão rebocado com capacidade de 66 m³","m³km",2.2200000000000002]
[{"$f":"CONCATENAR","v":"SICRO 5901698"},"SICRO","5901698","Transporte de material de 1ª categoria com batelão rebocado montado na obra com capacidade de 66 m³","m³km",2.2200000000000002]
[{"$f":"CONCATENAR","v":"SICRO 5916654"},"SICRO","5916654","Transporte de material de 3ª categoria com batelão autopropelido com capacidade de 300 m³","m³km",1.28]
[{"$f":"CONCATENAR","v":"SICRO 5916637"},"SICRO","5916637","Transporte de material de 3ª categoria com batelão rebocado com capacidade de 66 m³","m³km",6.48]
[{"$f":"CONCATENAR","v":"SICRO 5916618"},"SICRO","5916618","Transporte de material de 3ª categoria com batelão rebocado montado na obra com capacidade de 66 m³","m³km",6.48]
[{"$f":"CONCATENAR","v":"SICRO 5914334"},"SICRO","5914334","Transporte de material de 3ª categoria com caminhão basculante de 12 m³ para rocha - rodovia em leito natural","tkm",1.1599999999999999]
[{"$f":"CONCATENAR","v":"SICRO 5914335"},"SICRO","5914335","Transporte de material de 3ª categoria com caminhão basculante de 12 m³ para rocha - rodovia em revestimento primário","tkm",0.93]
[{"$f":"CONCATENAR","v":"SICRO 5914336"},"SICRO","5914336","Transporte de material de 3ª categoria com caminhão basculante de 12 m³ para rocha - rodovia pavimentada","tkm",0.75]
[{"$f":"CONCATENAR","v":"SICRO 5914346"},"SICRO","5914346","Transporte de material de 3ª categoria com caminhão basculante de 8 m³ para rocha - rodovia em leito natural","tkm",1.66]
[{"$f":"CONCATENAR","v":"SICRO 5914347"},"SICRO","5914347","Transporte de material de 3ª categoria com caminhão basculante de 8 m³ para rocha - rodovia em revestimento primário","tkm",1.33]
[{"$f":"CONCATENAR","v":"SICRO 5914348"},"SICRO","5914348","Transporte de material de 3ª categoria com caminhão basculante de 8 m³ para rocha - rodovia pavimentada","tkm",1.07]
[{"$f":"CONCATENAR","v":"SICRO 5914611"},"SICRO","5914611","Transporte de mistura betuminosa a quente com caminhão com caçamba térmica de 6 m³ - rodovia em leito natural","tkm",1.8]
[{"$f":"CONCATENAR","v":"SICRO 5914613"},"SICRO","5914613","Transporte de mistura betuminosa a quente com caminhão com caçamba térmica de 6 m³ - rodovia em revestimento primário","tkm",1.44]
[{"$f":"CONCATENAR","v":"SICRO 5914612"},"SICRO","5914612","Transporte de mistura betuminosa a quente com caminhão com caçamba térmica de 6 m³ - rodovia pavimentada","tkm",1.1599999999999999]
[{"$f":"CONCATENAR","v":"SICRO 5901686"},"SICRO","5901686","Transporte de silte com draga hopper - capacidade da cisterna de 1.000 m³","m³km",2.48]
[{"$f":"CONCATENAR","v":"SICRO 5901687"},"SICRO","5901687","Transporte de silte com draga hopper - capacidade da cisterna de 10.000 m³","m³km",0.74]
[{"$f":"CONCATENAR","v":"SICRO 5901688"},"SICRO","5901688","Transporte de silte com draga hopper - capacidade da cisterna de 15.000 m³","m³km",0.7]
[{"$f":"CONCATENAR","v":"SICRO 5901689"},"SICRO","5901689","Transporte de silte com draga hopper - capacidade da cisterna de 2.000 m³","m³km",1.55]
[{"$f":"CONCATENAR","v":"SICRO 5901690"},"SICRO","5901690","Transporte de silte com draga hopper - capacidade da cisterna de 20.000 m³","m³km",0.68]
[{"$f":"CONCATENAR","v":"SICRO 5901691"},"SICRO","5901691","Transporte de silte com draga hopper - capacidade da cisterna de 3.000 m³","m³km",1.27]
[{"$f":"CONCATENAR","v":"SICRO 5901692"},"SICRO","5901692","Transporte de silte com draga hopper - capacidade da cisterna de 4.000 m³","m³km",1.1200000000000001]
[{"$f":"CONCATENAR","v":"SICRO 5901693"},"SICRO","5901693","Transporte de silte com draga hopper - capacidade da cisterna de 5.000 m³","m³km",0.99]
[{"$f":"CONCATENAR","v":"SICRO 5901694"},"SICRO","5901694","Transporte de silte com draga hopper - capacidade da cisterna de 750 m³","m³km",3.53]
[{"$f":"CONCATENAR","v":"SICRO 5914512"},"SICRO","5914512","Transporte de TLS TR45 de 120 m com locomotiva diesel-elétrica em vagão plataforma com capacidade de 82 t - bitola métrica","tkm",1.42]
[{"$f":"CONCATENAR","v":"SICRO 5914496"},"SICRO","5914496","Transporte de TLS TR45 de 120 m com locomotiva diesel-elétrica em vagão plataforma com capacidade de 98 t - bitola larga","tkm",1.0900000000000001]
[{"$f":"CONCATENAR","v":"SICRO 5914513"},"SICRO","5914513","Transporte de TLS TR45 de 240 m com locomotiva diesel-elétrica em vagão plataforma com capacidade de 82 t - bitola métrica","tkm",0.8]
[{"$f":"CONCATENAR","v":"SICRO 5914497"},"SICRO","5914497","Transporte de TLS TR45 de 240 m com locomotiva diesel-elétrica em vagão plataforma com capacidade de 98 t - bitola larga","tkm",0.6]
[{"$f":"CONCATENAR","v":"SICRO 5914500"},"SICRO","5914500","Transporte de TLS TR57 de 120 m com locomotiva diesel-elétrica em vagão plataforma com capacidade de 82 t - bitola métrica","tkm",1.1100000000000001]
[{"$f":"CONCATENAR","v":"SICRO 5914498"},"SICRO","5914498","Transporte de TLS TR57 de 120 m com locomotiva diesel-elétrica em vagão plataforma com capacidade de 98 t - bitola larga","tkm",0.85]
[{"$f":"CONCATENAR","v":"SICRO 5914501"},"SICRO","5914501","Transporte de TLS TR57 de 240 m com locomotiva diesel-elétrica em vagão plataforma com capacidade de 82 t - bitola métrica","tkm",0.63]
[{"$f":"CONCATENAR","v":"SICRO 5914499"},"SICRO","5914499","Transporte de TLS TR57 de 240 m com locomotiva diesel-elétrica em vagão plataforma com capacidade de 98 t - bitola larga","tkm",0.47]
[{"$f":"CONCATENAR","v":"SICRO 5914504"},"SICRO","5914504","Transporte de TLS TR68 de 120 m com locomotiva diesel-elétrica em vagão plataforma com capacidade de 82 t - bitola métrica","tkm",0.94]
[{"$f":"CONCATENAR","v":"SICRO 5914502"},"SICRO","5914502","Transporte de TLS TR68 de 120 m com locomotiva diesel-elétrica em vagão plataforma com capacidade de 98 t - bitola larga","tkm",0.72]
[{"$f":"CONCATENAR","v":"SICRO 5914505"},"SICRO","5914505","Transporte de TLS TR68 de 240 m com locomotiva diesel-elétrica em vagão plataforma com capacidade de 82 t - bitola métrica","tkm",0.53]
[{"$f":"CONCATENAR","v":"SICRO 5914503"},"SICRO","5914503","Transporte de TLS TR68 de 240 m com locomotiva diesel-elétrica em vagão plataforma com capacidade de 98 t - bitola larga","tkm",0.4]
[{"$f":"CONCATENAR","v":"SICRO 5914508"},"SICRO","5914508","Transporte de TLS UIC60 de 120 m com locomotiva diesel-elétrica em vagão plataforma com capacidade de 82 t - bitola métrica","tkm",1.05]
[{"$f":"CONCATENAR","v":"SICRO 5914506"},"SICRO","5914506","Transporte de TLS UIC60 de 120 m com locomotiva diesel-elétrica em vagão plataforma com capacidade de 98 t - bitola larga","tkm",0.81]
[{"$f":"CONCATENAR","v":"SICRO 5914509"},"SICRO","5914509","Transporte de TLS UIC60 de 240 m com locomotiva diesel-elétrica em vagão plataforma com capacidade de 82 t - bitola métrica","tkm",0.59]
[{"$f":"CONCATENAR","v":"SICRO 5914507"},"SICRO","5914507","Transporte de TLS UIC60 de 240 m com locomotiva diesel-elétrica em vagão plataforma com capacidade de 98 t - bitola larga","tkm",0.44]
[{"$f":"CONCATENAR","v":"SICRO 5915491"},"SICRO","5915491","Transporte de veículos de médio porte com guincho de resgate de 20 t - rodovia em leito natural","km",17.75]
[{"$f":"CONCATENAR","v":"SICRO 5915492"},"SICRO","5915492","Transporte de veículos de médio porte com guincho de resgate de 20 t - rodovia em revestimento primário","km",14.2]
[{"$f":"CONCATENAR","v":"SICRO 5915493"},"SICRO","5915493","Transporte de veículos de médio porte com guincho de resgate de 20 t - rodovia pavimentada","km",11.43]
[{"$f":"CONCATENAR","v":"SICRO 5915488"},"SICRO","5915488","Transporte de veículos leves com guincho de resgate de 4 t - rodovia em leito natural","km",12.95]
[{"$f":"CONCATENAR","v":"SICRO 5915489"},"SICRO","5915489","Transporte de veículos leves com guincho de resgate de 4 t - rodovia em revestimento primário","km",10.36]
[{"$f":"CONCATENAR","v":"SICRO 5915490"},"SICRO","5915490","Transporte de veículos leves com guincho de resgate de 4 t - rodovia pavimentada","km",8.34]
[{"$f":"CONCATENAR","v":"SICRO 5915494"},"SICRO","5915494","Transporte de veículos pesados com guincho de resgate de 35 t - rodovia em leito natural","km",29.98]
[{"$f":"CONCATENAR","v":"SICRO 5915495"},"SICRO","5915495","Transporte de veículos pesados com guincho de resgate de 35 t - rodovia em revestimento primário","km",23.99]
[{"$f":"CONCATENAR","v":"SICRO 5915496"},"SICRO","5915496","Transporte de veículos pesados com guincho de resgate de 35 t - rodovia pavimentada","km",19.309999999999999]
[{"$f":"CONCATENAR","v":"SICRO 5915325"},"SICRO","5915325","Transporte em cavalo mecânico com dolly de 4 eixos com capacidade de 57 t - rodovia em leito natural","km",67.37]
[{"$f":"CONCATENAR","v":"SICRO 5915326"},"SICRO","5915326","Transporte em cavalo mecânico com dolly de 4 eixos com capacidade de 57 t - rodovia em revestimento primário","km",53.87]
[{"$f":"CONCATENAR","v":"SICRO 5915327"},"SICRO","5915327","Transporte em cavalo mecânico com dolly de 4 eixos com capacidade de 57 t - rodovia pavimentada","km",43.39]
[{"$f":"CONCATENAR","v":"SICRO 5915328"},"SICRO","5915328","Transporte em cavalo mecânico com dollys de 3 e 4 eixos com capacidade de 77 t - rodovia em leito natural","km",78.819999999999993]
[{"$f":"CONCATENAR","v":"SICRO 5915329"},"SICRO","5915329","Transporte em cavalo mecânico com dollys de 3 e 4 eixos com capacidade de 77 t - rodovia em revestimento primário","km",63.03]
[{"$f":"CONCATENAR","v":"SICRO 5915330"},"SICRO","5915330","Transporte em cavalo mecânico com dollys de 3 e 4 eixos com capacidade de 77 t - rodovia pavimentada","km",50.77]
[{"$f":"CONCATENAR","v":"SICRO 5915331"},"SICRO","5915331","Transporte em cavalo mecânico com dollys de 5 e 4 eixos com capacidade de 111 t - rodovia em leito natural","km",155.41]
[{"$f":"CONCATENAR","v":"SICRO 5915332"},"SICRO","5915332","Transporte em cavalo mecânico com dollys de 5 e 4 eixos com capacidade de 111 t - rodovia em revestimento primário","km",124.26]
[{"$f":"CONCATENAR","v":"SICRO 5915333"},"SICRO","5915333","Transporte em cavalo mecânico com dollys de 5 e 4 eixos com capacidade de 111 t - rodovia pavimentada","km",100.1]
[{"$f":"CONCATENAR","v":"SICRO 5915364"},"SICRO","5915364","Transporte em cavalo mecânico com reboques de 5 e 4 eixos com capacidade de 130 t - rodovia em leito natural","km",178.47]
[{"$f":"CONCATENAR","v":"SICRO 5915365"},"SICRO","5915365","Transporte em cavalo mecânico com reboques de 5 e 4 eixos com capacidade de 130 t - rodovia em revestimento primário","km",142.71]
[{"$f":"CONCATENAR","v":"SICRO 5915361"},"SICRO","5915361","Transporte em cavalo mecânico com reboques de 5 e 4 eixos com capacidade de 130 t - rodovia pavimentada","km",114.95]
[{"$f":"CONCATENAR","v":"SICRO 5919716"},"SICRO","5919716","Transporte fluvial de materiais diversos com pontão flutuante - capacidade de 500 t","km",191.32]
[{"$f":"CONCATENAR","v":"SICRO 5919717"},"SICRO","5919717","Transporte fluvial do flutuante","km",164.58]
[{"$f":"CONCATENAR","v":"SICRO 6106220"},"SICRO","6106220","Armação de fuste de tubulão em aço CA-50 com apoio de guindaste - fornecimento, preparo e colocação","kg",11.3]
[{"$f":"CONCATENAR","v":"SICRO 6106183"},"SICRO","6106183","Escavação manual de base alargada de tubulão a céu aberto em material de 1ª categoria na profundidade de 10 a 15 m","m³",313.13]
[{"$f":"CONCATENAR","v":"SICRO 6106182"},"SICRO","6106182","Escavação manual de base alargada de tubulão a céu aberto em material de 1ª categoria na profundidade de até 10 m","m³",268.39999999999998]
[{"$f":"CONCATENAR","v":"SICRO 6106194"},"SICRO","6106194","Escavação manual de base alargada de tubulão a céu aberto em material de 2ª categoria na profundidade até 10 m","m³",696.85]
[{"$f":"CONCATENAR","v":"SICRO 6106195"},"SICRO","6106195","Escavação manual de base alargada de tubulão a céu aberto em material de 2ª categoria na profundidade de 10 a 15 m","m³",772.4]
[{"$f":"CONCATENAR","v":"SICRO 6106331"},"SICRO","6106331","Escavação manual de base alargada de tubulão a céu aberto em material de 3ª categoria a frio na profundidade até 10 m","m³",1779.01]
[{"$f":"CONCATENAR","v":"SICRO 6106332"},"SICRO","6106332","Escavação manual de base alargada de tubulão a céu aberto em material de 3ª categoria a frio na profundidade de 10 a 15 m","m³",1893.56]
[{"$f":"CONCATENAR","v":"SICRO 6106206"},"SICRO","6106206","Escavação manual de base alargada de tubulão a céu aberto em material de 3ª categoria na profundidade até 10 m","m³",2037.46]
[{"$f":"CONCATENAR","v":"SICRO 6106207"},"SICRO","6106207","Escavação manual de base alargada de tubulão a céu aberto em material de 3ª categoria na profundidade de 10 a 15 m","m³",2171.0500000000002]
[{"$f":"CONCATENAR","v":"SICRO 6106222"},"SICRO","6106222","Escavação manual de fuste de tubulão a céu aberto em material de 1ª categoria na profundidade de 10 a 15 m","m³",313.13]
[{"$f":"CONCATENAR","v":"SICRO 6106221"},"SICRO","6106221","Escavação manual de fuste de tubulão a céu aberto em material de 1ª categoria na profundidade de até 10 m","m³",268.39999999999998]
[{"$f":"CONCATENAR","v":"SICRO 6106224"},"SICRO","6106224","Escavação manual de fuste de tubulão a céu aberto em material de 2ª categoria na profundidade até 10 m","m³",696.85]
[{"$f":"CONCATENAR","v":"SICRO 6106225"},"SICRO","6106225","Escavação manual de fuste de tubulão a céu aberto em material de 2ª categoria na profundidade de 10 a 15 m","m³",772.4]
[{"$f":"CONCATENAR","v":"SICRO 6106228"},"SICRO","6106228","Escavação manual de fuste de tubulão a céu aberto em material de 3ª categoria na profundidade até 10 m","m³",1795.17]
[{"$f":"CONCATENAR","v":"SICRO 6106229"},"SICRO","6106229","Escavação manual de fuste de tubulão a céu aberto em material de 3ª categoria na profundidade de 10 a 15 m","m³",1911.46]
[{"$f":"CONCATENAR","v":"SICRO 6106328"},"SICRO","6106328","Escavação mecânica de fuste de tubulão com caçamba para rocha em material de 2ª categoria","m³",132.02000000000001]
[{"$f":"CONCATENAR","v":"SICRO 6106330"},"SICRO","6106330","Escavação mecânica de fuste de tubulão com caçamba para rocha em material de 3ª categoria","m³",656.38]
[{"$f":"CONCATENAR","v":"SICRO 6106326"},"SICRO","6106326","Escavação mecânica de fuste de tubulão com caçamba para solos em material de 1ª categoria","m³",54.49]
[{"$f":"CONCATENAR","v":"SICRO 6106324"},"SICRO","6106324","Escavação mecânica de fuste de tubulão com Hammer Grab em material de 1ª categoria","m³",32.35]
[{"$f":"CONCATENAR","v":"SICRO 6106327"},"SICRO","6106327","Escavação mecânica de fuste de tubulão com trado para rocha em material de 2ª categoria","m³",132]
[{"$f":"CONCATENAR","v":"SICRO 6106329"},"SICRO","6106329","Escavação mecânica de fuste de tubulão com trado para rocha em material de 3ª categoria","m³",657.38]
[{"$f":"CONCATENAR","v":"SICRO 6106325"},"SICRO","6106325","Escavação mecânica de fuste de tubulão com trado para solos em material de 1ª categoria","m³",54.63]
[{"$f":"CONCATENAR","v":"SICRO 6208126"},"SICRO","6208126","Armação de tela de aço eletrossoldada em túneis com auxílio de plataforma pantográfica - confecção e instalação","kg",19.8]
[{"$f":"CONCATENAR","v":"SICRO 6205797"},"SICRO","6205797","Cambotas metálicas treliçadas - confecção e instalação","kg",12.09]
[{"$f":"CONCATENAR","v":"SICRO 6205791"},"SICRO","6205791","Coluna de jet grouting horizontal CCPH em solo - D = 40 cm - perfuração e injeção","m",351.46]
[{"$f":"CONCATENAR","v":"SICRO 6205792"},"SICRO","6205792","Coluna de jet grouting horizontal CCPH em solo - D = 50 cm - perfuração e injeção","m",424.21]
[{"$f":"CONCATENAR","v":"SICRO 6205793"},"SICRO","6205793","Coluna de jet grouting horizontal CCPH em solo - D = 60 cm - perfuração e injeção","m",501.61]
[{"$f":"CONCATENAR","v":"SICRO 6205796"},"SICRO","6205796","Coluna de jet grouting vertical em solo - D = 100 cm - perfuração e injeção","m",906.63]
[{"$f":"CONCATENAR","v":"SICRO 6219451"},"SICRO","6219451","Coluna de jet grouting vertical em solo - D = 110 cm - perfuração e injeção","m",981.24]
[{"$f":"CONCATENAR","v":"SICRO 6219452"},"SICRO","6219452","Coluna de jet grouting vertical em solo - D = 120 cm - perfuração e injeção","m",1060.51]
[{"$f":"CONCATENAR","v":"SICRO 6205794"},"SICRO","6205794","Coluna de jet grouting vertical em solo - D = 80 cm - perfuração e injeção","m",771.34]
[{"$f":"CONCATENAR","v":"SICRO 6205795"},"SICRO","6205795","Coluna de jet grouting vertical em solo - D = 90 cm - perfuração e injeção","m",836.66]
[{"$f":"CONCATENAR","v":"SICRO 6219521"},"SICRO","6219521","Desmonte a frio e carga de rocha em túnel com cunha hidráulica - DMT de 0 a 200 m","m³",157.94]
[{"$f":"CONCATENAR","v":"SICRO 6219527"},"SICRO","6219527","Drenagem de túnel com manta drenante de malha de polietileno e geotêxtil em face revestida com argamassa polimérica com espessura de 25 mm","m²",422.15]
[{"$f":"CONCATENAR","v":"SICRO 6219526"},"SICRO","6219526","Dreno filtrante em tubos de PVC D = 40 mm aplicado em paredes e tetos de túnel - fornecimento e instalação","m",53.64]
[{"$f":"CONCATENAR","v":"SICRO 6219525"},"SICRO","6219525","Dreno não filtrante em tubos de PVC D = 40 mm aplicado em paredes e tetos de túnel - fornecimento e instalação","m",49.64]
[{"$f":"CONCATENAR","v":"SICRO 6219508"},"SICRO","6219508","Enfilagem tubular sistema autoperfurante - D = 76 mm","m",356.74]
[{"$f":"CONCATENAR","v":"SICRO 6219511"},"SICRO","6219511","Enfilagem tubular sistema convencional schedule 40 - D = 65 mm","m",269.73]
[{"$f":"CONCATENAR","v":"SICRO 6219500"},"SICRO","6219500","Escavação subterrânea e carregamento do material da calota em túnel classe I - DMT de 0 a 200 m - seção acima de 90 m²","m³",141.74]
[{"$f":"CONCATENAR","v":"SICRO 6219418"},"SICRO","6219418","Escavação subterrânea e carregamento do material da calota em túnel classe I - DMT de 0 a 200 m - seção de 20 a 40 m²","m³",305.18]
[{"$f":"CONCATENAR","v":"SICRO 6219412"},"SICRO","6219412","Escavação subterrânea e carregamento do material da calota em túnel classe I - DMT de 0 a 200 m - seção de 40 a 60 m²","m³",214.97]
[{"$f":"CONCATENAR","v":"SICRO 6219406"},"SICRO","6219406","Escavação subterrânea e carregamento do material da calota em túnel classe I - DMT de 0 a 200 m - seção de 60 a 90 m²","m³",152.04]
[{"$f":"CONCATENAR","v":"SICRO 6219501"},"SICRO","6219501","Escavação subterrânea e carregamento do material da calota em túnel classe II - DMT de 0 a 200 m - seção acima de 90 m²","m³",153.32]
[{"$f":"CONCATENAR","v":"SICRO 6219419"},"SICRO","6219419","Escavação subterrânea e carregamento do material da calota em túnel classe II - DMT de 0 a 200 m - seção de 20 a 40 m²","m³",335.88]
[{"$f":"CONCATENAR","v":"SICRO 6219413"},"SICRO","6219413","Escavação subterrânea e carregamento do material da calota em túnel classe II - DMT de 0 a 200 m - seção de 40 a 60 m²","m³",234.66]
[{"$f":"CONCATENAR","v":"SICRO 6219407"},"SICRO","6219407","Escavação subterrânea e carregamento do material da calota em túnel classe II - DMT de 0 a 200 m - seção de 60 a 90 m²","m³",164.7]
[{"$f":"CONCATENAR","v":"SICRO 6219502"},"SICRO","6219502","Escavação subterrânea e carregamento do material da calota em túnel classe III - DMT de 0 a 200 m - seção acima de 90 m²","m³",165.04]
[{"$f":"CONCATENAR","v":"SICRO 6219420"},"SICRO","6219420","Escavação subterrânea e carregamento do material da calota em túnel classe III - DMT de 0 a 200 m - seção de 20 a 40 m²","m³",375.57]
[{"$f":"CONCATENAR","v":"SICRO 6219414"},"SICRO","6219414","Escavação subterrânea e carregamento do material da calota em túnel classe III - DMT de 0 a 200 m - seção de 40 a 60 m²","m³",257.67]
[{"$f":"CONCATENAR","v":"SICRO 6219408"},"SICRO","6219408","Escavação subterrânea e carregamento do material da calota em túnel classe III - DMT de 0 a 200 m - seção de 60 a 90 m²","m³",177.34]
[{"$f":"CONCATENAR","v":"SICRO 6219503"},"SICRO","6219503","Escavação subterrânea e carregamento do material da calota em túnel classe IV - DMT de 0 a 200 m - seção acima de 90 m²","m³",190.75]
[{"$f":"CONCATENAR","v":"SICRO 6219421"},"SICRO","6219421","Escavação subterrânea e carregamento do material da calota em túnel classe IV - DMT de 0 a 200 m - seção de 20 a 40 m²","m³",446.06]
[{"$f":"CONCATENAR","v":"SICRO 6219415"},"SICRO","6219415","Escavação subterrânea e carregamento do material da calota em túnel classe IV - DMT de 0 a 200 m - seção de 40 a 60 m²","m³",300.43]
[{"$f":"CONCATENAR","v":"SICRO 6219409"},"SICRO","6219409","Escavação subterrânea e carregamento do material da calota em túnel classe IV - DMT de 0 a 200 m - seção de 60 a 90 m²","m³",206.47]
[{"$f":"CONCATENAR","v":"SICRO 6219518"},"SICRO","6219518","Escavação subterrânea e carregamento do material do rebaixo em túnel classe I a IV - DMT de 0 a 200 m","m³",53.27]
[{"$f":"CONCATENAR","v":"SICRO 6219504"},"SICRO","6219504","Escavação subterrânea e carregamento em túnel classe V - DMT de 0 a 200 m - seção acima de 90 m²","m³",109.07]
[{"$f":"CONCATENAR","v":"SICRO 6219422"},"SICRO","6219422","Escavação subterrânea e carregamento em túnel classe V - DMT de 0 a 200 m - seção de 20 a 40 m²","m³",243.52]
[{"$f":"CONCATENAR","v":"SICRO 6219416"},"SICRO","6219416","Escavação subterrânea e carregamento em túnel classe V - DMT de 0 a 200 m - seção de 40 a 60 m²","m³",186.89]
[{"$f":"CONCATENAR","v":"SICRO 6219410"},"SICRO","6219410","Escavação subterrânea e carregamento em túnel classe V - DMT de 0 a 200 m - seção de 60 a 90 m²","m³",130.24]
[{"$f":"CONCATENAR","v":"SICRO 6219505"},"SICRO","6219505","Escavação subterrânea e carregamento em túnel classe VI - DMT de 0 a 200 m - seção acima de 90 m²","m³",98.44]
[{"$f":"CONCATENAR","v":"SICRO 6219423"},"SICRO","6219423","Escavação subterrânea e carregamento em túnel classe VI - DMT de 0 a 200 m - seção de 20 a 40 m²","m³",231.42]
[{"$f":"CONCATENAR","v":"SICRO 6219417"},"SICRO","6219417","Escavação subterrânea e carregamento em túnel classe VI - DMT de 0 a 200 m - seção de 40 a 60 m²","m³",175.28]
[{"$f":"CONCATENAR","v":"SICRO 6219411"},"SICRO","6219411","Escavação subterrânea e carregamento em túnel classe VI - DMT de 0 a 200 m - seção de 60 a 90 m²","m³",119.2]
[{"$f":"CONCATENAR","v":"SICRO 6219520"},"SICRO","6219520","Pré-fissuramento em túnel","m²",63.24]
[{"$f":"CONCATENAR","v":"SICRO 6219433"},"SICRO","6219433","Pregagem da frente com vergalhão de fibra de vidro D = 25 mm com perfuração em D = 75 mm e injeção de calda de cimento","m",112.8]
[{"$f":"CONCATENAR","v":"SICRO 6205801"},"SICRO","6205801","Pregagem da frente em tubo de PVC D = 50 mm com perfuração em D = 100 mm e injeção de argamassa de cimento e areia 1:1","m",72.88]
[{"$f":"CONCATENAR","v":"SICRO 6219524"},"SICRO","6219524","Prego guia para controle de espessura de concreto projetado D = 16 mm em túnel - fornecimento e instalação","un",10.92]
[{"$f":"CONCATENAR","v":"SICRO 6416036"},"SICRO","6416036","Usinagem de agregados para microrrevestimento a frio - faixa II - brita comercial","m³",128.78]
[{"$f":"CONCATENAR","v":"SICRO 6416038"},"SICRO","6416038","Usinagem de agregados para microrrevestimento a frio - faixa II - brita produzida","m³",67.45]
[{"$f":"CONCATENAR","v":"SICRO 6416037"},"SICRO","6416037","Usinagem de agregados para microrrevestimento a frio - faixa III - brita comercial","m³",138.66]
[{"$f":"CONCATENAR","v":"SICRO 6416035"},"SICRO","6416035","Usinagem de agregados para microrrevestimento a frio - faixa III - brita produzida","m³",76.010000000000005]
[{"$f":"CONCATENAR","v":"SICRO 6416076"},"SICRO","6416076","Usinagem de areia-asfalto a quente - faixa A - areia comercial","t",164.26]
[{"$f":"CONCATENAR","v":"SICRO 6416075"},"SICRO","6416075","Usinagem de areia-asfalto a quente - faixa A - areia extraída","t",95.58]
[{"$f":"CONCATENAR","v":"SICRO 6416226"},"SICRO","6416226","Usinagem de areia-asfalto a quente - faixa B - areia comercial","t",156.75]
[{"$f":"CONCATENAR","v":"SICRO 6416225"},"SICRO","6416225","Usinagem de areia-asfalto a quente - faixa B - areia extraída","t",86.56]
[{"$f":"CONCATENAR","v":"SICRO 6416084"},"SICRO","6416084","Usinagem de areia-asfalto a quente com asfalto polímero - faixa A - areia comercial","t",159.38]
[{"$f":"CONCATENAR","v":"SICRO 6416083"},"SICRO","6416083","Usinagem de areia-asfalto a quente com asfalto polímero - faixa A - areia extraída","t",87.21]
[{"$f":"CONCATENAR","v":"SICRO 6416234"},"SICRO","6416234","Usinagem de areia-asfalto a quente com asfalto polímero - faixa B - areia comercial","t",163.47999999999999]
[{"$f":"CONCATENAR","v":"SICRO 6416233"},"SICRO","6416233","Usinagem de areia-asfalto a quente com asfalto polímero - faixa B - areia extraída","t",92.61]
[{"$f":"CONCATENAR","v":"SICRO 6416236"},"SICRO","6416236","Usinagem de areia-asfalto a quente com asfalto polímero - faixa C - areia comercial","t",166.14]
[{"$f":"CONCATENAR","v":"SICRO 6416235"},"SICRO","6416235","Usinagem de areia-asfalto a quente com asfalto polímero - faixa C - areia extraída","t",96.17]
[{"$f":"CONCATENAR","v":"SICRO 6416040"},"SICRO","6416040","Usinagem de brita graduada com brita comercial em usina de 300 t/h","m³",197.02]
[{"$f":"CONCATENAR","v":"SICRO 6416039"},"SICRO","6416039","Usinagem de brita graduada com brita produzida em usina de 300 t/h","m³",93.83]
[{"$f":"CONCATENAR","v":"SICRO 6416042"},"SICRO","6416042","Usinagem de brita graduada tratada com cimento e brita comercial em usina de 300 t/h","m³",239.83]
[{"$f":"CONCATENAR","v":"SICRO 6416041"},"SICRO","6416041","Usinagem de brita graduada tratada com cimento e brita produzida em usina de 300 t/h","m³",138.84]
[{"$f":"CONCATENAR","v":"SICRO 6416080"},"SICRO","6416080","Usinagem de concreto asfáltico - faixa A - areia e brita comerciais","t",163.95]
[{"$f":"CONCATENAR","v":"SICRO 6416079"},"SICRO","6416079","Usinagem de concreto asfáltico - faixa A - areia extraída e brita produzida","t",108.03]
[{"$f":"CONCATENAR","v":"SICRO 6416143"},"SICRO","6416143","Usinagem de concreto asfáltico - faixa B - areia e brita comerciais","t",166.71]
[{"$f":"CONCATENAR","v":"SICRO 6416262"},"SICRO","6416262","Usinagem de concreto asfáltico - faixa B - areia extraída e brita produzida","t",109.73]
[{"$f":"CONCATENAR","v":"SICRO 6416078"},"SICRO","6416078","Usinagem de concreto asfáltico - faixa C - areia e brita comerciais","t",167.26]
[{"$f":"CONCATENAR","v":"SICRO 6416077"},"SICRO","6416077","Usinagem de concreto asfáltico - faixa C - areia extraída e brita produzida","t",107.48]
[{"$f":"CONCATENAR","v":"SICRO 6416088"},"SICRO","6416088","Usinagem de concreto asfáltico com asfalto polímero - faixa A - areia e brita comerciais","t",164.86]
[{"$f":"CONCATENAR","v":"SICRO 6416087"},"SICRO","6416087","Usinagem de concreto asfáltico com asfalto polímero - faixa A - areia extraída e brita produzida","t",108.24]
[{"$f":"CONCATENAR","v":"SICRO 6416246"},"SICRO","6416246","Usinagem de concreto asfáltico com asfalto polímero - faixa B - areia e brita comerciais","t",167.21]
[{"$f":"CONCATENAR","v":"SICRO 6416245"},"SICRO","6416245","Usinagem de concreto asfáltico com asfalto polímero - faixa B - areia extraída e brita produzida","t",109.95]
[{"$f":"CONCATENAR","v":"SICRO 6416248"},"SICRO","6416248","Usinagem de concreto asfáltico com asfalto polímero - faixa C - areia e brita comerciais","t",171.84]
[{"$f":"CONCATENAR","v":"SICRO 6416247"},"SICRO","6416247","Usinagem de concreto asfáltico com asfalto polímero - faixa C - areia extraída e brita produzida","t",110.61]
[{"$f":"CONCATENAR","v":"SICRO 6416214"},"SICRO","6416214","Usinagem de concreto asfáltico com borracha (Gap Graded) - brita comercial","t",196.52]
[{"$f":"CONCATENAR","v":"SICRO 6416218"},"SICRO","6416218","Usinagem de concreto asfáltico com borracha (Gap Graded) - brita produzida","t",153.09]
[{"$f":"CONCATENAR","v":"SICRO 6416211"},"SICRO","6416211","Usinagem de concreto asfáltico com borracha - faixa A - brita comercial","t",196.58]
[{"$f":"CONCATENAR","v":"SICRO 6416215"},"SICRO","6416215","Usinagem de concreto asfáltico com borracha - faixa A - brita produzida","t",153.59]
[{"$f":"CONCATENAR","v":"SICRO 6416212"},"SICRO","6416212","Usinagem de concreto asfáltico com borracha - faixa B - brita comercial","t",198.7]
[{"$f":"CONCATENAR","v":"SICRO 6416216"},"SICRO","6416216","Usinagem de concreto asfáltico com borracha - faixa B - brita produzida","t",156.74]
[{"$f":"CONCATENAR","v":"SICRO 6416213"},"SICRO","6416213","Usinagem de concreto asfáltico com borracha - faixa C - brita comercial","t",198.13]
[{"$f":"CONCATENAR","v":"SICRO 6416217"},"SICRO","6416217","Usinagem de concreto asfáltico com borracha - faixa C - brita produzida","t",158.29]
[{"$f":"CONCATENAR","v":"SICRO 6416289"},"SICRO","6416289","Usinagem de concreto asfáltico reciclado a frio com espuma de asfalto, agregado comercial e cimento","m³",112.02]
[{"$f":"CONCATENAR","v":"SICRO 6416288"},"SICRO","6416288","Usinagem de concreto asfáltico reciclado a frio com espuma de asfalto, agregado produzido e cimento","m³",79.239999999999995]
[{"$f":"CONCATENAR","v":"SICRO 6416098"},"SICRO","6416098","Usinagem de concreto asfáltico reciclado em usina fixa com adição de material fresado e brita comercial","t",147.41999999999999]
[{"$f":"CONCATENAR","v":"SICRO 6416097"},"SICRO","6416097","Usinagem de concreto asfáltico reciclado em usina fixa com adição de material fresado e brita produzida","t",116.53]
[{"$f":"CONCATENAR","v":"SICRO 6416258"},"SICRO","6416258","Usinagem de micro pré-misturado a quente com asfalto polímero - brita comercial","t",151.03]
[{"$f":"CONCATENAR","v":"SICRO 6416259"},"SICRO","6416259","Usinagem de micro pré-misturado a quente com asfalto polímero - brita produzida","t",112.25]
[{"$f":"CONCATENAR","v":"SICRO 6416074"},"SICRO","6416074","Usinagem de pré-misturado a frio - faixa A - areia e brita comerciais","m³",238.2]
[{"$f":"CONCATENAR","v":"SICRO 6416073"},"SICRO","6416073","Usinagem de pré-misturado a frio - faixa A - areia extraída e brita produzida","m³",113.09]
[{"$f":"CONCATENAR","v":"SICRO 6416220"},"SICRO","6416220","Usinagem de pré-misturado a frio - faixa B - areia e brita comerciais","m³",239.29]
[{"$f":"CONCATENAR","v":"SICRO 6416219"},"SICRO","6416219","Usinagem de pré-misturado a frio - faixa B - areia extraída e brita produzida","m³",109.96]
[{"$f":"CONCATENAR","v":"SICRO 6416222"},"SICRO","6416222","Usinagem de pré-misturado a frio - faixa C - areia e brita comerciais","m³",248.1]
[{"$f":"CONCATENAR","v":"SICRO 6416221"},"SICRO","6416221","Usinagem de pré-misturado a frio - faixa C - areia extraída e brita produzida","m³",121.14]
[{"$f":"CONCATENAR","v":"SICRO 6416224"},"SICRO","6416224","Usinagem de pré-misturado a frio - faixa D - areia e brita comerciais","m³",249.34]
[{"$f":"CONCATENAR","v":"SICRO 6416223"},"SICRO","6416223","Usinagem de pré-misturado a frio - faixa D - areia extraída e brita produzida","m³",118.01]
[{"$f":"CONCATENAR","v":"SICRO 6416082"},"SICRO","6416082","Usinagem de pré-misturado a frio com asfalto polímero - faixa A - areia e brita comerciais","m³",238.2]
[{"$f":"CONCATENAR","v":"SICRO 6416081"},"SICRO","6416081","Usinagem de pré-misturado a frio com asfalto polímero - faixa A - areia extraída e brita produzida","m³",113.09]
[{"$f":"CONCATENAR","v":"SICRO 6416228"},"SICRO","6416228","Usinagem de pré-misturado a frio com asfalto polímero - faixa B - areia e brita comerciais","m³",239.29]
[{"$f":"CONCATENAR","v":"SICRO 6416227"},"SICRO","6416227","Usinagem de pré-misturado a frio com asfalto polímero - faixa B - areia extraída e brita produzida","m³",109.96]
[{"$f":"CONCATENAR","v":"SICRO 6416230"},"SICRO","6416230","Usinagem de pré-misturado a frio com asfalto polímero - faixa C - areia e brita comerciais","m³",247.01]
[{"$f":"CONCATENAR","v":"SICRO 6416229"},"SICRO","6416229","Usinagem de pré-misturado a frio com asfalto polímero - faixa C - areia extraída e brita produzida","m³",120.65]
[{"$f":"CONCATENAR","v":"SICRO 6416232"},"SICRO","6416232","Usinagem de pré-misturado a frio com asfalto polímero - faixa D - areia e brita comerciais","m³",248.24]
[{"$f":"CONCATENAR","v":"SICRO 6416231"},"SICRO","6416231","Usinagem de pré-misturado a frio com asfalto polímero - faixa D - areia extraída e brita produzida","m³",117.54]
[{"$f":"CONCATENAR","v":"SICRO 6416086"},"SICRO","6416086","Usinagem de pré-misturado a quente com asfalto polímero - faixa I - camada porosa de atrito - areia e brita comerciais","t",163.6]
[{"$f":"CONCATENAR","v":"SICRO 6416085"},"SICRO","6416085","Usinagem de pré-misturado a quente com asfalto polímero - faixa I - camada porosa de atrito - areia extraída e brita produzida","t",108.43]
[{"$f":"CONCATENAR","v":"SICRO 6416238"},"SICRO","6416238","Usinagem de pré-misturado a quente com asfalto polímero - faixa II - camada porosa de atrito - areia e brita comerciais","t",157.84]
[{"$f":"CONCATENAR","v":"SICRO 6416237"},"SICRO","6416237","Usinagem de pré-misturado a quente com asfalto polímero - faixa II - camada porosa de atrito - areia extraída e brita produzida","t",101.03]
[{"$f":"CONCATENAR","v":"SICRO 6416240"},"SICRO","6416240","Usinagem de pré-misturado a quente com asfalto polímero - faixa III - camada porosa de atrito - areia e brita comerciais","t",164.94]
[{"$f":"CONCATENAR","v":"SICRO 6416239"},"SICRO","6416239","Usinagem de pré-misturado a quente com asfalto polímero - faixa III - camada porosa de atrito - areia extraída e brita produzida","t",106.2]
[{"$f":"CONCATENAR","v":"SICRO 6416242"},"SICRO","6416242","Usinagem de pré-misturado a quente com asfalto polímero - faixa IV - camada porosa de atrito - areia e brita comerciais","t",165.43]
[{"$f":"CONCATENAR","v":"SICRO 6416241"},"SICRO","6416241","Usinagem de pré-misturado a quente com asfalto polímero - faixa IV - camada porosa de atrito - areia extraída e brita produzida","t",112.32]
[{"$f":"CONCATENAR","v":"SICRO 6416244"},"SICRO","6416244","Usinagem de pré-misturado a quente com asfalto polímero - faixa V - camada porosa de atrito - areia e brita comerciais","t",165.37]
[{"$f":"CONCATENAR","v":"SICRO 6416243"},"SICRO","6416243","Usinagem de pré-misturado a quente com asfalto polímero - faixa V - camada porosa de atrito - areia extraída e brita produzida","t",111.91]
[{"$f":"CONCATENAR","v":"SICRO 6416250"},"SICRO","6416250","Usinagem de solo areia (70% - 30%) - material de jazida e areia comercial","m³",65.08]
[{"$f":"CONCATENAR","v":"SICRO 6416153"},"SICRO","6416153","Usinagem de solo areia (70% - 30%) - material de jazida e areia extraída","m³",16.75]
[{"$f":"CONCATENAR","v":"SICRO 6416185"},"SICRO","6416185","Usinagem de solo brita (70% - 30%) com 3% cimento - material de jazida e brita comercial","m³",109.94]
[{"$f":"CONCATENAR","v":"SICRO 6416184"},"SICRO","6416184","Usinagem de solo brita (70% - 30%) com 3% cimento - material de jazida e brita produzida","m³",78.989999999999995]
[{"$f":"CONCATENAR","v":"SICRO 6416030"},"SICRO","6416030","Usinagem de solo brita (70% - 30%) com material de jazida e brita comercial em usina de 300 t/h","m³",65.98]
[{"$f":"CONCATENAR","v":"SICRO 6416029"},"SICRO","6416029","Usinagem de solo brita (70% - 30%) com material de jazida e brita produzida em usina de 300 t/h","m³",34.08]
[{"$f":"CONCATENAR","v":"SICRO 6416056"},"SICRO","6416056","Usinagem de solo cimento com 7% de cimento com material de jazida em usina de 300 t/h","m³",90.8]
[{"$f":"CONCATENAR","v":"SICRO 6416278"},"SICRO","6416278","Usinagem de solo escória de aciaria (50% - 50%) com material de jazida em usina de 300 t/h","m³",22.58]
[{"$f":"CONCATENAR","v":"SICRO 6416047"},"SICRO","6416047","Usinagem de solo melhorado com 3% de cimento com material de jazida em usina de 300 t/h","m³",45.62]
[{"$f":"CONCATENAR","v":"SICRO 6416090"},"SICRO","6416090","Usinagem para pavimento de concreto com fôrmas deslizantes - areia e brita comerciais","m³",377.82]
[{"$f":"CONCATENAR","v":"SICRO 6416089"},"SICRO","6416089","Usinagem para pavimento de concreto com fôrmas deslizantes - areia extraída e brita produzida","m³",263]
[{"$f":"CONCATENAR","v":"SICRO 6416094"},"SICRO","6416094","Usinagem para pavimento de concreto compactado com rolo - brita comercial","m³",306.91000000000003]
[{"$f":"CONCATENAR","v":"SICRO 6416093"},"SICRO","6416093","Usinagem para pavimento de concreto compactado com rolo - brita produzida","m³",206.37]
[{"$f":"CONCATENAR","v":"SICRO 6416092"},"SICRO","6416092","Usinagem para sub-base de concreto compactado com rolo - brita comercial","m³",260.35000000000002]
[{"$f":"CONCATENAR","v":"SICRO 6416091"},"SICRO","6416091","Usinagem para sub-base de concreto compactado com rolo - brita produzida","m³",155.22999999999999]
[{"$f":"CONCATENAR","v":"SICRO 6817809"},"SICRO","6817809","Confecção de BSCC - seção canal de 1,5 x 1,5 m - areia e brita comerciais","m",1018.67]
[{"$f":"CONCATENAR","v":"SICRO 6817810"},"SICRO","6817810","Confecção de BSCC - seção canal de 1,5 x 1,5 m - areia extraída e brita produzida","m",920.43]
[{"$f":"CONCATENAR","v":"SICRO 6817811"},"SICRO","6817811","Confecção de BSCC - seção canal de 2,0 x 1,5 m - areia e brita comerciais","m",1090.22]
[{"$f":"CONCATENAR","v":"SICRO 6817812"},"SICRO","6817812","Confecção de BSCC - seção canal de 2,0 x 1,5 m - areia extraída e brita produzida","m",981.64]
[{"$f":"CONCATENAR","v":"SICRO 6817813"},"SICRO","6817813","Confecção de BSCC - seção canal de 2,0 x 2,0 m - tipo I - areia e brita comerciais","m",1709.32]
[{"$f":"CONCATENAR","v":"SICRO 6817814"},"SICRO","6817814","Confecção de BSCC - seção canal de 2,0 x 2,0 m - tipo I - areia extraída e brita produzida","m",1538.7]
[{"$f":"CONCATENAR","v":"SICRO 6817815"},"SICRO","6817815","Confecção de BSCC - seção canal de 2,0 x 2,0 m - tipo II - areia e brita comerciais","m",1448.8]
[{"$f":"CONCATENAR","v":"SICRO 6817816"},"SICRO","6817816","Confecção de BSCC - seção canal de 2,0 x 2,0 m - tipo II - areia extraída e brita produzida","m",1278.18]
[{"$f":"CONCATENAR","v":"SICRO 6817817"},"SICRO","6817817","Confecção de BSCC - seção canal de 2,5 x 1,5 m - areia e brita comerciais","m",1171.99]
[{"$f":"CONCATENAR","v":"SICRO 6817818"},"SICRO","6817818","Confecção de BSCC - seção canal de 2,5 x 1,5 m - areia extraída e brita produzida","m",1054.3599999999999]
[{"$f":"CONCATENAR","v":"SICRO 6817819"},"SICRO","6817819","Confecção de BSCC - seção canal de 2,5 x 2,0 m - tipo I - areia e brita comerciais","m",1797.13]
[{"$f":"CONCATENAR","v":"SICRO 6817820"},"SICRO","6817820","Confecção de BSCC - seção canal de 2,5 x 2,0 m - tipo I - areia extraída e brita produzida","m",1613.58]
[{"$f":"CONCATENAR","v":"SICRO 6817821"},"SICRO","6817821","Confecção de BSCC - seção canal de 2,5 x 2,0 m - tipo II - areia e brita comerciais","m",1545.23]
[{"$f":"CONCATENAR","v":"SICRO 6817822"},"SICRO","6817822","Confecção de BSCC - seção canal de 2,5 x 2,0 m - tipo II - areia extraída e brita produzida","m",1361.68]
[{"$f":"CONCATENAR","v":"SICRO 6817823"},"SICRO","6817823","Confecção de BSCC - seção canal de 3,0 x 1,5 m - areia e brita comerciais","m",1258.42]
[{"$f":"CONCATENAR","v":"SICRO 6817824"},"SICRO","6817824","Confecção de BSCC - seção canal de 3,0 x 1,5 m - areia extraída e brita produzida","m",1130.45]
[{"$f":"CONCATENAR","v":"SICRO 6817825"},"SICRO","6817825","Confecção de BSCC - seção canal de 3,0 x 2,0 m - tipo I - areia e brita comerciais","m",1827.88]
[{"$f":"CONCATENAR","v":"SICRO 6817826"},"SICRO","6817826","Confecção de BSCC - seção canal de 3,0 x 2,0 m - tipo I - areia extraída e brita produzida","m",1631.41]
[{"$f":"CONCATENAR","v":"SICRO 6817827"},"SICRO","6817827","Confecção de BSCC - seção canal de 3,0 x 2,0 m - tipo II - areia e brita comerciais","m",1641.64]
[{"$f":"CONCATENAR","v":"SICRO 6817828"},"SICRO","6817828","Confecção de BSCC - seção canal de 3,0 x 2,0 m - tipo II - areia extraída e brita produzida","m",1445.17]
[{"$f":"CONCATENAR","v":"SICRO 6817753"},"SICRO","6817753","Confecção de BSCC - seção fechada de 1,5 x 1,5 m - altura do aterro de 0,25 a 1,00 m - areia e brita comerciais","m",1379.03]
[{"$f":"CONCATENAR","v":"SICRO 6817754"},"SICRO","6817754","Confecção de BSCC - seção fechada de 1,5 x 1,5 m - altura do aterro de 0,25 a 1,00 m - areia extraída e brita produzida","m",1240.72]
[{"$f":"CONCATENAR","v":"SICRO 6817755"},"SICRO","6817755","Confecção de BSCC - seção fechada de 1,5 x 1,5 m - altura do aterro de 1,00 a 2,50 m - areia e brita comerciais","m",1321.47]
[{"$f":"CONCATENAR","v":"SICRO 6817756"},"SICRO","6817756","Confecção de BSCC - seção fechada de 1,5 x 1,5 m - altura do aterro de 1,00 a 2,50 m - areia extraída e brita produzida","m",1183.1600000000001]
[{"$f":"CONCATENAR","v":"SICRO 6817763"},"SICRO","6817763","Confecção de BSCC - seção fechada de 1,5 x 1,5 m - altura do aterro de 10,00 a 12,50 m - areia e brita comerciais","m",1675.8]
[{"$f":"CONCATENAR","v":"SICRO 6817764"},"SICRO","6817764","Confecção de BSCC - seção fechada de 1,5 x 1,5 m - altura do aterro de 10,00 a 12,50 m - areia extraída e brita produzida","m",1492.54]
[{"$f":"CONCATENAR","v":"SICRO 6817765"},"SICRO","6817765","Confecção de BSCC - seção fechada de 1,5 x 1,5 m - altura do aterro de 12,50 a 15,00 m - areia e brita comerciais","m",1953.51]
[{"$f":"CONCATENAR","v":"SICRO 6817766"},"SICRO","6817766","Confecção de BSCC - seção fechada de 1,5 x 1,5 m - altura do aterro de 12,50 a 15,00 m - areia extraída e brita produzida","m",1783.22]
[{"$f":"CONCATENAR","v":"SICRO 6817757"},"SICRO","6817757","Confecção de BSCC - seção fechada de 1,5 x 1,5 m - altura do aterro de 2,50 a 5,00 m - areia e brita comerciais","m",1321.47]
[{"$f":"CONCATENAR","v":"SICRO 6817758"},"SICRO","6817758","Confecção de BSCC - seção fechada de 1,5 x 1,5 m - altura do aterro de 2,50 a 5,00 m - areia extraída e brita produzida","m",1183.1600000000001]
[{"$f":"CONCATENAR","v":"SICRO 6817759"},"SICRO","6817759","Confecção de BSCC - seção fechada de 1,5 x 1,5 m - altura do aterro de 5,00 a 7,50 m - areia e brita comerciais","m",1438.93]
[{"$f":"CONCATENAR","v":"SICRO 6817760"},"SICRO","6817760","Confecção de BSCC - seção fechada de 1,5 x 1,5 m - altura do aterro de 5,00 a 7,50 m - areia extraída e brita produzida","m",1302.76]
[{"$f":"CONCATENAR","v":"SICRO 6817761"},"SICRO","6817761","Confecção de BSCC - seção fechada de 1,5 x 1,5 m - altura do aterro de 7,50 a 10,00 m - areia e brita comerciais","m",1771.31]
[{"$f":"CONCATENAR","v":"SICRO 6817762"},"SICRO","6817762","Confecção de BSCC - seção fechada de 1,5 x 1,5 m - altura do aterro de 7,50 a 10,00 m - areia extraída e brita produzida","m",1588.06]
[{"$f":"CONCATENAR","v":"SICRO 6817767"},"SICRO","6817767","Confecção de BSCC - seção fechada de 2,0 x 2,0 m - altura do aterro de 0,25 a 1,00 m - areia e brita comerciais","m",2008.53]
[{"$f":"CONCATENAR","v":"SICRO 6817768"},"SICRO","6817768","Confecção de BSCC - seção fechada de 2,0 x 2,0 m - altura do aterro de 0,25 a 1,00 m - areia extraída e brita produzida","m",1831.45]
[{"$f":"CONCATENAR","v":"SICRO 6817769"},"SICRO","6817769","Confecção de BSCC - seção fechada de 2,0 x 2,0 m - altura do aterro de 1,00 a 2,50 m - areia e brita comerciais","m",1699.32]
[{"$f":"CONCATENAR","v":"SICRO 6817770"},"SICRO","6817770","Confecção de BSCC - seção fechada de 2,0 x 2,0 m - altura do aterro de 1,00 a 2,50 m - areia extraída e brita produzida","m",1522.23]
[{"$f":"CONCATENAR","v":"SICRO 6817777"},"SICRO","6817777","Confecção de BSCC - seção fechada de 2,0 x 2,0 m - altura do aterro de 10,00 a 12,50 m - areia e brita comerciais","m",2816.73]
[{"$f":"CONCATENAR","v":"SICRO 6817778"},"SICRO","6817778","Confecção de BSCC - seção fechada de 2,0 x 2,0 m - altura do aterro de 10,00 a 12,50 m - areia extraída e brita produzida","m",2605.31]
[{"$f":"CONCATENAR","v":"SICRO 6817779"},"SICRO","6817779","Confecção de BSCC - seção fechada de 2,0 x 2,0 m - altura do aterro de 12,50 a 15,00 m - areia e brita comerciais","m",3336.76]
[{"$f":"CONCATENAR","v":"SICRO 6817780"},"SICRO","6817780","Confecção de BSCC - seção fechada de 2,0 x 2,0 m - altura do aterro de 12,50 a 15,00 m - areia extraída e brita produzida","m",3069.05]
[{"$f":"CONCATENAR","v":"SICRO 6817771"},"SICRO","6817771","Confecção de BSCC - seção fechada de 2,0 x 2,0 m - altura do aterro de 2,50 a 5,00 m - areia e brita comerciais","m",1945.96]
[{"$f":"CONCATENAR","v":"SICRO 6817772"},"SICRO","6817772","Confecção de BSCC - seção fechada de 2,0 x 2,0 m - altura do aterro de 2,50 a 5,00 m - areia extraída e brita produzida","m",1771.61]
[{"$f":"CONCATENAR","v":"SICRO 6817773"},"SICRO","6817773","Confecção de BSCC - seção fechada de 2,0 x 2,0 m - altura do aterro de 5,00 a 7,50 m - areia e brita comerciais","m",2347.06]
[{"$f":"CONCATENAR","v":"SICRO 6817774"},"SICRO","6817774","Confecção de BSCC - seção fechada de 2,0 x 2,0 m - altura do aterro de 5,00 a 7,50 m - areia extraída e brita produzida","m",2112.9]
[{"$f":"CONCATENAR","v":"SICRO 6817775"},"SICRO","6817775","Confecção de BSCC - seção fechada de 2,0 x 2,0 m - altura do aterro de 7,50 a 10,00 m - areia e brita comerciais","m",2587.85]
[{"$f":"CONCATENAR","v":"SICRO 6817776"},"SICRO","6817776","Confecção de BSCC - seção fechada de 2,0 x 2,0 m - altura do aterro de 7,50 a 10,00 m - areia extraída e brita produzida","m",2370.2600000000002]
[{"$f":"CONCATENAR","v":"SICRO 6817781"},"SICRO","6817781","Confecção de BSCC - seção fechada de 2,5 x 2,5 m - altura do aterro de 0,25 a 1,00 m - areia e brita comerciais","m",2735.3]
[{"$f":"CONCATENAR","v":"SICRO 6817782"},"SICRO","6817782","Confecção de BSCC - seção fechada de 2,5 x 2,5 m - altura do aterro de 0,25 a 1,00 m - areia extraída e brita produzida","m",2519.4299999999998]
[{"$f":"CONCATENAR","v":"SICRO 6817783"},"SICRO","6817783","Confecção de BSCC - seção fechada de 2,5 x 2,5 m - altura do aterro de 1,00 a 2,50 m - areia e brita comerciais","m",2246.33]
[{"$f":"CONCATENAR","v":"SICRO 6817784"},"SICRO","6817784","Confecção de BSCC - seção fechada de 2,5 x 2,5 m - altura do aterro de 1,00 a 2,50 m - areia extraída e brita produzida","m",2030.47]
[{"$f":"CONCATENAR","v":"SICRO 6817791"},"SICRO","6817791","Confecção de BSCC - seção fechada de 2,5 x 2,5 m - altura do aterro de 10,00 a 12,50 m - areia e brita comerciais","m",4131.01]
[{"$f":"CONCATENAR","v":"SICRO 6817792"},"SICRO","6817792","Confecção de BSCC - seção fechada de 2,5 x 2,5 m - altura do aterro de 10,00 a 12,50 m - areia extraída e brita produzida","m",3805.84]
[{"$f":"CONCATENAR","v":"SICRO 6817793"},"SICRO","6817793","Confecção de BSCC - seção fechada de 2,5 x 2,5 m - altura do aterro de 12,50 a 15,00 m - areia e brita comerciais","m",4673.51]
[{"$f":"CONCATENAR","v":"SICRO 6817794"},"SICRO","6817794","Confecção de BSCC - seção fechada de 2,5 x 2,5 m - altura do aterro de 12,50 a 15,00 m - areia extraída e brita produzida","m",4348.34]
[{"$f":"CONCATENAR","v":"SICRO 6817785"},"SICRO","6817785","Confecção de BSCC - seção fechada de 2,5 x 2,5 m - altura do aterro de 2,50 a 5,00 m - areia e brita comerciais","m",2876.72]
[{"$f":"CONCATENAR","v":"SICRO 6817786"},"SICRO","6817786","Confecção de BSCC - seção fechada de 2,5 x 2,5 m - altura do aterro de 2,50 a 5,00 m - areia extraída e brita produzida","m",2591.66]
[{"$f":"CONCATENAR","v":"SICRO 6817787"},"SICRO","6817787","Confecção de BSCC - seção fechada de 2,5 x 2,5 m - altura do aterro de 5,00 a 7,50 m - areia e brita comerciais","m",3339.68]
[{"$f":"CONCATENAR","v":"SICRO 6817788"},"SICRO","6817788","Confecção de BSCC - seção fechada de 2,5 x 2,5 m - altura do aterro de 5,00 a 7,50 m - areia extraída e brita produzida","m",3074.78]
[{"$f":"CONCATENAR","v":"SICRO 6817789"},"SICRO","6817789","Confecção de BSCC - seção fechada de 2,5 x 2,5 m - altura do aterro de 7,50 a 10,00 m - areia e brita comerciais","m",3731.07]
[{"$f":"CONCATENAR","v":"SICRO 6817790"},"SICRO","6817790","Confecção de BSCC - seção fechada de 2,5 x 2,5 m - altura do aterro de 7,50 a 10,00 m - areia extraída e brita produzida","m",3473.69]
[{"$f":"CONCATENAR","v":"SICRO 6817795"},"SICRO","6817795","Confecção de BSCC - seção fechada de 3,0 x 3,0 m - altura do aterro de 0,25 a 1,00 m - areia e brita comerciais","m",3523.55]
[{"$f":"CONCATENAR","v":"SICRO 6817796"},"SICRO","6817796","Confecção de BSCC - seção fechada de 3,0 x 3,0 m - altura do aterro de 0,25 a 1,00 m - areia extraída e brita produzida","m",3272.84]
[{"$f":"CONCATENAR","v":"SICRO 6817797"},"SICRO","6817797","Confecção de BSCC - seção fechada de 3,0 x 3,0 m - altura do aterro de 1,00 a 2,50 m - areia e brita comerciais","m",3011.91]
[{"$f":"CONCATENAR","v":"SICRO 6817798"},"SICRO","6817798","Confecção de BSCC - seção fechada de 3,0 x 3,0 m - altura do aterro de 1,00 a 2,50 m - areia extraída e brita produzida","m",2761.21]
[{"$f":"CONCATENAR","v":"SICRO 6817805"},"SICRO","6817805","Confecção de BSCC - seção fechada de 3,0 x 3,0 m - altura do aterro de 10,00 a 12,50 m - areia e brita comerciais","m",5776.42]
[{"$f":"CONCATENAR","v":"SICRO 6817806"},"SICRO","6817806","Confecção de BSCC - seção fechada de 3,0 x 3,0 m - altura do aterro de 10,00 a 12,50 m - areia extraída e brita produzida","m",5393.8]
[{"$f":"CONCATENAR","v":"SICRO 6817807"},"SICRO","6817807","Confecção de BSCC - seção fechada de 3,0 x 3,0 m - altura do aterro de 12,50 a 15,00 m - areia e brita comerciais","m",6376.36]
[{"$f":"CONCATENAR","v":"SICRO 6817808"},"SICRO","6817808","Confecção de BSCC - seção fechada de 3,0 x 3,0 m - altura do aterro de 12,50 a 15,00 m - areia extraída e brita produzida","m",5993.74]
[{"$f":"CONCATENAR","v":"SICRO 6817799"},"SICRO","6817799","Confecção de BSCC - seção fechada de 3,0 x 3,0 m - altura do aterro de 2,50 a 5,00 m - areia e brita comerciais","m",3777.33]
[{"$f":"CONCATENAR","v":"SICRO 6817800"},"SICRO","6817800","Confecção de BSCC - seção fechada de 3,0 x 3,0 m - altura do aterro de 2,50 a 5,00 m - areia extraída e brita produzida","m",3441.37]
[{"$f":"CONCATENAR","v":"SICRO 6817801"},"SICRO","6817801","Confecção de BSCC - seção fechada de 3,0 x 3,0 m - altura do aterro de 5,00 a 7,50 m - areia e brita comerciais","m",4615.46]
[{"$f":"CONCATENAR","v":"SICRO 6817802"},"SICRO","6817802","Confecção de BSCC - seção fechada de 3,0 x 3,0 m - altura do aterro de 5,00 a 7,50 m - areia extraída e brita produzida","m",4312.13]
[{"$f":"CONCATENAR","v":"SICRO 6817803"},"SICRO","6817803","Confecção de BSCC - seção fechada de 3,0 x 3,0 m - altura do aterro de 7,50 a 10,00 m - areia e brita comerciais","m",5242.7]
[{"$f":"CONCATENAR","v":"SICRO 6817804"},"SICRO","6817804","Confecção de BSCC - seção fechada de 3,0 x 3,0 m - altura do aterro de 7,50 a 10,00 m - areia extraída e brita produzida","m",4860.08]
[{"$f":"CONCATENAR","v":"SICRO 6817885"},"SICRO","6817885","Corpo de BSCC - seção canal de 1,5 x 1,5 m - pré-moldado - areia e brita comerciais","m",1278.24]
[{"$f":"CONCATENAR","v":"SICRO 6817886"},"SICRO","6817886","Corpo de BSCC - seção canal de 1,5 x 1,5 m - pré-moldado - areia extraída e brita produzida","m",1143.4000000000001]
[{"$f":"CONCATENAR","v":"SICRO 6817887"},"SICRO","6817887","Corpo de BSCC - seção canal de 2,0 x 1,5 m - pré-moldado - areia e brita comerciais","m",1393.37]
[{"$f":"CONCATENAR","v":"SICRO 6817888"},"SICRO","6817888","Corpo de BSCC - seção canal de 2,0 x 1,5 m - pré-moldado - areia extraída e brita produzida","m",1239.52]
[{"$f":"CONCATENAR","v":"SICRO 6817889"},"SICRO","6817889","Corpo de BSCC - seção canal de 2,0 x 2,0 m - pré-moldado - tipo I - areia e brita comerciais","m",2053.66]
[{"$f":"CONCATENAR","v":"SICRO 6817890"},"SICRO","6817890","Corpo de BSCC - seção canal de 2,0 x 2,0 m - pré-moldado - tipo I - areia extraída e brita produzida","m",1836.26]
[{"$f":"CONCATENAR","v":"SICRO 6817891"},"SICRO","6817891","Corpo de BSCC - seção canal de 2,0 x 2,0 m - pré-moldado - tipo II - areia e brita comerciais","m",1793.14]
[{"$f":"CONCATENAR","v":"SICRO 6817892"},"SICRO","6817892","Corpo de BSCC - seção canal de 2,0 x 2,0 m - pré-moldado - tipo II - areia extraída e brita produzida","m",1575.74]
[{"$f":"CONCATENAR","v":"SICRO 6817893"},"SICRO","6817893","Corpo de BSCC - seção canal de 2,5 x 1,5 m - pré-moldado - areia e brita comerciais","m",1558.5]
[{"$f":"CONCATENAR","v":"SICRO 6817894"},"SICRO","6817894","Corpo de BSCC - seção canal de 2,5 x 1,5 m - pré-moldado - areia extraída e brita produzida","m",1384.49]
[{"$f":"CONCATENAR","v":"SICRO 6817895"},"SICRO","6817895","Corpo de BSCC - seção canal de 2,5 x 2,0 m - pré-moldado - tipo I - areia e brita comerciais","m",2210.33]
[{"$f":"CONCATENAR","v":"SICRO 6817896"},"SICRO","6817896","Corpo de BSCC - seção canal de 2,5 x 2,0 m - pré-moldado - tipo I - areia extraída e brita produzida","m",1970.14]
[{"$f":"CONCATENAR","v":"SICRO 6817897"},"SICRO","6817897","Corpo de BSCC - seção canal de 2,5 x 2,0 m - pré-moldado - tipo II - areia e brita comerciais","m",1958.43]
[{"$f":"CONCATENAR","v":"SICRO 6817898"},"SICRO","6817898","Corpo de BSCC - seção canal de 2,5 x 2,0 m - pré-moldado - tipo II - areia extraída e brita produzida","m",1718.24]
[{"$f":"CONCATENAR","v":"SICRO 6817899"},"SICRO","6817899","Corpo de BSCC - seção canal de 3,0 x 1,5 m - pré-moldado - areia e brita comerciais","m",1712.99]
[{"$f":"CONCATENAR","v":"SICRO 6817900"},"SICRO","6817900","Corpo de BSCC - seção canal de 3,0 x 1,5 m - pré-moldado - areia extraída e brita produzida","m",1518.73]
[{"$f":"CONCATENAR","v":"SICRO 6817901"},"SICRO","6817901","Corpo de BSCC - seção canal de 3,0 x 2,0 m - pré-moldado - tipo I - areia e brita comerciais","m",2313.67]
[{"$f":"CONCATENAR","v":"SICRO 6817902"},"SICRO","6817902","Corpo de BSCC - seção canal de 3,0 x 2,0 m - pré-moldado - tipo I - areia extraída e brita produzida","m",2049.4]
[{"$f":"CONCATENAR","v":"SICRO 6817903"},"SICRO","6817903","Corpo de BSCC - seção canal de 3,0 x 2,0 m - pré-moldado - tipo II - areia e brita comerciais","m",2127.4299999999998]
[{"$f":"CONCATENAR","v":"SICRO 6817904"},"SICRO","6817904","Corpo de BSCC - seção canal de 3,0 x 2,0 m - pré-moldado - tipo II - areia extraída e brita produzida","m",1863.16]
[{"$f":"CONCATENAR","v":"SICRO 6817829"},"SICRO","6817829","Corpo de BSCC - seção fechada de 1,5 x 1,5 m - pré-moldado - altura do aterro de 0,25 a 1,00 m - areia e brita comerciais","m",1700.73]
[{"$f":"CONCATENAR","v":"SICRO 6817830"},"SICRO","6817830","Corpo de BSCC - seção fechada de 1,5 x 1,5 m - pré-moldado - altura do aterro de 0,25 a 1,00 m - areia extraída e brita produzida","m",1525.46]
[{"$f":"CONCATENAR","v":"SICRO 6817831"},"SICRO","6817831","Corpo de BSCC - seção fechada de 1,5 x 1,5 m - pré-moldado - altura do aterro de 1,00 a 2,50 m - areia e brita comerciais","m",1643.17]
[{"$f":"CONCATENAR","v":"SICRO 6817832"},"SICRO","6817832","Corpo de BSCC - seção fechada de 1,5 x 1,5 m - pré-moldado - altura do aterro de 1,00 a 2,50 m - areia extraída e brita produzida","m",1467.9]
[{"$f":"CONCATENAR","v":"SICRO 6817839"},"SICRO","6817839","Corpo de BSCC - seção fechada de 1,5 x 1,5 m - pré-moldado - altura do aterro de 10,00 a 12,50 m - areia e brita comerciais","m",2003.72]
[{"$f":"CONCATENAR","v":"SICRO 6817840"},"SICRO","6817840","Corpo de BSCC - seção fechada de 1,5 x 1,5 m - pré-moldado - altura do aterro de 10,00 a 12,50 m - areia extraída e brita produzida","m",1782.22]
[{"$f":"CONCATENAR","v":"SICRO 6817841"},"SICRO","6817841","Corpo de BSCC - seção fechada de 1,5 x 1,5 m - pré-moldado - altura do aterro de 12,50 a 15,00 m - areia e brita comerciais","m",2281.4299999999998]
[{"$f":"CONCATENAR","v":"SICRO 6817842"},"SICRO","6817842","Corpo de BSCC - seção fechada de 1,5 x 1,5 m - pré-moldado - altura do aterro de 12,50 a 15,00 m - areia extraída e brita produzida","m",2072.9]
[{"$f":"CONCATENAR","v":"SICRO 6817833"},"SICRO","6817833","Corpo de BSCC - seção fechada de 1,5 x 1,5 m - pré-moldado - altura do aterro de 2,50 a 5,00 m - areia e brita comerciais","m",1643.17]
[{"$f":"CONCATENAR","v":"SICRO 6817834"},"SICRO","6817834","Corpo de BSCC - seção fechada de 1,5 x 1,5 m - pré-moldado - altura do aterro de 2,50 a 5,00 m - areia extraída e brita produzida","m",1467.9]
[{"$f":"CONCATENAR","v":"SICRO 6817835"},"SICRO","6817835","Corpo de BSCC - seção fechada de 1,5 x 1,5 m - pré-moldado - altura do aterro de 5,00 a 7,50 m - areia e brita comerciais","m",1760.63]
[{"$f":"CONCATENAR","v":"SICRO 6817836"},"SICRO","6817836","Corpo de BSCC - seção fechada de 1,5 x 1,5 m - pré-moldado - altura do aterro de 5,00 a 7,50 m - areia extraída e brita produzida","m",1587.5]
[{"$f":"CONCATENAR","v":"SICRO 6817837"},"SICRO","6817837","Corpo de BSCC - seção fechada de 1,5 x 1,5 m - pré-moldado - altura do aterro de 7,50 a 10,00 m - areia e brita comerciais","m",2099.23]
[{"$f":"CONCATENAR","v":"SICRO 6817838"},"SICRO","6817838","Corpo de BSCC - seção fechada de 1,5 x 1,5 m - pré-moldado - altura do aterro de 7,50 a 10,00 m - areia extraída e brita produzida","m",1877.74]
[{"$f":"CONCATENAR","v":"SICRO 6817843"},"SICRO","6817843","Corpo de BSCC - seção fechada de 2,0 x 2,0 m - pré-moldado - altura do aterro de 0,25 a 1,00 m - areia e brita comerciais","m",2397.9499999999998]
[{"$f":"CONCATENAR","v":"SICRO 6817844"},"SICRO","6817844","Corpo de BSCC - seção fechada de 2,0 x 2,0 m - pré-moldado - altura do aterro de 0,25 a 1,00 m - areia extraída e brita produzida","m",2174.89]
[{"$f":"CONCATENAR","v":"SICRO 6817845"},"SICRO","6817845","Corpo de BSCC - seção fechada de 2,0 x 2,0 m - pré-moldado - altura do aterro de 1,00 a 2,50 m - areia e brita comerciais","m",2088.7399999999998]
[{"$f":"CONCATENAR","v":"SICRO 6817846"},"SICRO","6817846","Corpo de BSCC - seção fechada de 2,0 x 2,0 m - pré-moldado - altura do aterro de 1,00 a 2,50 m - areia extraída e brita produzida","m",1865.67]
[{"$f":"CONCATENAR","v":"SICRO 6817853"},"SICRO","6817853","Corpo de BSCC - seção fechada de 2,0 x 2,0 m - pré-moldado - altura do aterro de 10,00 a 12,50 m - areia e brita comerciais","m",3216.9]
[{"$f":"CONCATENAR","v":"SICRO 6817854"},"SICRO","6817854","Corpo de BSCC - seção fechada de 2,0 x 2,0 m - pré-moldado - altura do aterro de 10,00 a 12,50 m - areia extraída e brita produzida","m",2956.98]
[{"$f":"CONCATENAR","v":"SICRO 6817855"},"SICRO","6817855","Corpo de BSCC - seção fechada de 2,0 x 2,0 m - pré-moldado - altura do aterro de 12,50 a 15,00 m - areia e brita comerciais","m",3738.62]
[{"$f":"CONCATENAR","v":"SICRO 6817856"},"SICRO","6817856","Corpo de BSCC - seção fechada de 2,0 x 2,0 m - pré-moldado - altura do aterro de 12,50 a 15,00 m - areia extraída e brita produzida","m",3422.37]
[{"$f":"CONCATENAR","v":"SICRO 6817847"},"SICRO","6817847","Corpo de BSCC - seção fechada de 2,0 x 2,0 m - pré-moldado - altura do aterro de 2,50 a 5,00 m - areia e brita comerciais","m",2339.92]
[{"$f":"CONCATENAR","v":"SICRO 6817848"},"SICRO","6817848","Corpo de BSCC - seção fechada de 2,0 x 2,0 m - pré-moldado - altura do aterro de 2,50 a 5,00 m - areia extraída e brita produzida","m",2118.34]
[{"$f":"CONCATENAR","v":"SICRO 6817849"},"SICRO","6817849","Corpo de BSCC - seção fechada de 2,0 x 2,0 m - pré-moldado - altura do aterro de 5,00 a 7,50 m - areia e brita comerciais","m",2742.7]
[{"$f":"CONCATENAR","v":"SICRO 6817850"},"SICRO","6817850","Corpo de BSCC - seção fechada de 2,0 x 2,0 m - pré-moldado - altura do aterro de 5,00 a 7,50 m - areia extraída e brita produzida","m",2461.2800000000002]
[{"$f":"CONCATENAR","v":"SICRO 6817851"},"SICRO","6817851","Corpo de BSCC - seção fechada de 2,0 x 2,0 m - pré-moldado - altura do aterro de 7,50 a 10,00 m - areia e brita comerciais","m",2988.02]
[{"$f":"CONCATENAR","v":"SICRO 6817852"},"SICRO","6817852","Corpo de BSCC - seção fechada de 2,0 x 2,0 m - pré-moldado - altura do aterro de 7,50 a 10,00 m - areia extraída e brita produzida","m",2721.93]
[{"$f":"CONCATENAR","v":"SICRO 6817857"},"SICRO","6817857","Corpo de BSCC - seção fechada de 2,5 x 2,5 m - pré-moldado - altura do aterro de 0,25 a 1,00 m - areia e brita comerciais","m",3202.31]
[{"$f":"CONCATENAR","v":"SICRO 6817858"},"SICRO","6817858","Corpo de BSCC - seção fechada de 2,5 x 2,5 m - pré-moldado - altura do aterro de 0,25 a 1,00 m - areia extraída e brita produzida","m",2929.01]
[{"$f":"CONCATENAR","v":"SICRO 6817859"},"SICRO","6817859","Corpo de BSCC - seção fechada de 2,5 x 2,5 m - pré-moldado - altura do aterro de 1,00 a 2,50 m - areia e brita comerciais","m",2713.34]
[{"$f":"CONCATENAR","v":"SICRO 6817860"},"SICRO","6817860","Corpo de BSCC - seção fechada de 2,5 x 2,5 m - pré-moldado - altura do aterro de 1,00 a 2,50 m - areia extraída e brita produzida","m",2440.0500000000002]
[{"$f":"CONCATENAR","v":"SICRO 6817867"},"SICRO","6817867","Corpo de BSCC - seção fechada de 2,5 x 2,5 m - pré-moldado - altura do aterro de 10,00 a 12,50 m - areia e brita comerciais","m",4610.46]
[{"$f":"CONCATENAR","v":"SICRO 6817868"},"SICRO","6817868","Corpo de BSCC - seção fechada de 2,5 x 2,5 m - pré-moldado - altura do aterro de 10,00 a 12,50 m - areia extraída e brita produzida","m",4225.29]
[{"$f":"CONCATENAR","v":"SICRO 6817869"},"SICRO","6817869","Corpo de BSCC - seção fechada de 2,5 x 2,5 m - pré-moldado - altura do aterro de 12,50 a 15,00 m - areia e brita comerciais","m",5157.49]
[{"$f":"CONCATENAR","v":"SICRO 6817870"},"SICRO","6817870","Corpo de BSCC - seção fechada de 2,5 x 2,5 m - pré-moldado - altura do aterro de 12,50 a 15,00 m - areia extraída e brita produzida","m",4771.08]
[{"$f":"CONCATENAR","v":"SICRO 6817861"},"SICRO","6817861","Corpo de BSCC - seção fechada de 2,5 x 2,5 m - pré-moldado - altura do aterro de 2,50 a 5,00 m - areia e brita comerciais","m",3345.42]
[{"$f":"CONCATENAR","v":"SICRO 6817862"},"SICRO","6817862","Corpo de BSCC - seção fechada de 2,5 x 2,5 m - pré-moldado - altura do aterro de 2,50 a 5,00 m - areia extraída e brita produzida","m",3002.89]
[{"$f":"CONCATENAR","v":"SICRO 6817863"},"SICRO","6817863","Corpo de BSCC - seção fechada de 2,5 x 2,5 m - pré-moldado - altura do aterro de 5,00 a 7,50 m - areia e brita comerciais","m",3812.91]
[{"$f":"CONCATENAR","v":"SICRO 6817864"},"SICRO","6817864","Corpo de BSCC - seção fechada de 2,5 x 2,5 m - pré-moldado - altura do aterro de 5,00 a 7,50 m - areia extraída e brita produzida","m",3489.3]
[{"$f":"CONCATENAR","v":"SICRO 6817865"},"SICRO","6817865","Corpo de BSCC - seção fechada de 2,5 x 2,5 m - pré-moldado - altura do aterro de 7,50 a 10,00 m - areia e brita comerciais","m",4204.3]
[{"$f":"CONCATENAR","v":"SICRO 6817866"},"SICRO","6817866","Corpo de BSCC - seção fechada de 2,5 x 2,5 m - pré-moldado - altura do aterro de 7,50 a 10,00 m - areia extraída e brita produzida","m",3888.21]
[{"$f":"CONCATENAR","v":"SICRO 6817871"},"SICRO","6817871","Corpo de BSCC - seção fechada de 3,0 x 3,0 m - pré-moldado - altura do aterro de 0,25 a 1,00 m - areia e brita comerciais","m",4087.76]
[{"$f":"CONCATENAR","v":"SICRO 6817872"},"SICRO","6817872","Corpo de BSCC - seção fechada de 3,0 x 3,0 m - pré-moldado - altura do aterro de 0,25 a 1,00 m - areia extraída e brita produzida","m",3769.35]
[{"$f":"CONCATENAR","v":"SICRO 6817873"},"SICRO","6817873","Corpo de BSCC - seção fechada de 3,0 x 3,0 m - pré-moldado - altura do aterro de 1,00 a 2,50 m - areia e brita comerciais","m",3576.12]
[{"$f":"CONCATENAR","v":"SICRO 6817874"},"SICRO","6817874","Corpo de BSCC - seção fechada de 3,0 x 3,0 m - pré-moldado - altura do aterro de 1,00 a 2,50 m - areia extraída e brita produzida","m",3257.72]
[{"$f":"CONCATENAR","v":"SICRO 6817881"},"SICRO","6817881","Corpo de BSCC - seção fechada de 3,0 x 3,0 m - pré-moldado - altura do aterro de 10,00 a 12,50 m - areia e brita comerciais","m",6352.93]
[{"$f":"CONCATENAR","v":"SICRO 6817882"},"SICRO","6817882","Corpo de BSCC - seção fechada de 3,0 x 3,0 m - pré-moldado - altura do aterro de 10,00 a 12,50 m - areia extraída e brita produzida","m",5900.08]
[{"$f":"CONCATENAR","v":"SICRO 6817883"},"SICRO","6817883","Corpo de BSCC - seção fechada de 3,0 x 3,0 m - pré-moldado - altura do aterro de 12,50 a 15,00 m - areia e brita comerciais","m",6957.41]
[{"$f":"CONCATENAR","v":"SICRO 6817884"},"SICRO","6817884","Corpo de BSCC - seção fechada de 3,0 x 3,0 m - pré-moldado - altura do aterro de 12,50 a 15,00 m - areia extraída e brita produzida","m",6503.31]
[{"$f":"CONCATENAR","v":"SICRO 6817875"},"SICRO","6817875","Corpo de BSCC - seção fechada de 3,0 x 3,0 m - pré-moldado - altura do aterro de 2,50 a 5,00 m - areia e brita comerciais","m",4347.75]
[{"$f":"CONCATENAR","v":"SICRO 6817876"},"SICRO","6817876","Corpo de BSCC - seção fechada de 3,0 x 3,0 m - pré-moldado - altura do aterro de 2,50 a 5,00 m - areia extraída e brita produzida","m",3942.81]
[{"$f":"CONCATENAR","v":"SICRO 6817877"},"SICRO","6817877","Corpo de BSCC - seção fechada de 3,0 x 3,0 m - pré-moldado - altura do aterro de 5,00 a 7,50 m - areia e brita comerciais","m",5185.88]
[{"$f":"CONCATENAR","v":"SICRO 6817878"},"SICRO","6817878","Corpo de BSCC - seção fechada de 3,0 x 3,0 m - pré-moldado - altura do aterro de 5,00 a 7,50 m - areia extraída e brita produzida","m",4813.57]
[{"$f":"CONCATENAR","v":"SICRO 6817879"},"SICRO","6817879","Corpo de BSCC - seção fechada de 3,0 x 3,0 m - pré-moldado - altura do aterro de 7,50 a 10,00 m - areia e brita comerciais","m",5819.33]
[{"$f":"CONCATENAR","v":"SICRO 6817880"},"SICRO","6817880","Corpo de BSCC - seção fechada de 3,0 x 3,0 m - pré-moldado - altura do aterro de 7,50 a 10,00 m - areia extraída e brita produzida","m",5366.46]
[{"$f":"CONCATENAR","v":"SICRO 7119788"},"SICRO","7119788","Administração local do Estaleiro Padrão","mês",288420.99]
[{"$f":"CONCATENAR","v":"SICRO 7119714"},"SICRO","7119714","Amarração do sistema de fundeio - profundidade de até 50 m","un",2132.5300000000002]
[{"$f":"CONCATENAR","v":"SICRO 7119715"},"SICRO","7119715","Ânodo de sacrifício para proteção do casco - fornecimento e instalação","un",1586.86]
[{"$f":"CONCATENAR","v":"SICRO 7119678"},"SICRO","7119678","Beneficiamento de aço naval para construção de instalações portuárias de pequeno porte - excluso o aço naval","t",8874.7999999999993]
[{"$f":"CONCATENAR","v":"SICRO 7119712"},"SICRO","7119712","Cabo de segurança para conexão da ponte - fornecimento e instalação","un",11921.66]
[{"$f":"CONCATENAR","v":"SICRO 7119694"},"SICRO","7119694","Confecção de morto de concreto de 13 t","un",7545.77]
[{"$f":"CONCATENAR","v":"SICRO 7119695"},"SICRO","7119695","Confecção de morto de concreto de 14 t","un",8205.7900000000009]
[{"$f":"CONCATENAR","v":"SICRO 7119696"},"SICRO","7119696","Confecção de morto de concreto de 22 t","un",13155.11]
[{"$f":"CONCATENAR","v":"SICRO 7119697"},"SICRO","7119697","Confecção de morto de concreto de 36 t","un",20998.880000000001]
[{"$f":"CONCATENAR","v":"SICRO 7119698"},"SICRO","7119698","Confecção de morto de concreto de 48 t","un",26825]
[{"$f":"CONCATENAR","v":"SICRO 7119688"},"SICRO","7119688","Confecção de poita de concreto com garras metálicas de 13,3 t (peso submerso = 8 t)","un",7994.44]
[{"$f":"CONCATENAR","v":"SICRO 7119689"},"SICRO","7119689","Confecção de poita de concreto com garras metálicas de 25 t (peso submerso = 15 t)","un",15396.06]
[{"$f":"CONCATENAR","v":"SICRO 7119690"},"SICRO","7119690","Confecção de poita de concreto com garras metálicas de 30 t (peso submerso = 18 t)","un",18371.900000000001]
[{"$f":"CONCATENAR","v":"SICRO 7119691"},"SICRO","7119691","Confecção de poita de concreto com garras metálicas de 41,7 t (peso submerso = 25 t)","un",25453.05]
[{"$f":"CONCATENAR","v":"SICRO 7119692"},"SICRO","7119692","Confecção de poita de concreto com garras metálicas de 45,8 t (peso submerso = 27,5 t)","un",27979.83]
[{"$f":"CONCATENAR","v":"SICRO 7119693"},"SICRO","7119693","Confecção de poita de concreto com garras metálicas de 58,3 t (peso submerso = 35 t)","un",35552]
[{"$f":"CONCATENAR","v":"SICRO 7119687"},"SICRO","7119687","Confecção de poita de concreto com garras metálicas de 6,7 t (peso submerso = 4 t)","un",4209.97]
[{"$f":"CONCATENAR","v":"SICRO 7119681"},"SICRO","7119681","Confecção de poita de concreto de 13,3 t (peso submerso = 8 t)","un",8832.7900000000009]
[{"$f":"CONCATENAR","v":"SICRO 7119682"},"SICRO","7119682","Confecção de poita de concreto de 25 t (peso submerso = 15 t)","un",16923.89]
[{"$f":"CONCATENAR","v":"SICRO 7119683"},"SICRO","7119683","Confecção de poita de concreto de 30 t (peso submerso = 18 t)","un",20194.93]
[{"$f":"CONCATENAR","v":"SICRO 7119684"},"SICRO","7119684","Confecção de poita de concreto de 41,7 t (peso submerso = 25 t)","un",27956]
[{"$f":"CONCATENAR","v":"SICRO 7119685"},"SICRO","7119685","Confecção de poita de concreto de 45,8 t (peso submerso = 27,5 t)","un",30724.95]
[{"$f":"CONCATENAR","v":"SICRO 7119686"},"SICRO","7119686","Confecção de poita de concreto de 58,3 t (peso submerso = 35 t)","un",39026.720000000001]
[{"$f":"CONCATENAR","v":"SICRO 7119680"},"SICRO","7119680","Confecção de poita de concreto de 6,7 t (peso submerso = 4 t)","un",4642.8]
[{"$f":"CONCATENAR","v":"SICRO 7119710"},"SICRO","7119710","Defensa de pneus para proteção do flutuante - confecção e instalação","un",706.78]
[{"$f":"CONCATENAR","v":"SICRO 7107375"},"SICRO","7107375","Fornecimento e instalação de reservatório metálico tipo taça de 10.000 litros pintura interna e externa com escada de acesso e base de concreto armado - areia e brita comerciais","un",29921.97]
[{"$f":"CONCATENAR","v":"SICRO 7107376"},"SICRO","7107376","Fornecimento e instalação de reservatório metálico tipo taça de 20.000 litros pintura interna e externa com escada de acesso e base de concreto armado - areia e brita comerciais","un",51266.6]
[{"$f":"CONCATENAR","v":"SICRO 7107377"},"SICRO","7107377","Fornecimento e instalação de reservatório metálico tipo taça de 30.000 litros pintura interna e externa com escada de acesso e base de concreto armado - areia e brita comerciais","un",70779.289999999994]
[{"$f":"CONCATENAR","v":"SICRO 7107374"},"SICRO","7107374","Fornecimento e instalação de reservatório metálico tipo taça de 5.000 litros pintura interna e externa com escada de acesso e base de concreto armado - areia e brita comerciais","un",20512.93]
[{"$f":"CONCATENAR","v":"SICRO 7119708"},"SICRO","7119708","Guincho manual para sistema de fundeio com capacidade de tração de 100 kN - fornecimento e instalação","un",163694.28]
[{"$f":"CONCATENAR","v":"SICRO 7119709"},"SICRO","7119709","Guincho manual para sistema de fundeio com capacidade de tração de 200 kN - fornecimento e instalação","un",227074.72]
[{"$f":"CONCATENAR","v":"SICRO 7119706"},"SICRO","7119706","Implantação do sistema naval tipo I - ponte móvel e flutuante principal","un",49420.25]
[{"$f":"CONCATENAR","v":"SICRO 7119707"},"SICRO","7119707","Implantação do sistema naval tipo II - pontes móveis, flutuante intermediário e flutuante principal","un",117256.14]
[{"$f":"CONCATENAR","v":"SICRO 7119787"},"SICRO","7119787","Instalações do Estaleiro Padrão para o beneficiamento de estruturas navais, inclusive mobiliário, equipamentos de informática e de segurança","m²",368.48]
[{"$f":"CONCATENAR","v":"SICRO 7119647"},"SICRO","7119647","Lançamento da embarcação sobre carreira em água","un",2563.11]
[{"$f":"CONCATENAR","v":"SICRO 7119679"},"SICRO","7119679","Lançamento de poita de concreto - peso submerso","t",44.53]
[{"$f":"CONCATENAR","v":"SICRO 7119711"},"SICRO","7119711","Mancal de conexão - confecção e instalação","un",904.48]
[{"$f":"CONCATENAR","v":"SICRO 7107379"},"SICRO","7107379","Manutenção de tratamento superficial e pintura da área interna do flutuante (tanques de reserva de flutuabilidade)","m²",49.75]
[{"$f":"CONCATENAR","v":"SICRO 7107381"},"SICRO","7107381","Manutenção de tratamento superficial e pintura da parte externa do flutuante (costados e espelhos de proa e popa) - exceto fundo","m²",51.89]
[{"$f":"CONCATENAR","v":"SICRO 7107380"},"SICRO","7107380","Manutenção de tratamento superficial e pintura da ponte, convés, casarias e demais estruturas metálicas navais sobre os flutuantes","m²",56.13]
[{"$f":"CONCATENAR","v":"SICRO 7107382"},"SICRO","7107382","Manutenção de tratamento superficial e pintura do fundo do flutuante","m²",136.44999999999999]
[{"$f":"CONCATENAR","v":"SICRO 7119713"},"SICRO","7119713","Molinete manual para sistema de fundeio com capacidade de tração de 70 kN - fornecimento e instalação","un",253847.47]
[{"$f":"CONCATENAR","v":"SICRO 7119646"},"SICRO","7119646","Transporte interno em estaleiro para movimentação de peças","t",1080.71]
[{"$f":"CONCATENAR","v":"SICRO 7107384"},"SICRO","7107384","Tratamento superficial e pintura da ponte e demais estruturas metálicas navais - exceto fundo do flutuante","m²",90.26]
[{"$f":"CONCATENAR","v":"SICRO 7107378"},"SICRO","7107378","Tratamento superficial e pintura do fundo do flutuante","m²",160.03]

{"sheet":"Composições","index":2,"n_rows":215,"n_cols":14,"rows_kept":215,"cut":false,"hidden":false,"merged":[[3,14,9,14],[0,1,0,9],[213,8,213,9],[214,8,214,9],[213,4,213,7],[214,4,214,7],[212,1,212,2]]}
[null,"COMPOSIÇÕES"]
[]
[]
[null,"",null,null,null,null,null,null,"CUSTO UNIT","CUSTO UNIT"]
[null,{"$f":"OFFSET(Composições!$A$1,MATCH(COUNTIF($H$1:$H5,\"Composições\"),Composições!$K:$K,0)-1,COLUMN(Banco!B$6)-1)","v":0},{"$f":"OFFSET(Composições!$A$1,MATCH(COUNTIF($H$1:$H5,\"Composições\"),Composições!$K:$K,0)-1,COLUMN(Banco!C$6)-1)","v":0},{"$f":"IF(COUNTIF(OFFSET(Banco!$A$6,1,0,NCOMPOSICOES),$A5)>1,\"CÓDIGO REPETIDO\",OFFSET(Composições!$A$1,MATCH(COUNTIF($H$1:$H5,\"Composições\"),Composições!$K:$K,0)-1,COLUMN(Banco!D$6)-1))","v":0},{"$f":"OFFSET(Composições!$A$1,MATCH(COUNTIF($H$1:$H5,\"Composições\"),Composições!$K:$K,0)-1,COLUMN(Banco!E$6)-1)","v":0},{"$f":"OFFSET(Composições!$A$1,MATCH(COUNTIF($H$1:$H5,\"Composições\"),Composições!$K:$K,0)-1,COLUMN(Banco!F$6)-1)","v":0},{"$f":"OFFSET(Composições!$A$1,MATCH(COUNTIF($H$1:$H5,\"Composições\"),Composições!$K:$K,0)-1,COLUMN(Banco!G$6)-1)","v":0},"Composições"]
[]
[{"$f":"CONCATENAR","v":" "},null,null,null,null,{"$f":"IF($L7>0,SUM(OFFSET(F7,1,0,$L7),0))","v":0},{"$f":"IF($L7>0,SUM(OFFSET(G7,1,0,$L7),0))","v":0},null,{"$f":"IF(ISERROR(F7),0,F7)","v":0},{"$f":"IF(ISERROR(G7),0,G7)","v":0},{"$f":"COUNTA($A$1:$A7)-1","v":0},{"$f":"IF(MAX(K:K)=K7,MATCH(9999999,$K:$K)+1,MATCH(K7+1,K:K,0))-ROW(L7)-2","v":2},{"$f":"IF(AND(OR(I7<>0,J7<>0),N7=\"Sim\"),\"F\",\"\")","v":""},"Sim"]
[null,null,null,{"$f":"IF(ISNUMBER($L8),OFFSET(Banco!$A$1,Composições!$L8-1,COLUMN(Composições!D8)-1),\"\")","v":""},{"$f":"IF(ISNUMBER($L8),OFFSET(Banco!$A$1,Composições!$L8-1,COLUMN(Composições!E8)-1),\"\")","v":""},{"$f":"TRUNC($H8*ROUND(I8,2),2)","v":0},{"$f":"TRUNC($H8*ROUND(J8,2),2)","v":0},null,{"$f":"IF(ISNUMBER($L8),VALUE(OFFSET(Banco!$A$1,Composições!$L8-1,COLUMN(Composições!I8)-4)),0)","v":0},{"$f":"IF(ISNUMBER($L8),VALUE(OFFSET(Banco!$A$1,Composições!$L8-1,COLUMN(Composições!J8)-4)),0)","v":0},{"$f":"COUNTA($A$1:$A8)-1","v":0},{"$f":"MATCH(Composições!CONCATENAR,Banco!$A:$A,0)","v":{"$error":"#N/A"}},{"$f":"IF(OR(ISERROR(L8),H8=\"\",H8=0),\"\",OFFSET($M$1,MATCH(K8,$K$1:$K8,0)-1,0))","v":""}]
[null,null,null,null,null,null,null,null,null,null,{"$f":"COUNTA($A$1:$A9)-1","v":0},null,{"$f":"IF(OFFSET($M$1,MATCH(OFFSET(K9,-1,0),$K$1:$K9,0)-1,0)=\"F\",\"F\",\"\")","v":""}]
[null,"FONTE","CÓDIGO","DESCRIÇÃO","UNIDADE",null,null,"COEFIC.","DESONERADO","NÃO DESONER.",null,null,"FILTRO","IMPRIMIR"]
[{"$f":"CONCATENAR","v":" "},null,null,null,null,{"$f":"IF($L11>0,SUM(OFFSET(F11,1,0,$L11),0))","v":0},{"$f":"IF($L11>0,SUM(OFFSET(G11,1,0,$L11),0))","v":0},null,{"$f":"IF(ISERROR(F11),0,F11)","v":0},{"$f":"IF(ISERROR(G11),0,G11)","v":0},{"$f":"COUNTA($A$1:$A11)-1","v":1},{"$f":"IF(MAX(K:K)=K11,MATCH(9999999,$K:$K)+1,MATCH(K11+1,K:K,0))-ROW(L11)-2","v":10},{"$f":"IF(AND(OR(I11<>0,J11<>0),N11=\"Sim\"),\"F\",\"\")","v":""},"Sim"]
[null,null,null,{"$f":"IF(ISNUMBER($L12),OFFSET(Banco!$A$1,Composições!$L12-1,COLUMN(Composições!D12)-1),\"\")","v":""},{"$f":"IF(ISNUMBER($L12),OFFSET(Banco!$A$1,Composições!$L12-1,COLUMN(Composições!E12)-1),\"\")","v":""},{"$f":"TRUNC($H12*ROUND(I12,2),2)","v":0},{"$f":"TRUNC($H12*ROUND(J12,2),2)","v":0},null,{"$f":"IF(ISNUMBER($L12),VALUE(OFFSET(Banco!$A$1,Composições!$L12-1,COLUMN(Composições!I12)-4)),0)","v":0},{"$f":"IF(ISNUMBER($L12),VALUE(OFFSET(Banco!$A$1,Composições!$L12-1,COLUMN(Composições!J12)-4)),0)","v":0},{"$f":"COUNTA($A$1:$A12)-1","v":1},{"$f":"MATCH(Composições!CONCATENAR,Banco!$A:$A,0)","v":{"$error":"#N/A"}},{"$f":"IF(OR(ISERROR($L12),$H12=\"\",$H12=0),\"\",OFFSET(M$1,MATCH($K12,$K$1:$K12,0)-1,0))","v":""}]
[null,null,null,{"$f":"IF(ISNUMBER($L13),OFFSET(Banco!$A$1,Composições!$L13-1,COLUMN(Composições!D13)-1),\"\")","v":""},{"$f":"IF(ISNUMBER($L13),OFFSET(Banco!$A$1,Composições!$L13-1,COLUMN(Composições!E13)-1),\"\")","v":""},0,0,null,{"$f":"IF(ISNUMBER($L13),VALUE(OFFSET(Banco!$A$1,Composições!$L13-1,COLUMN(Composições!I13)-4)),0)","v":0},{"$f":"IF(ISNUMBER($L13),VALUE(OFFSET(Banco!$A$1,Composições!$L13-1,COLUMN(Composições!J13)-4)),0)","v":0},{"$f":"COUNTA($A$1:$A13)-1","v":1},{"$f":"MATCH(Composições!CONCATENAR,Banco!$A:$A,0)","v":{"$error":"#N/A"}},{"$f":"IF(OR(ISERROR($L13),$H13=\"\",$H13=0),\"\",OFFSET(M$1,MATCH($K13,$K$1:$K13,0)-1,0))","v":""}]
[null,null,null,{"$f":"IF(ISNUMBER($L14),OFFSET(Banco!$A$1,Composições!$L14-1,COLUMN(Composições!D14)-1),\"\")","v":""},{"$f":"IF(ISNUMBER($L14),OFFSET(Banco!$A$1,Composições!$L14-1,COLUMN(Composições!E14)-1),\"\")","v":""},0,0,null,{"$f":"IF(ISNUMBER($L14),VALUE(OFFSET(Banco!$A$1,Composições!$L14-1,COLUMN(Composições!I14)-4)),0)","v":0},{"$f":"IF(ISNUMBER($L14),VALUE(OFFSET(Banco!$A$1,Composições!$L14-1,COLUMN(Composições!J14)-4)),0)","v":0},{"$f":"COUNTA($A$1:$A14)-1","v":1},{"$f":"MATCH(Composições!CONCATENAR,Banco!$A:$A,0)","v":{"$error":"#N/A"}},{"$f":"IF(OR(ISERROR($L14),$H14=\"\",$H14=0),\"\",OFFSET(M$1,MATCH($K14,$K$1:$K14,0)-1,0))","v":""}]
[null,null,null,{"$f":"IF(ISNUMBER($L15),OFFSET(Banco!$A$1,Composições!$L15-1,COLUMN(Composições!D15)-1),\"\")","v":""},{"$f":"IF(ISNUMBER($L15),OFFSET(Banco!$A$1,Composições!$L15-1,COLUMN(Composições!E15)-1),\"\")","v":""},0,0,null,{"$f":"IF(ISNUMBER($L15),VALUE(OFFSET(Banco!$A$1,Composições!$L15-1,COLUMN(Composições!I15)-4)),0)","v":0},{"$f":"IF(ISNUMBER($L15),VALUE(OFFSET(Banco!$A$1,Composições!$L15-1,COLUMN(Composições!J15)-4)),0)","v":0},{"$f":"COUNTA($A$1:$A15)-1","v":1},{"$f":"MATCH(Composições!CONCATENAR,Banco!$A:$A,0)","v":{"$error":"#N/A"}},{"$f":"IF(OR(ISERROR($L15),$H15=\"\",$H15=0),\"\",OFFSET(M$1,MATCH($K15,$K$1:$K15,0)-1,0))","v":""}]
[null,null,null,{"$f":"IF(ISNUMBER($L16),OFFSET(Banco!$A$1,Composições!$L16-1,COLUMN(Composições!D16)-1),\"\")","v":""},{"$f":"IF(ISNUMBER($L16),OFFSET(Banco!$A$1,Composições!$L16-1,COLUMN(Composições!E16)-1),\"\")","v":""},0,0,null,{"$f":"IF(ISNUMBER($L16),VALUE(OFFSET(Banco!$A$1,Composições!$L16-1,COLUMN(Composições!I16)-4)),0)","v":0},{"$f":"IF(ISNUMBER($L16),VALUE(OFFSET(Banco!$A$1,Composições!$L16-1,COLUMN(Composições!J16)-4)),0)","v":0},{"$f":"COUNTA($A$1:$A16)-1","v":1},{"$f":"MATCH(Composições!CONCATENAR,Banco!$A:$A,0)","v":{"$error":"#N/A"}},{"$f":"IF(OR(ISERROR($L16),$H16=\"\",$H16=0),\"\",OFFSET(M$1,MATCH($K16,$K$1:$K16,0)-1,0))","v":""}]
[null,null,null,{"$f":"IF(ISNUMBER($L17),OFFSET(Banco!$A$1,Composições!$L17-1,COLUMN(Composições!D17)-1),\"\")","v":""},{"$f":"IF(ISNUMBER($L17),OFFSET(Banco!$A$1,Composições!$L17-1,COLUMN(Composições!E17)-1),\"\")","v":""},0,0,null,{"$f":"IF(ISNUMBER($L17),VALUE(OFFSET(Banco!$A$1,Composições!$L17-1,COLUMN(Composições!I17)-4)),0)","v":0},{"$f":"IF(ISNUMBER($L17),VALUE(OFFSET(Banco!$A$1,Composições!$L17-1,COLUMN(Composições!J17)-4)),0)","v":0},{"$f":"COUNTA($A$1:$A17)-1","v":1},{"$f":"MATCH(Composições!CONCATENAR,Banco!$A:$A,0)","v":{"$error":"#N/A"}},{"$f":"IF(OR(ISERROR($L17),$H17=\"\",$H17=0),\"\",OFFSET(M$1,MATCH($K17,$K$1:$K17,0)-1,0))","v":""}]
[null,null,null,{"$f":"IF(ISNUMBER($L18),OFFSET(Banco!$A$1,Composições!$L18-1,COLUMN(Composições!D18)-1),\"\")","v":""},{"$f":"IF(ISNUMBER($L18),OFFSET(Banco!$A$1,Composições!$L18-1,COLUMN(Composições!E18)-1),\"\")","v":""},0,0,null,{"$f":"IF(ISNUMBER($L18),VALUE(OFFSET(Banco!$A$1,Composições!$L18-1,COLUMN(Composições!I18)-4)),0)","v":0},{"$f":"IF(ISNUMBER($L18),VALUE(OFFSET(Banco!$A$1,Composições!$L18-1,COLUMN(Composições!J18)-4)),0)","v":0},{"$f":"COUNTA($A$1:$A18)-1","v":1},{"$f":"MATCH(Composições!CONCATENAR,Banco!$A:$A,0)","v":{"$error":"#N/A"}},{"$f":"IF(OR(ISERROR($L18),$H18=\"\",$H18=0),\"\",OFFSET(M$1,MATCH($K18,$K$1:$K18,0)-1,0))","v":""}]
[null,null,null,{"$f":"IF(ISNUMBER($L19),OFFSET(Banco!$A$1,Composições!$L19-1,COLUMN(Composições!D19)-1),\"\")","v":""},{"$f":"IF(ISNUMBER($L19),OFFSET(Banco!$A$1,Composições!$L19-1,COLUMN(Composições!E19)-1),\"\")","v":""},0,0,null,{"$f":"IF(ISNUMBER($L19),VALUE(OFFSET(Banco!$A$1,Composições!$L19-1,COLUMN(Composições!I19)-4)),0)","v":0},{"$f":"IF(ISNUMBER($L19),VALUE(OFFSET(Banco!$A$1,Composições!$L19-1,COLUMN(Composições!J19)-4)),0)","v":0},{"$f":"COUNTA($A$1:$A19)-1","v":1},{"$f":"MATCH(Composições!CONCATENAR,Banco!$A:$A,0)","v":{"$error":"#N/A"}},{"$f":"IF(OR(ISERROR($L19),$H19=\"\",$H19=0),\"\",OFFSET(M$1,MATCH($K19,$K$1:$K19,0)-1,0))","v":""}]
[null,null,null,{"$f":"IF(ISNUMBER($L20),OFFSET(Banco!$A$1,Composições!$L20-1,COLUMN(Composições!D20)-1),\"\")","v":""},{"$f":"IF(ISNUMBER($L20),OFFSET(Banco!$A$1,Composições!$L20-1,COLUMN(Composições!E20)-1),\"\")","v":""},0,0,null,{"$f":"IF(ISNUMBER($L20),VALUE(OFFSET(Banco!$A$1,Composições!$L20-1,COLUMN(Composições!I20)-4)),0)","v":0},{"$f":"IF(ISNUMBER($L20),VALUE(OFFSET(Banco!$A$1,Composições!$L20-1,COLUMN(Composições!J20)-4)),0)","v":0},{"$f":"COUNTA($A$1:$A20)-1","v":1},{"$f":"MATCH(Composições!CONCATENAR,Banco!$A:$A,0)","v":{"$error":"#N/A"}},{"$f":"IF(OR(ISERROR($L20),$H20=\"\",$H20=0),\"\",OFFSET(M$1,MATCH($K20,$K$1:$K20,0)-1,0))","v":""}]
[null,null,null,{"$f":"IF(ISNUMBER($L21),OFFSET(Banco!$A$1,Composições!$L21-1,COLUMN(Composições!D21)-1),\"\")","v":""},{"$f":"IF(ISNUMBER($L21),OFFSET(Banco!$A$1,Composições!$L21-1,COLUMN(Composições!E21)-1),\"\")","v":""},0,0,null,{"$f":"IF(ISNUMBER($L21),VALUE(OFFSET(Banco!$A$1,Composições!$L21-1,COLUMN(Composições!I21)-4)),0)","v":0},{"$f":"IF(ISNUMBER($L21),VALUE(OFFSET(Banco!$A$1,Composições!$L21-1,COLUMN(Composições!J21)-4)),0)","v":0},{"$f":"COUNTA($A$1:$A21)-1","v":1},{"$f":"MATCH(Composições!CONCATENAR,Banco!$A:$A,0)","v":{"$error":"#N/A"}},{"$f":"IF(OR(ISERROR($L21),$H21=\"\",$H21=0),\"\",OFFSET(M$1,MATCH($K21,$K$1:$K21,0)-1,0))","v":""}]
[null,null,null,null,null,null,null,null,null,null,{"$f":"COUNTA($A$1:$A22)-1","v":1},null,{"$f":"IF(OFFSET($M$1,MATCH(OFFSET(K22,-1,0),$K$1:$K22,0)-1,0)=\"F\",\"F\",\"\")","v":""}]
[{"$f":"CONCATENAR","v":" "},null,null,null,null,{"$f":"IF($L23>0,SUM(OFFSET(F23,1,0,$L23),0))","v":0},{"$f":"IF($L23>0,SUM(OFFSET(G23,1,0,$L23),0))","v":0},null,{"$f":"IF(ISERROR(F23),0,F23)","v":0},{"$f":"IF(ISERROR(G23),0,G23)","v":0},{"$f":"COUNTA($A$1:$A23)-1","v":2},{"$f":"IF(MAX(K:K)=K23,MATCH(9999999,$K:$K)+1,MATCH(K23+1,K:K,0))-ROW(L23)-2","v":10},{"$f":"IF(AND(OR(I23<>0,J23<>0),N23=\"Sim\"),\"F\",\"\")","v":""},"Sim"]
[null,null,null,{"$f":"IF(ISNUMBER($L24),OFFSET(Banco!$A$1,Composições!$L24-1,COLUMN(Composições!D24)-1),\"\")","v":""},{"$f":"IF(ISNUMBER($L24),OFFSET(Banco!$A$1,Composições!$L24-1,COLUMN(Composições!E24)-1),\"\")","v":""},{"$f":"TRUNC($H24*ROUND(I24,2),2)","v":0},{"$f":"TRUNC($H24*ROUND(J24,2),2)","v":0},null,{"$f":"IF(ISNUMBER($L24),VALUE(OFFSET(Banco!$A$1,Composições!$L24-1,COLUMN(Composições!I24)-4)),0)","v":0},{"$f":"IF(ISNUMBER($L24),VALUE(OFFSET(Banco!$A$1,Composições!$L24-1,COLUMN(Composições!J24)-4)),0)","v":0},{"$f":"COUNTA($A$1:$A24)-1","v":2},{"$f":"MATCH(Composições!CONCATENAR,Banco!$A:$A,0)","v":{"$error":"#N/A"}},{"$f":"IF(OR(ISERROR($L24),$H24=\"\",$H24=0),\"\",OFFSET(M$1,MATCH($K24,$K$1:$K24,0)-1,0))","v":""}]
[null,null,null,{"$f":"IF(ISNUMBER($L25),OFFSET(Banco!$A$1,Composições!$L25-1,COLUMN(Composições!D25)-1),\"\")","v":""},{"$f":"IF(ISNUMBER($L25),OFFSET(Banco!$A$1,Composições!$L25-1,COLUMN(Composições!E25)-1),\"\")","v":""},0,0,null,{"$f":"IF(ISNUMBER($L25),VALUE(OFFSET(Banco!$A$1,Composições!$L25-1,COLUMN(Composições!I25)-4)),0)","v":0},{"$f":"IF(ISNUMBER($L25),VALUE(OFFSET(Banco!$A$1,Composições!$L25-1,COLUMN(Composições!J25)-4)),0)","v":0},{"$f":"COUNTA($A$1:$A25)-1","v":2},{"$f":"MATCH(Composições!CONCATENAR,Banco!$A:$A,0)","v":{"$error":"#N/A"}},{"$f":"IF(OR(ISERROR($L25),$H25=\"\",$H25=0),\"\",OFFSET(M$1,MATCH($K25,$K$1:$K25,0)-1,0))","v":""}]
[null,null,null,{"$f":"IF(ISNUMBER($L26),OFFSET(Banco!$A$1,Composições!$L26-1,COLUMN(Composições!D26)-1),\"\")","v":""},{"$f":"IF(ISNUMBER($L26),OFFSET(Banco!$A$1,Composições!$L26-1,COLUMN(Composições!E26)-1),\"\")","v":""},0,0,null,{"$f":"IF(ISNUMBER($L26),VALUE(OFFSET(Banco!$A$1,Composições!$L26-1,COLUMN(Composições!I26)-4)),0)","v":0},{"$f":"IF(ISNUMBER($L26),VALUE(OFFSET(Banco!$A$1,Composições!$L26-1,COLUMN(Composições!J26)-4)),0)","v":0},{"$f":"COUNTA($A$1:$A26)-1","v":2},{"$f":"MATCH(Composições!CONCATENAR,Banco!$A:$A,0)","v":{"$error":"#N/A"}},{"$f":"IF(OR(ISERROR($L26),$H26=\"\",$H26=0),\"\",OFFSET(M$1,MATCH($K26,$K$1:$K26,0)-1,0))","v":""}]
[null,null,null,{"$f":"IF(ISNUMBER($L27),OFFSET(Banco!$A$1,Composições!$L27-1,COLUMN(Composições!D27)-1),\"\")","v":""},{"$f":"IF(ISNUMBER($L27),OFFSET(Banco!$A$1,Composições!$L27-1,COLUMN(Composições!E27)-1),\"\")","v":""},0,0,null,{"$f":"IF(ISNUMBER($L27),VALUE(OFFSET(Banco!$A$1,Composições!$L27-1,COLUMN(Composições!I27)-4)),0)","v":0},{"$f":"IF(ISNUMBER($L27),VALUE(OFFSET(Banco!$A$1,Composições!$L27-1,COLUMN(Composições!J27)-4)),0)","v":0},{"$f":"COUNTA($A$1:$A27)-1","v":2},{"$f":"MATCH(Composições!CONCATENAR,Banco!$A:$A,0)","v":{"$error":"#N/A"}},{"$f":"IF(OR(ISERROR($L27),$H27=\"\",$H27=0),\"\",OFFSET(M$1,MATCH($K27,$K$1:$K27,0)-1,0))","v":""}]
[null,null,null,{"$f":"IF(ISNUMBER($L28),OFFSET(Banco!$A$1,Composições!$L28-1,COLUMN(Composições!D28)-1),\"\")","v":""},{"$f":"IF(ISNUMBER($L28),OFFSET(Banco!$A$1,Composições!$L28-1,COLUMN(Composições!E28)-1),\"\")","v":""},0,0,null,{"$f":"IF(ISNUMBER($L28),VALUE(OFFSET(Banco!$A$1,Composições!$L28-1,COLUMN(Composições!I28)-4)),0)","v":0},{"$f":"IF(ISNUMBER($L28),VALUE(OFFSET(Banco!$A$1,Composições!$L28-1,COLUMN(Composições!J28)-4)),0)","v":0},{"$f":"COUNTA($A$1:$A28)-1","v":2},{"$f":"MATCH(Composições!CONCATENAR,Banco!$A:$A,0)","v":{"$error":"#N/A"}},{"$f":"IF(OR(ISERROR($L28),$H28=\"\",$H28=0),\"\",OFFSET(M$1,MATCH($K28,$K$1:$K28,0)-1,0))","v":""}]
[null,null,null,{"$f":"IF(ISNUMBER($L29),OFFSET(Banco!$A$1,Composições!$L29-1,COLUMN(Composições!D29)-1),\"\")","v":""},{"$f":"IF(ISNUMBER($L29),OFFSET(Banco!$A$1,Composições!$L29-1,COLUMN(Composições!E29)-1),\"\")","v":""},0,0,null,{"$f":"IF(ISNUMBER($L29),VALUE(OFFSET(Banco!$A$1,Composições!$L29-1,COLUMN(Composições!I29)-4)),0)","v":0},{"$f":"IF(ISNUMBER($L29),VALUE(OFFSET(Banco!$A$1,Composições!$L29-1,COLUMN(Composições!J29)-4)),0)","v":0},{"$f":"COUNTA($A$1:$A29)-1","v":2},{"$f":"MATCH(Composições!CONCATENAR,Banco!$A:$A,0)","v":{"$error":"#N/A"}},{"$f":"IF(OR(ISERROR($L29),$H29=\"\",$H29=0),\"\",OFFSET(M$1,MATCH($K29,$K$1:$K29,0)-1,0))","v":""}]
[null,null,null,{"$f":"IF(ISNUMBER($L30),OFFSET(Banco!$A$1,Composições!$L30-1,COLUMN(Composições!D30)-1),\"\")","v":""},{"$f":"IF(ISNUMBER($L30),OFFSET(Banco!$A$1,Composições!$L30-1,COLUMN(Composições!E30)-1),\"\")","v":""},0,0,null,{"$f":"IF(ISNUMBER($L30),VALUE(OFFSET(Banco!$A$1,Composições!$L30-1,COLUMN(Composições!I30)-4)),0)","v":0},{"$f":"IF(ISNUMBER($L30),VALUE(OFFSET(Banco!$A$1,Composições!$L30-1,COLUMN(Composições!J30)-4)),0)","v":0},{"$f":"COUNTA($A$1:$A30)-1","v":2},{"$f":"MATCH(Composições!CONCATENAR,Banco!$A:$A,0)","v":{"$error":"#N/A"}},{"$f":"IF(OR(ISERROR($L30),$H30=\"\",$H30=0),\"\",OFFSET(M$1,MATCH($K30,$K$1:$K30,0)-1,0))","v":""}]
[null,null,null,{"$f":"IF(ISNUMBER($L31),OFFSET(Banco!$A$1,Composições!$L31-1,COLUMN(Composições!D31)-1),\"\")","v":""},{"$f":"IF(ISNUMBER($L31),OFFSET(Banco!$A$1,Composições!$L31-1,COLUMN(Composições!E31)-1),\"\")","v":""},0,0,null,{"$f":"IF(ISNUMBER($L31),VALUE(OFFSET(Banco!$A$1,Composições!$L31-1,COLUMN(Composições!I31)-4)),0)","v":0},{"$f":"IF(ISNUMBER($L31),VALUE(OFFSET(Banco!$A$1,Composições!$L31-1,COLUMN(Composições!J31)-4)),0)","v":0},{"$f":"COUNTA($A$1:$A31)-1","v":2},{"$f":"MATCH(Composições!CONCATENAR,Banco!$A:$A,0)","v":{"$error":"#N/A"}},{"$f":"IF(OR(ISERROR($L31),$H31=\"\",$H31=0),\"\",OFFSET(M$1,MATCH($K31,$K$1:$K31,0)-1,0))","v":""}]
[null,null,null,{"$f":"IF(ISNUMBER($L32),OFFSET(Banco!$A$1,Composições!$L32-1,COLUMN(Composições!D32)-1),\"\")","v":""},{"$f":"IF(ISNUMBER($L32),OFFSET(Banco!$A$1,Composições!$L32-1,COLUMN(Composições!E32)-1),\"\")","v":""},0,0,null,{"$f":"IF(ISNUMBER($L32),VALUE(OFFSET(Banco!$A$1,Composições!$L32-1,COLUMN(Composições!I32)-4)),0)","v":0},{"$f":"IF(ISNUMBER($L32),VALUE(OFFSET(Banco!$A$1,Composições!$L32-1,COLUMN(Composições!J32)-4)),0)","v":0},{"$f":"COUNTA($A$1:$A32)-1","v":2},{"$f":"MATCH(Composições!CONCATENAR,Banco!$A:$A,0)","v":{"$error":"#N/A"}},{"$f":"IF(OR(ISERROR($L32),$H32=\"\",$H32=0),\"\",OFFSET(M$1,MATCH($K32,$K$1:$K32,0)-1,0))","v":""}]
[null,null,null,{"$f":"IF(ISNUMBER($L33),OFFSET(Banco!$A$1,Composições!$L33-1,COLUMN(Composições!D33)-1),\"\")","v":""},{"$f":"IF(ISNUMBER($L33),OFFSET(Banco!$A$1,Composições!$L33-1,COLUMN(Composições!E33)-1),\"\")","v":""},0,0,null,{"$f":"IF(ISNUMBER($L33),VALUE(OFFSET(Banco!$A$1,Composições!$L33-1,COLUMN(Composições!I33)-4)),0)","v":0},{"$f":"IF(ISNUMBER($L33),VALUE(OFFSET(Banco!$A$1,Composições!$L33-1,COLUMN(Composições!J33)-4)),0)","v":0},{"$f":"COUNTA($A$1:$A33)-1","v":2},{"$f":"MATCH(Composições!CONCATENAR,Banco!$A:$A,0)","v":{"$error":"#N/A"}},{"$f":"IF(OR(ISERROR($L33),$H33=\"\",$H33=0),\"\",OFFSET(M$1,MATCH($K33,$K$1:$K33,0)-1,0))","v":""}]
[null,null,null,null,null,null,null,null,null,null,{"$f":"COUNTA($A$1:$A34)-1","v":2},null,{"$f":"IF(OFFSET($M$1,MATCH(OFFSET(K34,-1,0),$K$1:$K34,0)-1,0)=\"F\",\"F\",\"\")","v":""}]
[{"$f":"CONCATENAR","v":" "},null,null,null,null,{"$f":"IF($L35>0,SUM(OFFSET(F35,1,0,$L35),0))","v":0},{"$f":"IF($L35>0,SUM(OFFSET(G35,1,0,$L35),0))","v":0},null,{"$f":"IF(ISERROR(F35),0,F35)","v":0},{"$f":"IF(ISERROR(G35),0,G35)","v":0},{"$f":"COUNTA($A$1:$A35)-1","v":3},{"$f":"IF(MAX(K:K)=K35,MATCH(9999999,$K:$K)+1,MATCH(K35+1,K:K,0))-ROW(L35)-2","v":10},{"$f":"IF(AND(OR(I35<>0,J35<>0),N35=\"Sim\"),\"F\",\"\")","v":""},"Sim"]
[null,null,null,{"$f":"IF(ISNUMBER($L36),OFFSET(Banco!$A$1,Composições!$L36-1,COLUMN(Composições!D36)-1),\"\")","v":""},{"$f":"IF(ISNUMBER($L36),OFFSET(Banco!$A$1,Composições!$L36-1,COLUMN(Composições!E36)-1),\"\")","v":""},{"$f":"TRUNC($H36*ROUND(I36,2),2)","v":0},{"$f":"TRUNC($H36*ROUND(J36,2),2)","v":0},null,{"$f":"IF(ISNUMBER($L36),VALUE(OFFSET(Banco!$A$1,Composições!$L36-1,COLUMN(Composições!I36)-4)),0)","v":0},{"$f":"IF(ISNUMBER($L36),VALUE(OFFSET(Banco!$A$1,Composições!$L36-1,COLUMN(Composições!J36)-4)),0)","v":0},{"$f":"COUNTA($A$1:$A36)-1","v":3},{"$f":"MATCH(Composições!CONCATENAR,Banco!$A:$A,0)","v":{"$error":"#N/A"}},{"$f":"IF(OR(ISERROR($L36),$H36=\"\",$H36=0),\"\",OFFSET(M$1,MATCH($K36,$K$1:$K36,0)-1,0))","v":""}]
[null,null,null,{"$f":"IF(ISNUMBER($L37),OFFSET(Banco!$A$1,Composições!$L37-1,COLUMN(Composições!D37)-1),\"\")","v":""},{"$f":"IF(ISNUMBER($L37),OFFSET(Banco!$A$1,Composições!$L37-1,COLUMN(Composições!E37)-1),\"\")","v":""},0,0,null,{"$f":"IF(ISNUMBER($L37),VALUE(OFFSET(Banco!$A$1,Composições!$L37-1,COLUMN(Composições!I37)-4)),0)","v":0},{"$f":"IF(ISNUMBER($L37),VALUE(OFFSET(Banco!$A$1,Composições!$L37-1,COLUMN(Composições!J37)-4)),0)","v":0},{"$f":"COUNTA($A$1:$A37)-1","v":3},{"$f":"MATCH(Composições!CONCATENAR,Banco!$A:$A,0)","v":{"$error":"#N/A"}},{"$f":"IF(OR(ISERROR($L37),$H37=\"\",$H37=0),\"\",OFFSET(M$1,MATCH($K37,$K$1:$K37,0)-1,0))","v":""}]
[null,null,null,{"$f":"IF(ISNUMBER($L38),OFFSET(Banco!$A$1,Composições!$L38-1,COLUMN(Composições!D38)-1),\"\")","v":""},{"$f":"IF(ISNUMBER($L38),OFFSET(Banco!$A$1,Composições!$L38-1,COLUMN(Composições!E38)-1),\"\")","v":""},0,0,null,{"$f":"IF(ISNUMBER($L38),VALUE(OFFSET(Banco!$A$1,Composições!$L38-1,COLUMN(Composições!I38)-4)),0)","v":0},{"$f":"IF(ISNUMBER($L38),VALUE(OFFSET(Banco!$A$1,Composições!$L38-1,COLUMN(Composições!J38)-4)),0)","v":0},{"$f":"COUNTA($A$1:$A38)-1","v":3},{"$f":"MATCH(Composições!CONCATENAR,Banco!$A:$A,0)","v":{"$error":"#N/A"}},{"$f":"IF(OR(ISERROR($L38),$H38=\"\",$H38=0),\"\",OFFSET(M$1,MATCH($K38,$K$1:$K38,0)-1,0))","v":""}]
[null,null,null,{"$f":"IF(ISNUMBER($L39),OFFSET(Banco!$A$1,Composições!$L39-1,COLUMN(Composições!D39)-1),\"\")","v":""},{"$f":"IF(ISNUMBER($L39),OFFSET(Banco!$A$1,Composições!$L39-1,COLUMN(Composições!E39)-1),\"\")","v":""},0,0,null,{"$f":"IF(ISNUMBER($L39),VALUE(OFFSET(Banco!$A$1,Composições!$L39-1,COLUMN(Composições!I39)-4)),0)","v":0},{"$f":"IF(ISNUMBER($L39),VALUE(OFFSET(Banco!$A$1,Composições!$L39-1,COLUMN(Composições!J39)-4)),0)","v":0},{"$f":"COUNTA($A$1:$A39)-1","v":3},{"$f":"MATCH(Composições!CONCATENAR,Banco!$A:$A,0)","v":{"$error":"#N/A"}},{"$f":"IF(OR(ISERROR($L39),$H39=\"\",$H39=0),\"\",OFFSET(M$1,MATCH($K39,$K$1:$K39,0)-1,0))","v":""}]
[null,null,null,{"$f":"IF(ISNUMBER($L40),OFFSET(Banco!$A$1,Composições!$L40-1,COLUMN(Composições!D40)-1),\"\")","v":""},{"$f":"IF(ISNUMBER($L40),OFFSET(Banco!$A$1,Composições!$L40-1,COLUMN(Composições!E40)-1),\"\")","v":""},0,0,null,{"$f":"IF(ISNUMBER($L40),VALUE(OFFSET(Banco!$A$1,Composições!$L40-1,COLUMN(Composições!I40)-4)),0)","v":0},{"$f":"IF(ISNUMBER($L40),VALUE(OFFSET(Banco!$A$1,Composições!$L40-1,COLUMN(Composições!J40)-4)),0)","v":0},{"$f":"COUNTA($A$1:$A40)-1","v":3},{"$f":"MATCH(Composições!CONCATENAR,Banco!$A:$A,0)","v":{"$error":"#N/A"}},{"$f":"IF(OR(ISERROR($L40),$H40=\"\",$H40=0),\"\",OFFSET(M$1,MATCH($K40,$K$1:$K40,0)-1,0))","v":""}]
[null,null,null,{"$f":"IF(ISNUMBER($L41),OFFSET(Banco!$A$1,Composições!$L41-1,COLUMN(Composições!D41)-1),\"\")","v":""},{"$f":"IF(ISNUMBER($L41),OFFSET(Banco!$A$1,Composições!$L41-1,COLUMN(Composições!E41)-1),\"\")","v":""},0,0,null,{"$f":"IF(ISNUMBER($L41),VALUE(OFFSET(Banco!$A$1,Composições!$L41-1,COLUMN(Composições!I41)-4)),0)","v":0},{"$f":"IF(ISNUMBER($L41),VALUE(OFFSET(Banco!$A$1,Composições!$L41-1,COLUMN(Composições!J41)-4)),0)","v":0},{"$f":"COUNTA($A$1:$A41)-1","v":3},{"$f":"MATCH(Composições!CONCATENAR,Banco!$A:$A,0)","v":{"$error":"#N/A"}},{"$f":"IF(OR(ISERROR($L41),$H41=\"\",$H41=0),\"\",OFFSET(M$1,MATCH($K41,$K$1:$K41,0)-1,0))","v":""}]
[null,null,null,{"$f":"IF(ISNUMBER($L42),OFFSET(Banco!$A$1,Composições!$L42-1,COLUMN(Composições!D42)-1),\"\")","v":""},{"$f":"IF(ISNUMBER($L42),OFFSET(Banco!$A$1,Composições!$L42-1,COLUMN(Composições!E42)-1),\"\")","v":""},0,0,null,{"$f":"IF(ISNUMBER($L42),VALUE(OFFSET(Banco!$A$1,Composições!$L42-1,COLUMN(Composições!I42)-4)),0)","v":0},{"$f":"IF(ISNUMBER($L42),VALUE(OFFSET(Banco!$A$1,Composições!$L42-1,COLUMN(Composições!J42)-4)),0)","v":0},{"$f":"COUNTA($A$1:$A42)-1","v":3},{"$f":"MATCH(Composições!CONCATENAR,Banco!$A:$A,0)","v":{"$error":"#N/A"}},{"$f":"IF(OR(ISERROR($L42),$H42=\"\",$H42=0),\"\",OFFSET(M$1,MATCH($K42,$K$1:$K42,0)-1,0))","v":""}]
[null,null,null,{"$f":"IF(ISNUMBER($L43),OFFSET(Banco!$A$1,Composições!$L43-1,COLUMN(Composições!D43)-1),\"\")","v":""},{"$f":"IF(ISNUMBER($L43),OFFSET(Banco!$A$1,Composições!$L43-1,COLUMN(Composições!E43)-1),\"\")","v":""},0,0,null,{"$f":"IF(ISNUMBER($L43),VALUE(OFFSET(Banco!$A$1,Composições!$L43-1,COLUMN(Composições!I43)-4)),0)","v":0},{"$f":"IF(ISNUMBER($L43),VALUE(OFFSET(Banco!$A$1,Composições!$L43-1,COLUMN(Composições!J43)-4)),0)","v":0},{"$f":"COUNTA($A$1:$A43)-1","v":3},{"$f":"MATCH(Composições!CONCATENAR,Banco!$A:$A,0)","v":{"$error":"#N/A"}},{"$f":"IF(OR(ISERROR($L43),$H43=\"\",$H43=0),\"\",OFFSET(M$1,MATCH($K43,$K$1:$K43,0)-1,0))","v":""}]
[null,null,null,{"$f":"IF(ISNUMBER($L44),OFFSET(Banco!$A$1,Composições!$L44-1,COLUMN(Composições!D44)-1),\"\")","v":""},{"$f":"IF(ISNUMBER($L44),OFFSET(Banco!$A$1,Composições!$L44-1,COLUMN(Composições!E44)-1),\"\")","v":""},0,0,null,{"$f":"IF(ISNUMBER($L44),VALUE(OFFSET(Banco!$A$1,Composições!$L44-1,COLUMN(Composições!I44)-4)),0)","v":0},{"$f":"IF(ISNUMBER($L44),VALUE(OFFSET(Banco!$A$1,Composições!$L44-1,COLUMN(Composições!J44)-4)),0)","v":0},{"$f":"COUNTA($A$1:$A44)-1","v":3},{"$f":"MATCH(Composições!CONCATENAR,Banco!$A:$A,0)","v":{"$error":"#N/A"}},{"$f":"IF(OR(ISERROR($L44),$H44=\"\",$H44=0),\"\",OFFSET(M$1,MATCH($K44,$K$1:$K44,0)-1,0))","v":""}]
[null,null,null,{"$f":"IF(ISNUMBER($L45),OFFSET(Banco!$A$1,Composições!$L45-1,COLUMN(Composições!D45)-1),\"\")","v":""},{"$f":"IF(ISNUMBER($L45),OFFSET(Banco!$A$1,Composições!$L45-1,COLUMN(Composições!E45)-1),\"\")","v":""},0,0,null,{"$f":"IF(ISNUMBER($L45),VALUE(OFFSET(Banco!$A$1,Composições!$L45-1,COLUMN(Composições!I45)-4)),0)","v":0},{"$f":"IF(ISNUMBER($L45),VALUE(OFFSET(Banco!$A$1,Composições!$L45-1,COLUMN(Composições!J45)-4)),0)","v":0},{"$f":"COUNTA($A$1:$A45)-1","v":3},{"$f":"MATCH(Composições!CONCATENAR,Banco!$A:$A,0)","v":{"$error":"#N/A"}},{"$f":"IF(OR(ISERROR($L45),$H45=\"\",$H45=0),\"\",OFFSET(M$1,MATCH($K45,$K$1:$K45,0)-1,0))","v":""}]
[null,null,null,null,null,null,null,null,null,null,{"$f":"COUNTA($A$1:$A46)-1","v":3},null,{"$f":"IF(OFFSET($M$1,MATCH(OFFSET(K46,-1,0),$K$1:$K46,0)-1,0)=\"F\",\"F\",\"\")","v":""}]
[{"$f":"CONCATENAR","v":" "},null,null,null,null,{"$f":"IF($L47>0,SUM(OFFSET(F47,1,0,$L47),0))","v":0},{"$f":"IF($L47>0,SUM(OFFSET(G47,1,0,$L47),0))","v":0},null,{"$f":"IF(ISERROR(F47),0,F47)","v":0},{"$f":"IF(ISERROR(G47),0,G47)","v":0},{"$f":"COUNTA($A$1:$A47)-1","v":4},{"$f":"IF(MAX(K:K)=K47,MATCH(9999999,$K:$K)+1,MATCH(K47+1,K:K,0))-ROW(L47)-2","v":10},{"$f":"IF(AND(OR(I47<>0,J47<>0),N47=\"Sim\"),\"F\",\"\")","v":""},"Sim"]
[null,null,null,{"$f":"IF(ISNUMBER($L48),OFFSET(Banco!$A$1,Composições!$L48-1,COLUMN(Composições!D48)-1),\"\")","v":""},{"$f":"IF(ISNUMBER($L48),OFFSET(Banco!$A$1,Composições!$L48-1,COLUMN(Composições!E48)-1),\"\")","v":""},{"$f":"TRUNC($H48*ROUND(I48,2),2)","v":0},{"$f":"TRUNC($H48*ROUND(J48,2),2)","v":0},null,{"$f":"IF(ISNUMBER($L48),VALUE(OFFSET(Banco!$A$1,Composições!$L48-1,COLUMN(Composições!I48)-4)),0)","v":0},{"$f":"IF(ISNUMBER($L48),VALUE(OFFSET(Banco!$A$1,Composições!$L48-1,COLUMN(Composições!J48)-4)),0)","v":0},{"$f":"COUNTA($A$1:$A48)-1","v":4},{"$f":"MATCH(Composições!CONCATENAR,Banco!$A:$A,0)","v":{"$error":"#N/A"}},{"$f":"IF(OR(ISERROR($L48),$H48=\"\",$H48=0),\"\",OFFSET(M$1,MATCH($K48,$K$1:$K48,0)-1,0))","v":""}]
[null,null,null,{"$f":"IF(ISNUMBER($L49),OFFSET(Banco!$A$1,Composições!$L49-1,COLUMN(Composições!D49)-1),\"\")","v":""},{"$f":"IF(ISNUMBER($L49),OFFSET(Banco!$A$1,Composições!$L49-1,COLUMN(Composições!E49)-1),\"\")","v":""},0,0,null,{"$f":"IF(ISNUMBER($L49),VALUE(OFFSET(Banco!$A$1,Composições!$L49-1,COLUMN(Composições!I49)-4)),0)","v":0},{"$f":"IF(ISNUMBER($L49),VALUE(OFFSET(Banco!$A$1,Composições!$L49-1,COLUMN(Composições!J49)-4)),0)","v":0},{"$f":"COUNTA($A$1:$A49)-1","v":4},{"$f":"MATCH(Composições!CONCATENAR,Banco!$A:$A,0)","v":{"$error":"#N/A"}},{"$f":"IF(OR(ISERROR($L49),$H49=\"\",$H49=0),\"\",OFFSET(M$1,MATCH($K49,$K$1:$K49,0)-1,0))","v":""}]
[null,null,null,{"$f":"IF(ISNUMBER($L50),OFFSET(Banco!$A$1,Composições!$L50-1,COLUMN(Composições!D50)-1),\"\")","v":""},{"$f":"IF(ISNUMBER($L50),OFFSET(Banco!$A$1,Composições!$L50-1,COLUMN(Composições!E50)-1),\"\")","v":""},0,0,null,{"$f":"IF(ISNUMBER($L50),VALUE(OFFSET(Banco!$A$1,Composições!$L50-1,COLUMN(Composições!I50)-4)),0)","v":0},{"$f":"IF(ISNUMBER($L50),VALUE(OFFSET(Banco!$A$1,Composições!$L50-1,COLUMN(Composições!J50)-4)),0)","v":0},{"$f":"COUNTA($A$1:$A50)-1","v":4},{"$f":"MATCH(Composições!CONCATENAR,Banco!$A:$A,0)","v":{"$error":"#N/A"}},{"$f":"IF(OR(ISERROR($L50),$H50=\"\",$H50=0),\"\",OFFSET(M$1,MATCH($K50,$K$1:$K50,0)-1,0))","v":""}]
[null,null,null,{"$f":"IF(ISNUMBER($L51),OFFSET(Banco!$A$1,Composições!$L51-1,COLUMN(Composições!D51)-1),\"\")","v":""},{"$f":"IF(ISNUMBER($L51),OFFSET(Banco!$A$1,Composições!$L51-1,COLUMN(Composições!E51)-1),\"\")","v":""},0,0,null,{"$f":"IF(ISNUMBER($L51),VALUE(OFFSET(Banco!$A$1,Composições!$L51-1,COLUMN(Composições!I51)-4)),0)","v":0},{"$f":"IF(ISNUMBER($L51),VALUE(OFFSET(Banco!$A$1,Composições!$L51-1,COLUMN(Composições!J51)-4)),0)","v":0},{"$f":"COUNTA($A$1:$A51)-1","v":4},{"$f":"MATCH(Composições!CONCATENAR,Banco!$A:$A,0)","v":{"$error":"#N/A"}},{"$f":"IF(OR(ISERROR($L51),$H51=\"\",$H51=0),\"\",OFFSET(M$1,MATCH($K51,$K$1:$K51,0)-1,0))","v":""}]
[null,null,null,{"$f":"IF(ISNUMBER($L52),OFFSET(Banco!$A$1,Composições!$L52-1,COLUMN(Composições!D52)-1),\"\")","v":""},{"$f":"IF(ISNUMBER($L52),OFFSET(Banco!$A$1,Composições!$L52-1,COLUMN(Composições!E52)-1),\"\")","v":""},0,0,null,{"$f":"IF(ISNUMBER($L52),VALUE(OFFSET(Banco!$A$1,Composições!$L52-1,COLUMN(Composições!I52)-4)),0)","v":0},{"$f":"IF(ISNUMBER($L52),VALUE(OFFSET(Banco!$A$1,Composições!$L52-1,COLUMN(Composições!J52)-4)),0)","v":0},{"$f":"COUNTA($A$1:$A52)-1","v":4},{"$f":"MATCH(Composições!CONCATENAR,Banco!$A:$A,0)","v":{"$error":"#N/A"}},{"$f":"IF(OR(ISERROR($L52),$H52=\"\",$H52=0),\"\",OFFSET(M$1,MATCH($K52,$K$1:$K52,0)-1,0))","v":""}]
[null,null,null,{"$f":"IF(ISNUMBER($L53),OFFSET(Banco!$A$1,Composições!$L53-1,COLUMN(Composições!D53)-1),\"\")","v":""},{"$f":"IF(ISNUMBER($L53),OFFSET(Banco!$A$1,Composições!$L53-1,COLUMN(Composições!E53)-1),\"\")","v":""},0,0,null,{"$f":"IF(ISNUMBER($L53),VALUE(OFFSET(Banco!$A$1,Composições!$L53-1,COLUMN(Composições!I53)-4)),0)","v":0},{"$f":"IF(ISNUMBER($L53),VALUE(OFFSET(Banco!$A$1,Composições!$L53-1,COLUMN(Composições!J53)-4)),0)","v":0},{"$f":"COUNTA($A$1:$A53)-1","v":4},{"$f":"MATCH(Composições!CONCATENAR,Banco!$A:$A,0)","v":{"$error":"#N/A"}},{"$f":"IF(OR(ISERROR($L53),$H53=\"\",$H53=0),\"\",OFFSET(M$1,MATCH($K53,$K$1:$K53,0)-1,0))","v":""}]
[null,null,null,{"$f":"IF(ISNUMBER($L54),OFFSET(Banco!$A$1,Composições!$L54-1,COLUMN(Composições!D54)-1),\"\")","v":""},{"$f":"IF(ISNUMBER($L54),OFFSET(Banco!$A$1,Composições!$L54-1,COLUMN(Composições!E54)-1),\"\")","v":""},0,0,null,{"$f":"IF(ISNUMBER($L54),VALUE(OFFSET(Banco!$A$1,Composições!$L54-1,COLUMN(Composições!I54)-4)),0)","v":0},{"$f":"IF(ISNUMBER($L54),VALUE(OFFSET(Banco!$A$1,Composições!$L54-1,COLUMN(Composições!J54)-4)),0)","v":0},{"$f":"COUNTA($A$1:$A54)-1","v":4},{"$f":"MATCH(Composições!CONCATENAR,Banco!$A:$A,0)","v":{"$error":"#N/A"}},{"$f":"IF(OR(ISERROR($L54),$H54=\"\",$H54=0),\"\",OFFSET(M$1,MATCH($K54,$K$1:$K54,0)-1,0))","v":""}]
[null,null,null,{"$f":"IF(ISNUMBER($L55),OFFSET(Banco!$A$1,Composições!$L55-1,COLUMN(Composições!D55)-1),\"\")","v":""},{"$f":"IF(ISNUMBER($L55),OFFSET(Banco!$A$1,Composições!$L55-1,COLUMN(Composições!E55)-1),\"\")","v":""},0,0,null,{"$f":"IF(ISNUMBER($L55),VALUE(OFFSET(Banco!$A$1,Composições!$L55-1,COLUMN(Composições!I55)-4)),0)","v":0},{"$f":"IF(ISNUMBER($L55),VALUE(OFFSET(Banco!$A$1,Composições!$L55-1,COLUMN(Composições!J55)-4)),0)","v":0},{"$f":"COUNTA($A$1:$A55)-1","v":4},{"$f":"MATCH(Composições!CONCATENAR,Banco!$A:$A,0)","v":{"$error":"#N/A"}},{"$f":"IF(OR(ISERROR($L55),$H55=\"\",$H55=0),\"\",OFFSET(M$1,MATCH($K55,$K$1:$K55,0)-1,0))","v":""}]
[null,null,null,{"$f":"IF(ISNUMBER($L56),OFFSET(Banco!$A$1,Composições!$L56-1,COLUMN(Composições!D56)-1),\"\")","v":""},{"$f":"IF(ISNUMBER($L56),OFFSET(Banco!$A$1,Composições!$L56-1,COLUMN(Composições!E56)-1),\"\")","v":""},0,0,null,{"$f":"IF(ISNUMBER($L56),VALUE(OFFSET(Banco!$A$1,Composições!$L56-1,COLUMN(Composições!I56)-4)),0)","v":0},{"$f":"IF(ISNUMBER($L56),VALUE(OFFSET(Banco!$A$1,Composições!$L56-1,COLUMN(Composições!J56)-4)),0)","v":0},{"$f":"COUNTA($A$1:$A56)-1","v":4},{"$f":"MATCH(Composições!CONCATENAR,Banco!$A:$A,0)","v":{"$error":"#N/A"}},{"$f":"IF(OR(ISERROR($L56),$H56=\"\",$H56=0),\"\",OFFSET(M$1,MATCH($K56,$K$1:$K56,0)-1,0))","v":""}]
[null,null,null,{"$f":"IF(ISNUMBER($L57),OFFSET(Banco!$A$1,Composições!$L57-1,COLUMN(Composições!D57)-1),\"\")","v":""},{"$f":"IF(ISNUMBER($L57),OFFSET(Banco!$A$1,Composições!$L57-1,COLUMN(Composições!E57)-1),\"\")","v":""},0,0,null,{"$f":"IF(ISNUMBER($L57),VALUE(OFFSET(Banco!$A$1,Composições!$L57-1,COLUMN(Composições!I57)-4)),0)","v":0},{"$f":"IF(ISNUMBER($L57),VALUE(OFFSET(Banco!$A$1,Composições!$L57-1,COLUMN(Composições!J57)-4)),0)","v":0},{"$f":"COUNTA($A$1:$A57)-1","v":4},{"$f":"MATCH(Composições!CONCATENAR,Banco!$A:$A,0)","v":{"$error":"#N/A"}},{"$f":"IF(OR(ISERROR($L57),$H57=\"\",$H57=0),\"\",OFFSET(M$1,MATCH($K57,$K$1:$K57,0)-1,0))","v":""}]
[null,null,null,null,null,null,null,null,null,null,{"$f":"COUNTA($A$1:$A58)-1","v":4},null,{"$f":"IF(OFFSET($M$1,MATCH(OFFSET(K58,-1,0),$K$1:$K58,0)-1,0)=\"F\",\"F\",\"\")","v":""}]
[{"$f":"CONCATENAR","v":" "},null,null,null,null,{"$f":"IF($L59>0,SUM(OFFSET(F59,1,0,$L59),0))","v":0},{"$f":"IF($L59>0,SUM(OFFSET(G59,1,0,$L59),0))","v":0},null,{"$f":"IF(ISERROR(F59),0,F59)","v":0},{"$f":"IF(ISERROR(G59),0,G59)","v":0},{"$f":"COUNTA($A$1:$A59)-1","v":5},{"$f":"IF(MAX(K:K)=K59,MATCH(9999999,$K:$K)+1,MATCH(K59+1,K:K,0))-ROW(L59)-2","v":10},{"$f":"IF(AND(OR(I59<>0,J59<>0),N59=\"Sim\"),\"F\",\"\")","v":""},"Sim"]
[null,null,null,{"$f":"IF(ISNUMBER($L60),OFFSET(Banco!$A$1,Composições!$L60-1,COLUMN(Composições!D60)-1),\"\")","v":""},{"$f":"IF(ISNUMBER($L60),OFFSET(Banco!$A$1,Composições!$L60-1,COLUMN(Composições!E60)-1),\"\")","v":""},{"$f":"TRUNC($H60*ROUND(I60,2),2)","v":0},{"$f":"TRUNC($H60*ROUND(J60,2),2)","v":0},null,{"$f":"IF(ISNUMBER($L60),VALUE(OFFSET(Banco!$A$1,Composições!$L60-1,COLUMN(Composições!I60)-4)),0)","v":0},{"$f":"IF(ISNUMBER($L60),VALUE(OFFSET(Banco!$A$1,Composições!$L60-1,COLUMN(Composições!J60)-4)),0)","v":0},{"$f":"COUNTA($A$1:$A60)-1","v":5},{"$f":"MATCH(Composições!CONCATENAR,Banco!$A:$A,0)","v":{"$error":"#N/A"}},{"$f":"IF(OR(ISERROR($L60),$H60=\"\",$H60=0),\"\",OFFSET(M$1,MATCH($K60,$K$1:$K60,0)-1,0))","v":""}]
[null,null,null,{"$f":"IF(ISNUMBER($L61),OFFSET(Banco!$A$1,Composições!$L61-1,COLUMN(Composições!D61)-1),\"\")","v":""},{"$f":"IF(ISNUMBER($L61),OFFSET(Banco!$A$1,Composições!$L61-1,COLUMN(Composições!E61)-1),\"\")","v":""},0,0,null,{"$f":"IF(ISNUMBER($L61),VALUE(OFFSET(Banco!$A$1,Composições!$L61-1,COLUMN(Composições!I61)-4)),0)","v":0},{"$f":"IF(ISNUMBER($L61),VALUE(OFFSET(Banco!$A$1,Composições!$L61-1,COLUMN(Composições!J61)-4)),0)","v":0},{"$f":"COUNTA($A$1:$A61)-1","v":5},{"$f":"MATCH(Composições!CONCATENAR,Banco!$A:$A,0)","v":{"$error":"#N/A"}},{"$f":"IF(OR(ISERROR($L61),$H61=\"\",$H61=0),\"\",OFFSET(M$1,MATCH($K61,$K$1:$K61,0)-1,0))","v":""}]
[null,null,null,{"$f":"IF(ISNUMBER($L62),OFFSET(Banco!$A$1,Composições!$L62-1,COLUMN(Composições!D62)-1),\"\")","v":""},{"$f":"IF(ISNUMBER($L62),OFFSET(Banco!$A$1,Composições!$L62-1,COLUMN(Composições!E62)-1),\"\")","v":""},0,0,null,{"$f":"IF(ISNUMBER($L62),VALUE(OFFSET(Banco!$A$1,Composições!$L62-1,COLUMN(Composições!I62)-4)),0)","v":0},{"$f":"IF(ISNUMBER($L62),VALUE(OFFSET(Banco!$A$1,Composições!$L62-1,COLUMN(Composições!J62)-4)),0)","v":0},{"$f":"COUNTA($A$1:$A62)-1","v":5},{"$f":"MATCH(Composições!CONCATENAR,Banco!$A:$A,0)","v":{"$error":"#N/A"}},{"$f":"IF(OR(ISERROR($L62),$H62=\"\",$H62=0),\"\",OFFSET(M$1,MATCH($K62,$K$1:$K62,0)-1,0))","v":""}]
[null,null,null,{"$f":"IF(ISNUMBER($L63),OFFSET(Banco!$A$1,Composições!$L63-1,COLUMN(Composições!D63)-1),\"\")","v":""},{"$f":"IF(ISNUMBER($L63),OFFSET(Banco!$A$1,Composições!$L63-1,COLUMN(Composições!E63)-1),\"\")","v":""},0,0,null,{"$f":"IF(ISNUMBER($L63),VALUE(OFFSET(Banco!$A$1,Composições!$L63-1,COLUMN(Composições!I63)-4)),0)","v":0},{"$f":"IF(ISNUMBER($L63),VALUE(OFFSET(Banco!$A$1,Composições!$L63-1,COLUMN(Composições!J63)-4)),0)","v":0},{"$f":"COUNTA($A$1:$A63)-1","v":5},{"$f":"MATCH(Composições!CONCATENAR,Banco!$A:$A,0)","v":{"$error":"#N/A"}},{"$f":"IF(OR(ISERROR($L63),$H63=\"\",$H63=0),\"\",OFFSET(M$1,MATCH($K63,$K$1:$K63,0)-1,0))","v":""}]
[null,null,null,{"$f":"IF(ISNUMBER($L64),OFFSET(Banco!$A$1,Composições!$L64-1,COLUMN(Composições!D64)-1),\"\")","v":""},{"$f":"IF(ISNUMBER($L64),OFFSET(Banco!$A$1,Composições!$L64-1,COLUMN(Composições!E64)-1),\"\")","v":""},0,0,null,{"$f":"IF(ISNUMBER($L64),VALUE(OFFSET(Banco!$A$1,Composições!$L64-1,COLUMN(Composições!I64)-4)),0)","v":0},{"$f":"IF(ISNUMBER($L64),VALUE(OFFSET(Banco!$A$1,Composições!$L64-1,COLUMN(Composições!J64)-4)),0)","v":0},{"$f":"COUNTA($A$1:$A64)-1","v":5},{"$f":"MATCH(Composições!CONCATENAR,Banco!$A:$A,0)","v":{"$error":"#N/A"}},{"$f":"IF(OR(ISERROR($L64),$H64=\"\",$H64=0),\"\",OFFSET(M$1,MATCH($K64,$K$1:$K64,0)-1,0))","v":""}]
[null,null,null,{"$f":"IF(ISNUMBER($L65),OFFSET(Banco!$A$1,Composições!$L65-1,COLUMN(Composições!D65)-1),\"\")","v":""},{"$f":"IF(ISNUMBER($L65),OFFSET(Banco!$A$1,Composições!$L65-1,COLUMN(Composições!E65)-1),\"\")","v":""},0,0,null,{"$f":"IF(ISNUMBER($L65),VALUE(OFFSET(Banco!$A$1,Composições!$L65-1,COLUMN(Composições!I65)-4)),0)","v":0},{"$f":"IF(ISNUMBER($L65),VALUE(OFFSET(Banco!$A$1,Composições!$L65-1,COLUMN(Composições!J65)-4)),0)","v":0},{"$f":"COUNTA($A$1:$A65)-1","v":5},{"$f":"MATCH(Composições!CONCATENAR,Banco!$A:$A,0)","v":{"$error":"#N/A"}},{"$f":"IF(OR(ISERROR($L65),$H65=\"\",$H65=0),\"\",OFFSET(M$1,MATCH($K65,$K$1:$K65,0)-1,0))","v":""}]
[null,null,null,{"$f":"IF(ISNUMBER($L66),OFFSET(Banco!$A$1,Composições!$L66-1,COLUMN(Composições!D66)-1),\"\")","v":""},{"$f":"IF(ISNUMBER($L66),OFFSET(Banco!$A$1,Composições!$L66-1,COLUMN(Composições!E66)-1),\"\")","v":""},0,0,null,{"$f":"IF(ISNUMBER($L66),VALUE(OFFSET(Banco!$A$1,Composições!$L66-1,COLUMN(Composições!I66)-4)),0)","v":0},{"$f":"IF(ISNUMBER($L66),VALUE(OFFSET(Banco!$A$1,Composições!$L66-1,COLUMN(Composições!J66)-4)),0)","v":0},{"$f":"COUNTA($A$1:$A66)-1","v":5},{"$f":"MATCH(Composições!CONCATENAR,Banco!$A:$A,0)","v":{"$error":"#N/A"}},{"$f":"IF(OR(ISERROR($L66),$H66=\"\",$H66=0),\"\",OFFSET(M$1,MATCH($K66,$K$1:$K66,0)-1,0))","v":""}]
[null,null,null,{"$f":"IF(ISNUMBER($L67),OFFSET(Banco!$A$1,Composições!$L67-1,COLUMN(Composições!D67)-1),\"\")","v":""},{"$f":"IF(ISNUMBER($L67),OFFSET(Banco!$A$1,Composições!$L67-1,COLUMN(Composições!E67)-1),\"\")","v":""},0,0,null,{"$f":"IF(ISNUMBER($L67),VALUE(OFFSET(Banco!$A$1,Composições!$L67-1,COLUMN(Composições!I67)-4)),0)","v":0},{"$f":"IF(ISNUMBER($L67),VALUE(OFFSET(Banco!$A$1,Composições!$L67-1,COLUMN(Composições!J67)-4)),0)","v":0},{"$f":"COUNTA($A$1:$A67)-1","v":5},{"$f":"MATCH(Composições!CONCATENAR,Banco!$A:$A,0)","v":{"$error":"#N/A"}},{"$f":"IF(OR(ISERROR($L67),$H67=\"\",$H67=0),\"\",OFFSET(M$1,MATCH($K67,$K$1:$K67,0)-1,0))","v":""}]
[null,null,null,{"$f":"IF(ISNUMBER($L68),OFFSET(Banco!$A$1,Composições!$L68-1,COLUMN(Composições!D68)-1),\"\")","v":""},{"$f":"IF(ISNUMBER($L68),OFFSET(Banco!$A$1,Composições!$L68-1,COLUMN(Composições!E68)-1),\"\")","v":""},0,0,null,{"$f":"IF(ISNUMBER($L68),VALUE(OFFSET(Banco!$A$1,Composições!$L68-1,COLUMN(Composições!I68)-4)),0)","v":0},{"$f":"IF(ISNUMBER($L68),VALUE(OFFSET(Banco!$A$1,Composições!$L68-1,COLUMN(Composições!J68)-4)),0)","v":0},{"$f":"COUNTA($A$1:$A68)-1","v":5},{"$f":"MATCH(Composições!CONCATENAR,Banco!$A:$A,0)","v":{"$error":"#N/A"}},{"$f":"IF(OR(ISERROR($L68),$H68=\"\",$H68=0),\"\",OFFSET(M$1,MATCH($K68,$K$1:$K68,0)-1,0))","v":""}]
[null,null,null,{"$f":"IF(ISNUMBER($L69),OFFSET(Banco!$A$1,Composições!$L69-1,COLUMN(Composições!D69)-1),\"\")","v":""},{"$f":"IF(ISNUMBER($L69),OFFSET(Banco!$A$1,Composições!$L69-1,COLUMN(Composições!E69)-1),\"\")","v":""},0,0,null,{"$f":"IF(ISNUMBER($L69),VALUE(OFFSET(Banco!$A$1,Composições!$L69-1,COLUMN(Composições!I69)-4)),0)","v":0},{"$f":"IF(ISNUMBER($L69),VALUE(OFFSET(Banco!$A$1,Composições!$L69-1,COLUMN(Composições!J69)-4)),0)","v":0},{"$f":"COUNTA($A$1:$A69)-1","v":5},{"$f":"MATCH(Composições!CONCATENAR,Banco!$A:$A,0)","v":{"$error":"#N/A"}},{"$f":"IF(OR(ISERROR($L69),$H69=\"\",$H69=0),\"\",OFFSET(M$1,MATCH($K69,$K$1:$K69,0)-1,0))","v":""}]
[null,null,null,null,null,null,null,null,null,null,{"$f":"COUNTA($A$1:$A70)-1","v":5},null,{"$f":"IF(OFFSET($M$1,MATCH(OFFSET(K70,-1,0),$K$1:$K70,0)-1,0)=\"F\",\"F\",\"\")","v":""}]
[{"$f":"CONCATENAR","v":" "},null,null,null,null,{"$f":"IF($L71>0,SUM(OFFSET(F71,1,0,$L71),0))","v":0},{"$f":"IF($L71>0,SUM(OFFSET(G71,1,0,$L71),0))","v":0},null,{"$f":"IF(ISERROR(F71),0,F71)","v":0},{"$f":"IF(ISERROR(G71),0,G71)","v":0},{"$f":"COUNTA($A$1:$A71)-1","v":6},{"$f":"IF(MAX(K:K)=K71,MATCH(9999999,$K:$K)+1,MATCH(K71+1,K:K,0))-ROW(L71)-2","v":10},{"$f":"IF(AND(OR(I71<>0,J71<>0),N71=\"Sim\"),\"F\",\"\")","v":""},"Sim"]
[null,null,null,{"$f":"IF(ISNUMBER($L72),OFFSET(Banco!$A$1,Composições!$L72-1,COLUMN(Composições!D72)-1),\"\")","v":""},{"$f":"IF(ISNUMBER($L72),OFFSET(Banco!$A$1,Composições!$L72-1,COLUMN(Composições!E72)-1),\"\")","v":""},{"$f":"TRUNC($H72*ROUND(I72,2),2)","v":0},{"$f":"TRUNC($H72*ROUND(J72,2),2)","v":0},null,{"$f":"IF(ISNUMBER($L72),VALUE(OFFSET(Banco!$A$1,Composições!$L72-1,COLUMN(Composições!I72)-4)),0)","v":0},{"$f":"IF(ISNUMBER($L72),VALUE(OFFSET(Banco!$A$1,Composições!$L72-1,COLUMN(Composições!J72)-4)),0)","v":0},{"$f":"COUNTA($A$1:$A72)-1","v":6},{"$f":"MATCH(Composições!CONCATENAR,Banco!$A:$A,0)","v":{"$error":"#N/A"}},{"$f":"IF(OR(ISERROR($L72),$H72=\"\",$H72=0),\"\",OFFSET(M$1,MATCH($K72,$K$1:$K72,0)-1,0))","v":""}]
[null,null,null,{"$f":"IF(ISNUMBER($L73),OFFSET(Banco!$A$1,Composições!$L73-1,COLUMN(Composições!D73)-1),\"\")","v":""},{"$f":"IF(ISNUMBER($L73),OFFSET(Banco!$A$1,Composições!$L73-1,COLUMN(Composições!E73)-1),\"\")","v":""},0,0,null,{"$f":"IF(ISNUMBER($L73),VALUE(OFFSET(Banco!$A$1,Composições!$L73-1,COLUMN(Composições!I73)-4)),0)","v":0},{"$f":"IF(ISNUMBER($L73),VALUE(OFFSET(Banco!$A$1,Composições!$L73-1,COLUMN(Composições!J73)-4)),0)","v":0},{"$f":"COUNTA($A$1:$A73)-1","v":6},{"$f":"MATCH(Composições!CONCATENAR,Banco!$A:$A,0)","v":{"$error":"#N/A"}},{"$f":"IF(OR(ISERROR($L73),$H73=\"\",$H73=0),\"\",OFFSET(M$1,MATCH($K73,$K$1:$K73,0)-1,0))","v":""}]
[null,null,null,{"$f":"IF(ISNUMBER($L74),OFFSET(Banco!$A$1,Composições!$L74-1,COLUMN(Composições!D74)-1),\"\")","v":""},{"$f":"IF(ISNUMBER($L74),OFFSET(Banco!$A$1,Composições!$L74-1,COLUMN(Composições!E74)-1),\"\")","v":""},0,0,null,{"$f":"IF(ISNUMBER($L74),VALUE(OFFSET(Banco!$A$1,Composições!$L74-1,COLUMN(Composições!I74)-4)),0)","v":0},{"$f":"IF(ISNUMBER($L74),VALUE(OFFSET(Banco!$A$1,Composições!$L74-1,COLUMN(Composições!J74)-4)),0)","v":0},{"$f":"COUNTA($A$1:$A74)-1","v":6},{"$f":"MATCH(Composições!CONCATENAR,Banco!$A:$A,0)","v":{"$error":"#N/A"}},{"$f":"IF(OR(ISERROR($L74),$H74=\"\",$H74=0),\"\",OFFSET(M$1,MATCH($K74,$K$1:$K74,0)-1,0))","v":""}]
[null,null,null,{"$f":"IF(ISNUMBER($L75),OFFSET(Banco!$A$1,Composições!$L75-1,COLUMN(Composições!D75)-1),\"\")","v":""},{"$f":"IF(ISNUMBER($L75),OFFSET(Banco!$A$1,Composições!$L75-1,COLUMN(Composições!E75)-1),\"\")","v":""},0,0,null,{"$f":"IF(ISNUMBER($L75),VALUE(OFFSET(Banco!$A$1,Composições!$L75-1,COLUMN(Composições!I75)-4)),0)","v":0},{"$f":"IF(ISNUMBER($L75),VALUE(OFFSET(Banco!$A$1,Composições!$L75-1,COLUMN(Composições!J75)-4)),0)","v":0},{"$f":"COUNTA($A$1:$A75)-1","v":6},{"$f":"MATCH(Composições!CONCATENAR,Banco!$A:$A,0)","v":{"$error":"#N/A"}},{"$f":"IF(OR(ISERROR($L75),$H75=\"\",$H75=0),\"\",OFFSET(M$1,MATCH($K75,$K$1:$K75,0)-1,0))","v":""}]
[null,null,null,{"$f":"IF(ISNUMBER($L76),OFFSET(Banco!$A$1,Composições!$L76-1,COLUMN(Composições!D76)-1),\"\")","v":""},{"$f":"IF(ISNUMBER($L76),OFFSET(Banco!$A$1,Composições!$L76-1,COLUMN(Composições!E76)-1),\"\")","v":""},0,0,null,{"$f":"IF(ISNUMBER($L76),VALUE(OFFSET(Banco!$A$1,Composições!$L76-1,COLUMN(Composições!I76)-4)),0)","v":0},{"$f":"IF(ISNUMBER($L76),VALUE(OFFSET(Banco!$A$1,Composições!$L76-1,COLUMN(Composições!J76)-4)),0)","v":0},{"$f":"COUNTA($A$1:$A76)-1","v":6},{"$f":"MATCH(Composições!CONCATENAR,Banco!$A:$A,0)","v":{"$error":"#N/A"}},{"$f":"IF(OR(ISERROR($L76),$H76=\"\",$H76=0),\"\",OFFSET(M$1,MATCH($K76,$K$1:$K76,0)-1,0))","v":""}]
[null,null,null,{"$f":"IF(ISNUMBER($L77),OFFSET(Banco!$A$1,Composições!$L77-1,COLUMN(Composições!D77)-1),\"\")","v":""},{"$f":"IF(ISNUMBER($L77),OFFSET(Banco!$A$1,Composições!$L77-1,COLUMN(Composições!E77)-1),\"\")","v":""},0,0,null,{"$f":"IF(ISNUMBER($L77),VALUE(OFFSET(Banco!$A$1,Composições!$L77-1,COLUMN(Composições!I77)-4)),0)","v":0},{"$f":"IF(ISNUMBER($L77),VALUE(OFFSET(Banco!$A$1,Composições!$L77-1,COLUMN(Composições!J77)-4)),0)","v":0},{"$f":"COUNTA($A$1:$A77)-1","v":6},{"$f":"MATCH(Composições!CONCATENAR,Banco!$A:$A,0)","v":{"$error":"#N/A"}},{"$f":"IF(OR(ISERROR($L77),$H77=\"\",$H77=0),\"\",OFFSET(M$1,MATCH($K77,$K$1:$K77,0)-1,0))","v":""}]
[null,null,null,{"$f":"IF(ISNUMBER($L78),OFFSET(Banco!$A$1,Composições!$L78-1,COLUMN(Composições!D78)-1),\"\")","v":""},{"$f":"IF(ISNUMBER($L78),OFFSET(Banco!$A$1,Composições!$L78-1,COLUMN(Composições!E78)-1),\"\")","v":""},0,0,null,{"$f":"IF(ISNUMBER($L78),VALUE(OFFSET(Banco!$A$1,Composições!$L78-1,COLUMN(Composições!I78)-4)),0)","v":0},{"$f":"IF(ISNUMBER($L78),VALUE(OFFSET(Banco!$A$1,Composições!$L78-1,COLUMN(Composições!J78)-4)),0)","v":0},{"$f":"COUNTA($A$1:$A78)-1","v":6},{"$f":"MATCH(Composições!CONCATENAR,Banco!$A:$A,0)","v":{"$error":"#N/A"}},{"$f":"IF(OR(ISERROR($L78),$H78=\"\",$H78=0),\"\",OFFSET(M$1,MATCH($K78,$K$1:$K78,0)-1,0))","v":""}]
[null,null,null,{"$f":"IF(ISNUMBER($L79),OFFSET(Banco!$A$1,Composições!$L79-1,COLUMN(Composições!D79)-1),\"\")","v":""},{"$f":"IF(ISNUMBER($L79),OFFSET(Banco!$A$1,Composições!$L79-1,COLUMN(Composições!E79)-1),\"\")","v":""},0,0,null,{"$f":"IF(ISNUMBER($L79),VALUE(OFFSET(Banco!$A$1,Composições!$L79-1,COLUMN(Composições!I79)-4)),0)","v":0},{"$f":"IF(ISNUMBER($L79),VALUE(OFFSET(Banco!$A$1,Composições!$L79-1,COLUMN(Composições!J79)-4)),0)","v":0},{"$f":"COUNTA($A$1:$A79)-1","v":6},{"$f":"MATCH(Composições!CONCATENAR,Banco!$A:$A,0)","v":{"$error":"#N/A"}},{"$f":"IF(OR(ISERROR($L79),$H79=\"\",$H79=0),\"\",OFFSET(M$1,MATCH($K79,$K$1:$K79,0)-1,0))","v":""}]
[null,null,null,{"$f":"IF(ISNUMBER($L80),OFFSET(Banco!$A$1,Composições!$L80-1,COLUMN(Composições!D80)-1),\"\")","v":""},{"$f":"IF(ISNUMBER($L80),OFFSET(Banco!$A$1,Composições!$L80-1,COLUMN(Composições!E80)-1),\"\")","v":""},0,0,null,{"$f":"IF(ISNUMBER($L80),VALUE(OFFSET(Banco!$A$1,Composições!$L80-1,COLUMN(Composições!I80)-4)),0)","v":0},{"$f":"IF(ISNUMBER($L80),VALUE(OFFSET(Banco!$A$1,Composições!$L80-1,COLUMN(Composições!J80)-4)),0)","v":0},{"$f":"COUNTA($A$1:$A80)-1","v":6},{"$f":"MATCH(Composições!CONCATENAR,Banco!$A:$A,0)","v":{"$error":"#N/A"}},{"$f":"IF(OR(ISERROR($L80),$H80=\"\",$H80=0),\"\",OFFSET(M$1,MATCH($K80,$K$1:$K80,0)-1,0))","v":""}]
[null,null,null,{"$f":"IF(ISNUMBER($L81),OFFSET(Banco!$A$1,Composições!$L81-1,COLUMN(Composições!D81)-1),\"\")","v":""},{"$f":"IF(ISNUMBER($L81),OFFSET(Banco!$A$1,Composições!$L81-1,COLUMN(Composições!E81)-1),\"\")","v":""},0,0,null,{"$f":"IF(ISNUMBER($L81),VALUE(OFFSET(Banco!$A$1,Composições!$L81-1,COLUMN(Composições!I81)-4)),0)","v":0},{"$f":"IF(ISNUMBER($L81),VALUE(OFFSET(Banco!$A$1,Composições!$L81-1,COLUMN(Composições!J81)-4)),0)","v":0},{"$f":"COUNTA($A$1:$A81)-1","v":6},{"$f":"MATCH(Composições!CONCATENAR,Banco!$A:$A,0)","v":{"$error":"#N/A"}},{"$f":"IF(OR(ISERROR($L81),$H81=\"\",$H81=0),\"\",OFFSET(M$1,MATCH($K81,$K$1:$K81,0)-1,0))","v":""}]
[null,null,null,null,null,null,null,null,null,null,{"$f":"COUNTA($A$1:$A82)-1","v":6},null,{"$f":"IF(OFFSET($M$1,MATCH(OFFSET(K82,-1,0),$K$1:$K82,0)-1,0)=\"F\",\"F\",\"\")","v":""}]
[{"$f":"CONCATENAR","v":" "},null,null,null,null,{"$f":"IF($L83>0,SUM(OFFSET(F83,1,0,$L83),0))","v":0},{"$f":"IF($L83>0,SUM(OFFSET(G83,1,0,$L83),0))","v":0},null,{"$f":"IF(ISERROR(F83),0,F83)","v":0},{"$f":"IF(ISERROR(G83),0,G83)","v":0},{"$f":"COUNTA($A$1:$A83)-1","v":7},{"$f":"IF(MAX(K:K)=K83,MATCH(9999999,$K:$K)+1,MATCH(K83+1,K:K,0))-ROW(L83)-2","v":10},{"$f":"IF(AND(OR(I83<>0,J83<>0),N83=\"Sim\"),\"F\",\"\")","v":""},"Sim"]
[null,null,null,{"$f":"IF(ISNUMBER($L84),OFFSET(Banco!$A$1,Composições!$L84-1,COLUMN(Composições!D84)-1),\"\")","v":""},{"$f":"IF(ISNUMBER($L84),OFFSET(Banco!$A$1,Composições!$L84-1,COLUMN(Composições!E84)-1),\"\")","v":""},{"$f":"TRUNC($H84*ROUND(I84,2),2)","v":0},{"$f":"TRUNC($H84*ROUND(J84,2),2)","v":0},null,{"$f":"IF(ISNUMBER($L84),VALUE(OFFSET(Banco!$A$1,Composições!$L84-1,COLUMN(Composições!I84)-4)),0)","v":0},{"$f":"IF(ISNUMBER($L84),VALUE(OFFSET(Banco!$A$1,Composições!$L84-1,COLUMN(Composições!J84)-4)),0)","v":0},{"$f":"COUNTA($A$1:$A84)-1","v":7},{"$f":"MATCH(Composições!CONCATENAR,Banco!$A:$A,0)","v":{"$error":"#N/A"}},{"$f":"IF(OR(ISERROR($L84),$H84=\"\",$H84=0),\"\",OFFSET(M$1,MATCH($K84,$K$1:$K84,0)-1,0))","v":""}]
[null,null,null,{"$f":"IF(ISNUMBER($L85),OFFSET(Banco!$A$1,Composições!$L85-1,COLUMN(Composições!D85)-1),\"\")","v":""},{"$f":"IF(ISNUMBER($L85),OFFSET(Banco!$A$1,Composições!$L85-1,COLUMN(Composições!E85)-1),\"\")","v":""},0,0,null,{"$f":"IF(ISNUMBER($L85),VALUE(OFFSET(Banco!$A$1,Composições!$L85-1,COLUMN(Composições!I85)-4)),0)","v":0},{"$f":"IF(ISNUMBER($L85),VALUE(OFFSET(Banco!$A$1,Composições!$L85-1,COLUMN(Composições!J85)-4)),0)","v":0},{"$f":"COUNTA($A$1:$A85)-1","v":7},{"$f":"MATCH(Composições!CONCATENAR,Banco!$A:$A,0)","v":{"$error":"#N/A"}},{"$f":"IF(OR(ISERROR($L85),$H85=\"\",$H85=0),\"\",OFFSET(M$1,MATCH($K85,$K$1:$K85,0)-1,0))","v":""}]
[null,null,null,{"$f":"IF(ISNUMBER($L86),OFFSET(Banco!$A$1,Composições!$L86-1,COLUMN(Composições!D86)-1),\"\")","v":""},{"$f":"IF(ISNUMBER($L86),OFFSET(Banco!$A$1,Composições!$L86-1,COLUMN(Composições!E86)-1),\"\")","v":""},0,0,null,{"$f":"IF(ISNUMBER($L86),VALUE(OFFSET(Banco!$A$1,Composições!$L86-1,COLUMN(Composições!I86)-4)),0)","v":0},{"$f":"IF(ISNUMBER($L86),VALUE(OFFSET(Banco!$A$1,Composições!$L86-1,COLUMN(Composições!J86)-4)),0)","v":0},{"$f":"COUNTA($A$1:$A86)-1","v":7},{"$f":"MATCH(Composições!CONCATENAR,Banco!$A:$A,0)","v":{"$error":"#N/A"}},{"$f":"IF(OR(ISERROR($L86),$H86=\"\",$H86=0),\"\",OFFSET(M$1,MATCH($K86,$K$1:$K86,0)-1,0))","v":""}]
[null,null,null,{"$f":"IF(ISNUMBER($L87),OFFSET(Banco!$A$1,Composições!$L87-1,COLUMN(Composições!D87)-1),\"\")","v":""},{"$f":"IF(ISNUMBER($L87),OFFSET(Banco!$A$1,Composições!$L87-1,COLUMN(Composições!E87)-1),\"\")","v":""},0,0,null,{"$f":"IF(ISNUMBER($L87),VALUE(OFFSET(Banco!$A$1,Composições!$L87-1,COLUMN(Composições!I87)-4)),0)","v":0},{"$f":"IF(ISNUMBER($L87),VALUE(OFFSET(Banco!$A$1,Composições!$L87-1,COLUMN(Composições!J87)-4)),0)","v":0},{"$f":"COUNTA($A$1:$A87)-1","v":7},{"$f":"MATCH(Composições!CONCATENAR,Banco!$A:$A,0)","v":{"$error":"#N/A"}},{"$f":"IF(OR(ISERROR($L87),$H87=\"\",$H87=0),\"\",OFFSET(M$1,MATCH($K87,$K$1:$K87,0)-1,0))","v":""}]
[null,null,null,{"$f":"IF(ISNUMBER($L88),OFFSET(Banco!$A$1,Composições!$L88-1,COLUMN(Composições!D88)-1),\"\")","v":""},{"$f":"IF(ISNUMBER($L88),OFFSET(Banco!$A$1,Composições!$L88-1,COLUMN(Composições!E88)-1),\"\")","v":""},0,0,null,{"$f":"IF(ISNUMBER($L88),VALUE(OFFSET(Banco!$A$1,Composições!$L88-1,COLUMN(Composições!I88)-4)),0)","v":0},{"$f":"IF(ISNUMBER($L88),VALUE(OFFSET(Banco!$A$1,Composições!$L88-1,COLUMN(Composições!J88)-4)),0)","v":0},{"$f":"COUNTA($A$1:$A88)-1","v":7},{"$f":"MATCH(Composições!CONCATENAR,Banco!$A:$A,0)","v":{"$error":"#N/A"}},{"$f":"IF(OR(ISERROR($L88),$H88=\"\",$H88=0),\"\",OFFSET(M$1,MATCH($K88,$K$1:$K88,0)-1,0))","v":""}]
[null,null,null,{"$f":"IF(ISNUMBER($L89),OFFSET(Banco!$A$1,Composições!$L89-1,COLUMN(Composições!D89)-1),\"\")","v":""},{"$f":"IF(ISNUMBER($L89),OFFSET(Banco!$A$1,Composições!$L89-1,COLUMN(Composições!E89)-1),\"\")","v":""},0,0,null,{"$f":"IF(ISNUMBER($L89),VALUE(OFFSET(Banco!$A$1,Composições!$L89-1,COLUMN(Composições!I89)-4)),0)","v":0},{"$f":"IF(ISNUMBER($L89),VALUE(OFFSET(Banco!$A$1,Composições!$L89-1,COLUMN(Composições!J89)-4)),0)","v":0},{"$f":"COUNTA($A$1:$A89)-1","v":7},{"$f":"MATCH(Composições!CONCATENAR,Banco!$A:$A,0)","v":{"$error":"#N/A"}},{"$f":"IF(OR(ISERROR($L89),$H89=\"\",$H89=0),\"\",OFFSET(M$1,MATCH($K89,$K$1:$K89,0)-1,0))","v":""}]
[null,null,null,{"$f":"IF(ISNUMBER($L90),OFFSET(Banco!$A$1,Composições!$L90-1,COLUMN(Composições!D90)-1),\"\")","v":""},{"$f":"IF(ISNUMBER($L90),OFFSET(Banco!$A$1,Composições!$L90-1,COLUMN(Composições!E90)-1),\"\")","v":""},0,0,null,{"$f":"IF(ISNUMBER($L90),VALUE(OFFSET(Banco!$A$1,Composições!$L90-1,COLUMN(Composições!I90)-4)),0)","v":0},{"$f":"IF(ISNUMBER($L90),VALUE(OFFSET(Banco!$A$1,Composições!$L90-1,COLUMN(Composições!J90)-4)),0)","v":0},{"$f":"COUNTA($A$1:$A90)-1","v":7},{"$f":"MATCH(Composições!CONCATENAR,Banco!$A:$A,0)","v":{"$error":"#N/A"}},{"$f":"IF(OR(ISERROR($L90),$H90=\"\",$H90=0),\"\",OFFSET(M$1,MATCH($K90,$K$1:$K90,0)-1,0))","v":""}]
[null,null,null,{"$f":"IF(ISNUMBER($L91),OFFSET(Banco!$A$1,Composições!$L91-1,COLUMN(Composições!D91)-1),\"\")","v":""},{"$f":"IF(ISNUMBER($L91),OFFSET(Banco!$A$1,Composições!$L91-1,COLUMN(Composições!E91)-1),\"\")","v":""},0,0,null,{"$f":"IF(ISNUMBER($L91),VALUE(OFFSET(Banco!$A$1,Composições!$L91-1,COLUMN(Composições!I91)-4)),0)","v":0},{"$f":"IF(ISNUMBER($L91),VALUE(OFFSET(Banco!$A$1,Composições!$L91-1,COLUMN(Composições!J91)-4)),0)","v":0},{"$f":"COUNTA($A$1:$A91)-1","v":7},{"$f":"MATCH(Composições!CONCATENAR,Banco!$A:$A,0)","v":{"$error":"#N/A"}},{"$f":"IF(OR(ISERROR($L91),$H91=\"\",$H91=0),\"\",OFFSET(M$1,MATCH($K91,$K$1:$K91,0)-1,0))","v":""}]
[null,null,null,{"$f":"IF(ISNUMBER($L92),OFFSET(Banco!$A$1,Composições!$L92-1,COLUMN(Composições!D92)-1),\"\")","v":""},{"$f":"IF(ISNUMBER($L92),OFFSET(Banco!$A$1,Composições!$L92-1,COLUMN(Composições!E92)-1),\"\")","v":""},0,0,null,{"$f":"IF(ISNUMBER($L92),VALUE(OFFSET(Banco!$A$1,Composições!$L92-1,COLUMN(Composições!I92)-4)),0)","v":0},{"$f":"IF(ISNUMBER($L92),VALUE(OFFSET(Banco!$A$1,Composições!$L92-1,COLUMN(Composições!J92)-4)),0)","v":0},{"$f":"COUNTA($A$1:$A92)-1","v":7},{"$f":"MATCH(Composições!CONCATENAR,Banco!$A:$A,0)","v":{"$error":"#N/A"}},{"$f":"IF(OR(ISERROR($L92),$H92=\"\",$H92=0),\"\",OFFSET(M$1,MATCH($K92,$K$1:$K92,0)-1,0))","v":""}]
[null,null,null,{"$f":"IF(ISNUMBER($L93),OFFSET(Banco!$A$1,Composições!$L93-1,COLUMN(Composições!D93)-1),\"\")","v":""},{"$f":"IF(ISNUMBER($L93),OFFSET(Banco!$A$1,Composições!$L93-1,COLUMN(Composições!E93)-1),\"\")","v":""},0,0,null,{"$f":"IF(ISNUMBER($L93),VALUE(OFFSET(Banco!$A$1,Composições!$L93-1,COLUMN(Composições!I93)-4)),0)","v":0},{"$f":"IF(ISNUMBER($L93),VALUE(OFFSET(Banco!$A$1,Composições!$L93-1,COLUMN(Composições!J93)-4)),0)","v":0},{"$f":"COUNTA($A$1:$A93)-1","v":7},{"$f":"MATCH(Composições!CONCATENAR,Banco!$A:$A,0)","v":{"$error":"#N/A"}},{"$f":"IF(OR(ISERROR($L93),$H93=\"\",$H93=0),\"\",OFFSET(M$1,MATCH($K93,$K$1:$K93,0)-1,0))","v":""}]
[null,null,null,null,null,null,null,null,null,null,{"$f":"COUNTA($A$1:$A94)-1","v":7},null,{"$f":"IF(OFFSET($M$1,MATCH(OFFSET(K94,-1,0),$K$1:$K94,0)-1,0)=\"F\",\"F\",\"\")","v":""}]
[{"$f":"CONCATENAR","v":" "},null,null,null,null,{"$f":"IF($L95>0,SUM(OFFSET(F95,1,0,$L95),0))","v":0},{"$f":"IF($L95>0,SUM(OFFSET(G95,1,0,$L95),0))","v":0},null,{"$f":"IF(ISERROR(F95),0,F95)","v":0},{"$f":"IF(ISERROR(G95),0,G95)","v":0},{"$f":"COUNTA($A$1:$A95)-1","v":8},{"$f":"IF(MAX(K:K)=K95,MATCH(9999999,$K:$K)+1,MATCH(K95+1,K:K,0))-ROW(L95)-2","v":10},{"$f":"IF(AND(OR(I95<>0,J95<>0),N95=\"Sim\"),\"F\",\"\")","v":""},"Sim"]
[null,null,null,{"$f":"IF(ISNUMBER($L96),OFFSET(Banco!$A$1,Composições!$L96-1,COLUMN(Composições!D96)-1),\"\")","v":""},{"$f":"IF(ISNUMBER($L96),OFFSET(Banco!$A$1,Composições!$L96-1,COLUMN(Composições!E96)-1),\"\")","v":""},{"$f":"TRUNC($H96*ROUND(I96,2),2)","v":0},{"$f":"TRUNC($H96*ROUND(J96,2),2)","v":0},null,{"$f":"IF(ISNUMBER($L96),VALUE(OFFSET(Banco!$A$1,Composições!$L96-1,COLUMN(Composições!I96)-4)),0)","v":0},{"$f":"IF(ISNUMBER($L96),VALUE(OFFSET(Banco!$A$1,Composições!$L96-1,COLUMN(Composições!J96)-4)),0)","v":0},{"$f":"COUNTA($A$1:$A96)-1","v":8},{"$f":"MATCH(Composições!CONCATENAR,Banco!$A:$A,0)","v":{"$error":"#N/A"}},{"$f":"IF(OR(ISERROR($L96),$H96=\"\",$H96=0),\"\",OFFSET(M$1,MATCH($K96,$K$1:$K96,0)-1,0))","v":""}]
[null,null,null,{"$f":"IF(ISNUMBER($L97),OFFSET(Banco!$A$1,Composições!$L97-1,COLUMN(Composições!D97)-1),\"\")","v":""},{"$f":"IF(ISNUMBER($L97),OFFSET(Banco!$A$1,Composições!$L97-1,COLUMN(Composições!E97)-1),\"\")","v":""},0,0,null,{"$f":"IF(ISNUMBER($L97),VALUE(OFFSET(Banco!$A$1,Composições!$L97-1,COLUMN(Composições!I97)-4)),0)","v":0},{"$f":"IF(ISNUMBER($L97),VALUE(OFFSET(Banco!$A$1,Composições!$L97-1,COLUMN(Composições!J97)-4)),0)","v":0},{"$f":"COUNTA($A$1:$A97)-1","v":8},{"$f":"MATCH(Composições!CONCATENAR,Banco!$A:$A,0)","v":{"$error":"#N/A"}},{"$f":"IF(OR(ISERROR($L97),$H97=\"\",$H97=0),\"\",OFFSET(M$1,MATCH($K97,$K$1:$K97,0)-1,0))","v":""}]
[null,null,null,{"$f":"IF(ISNUMBER($L98),OFFSET(Banco!$A$1,Composições!$L98-1,COLUMN(Composições!D98)-1),\"\")","v":""},{"$f":"IF(ISNUMBER($L98),OFFSET(Banco!$A$1,Composições!$L98-1,COLUMN(Composições!E98)-1),\"\")","v":""},0,0,null,{"$f":"IF(ISNUMBER($L98),VALUE(OFFSET(Banco!$A$1,Composições!$L98-1,COLUMN(Composições!I98)-4)),0)","v":0},{"$f":"IF(ISNUMBER($L98),VALUE(OFFSET(Banco!$A$1,Composições!$L98-1,COLUMN(Composições!J98)-4)),0)","v":0},{"$f":"COUNTA($A$1:$A98)-1","v":8},{"$f":"MATCH(Composições!CONCATENAR,Banco!$A:$A,0)","v":{"$error":"#N/A"}},{"$f":"IF(OR(ISERROR($L98),$H98=\"\",$H98=0),\"\",OFFSET(M$1,MATCH($K98,$K$1:$K98,0)-1,0))","v":""}]
[null,null,null,{"$f":"IF(ISNUMBER($L99),OFFSET(Banco!$A$1,Composições!$L99-1,COLUMN(Composições!D99)-1),\"\")","v":""},{"$f":"IF(ISNUMBER($L99),OFFSET(Banco!$A$1,Composições!$L99-1,COLUMN(Composições!E99)-1),\"\")","v":""},0,0,null,{"$f":"IF(ISNUMBER($L99),VALUE(OFFSET(Banco!$A$1,Composições!$L99-1,COLUMN(Composições!I99)-4)),0)","v":0},{"$f":"IF(ISNUMBER($L99),VALUE(OFFSET(Banco!$A$1,Composições!$L99-1,COLUMN(Composições!J99)-4)),0)","v":0},{"$f":"COUNTA($A$1:$A99)-1","v":8},{"$f":"MATCH(Composições!CONCATENAR,Banco!$A:$A,0)","v":{"$error":"#N/A"}},{"$f":"IF(OR(ISERROR($L99),$H99=\"\",$H99=0),\"\",OFFSET(M$1,MATCH($K99,$K$1:$K99,0)-1,0))","v":""}]
[null,null,null,{"$f":"IF(ISNUMBER($L100),OFFSET(Banco!$A$1,Composições!$L100-1,COLUMN(Composições!D100)-1),\"\")","v":""},{"$f":"IF(ISNUMBER($L100),OFFSET(Banco!$A$1,Composições!$L100-1,COLUMN(Composições!E100)-1),\"\")","v":""},0,0,null,{"$f":"IF(ISNUMBER($L100),VALUE(OFFSET(Banco!$A$1,Composições!$L100-1,COLUMN(Composições!I100)-4)),0)","v":0},{"$f":"IF(ISNUMBER($L100),VALUE(OFFSET(Banco!$A$1,Composições!$L100-1,COLUMN(Composições!J100)-4)),0)","v":0},{"$f":"COUNTA($A$1:$A100)-1","v":8},{"$f":"MATCH(Composições!CONCATENAR,Banco!$A:$A,0)","v":{"$error":"#N/A"}},{"$f":"IF(OR(ISERROR($L100),$H100=\"\",$H100=0),\"\",OFFSET(M$1,MATCH($K100,$K$1:$K100,0)-1,0))","v":""}]
[null,null,null,{"$f":"IF(ISNUMBER($L101),OFFSET(Banco!$A$1,Composições!$L101-1,COLUMN(Composições!D101)-1),\"\")","v":""},{"$f":"IF(ISNUMBER($L101),OFFSET(Banco!$A$1,Composições!$L101-1,COLUMN(Composições!E101)-1),\"\")","v":""},0,0,null,{"$f":"IF(ISNUMBER($L101),VALUE(OFFSET(Banco!$A$1,Composições!$L101-1,COLUMN(Composições!I101)-4)),0)","v":0},{"$f":"IF(ISNUMBER($L101),VALUE(OFFSET(Banco!$A$1,Composições!$L101-1,COLUMN(Composições!J101)-4)),0)","v":0},{"$f":"COUNTA($A$1:$A101)-1","v":8},{"$f":"MATCH(Composições!CONCATENAR,Banco!$A:$A,0)","v":{"$error":"#N/A"}},{"$f":"IF(OR(ISERROR($L101),$H101=\"\",$H101=0),\"\",OFFSET(M$1,MATCH($K101,$K$1:$K101,0)-1,0))","v":""}]
[null,null,null,{"$f":"IF(ISNUMBER($L102),OFFSET(Banco!$A$1,Composições!$L102-1,COLUMN(Composições!D102)-1),\"\")","v":""},{"$f":"IF(ISNUMBER($L102),OFFSET(Banco!$A$1,Composições!$L102-1,COLUMN(Composições!E102)-1),\"\")","v":""},0,0,null,{"$f":"IF(ISNUMBER($L102),VALUE(OFFSET(Banco!$A$1,Composições!$L102-1,COLUMN(Composições!I102)-4)),0)","v":0},{"$f":"IF(ISNUMBER($L102),VALUE(OFFSET(Banco!$A$1,Composições!$L102-1,COLUMN(Composições!J102)-4)),0)","v":0},{"$f":"COUNTA($A$1:$A102)-1","v":8},{"$f":"MATCH(Composições!CONCATENAR,Banco!$A:$A,0)","v":{"$error":"#N/A"}},{"$f":"IF(OR(ISERROR($L102),$H102=\"\",$H102=0),\"\",OFFSET(M$1,MATCH($K102,$K$1:$K102,0)-1,0))","v":""}]
[null,null,null,{"$f":"IF(ISNUMBER($L103),OFFSET(Banco!$A$1,Composições!$L103-1,COLUMN(Composições!D103)-1),\"\")","v":""},{"$f":"IF(ISNUMBER($L103),OFFSET(Banco!$A$1,Composições!$L103-1,COLUMN(Composições!E103)-1),\"\")","v":""},0,0,null,{"$f":"IF(ISNUMBER($L103),VALUE(OFFSET(Banco!$A$1,Composições!$L103-1,COLUMN(Composições!I103)-4)),0)","v":0},{"$f":"IF(ISNUMBER($L103),VALUE(OFFSET(Banco!$A$1,Composições!$L103-1,COLUMN(Composições!J103)-4)),0)","v":0},{"$f":"COUNTA($A$1:$A103)-1","v":8},{"$f":"MATCH(Composições!CONCATENAR,Banco!$A:$A,0)","v":{"$error":"#N/A"}},{"$f":"IF(OR(ISERROR($L103),$H103=\"\",$H103=0),\"\",OFFSET(M$1,MATCH($K103,$K$1:$K103,0)-1,0))","v":""}]
[null,null,null,{"$f":"IF(ISNUMBER($L104),OFFSET(Banco!$A$1,Composições!$L104-1,COLUMN(Composições!D104)-1),\"\")","v":""},{"$f":"IF(ISNUMBER($L104),OFFSET(Banco!$A$1,Composições!$L104-1,COLUMN(Composições!E104)-1),\"\")","v":""},0,0,null,{"$f":"IF(ISNUMBER($L104),VALUE(OFFSET(Banco!$A$1,Composições!$L104-1,COLUMN(Composições!I104)-4)),0)","v":0},{"$f":"IF(ISNUMBER($L104),VALUE(OFFSET(Banco!$A$1,Composições!$L104-1,COLUMN(Composições!J104)-4)),0)","v":0},{"$f":"COUNTA($A$1:$A104)-1","v":8},{"$f":"MATCH(Composições!CONCATENAR,Banco!$A:$A,0)","v":{"$error":"#N/A"}},{"$f":"IF(OR(ISERROR($L104),$H104=\"\",$H104=0),\"\",OFFSET(M$1,MATCH($K104,$K$1:$K104,0)-1,0))","v":""}]
[null,null,null,{"$f":"IF(ISNUMBER($L105),OFFSET(Banco!$A$1,Composições!$L105-1,COLUMN(Composições!D105)-1),\"\")","v":""},{"$f":"IF(ISNUMBER($L105),OFFSET(Banco!$A$1,Composições!$L105-1,COLUMN(Composições!E105)-1),\"\")","v":""},0,0,null,{"$f":"IF(ISNUMBER($L105),VALUE(OFFSET(Banco!$A$1,Composições!$L105-1,COLUMN(Composições!I105)-4)),0)","v":0},{"$f":"IF(ISNUMBER($L105),VALUE(OFFSET(Banco!$A$1,Composições!$L105-1,COLUMN(Composições!J105)-4)),0)","v":0},{"$f":"COUNTA($A$1:$A105)-1","v":8},{"$f":"MATCH(Composições!CONCATENAR,Banco!$A:$A,0)","v":{"$error":"#N/A"}},{"$f":"IF(OR(ISERROR($L105),$H105=\"\",$H105=0),\"\",OFFSET(M$1,MATCH($K105,$K$1:$K105,0)-1,0))","v":""}]
[null,null,null,null,null,null,null,null,null,null,{"$f":"COUNTA($A$1:$A106)-1","v":8},null,{"$f":"IF(OFFSET($M$1,MATCH(OFFSET(K106,-1,0),$K$1:$K106,0)-1,0)=\"F\",\"F\",\"\")","v":""}]
[{"$f":"CONCATENAR","v":" "},null,null,null,null,{"$f":"IF($L107>0,SUM(OFFSET(F107,1,0,$L107),0))","v":0},{"$f":"IF($L107>0,SUM(OFFSET(G107,1,0,$L107),0))","v":0},null,{"$f":"IF(ISERROR(F107),0,F107)","v":0},{"$f":"IF(ISERROR(G107),0,G107)","v":0},{"$f":"COUNTA($A$1:$A107)-1","v":9},{"$f":"IF(MAX(K:K)=K107,MATCH(9999999,$K:$K)+1,MATCH(K107+1,K:K,0))-ROW(L107)-2","v":10},{"$f":"IF(AND(OR(I107<>0,J107<>0),N107=\"Sim\"),\"F\",\"\")","v":""},"Sim"]
[null,null,null,{"$f":"IF(ISNUMBER($L108),OFFSET(Banco!$A$1,Composições!$L108-1,COLUMN(Composições!D108)-1),\"\")","v":""},{"$f":"IF(ISNUMBER($L108),OFFSET(Banco!$A$1,Composições!$L108-1,COLUMN(Composições!E108)-1),\"\")","v":""},{"$f":"TRUNC($H108*ROUND(I108,2),2)","v":0},{"$f":"TRUNC($H108*ROUND(J108,2),2)","v":0},null,{"$f":"IF(ISNUMBER($L108),VALUE(OFFSET(Banco!$A$1,Composições!$L108-1,COLUMN(Composições!I108)-4)),0)","v":0},{"$f":"IF(ISNUMBER($L108),VALUE(OFFSET(Banco!$A$1,Composições!$L108-1,COLUMN(Composições!J108)-4)),0)","v":0},{"$f":"COUNTA($A$1:$A108)-1","v":9},{"$f":"MATCH(Composições!CONCATENAR,Banco!$A:$A,0)","v":{"$error":"#N/A"}},{"$f":"IF(OR(ISERROR($L108),$H108=\"\",$H108=0),\"\",OFFSET(M$1,MATCH($K108,$K$1:$K108,0)-1,0))","v":""}]
[null,null,null,{"$f":"IF(ISNUMBER($L109),OFFSET(Banco!$A$1,Composições!$L109-1,COLUMN(Composições!D109)-1),\"\")","v":""},{"$f":"IF(ISNUMBER($L109),OFFSET(Banco!$A$1,Composições!$L109-1,COLUMN(Composições!E109)-1),\"\")","v":""},0,0,null,{"$f":"IF(ISNUMBER($L109),VALUE(OFFSET(Banco!$A$1,Composições!$L109-1,COLUMN(Composições!I109)-4)),0)","v":0},{"$f":"IF(ISNUMBER($L109),VALUE(OFFSET(Banco!$A$1,Composições!$L109-1,COLUMN(Composições!J109)-4)),0)","v":0},{"$f":"COUNTA($A$1:$A109)-1","v":9},{"$f":"MATCH(Composições!CONCATENAR,Banco!$A:$A,0)","v":{"$error":"#N/A"}},{"$f":"IF(OR(ISERROR($L109),$H109=\"\",$H109=0),\"\",OFFSET(M$1,MATCH($K109,$K$1:$K109,0)-1,0))","v":""}]
[null,null,null,{"$f":"IF(ISNUMBER($L110),OFFSET(Banco!$A$1,Composições!$L110-1,COLUMN(Composições!D110)-1),\"\")","v":""},{"$f":"IF(ISNUMBER($L110),OFFSET(Banco!$A$1,Composições!$L110-1,COLUMN(Composições!E110)-1),\"\")","v":""},0,0,null,{"$f":"IF(ISNUMBER($L110),VALUE(OFFSET(Banco!$A$1,Composições!$L110-1,COLUMN(Composições!I110)-4)),0)","v":0},{"$f":"IF(ISNUMBER($L110),VALUE(OFFSET(Banco!$A$1,Composições!$L110-1,COLUMN(Composições!J110)-4)),0)","v":0},{"$f":"COUNTA($A$1:$A110)-1","v":9},{"$f":"MATCH(Composições!CONCATENAR,Banco!$A:$A,0)","v":{"$error":"#N/A"}},{"$f":"IF(OR(ISERROR($L110),$H110=\"\",$H110=0),\"\",OFFSET(M$1,MATCH($K110,$K$1:$K110,0)-1,0))","v":""}]
[null,null,null,{"$f":"IF(ISNUMBER($L111),OFFSET(Banco!$A$1,Composições!$L111-1,COLUMN(Composições!D111)-1),\"\")","v":""},{"$f":"IF(ISNUMBER($L111),OFFSET(Banco!$A$1,Composições!$L111-1,COLUMN(Composições!E111)-1),\"\")","v":""},0,0,null,{"$f":"IF(ISNUMBER($L111),VALUE(OFFSET(Banco!$A$1,Composições!$L111-1,COLUMN(Composições!I111)-4)),0)","v":0},{"$f":"IF(ISNUMBER($L111),VALUE(OFFSET(Banco!$A$1,Composições!$L111-1,COLUMN(Composições!J111)-4)),0)","v":0},{"$f":"COUNTA($A$1:$A111)-1","v":9},{"$f":"MATCH(Composições!CONCATENAR,Banco!$A:$A,0)","v":{"$error":"#N/A"}},{"$f":"IF(OR(ISERROR($L111),$H111=\"\",$H111=0),\"\",OFFSET(M$1,MATCH($K111,$K$1:$K111,0)-1,0))","v":""}]
[null,null,null,{"$f":"IF(ISNUMBER($L112),OFFSET(Banco!$A$1,Composições!$L112-1,COLUMN(Composições!D112)-1),\"\")","v":""},{"$f":"IF(ISNUMBER($L112),OFFSET(Banco!$A$1,Composições!$L112-1,COLUMN(Composições!E112)-1),\"\")","v":""},0,0,null,{"$f":"IF(ISNUMBER($L112),VALUE(OFFSET(Banco!$A$1,Composições!$L112-1,COLUMN(Composições!I112)-4)),0)","v":0},{"$f":"IF(ISNUMBER($L112),VALUE(OFFSET(Banco!$A$1,Composições!$L112-1,COLUMN(Composições!J112)-4)),0)","v":0},{"$f":"COUNTA($A$1:$A112)-1","v":9},{"$f":"MATCH(Composições!CONCATENAR,Banco!$A:$A,0)","v":{"$error":"#N/A"}},{"$f":"IF(OR(ISERROR($L112),$H112=\"\",$H112=0),\"\",OFFSET(M$1,MATCH($K112,$K$1:$K112,0)-1,0))","v":""}]
[null,null,null,{"$f":"IF(ISNUMBER($L113),OFFSET(Banco!$A$1,Composições!$L113-1,COLUMN(Composições!D113)-1),\"\")","v":""},{"$f":"IF(ISNUMBER($L113),OFFSET(Banco!$A$1,Composições!$L113-1,COLUMN(Composições!E113)-1),\"\")","v":""},0,0,null,{"$f":"IF(ISNUMBER($L113),VALUE(OFFSET(Banco!$A$1,Composições!$L113-1,COLUMN(Composições!I113)-4)),0)","v":0},{"$f":"IF(ISNUMBER($L113),VALUE(OFFSET(Banco!$A$1,Composições!$L113-1,COLUMN(Composições!J113)-4)),0)","v":0},{"$f":"COUNTA($A$1:$A113)-1","v":9},{"$f":"MATCH(Composições!CONCATENAR,Banco!$A:$A,0)","v":{"$error":"#N/A"}},{"$f":"IF(OR(ISERROR($L113),$H113=\"\",$H113=0),\"\",OFFSET(M$1,MATCH($K113,$K$1:$K113,0)-1,0))","v":""}]
[null,null,null,{"$f":"IF(ISNUMBER($L114),OFFSET(Banco!$A$1,Composições!$L114-1,COLUMN(Composições!D114)-1),\"\")","v":""},{"$f":"IF(ISNUMBER($L114),OFFSET(Banco!$A$1,Composições!$L114-1,COLUMN(Composições!E114)-1),\"\")","v":""},0,0,null,{"$f":"IF(ISNUMBER($L114),VALUE(OFFSET(Banco!$A$1,Composições!$L114-1,COLUMN(Composições!I114)-4)),0)","v":0},{"$f":"IF(ISNUMBER($L114),VALUE(OFFSET(Banco!$A$1,Composições!$L114-1,COLUMN(Composições!J114)-4)),0)","v":0},{"$f":"COUNTA($A$1:$A114)-1","v":9},{"$f":"MATCH(Composições!CONCATENAR,Banco!$A:$A,0)","v":{"$error":"#N/A"}},{"$f":"IF(OR(ISERROR($L114),$H114=\"\",$H114=0),\"\",OFFSET(M$1,MATCH($K114,$K$1:$K114,0)-1,0))","v":""}]
[null,null,null,{"$f":"IF(ISNUMBER($L115),OFFSET(Banco!$A$1,Composições!$L115-1,COLUMN(Composições!D115)-1),\"\")","v":""},{"$f":"IF(ISNUMBER($L115),OFFSET(Banco!$A$1,Composições!$L115-1,COLUMN(Composições!E115)-1),\"\")","v":""},0,0,null,{"$f":"IF(ISNUMBER($L115),VALUE(OFFSET(Banco!$A$1,Composições!$L115-1,COLUMN(Composições!I115)-4)),0)","v":0},{"$f":"IF(ISNUMBER($L115),VALUE(OFFSET(Banco!$A$1,Composições!$L115-1,COLUMN(Composições!J115)-4)),0)","v":0},{"$f":"COUNTA($A$1:$A115)-1","v":9},{"$f":"MATCH(Composições!CONCATENAR,Banco!$A:$A,0)","v":{"$error":"#N/A"}},{"$f":"IF(OR(ISERROR($L115),$H115=\"\",$H115=0),\"\",OFFSET(M$1,MATCH($K115,$K$1:$K115,0)-1,0))","v":""}]
[null,null,null,{"$f":"IF(ISNUMBER($L116),OFFSET(Banco!$A$1,Composições!$L116-1,COLUMN(Composições!D116)-1),\"\")","v":""},{"$f":"IF(ISNUMBER($L116),OFFSET(Banco!$A$1,Composições!$L116-1,COLUMN(Composições!E116)-1),\"\")","v":""},0,0,null,{"$f":"IF(ISNUMBER($L116),VALUE(OFFSET(Banco!$A$1,Composições!$L116-1,COLUMN(Composições!I116)-4)),0)","v":0},{"$f":"IF(ISNUMBER($L116),VALUE(OFFSET(Banco!$A$1,Composições!$L116-1,COLUMN(Composições!J116)-4)),0)","v":0},{"$f":"COUNTA($A$1:$A116)-1","v":9},{"$f":"MATCH(Composições!CONCATENAR,Banco!$A:$A,0)","v":{"$error":"#N/A"}},{"$f":"IF(OR(ISERROR($L116),$H116=\"\",$H116=0),\"\",OFFSET(M$1,MATCH($K116,$K$1:$K116,0)-1,0))","v":""}]
[null,null,null,{"$f":"IF(ISNUMBER($L117),OFFSET(Banco!$A$1,Composições!$L117-1,COLUMN(Composições!D117)-1),\"\")","v":""},{"$f":"IF(ISNUMBER($L117),OFFSET(Banco!$A$1,Composições!$L117-1,COLUMN(Composições!E117)-1),\"\")","v":""},0,0,null,{"$f":"IF(ISNUMBER($L117),VALUE(OFFSET(Banco!$A$1,Composições!$L117-1,COLUMN(Composições!I117)-4)),0)","v":0},{"$f":"IF(ISNUMBER($L117),VALUE(OFFSET(Banco!$A$1,Composições!$L117-1,COLUMN(Composições!J117)-4)),0)","v":0},{"$f":"COUNTA($A$1:$A117)-1","v":9},{"$f":"MATCH(Composições!CONCATENAR,Banco!$A:$A,0)","v":{"$error":"#N/A"}},{"$f":"IF(OR(ISERROR($L117),$H117=\"\",$H117=0),\"\",OFFSET(M$1,MATCH($K117,$K$1:$K117,0)-1,0))","v":""}]
[null,null,null,null,null,null,null,null,null,null,{"$f":"COUNTA($A$1:$A118)-1","v":9},null,{"$f":"IF(OFFSET($M$1,MATCH(OFFSET(K118,-1,0),$K$1:$K118,0)-1,0)=\"F\",\"F\",\"\")","v":""}]
[{"$f":"CONCATENAR","v":" "},null,null,null,null,{"$f":"IF($L119>0,SUM(OFFSET(F119,1,0,$L119),0))","v":0},{"$f":"IF($L119>0,SUM(OFFSET(G119,1,0,$L119),0))","v":0},null,{"$f":"IF(ISERROR(F119),0,F119)","v":0},{"$f":"IF(ISERROR(G119),0,G119)","v":0},{"$f":"COUNTA($A$1:$A119)-1","v":10},{"$f":"IF(MAX(K:K)=K119,MATCH(9999999,$K:$K)+1,MATCH(K119+1,K:K,0))-ROW(L119)-2","v":10},{"$f":"IF(AND(OR(I119<>0,J119<>0),N119=\"Sim\"),\"F\",\"\")","v":""},"Sim"]
[null,null,null,{"$f":"IF(ISNUMBER($L120),OFFSET(Banco!$A$1,Composições!$L120-1,COLUMN(Composições!D120)-1),\"\")","v":""},{"$f":"IF(ISNUMBER($L120),OFFSET(Banco!$A$1,Composições!$L120-1,COLUMN(Composições!E120)-1),\"\")","v":""},{"$f":"TRUNC($H120*ROUND(I120,2),2)","v":0},{"$f":"TRUNC($H120*ROUND(J120,2),2)","v":0},null,{"$f":"IF(ISNUMBER($L120),VALUE(OFFSET(Banco!$A$1,Composições!$L120-1,COLUMN(Composições!I120)-4)),0)","v":0},{"$f":"IF(ISNUMBER($L120),VALUE(OFFSET(Banco!$A$1,Composições!$L120-1,COLUMN(Composições!J120)-4)),0)","v":0},{"$f":"COUNTA($A$1:$A120)-1","v":10},{"$f":"MATCH(Composições!CONCATENAR,Banco!$A:$A,0)","v":{"$error":"#N/A"}},{"$f":"IF(OR(ISERROR($L120),$H120=\"\",$H120=0),\"\",OFFSET(M$1,MATCH($K120,$K$1:$K120,0)-1,0))","v":""}]
[null,null,null,{"$f":"IF(ISNUMBER($L121),OFFSET(Banco!$A$1,Composições!$L121-1,COLUMN(Composições!D121)-1),\"\")","v":""},{"$f":"IF(ISNUMBER($L121),OFFSET(Banco!$A$1,Composições!$L121-1,COLUMN(Composições!E121)-1),\"\")","v":""},0,0,null,{"$f":"IF(ISNUMBER($L121),VALUE(OFFSET(Banco!$A$1,Composições!$L121-1,COLUMN(Composições!I121)-4)),0)","v":0},{"$f":"IF(ISNUMBER($L121),VALUE(OFFSET(Banco!$A$1,Composições!$L121-1,COLUMN(Composições!J121)-4)),0)","v":0},{"$f":"COUNTA($A$1:$A121)-1","v":10},{"$f":"MATCH(Composições!CONCATENAR,Banco!$A:$A,0)","v":{"$error":"#N/A"}},{"$f":"IF(OR(ISERROR($L121),$H121=\"\",$H121=0),\"\",OFFSET(M$1,MATCH($K121,$K$1:$K121,0)-1,0))","v":""}]
[null,null,null,{"$f":"IF(ISNUMBER($L122),OFFSET(Banco!$A$1,Composições!$L122-1,COLUMN(Composições!D122)-1),\"\")","v":""},{"$f":"IF(ISNUMBER($L122),OFFSET(Banco!$A$1,Composições!$L122-1,COLUMN(Composições!E122)-1),\"\")","v":""},0,0,null,{"$f":"IF(ISNUMBER($L122),VALUE(OFFSET(Banco!$A$1,Composições!$L122-1,COLUMN(Composições!I122)-4)),0)","v":0},{"$f":"IF(ISNUMBER($L122),VALUE(OFFSET(Banco!$A$1,Composições!$L122-1,COLUMN(Composições!J122)-4)),0)","v":0},{"$f":"COUNTA($A$1:$A122)-1","v":10},{"$f":"MATCH(Composições!CONCATENAR,Banco!$A:$A,0)","v":{"$error":"#N/A"}},{"$f":"IF(OR(ISERROR($L122),$H122=\"\",$H122=0),\"\",OFFSET(M$1,MATCH($K122,$K$1:$K122,0)-1,0))","v":""}]
[null,null,null,{"$f":"IF(ISNUMBER($L123),OFFSET(Banco!$A$1,Composições!$L123-1,COLUMN(Composições!D123)-1),\"\")","v":""},{"$f":"IF(ISNUMBER($L123),OFFSET(Banco!$A$1,Composições!$L123-1,COLUMN(Composições!E123)-1),\"\")","v":""},0,0,null,{"$f":"IF(ISNUMBER($L123),VALUE(OFFSET(Banco!$A$1,Composições!$L123-1,COLUMN(Composições!I123)-4)),0)","v":0},{"$f":"IF(ISNUMBER($L123),VALUE(OFFSET(Banco!$A$1,Composições!$L123-1,COLUMN(Composições!J123)-4)),0)","v":0},{"$f":"COUNTA($A$1:$A123)-1","v":10},{"$f":"MATCH(Composições!CONCATENAR,Banco!$A:$A,0)","v":{"$error":"#N/A"}},{"$f":"IF(OR(ISERROR($L123),$H123=\"\",$H123=0),\"\",OFFSET(M$1,MATCH($K123,$K$1:$K123,0)-1,0))","v":""}]
[null,null,null,{"$f":"IF(ISNUMBER($L124),OFFSET(Banco!$A$1,Composições!$L124-1,COLUMN(Composições!D124)-1),\"\")","v":""},{"$f":"IF(ISNUMBER($L124),OFFSET(Banco!$A$1,Composições!$L124-1,COLUMN(Composições!E124)-1),\"\")","v":""},0,0,null,{"$f":"IF(ISNUMBER($L124),VALUE(OFFSET(Banco!$A$1,Composições!$L124-1,COLUMN(Composições!I124)-4)),0)","v":0},{"$f":"IF(ISNUMBER($L124),VALUE(OFFSET(Banco!$A$1,Composições!$L124-1,COLUMN(Composições!J124)-4)),0)","v":0},{"$f":"COUNTA($A$1:$A124)-1","v":10},{"$f":"MATCH(Composições!CONCATENAR,Banco!$A:$A,0)","v":{"$error":"#N/A"}},{"$f":"IF(OR(ISERROR($L124),$H124=\"\",$H124=0),\"\",OFFSET(M$1,MATCH($K124,$K$1:$K124,0)-1,0))","v":""}]
[null,null,null,{"$f":"IF(ISNUMBER($L125),OFFSET(Banco!$A$1,Composições!$L125-1,COLUMN(Composições!D125)-1),\"\")","v":""},{"$f":"IF(ISNUMBER($L125),OFFSET(Banco!$A$1,Composições!$L125-1,COLUMN(Composições!E125)-1),\"\")","v":""},0,0,null,{"$f":"IF(ISNUMBER($L125),VALUE(OFFSET(Banco!$A$1,Composições!$L125-1,COLUMN(Composições!I125)-4)),0)","v":0},{"$f":"IF(ISNUMBER($L125),VALUE(OFFSET(Banco!$A$1,Composições!$L125-1,COLUMN(Composições!J125)-4)),0)","v":0},{"$f":"COUNTA($A$1:$A125)-1","v":10},{"$f":"MATCH(Composições!CONCATENAR,Banco!$A:$A,0)","v":{"$error":"#N/A"}},{"$f":"IF(OR(ISERROR($L125),$H125=\"\",$H125=0),\"\",OFFSET(M$1,MATCH($K125,$K$1:$K125,0)-1,0))","v":""}]
[null,null,null,{"$f":"IF(ISNUMBER($L126),OFFSET(Banco!$A$1,Composições!$L126-1,COLUMN(Composições!D126)-1),\"\")","v":""},{"$f":"IF(ISNUMBER($L126),OFFSET(Banco!$A$1,Composições!$L126-1,COLUMN(Composições!E126)-1),\"\")","v":""},0,0,null,{"$f":"IF(ISNUMBER($L126),VALUE(OFFSET(Banco!$A$1,Composições!$L126-1,COLUMN(Composições!I126)-4)),0)","v":0},{"$f":"IF(ISNUMBER($L126),VALUE(OFFSET(Banco!$A$1,Composições!$L126-1,COLUMN(Composições!J126)-4)),0)","v":0},{"$f":"COUNTA($A$1:$A126)-1","v":10},{"$f":"MATCH(Composições!CONCATENAR,Banco!$A:$A,0)","v":{"$error":"#N/A"}},{"$f":"IF(OR(ISERROR($L126),$H126=\"\",$H126=0),\"\",OFFSET(M$1,MATCH($K126,$K$1:$K126,0)-1,0))","v":""}]
[null,null,null,{"$f":"IF(ISNUMBER($L127),OFFSET(Banco!$A$1,Composições!$L127-1,COLUMN(Composições!D127)-1),\"\")","v":""},{"$f":"IF(ISNUMBER($L127),OFFSET(Banco!$A$1,Composições!$L127-1,COLUMN(Composições!E127)-1),\"\")","v":""},0,0,null,{"$f":"IF(ISNUMBER($L127),VALUE(OFFSET(Banco!$A$1,Composições!$L127-1,COLUMN(Composições!I127)-4)),0)","v":0},{"$f":"IF(ISNUMBER($L127),VALUE(OFFSET(Banco!$A$1,Composições!$L127-1,COLUMN(Composições!J127)-4)),0)","v":0},{"$f":"COUNTA($A$1:$A127)-1","v":10},{"$f":"MATCH(Composições!CONCATENAR,Banco!$A:$A,0)","v":{"$error":"#N/A"}},{"$f":"IF(OR(ISERROR($L127),$H127=\"\",$H127=0),\"\",OFFSET(M$1,MATCH($K127,$K$1:$K127,0)-1,0))","v":""}]
[null,null,null,{"$f":"IF(ISNUMBER($L128),OFFSET(Banco!$A$1,Composições!$L128-1,COLUMN(Composições!D128)-1),\"\")","v":""},{"$f":"IF(ISNUMBER($L128),OFFSET(Banco!$A$1,Composições!$L128-1,COLUMN(Composições!E128)-1),\"\")","v":""},0,0,null,{"$f":"IF(ISNUMBER($L128),VALUE(OFFSET(Banco!$A$1,Composições!$L128-1,COLUMN(Composições!I128)-4)),0)","v":0},{"$f":"IF(ISNUMBER($L128),VALUE(OFFSET(Banco!$A$1,Composições!$L128-1,COLUMN(Composições!J128)-4)),0)","v":0},{"$f":"COUNTA($A$1:$A128)-1","v":10},{"$f":"MATCH(Composições!CONCATENAR,Banco!$A:$A,0)","v":{"$error":"#N/A"}},{"$f":"IF(OR(ISERROR($L128),$H128=\"\",$H128=0),\"\",OFFSET(M$1,MATCH($K128,$K$1:$K128,0)-1,0))","v":""}]
[null,null,null,{"$f":"IF(ISNUMBER($L129),OFFSET(Banco!$A$1,Composições!$L129-1,COLUMN(Composições!D129)-1),\"\")","v":""},{"$f":"IF(ISNUMBER($L129),OFFSET(Banco!$A$1,Composições!$L129-1,COLUMN(Composições!E129)-1),\"\")","v":""},0,0,null,{"$f":"IF(ISNUMBER($L129),VALUE(OFFSET(Banco!$A$1,Composições!$L129-1,COLUMN(Composições!I129)-4)),0)","v":0},{"$f":"IF(ISNUMBER($L129),VALUE(OFFSET(Banco!$A$1,Composições!$L129-1,COLUMN(Composições!J129)-4)),0)","v":0},{"$f":"COUNTA($A$1:$A129)-1","v":10},{"$f":"MATCH(Composições!CONCATENAR,Banco!$A:$A,0)","v":{"$error":"#N/A"}},{"$f":"IF(OR(ISERROR($L129),$H129=\"\",$H129=0),\"\",OFFSET(M$1,MATCH($K129,$K$1:$K129,0)-1,0))","v":""}]
[null,null,null,null,null,null,null,null,null,null,{"$f":"COUNTA($A$1:$A130)-1","v":10},null,{"$f":"IF(OFFSET($M$1,MATCH(OFFSET(K130,-1,0),$K$1:$K130,0)-1,0)=\"F\",\"F\",\"\")","v":""}]
[{"$f":"CONCATENAR","v":" "},null,null,null,null,{"$f":"IF($L131>0,SUM(OFFSET(F131,1,0,$L131),0))","v":0},{"$f":"IF($L131>0,SUM(OFFSET(G131,1,0,$L131),0))","v":0},null,{"$f":"IF(ISERROR(F131),0,F131)","v":0},{"$f":"IF(ISERROR(G131),0,G131)","v":0},{"$f":"COUNTA($A$1:$A131)-1","v":11},{"$f":"IF(MAX(K:K)=K131,MATCH(9999999,$K:$K)+1,MATCH(K131+1,K:K,0))-ROW(L131)-2","v":10},{"$f":"IF(AND(OR(I131<>0,J131<>0),N131=\"Sim\"),\"F\",\"\")","v":""},"Sim"]
[null,null,null,{"$f":"IF(ISNUMBER($L132),OFFSET(Banco!$A$1,Composições!$L132-1,COLUMN(Composições!D132)-1),\"\")","v":""},{"$f":"IF(ISNUMBER($L132),OFFSET(Banco!$A$1,Composições!$L132-1,COLUMN(Composições!E132)-1),\"\")","v":""},{"$f":"TRUNC($H132*ROUND(I132,2),2)","v":0},{"$f":"TRUNC($H132*ROUND(J132,2),2)","v":0},null,{"$f":"IF(ISNUMBER($L132),VALUE(OFFSET(Banco!$A$1,Composições!$L132-1,COLUMN(Composições!I132)-4)),0)","v":0},{"$f":"IF(ISNUMBER($L132),VALUE(OFFSET(Banco!$A$1,Composições!$L132-1,COLUMN(Composições!J132)-4)),0)","v":0},{"$f":"COUNTA($A$1:$A132)-1","v":11},{"$f":"MATCH(Composições!CONCATENAR,Banco!$A:$A,0)","v":{"$error":"#N/A"}},{"$f":"IF(OR(ISERROR($L132),$H132=\"\",$H132=0),\"\",OFFSET(M$1,MATCH($K132,$K$1:$K132,0)-1,0))","v":""}]
[null,null,null,{"$f":"IF(ISNUMBER($L133),OFFSET(Banco!$A$1,Composições!$L133-1,COLUMN(Composições!D133)-1),\"\")","v":""},{"$f":"IF(ISNUMBER($L133),OFFSET(Banco!$A$1,Composições!$L133-1,COLUMN(Composições!E133)-1),\"\")","v":""},0,0,null,{"$f":"IF(ISNUMBER($L133),VALUE(OFFSET(Banco!$A$1,Composições!$L133-1,COLUMN(Composições!I133)-4)),0)","v":0},{"$f":"IF(ISNUMBER($L133),VALUE(OFFSET(Banco!$A$1,Composições!$L133-1,COLUMN(Composições!J133)-4)),0)","v":0},{"$f":"COUNTA($A$1:$A133)-1","v":11},{"$f":"MATCH(Composições!CONCATENAR,Banco!$A:$A,0)","v":{"$error":"#N/A"}},{"$f":"IF(OR(ISERROR($L133),$H133=\"\",$H133=0),\"\",OFFSET(M$1,MATCH($K133,$K$1:$K133,0)-1,0))","v":""}]
[null,null,null,{"$f":"IF(ISNUMBER($L134),OFFSET(Banco!$A$1,Composições!$L134-1,COLUMN(Composições!D134)-1),\"\")","v":""},{"$f":"IF(ISNUMBER($L134),OFFSET(Banco!$A$1,Composições!$L134-1,COLUMN(Composições!E134)-1),\"\")","v":""},0,0,null,{"$f":"IF(ISNUMBER($L134),VALUE(OFFSET(Banco!$A$1,Composições!$L134-1,COLUMN(Composições!I134)-4)),0)","v":0},{"$f":"IF(ISNUMBER($L134),VALUE(OFFSET(Banco!$A$1,Composições!$L134-1,COLUMN(Composições!J134)-4)),0)","v":0},{"$f":"COUNTA($A$1:$A134)-1","v":11},{"$f":"MATCH(Composições!CONCATENAR,Banco!$A:$A,0)","v":{"$error":"#N/A"}},{"$f":"IF(OR(ISERROR($L134),$H134=\"\",$H134=0),\"\",OFFSET(M$1,MATCH($K134,$K$1:$K134,0)-1,0))","v":""}]
[null,null,null,{"$f":"IF(ISNUMBER($L135),OFFSET(Banco!$A$1,Composições!$L135-1,COLUMN(Composições!D135)-1),\"\")","v":""},{"$f":"IF(ISNUMBER($L135),OFFSET(Banco!$A$1,Composições!$L135-1,COLUMN(Composições!E135)-1),\"\")","v":""},0,0,null,{"$f":"IF(ISNUMBER($L135),VALUE(OFFSET(Banco!$A$1,Composições!$L135-1,COLUMN(Composições!I135)-4)),0)","v":0},{"$f":"IF(ISNUMBER($L135),VALUE(OFFSET(Banco!$A$1,Composições!$L135-1,COLUMN(Composições!J135)-4)),0)","v":0},{"$f":"COUNTA($A$1:$A135)-1","v":11},{"$f":"MATCH(Composições!CONCATENAR,Banco!$A:$A,0)","v":{"$error":"#N/A"}},{"$f":"IF(OR(ISERROR($L135),$H135=\"\",$H135=0),\"\",OFFSET(M$1,MATCH($K135,$K$1:$K135,0)-1,0))","v":""}]
[null,null,null,{"$f":"IF(ISNUMBER($L136),OFFSET(Banco!$A$1,Composições!$L136-1,COLUMN(Composições!D136)-1),\"\")","v":""},{"$f":"IF(ISNUMBER($L136),OFFSET(Banco!$A$1,Composições!$L136-1,COLUMN(Composições!E136)-1),\"\")","v":""},0,0,null,{"$f":"IF(ISNUMBER($L136),VALUE(OFFSET(Banco!$A$1,Composições!$L136-1,COLUMN(Composições!I136)-4)),0)","v":0},{"$f":"IF(ISNUMBER($L136),VALUE(OFFSET(Banco!$A$1,Composições!$L136-1,COLUMN(Composições!J136)-4)),0)","v":0},{"$f":"COUNTA($A$1:$A136)-1","v":11},{"$f":"MATCH(Composições!CONCATENAR,Banco!$A:$A,0)","v":{"$error":"#N/A"}},{"$f":"IF(OR(ISERROR($L136),$H136=\"\",$H136=0),\"\",OFFSET(M$1,MATCH($K136,$K$1:$K136,0)-1,0))","v":""}]
[null,null,null,{"$f":"IF(ISNUMBER($L137),OFFSET(Banco!$A$1,Composições!$L137-1,COLUMN(Composições!D137)-1),\"\")","v":""},{"$f":"IF(ISNUMBER($L137),OFFSET(Banco!$A$1,Composições!$L137-1,COLUMN(Composições!E137)-1),\"\")","v":""},0,0,null,{"$f":"IF(ISNUMBER($L137),VALUE(OFFSET(Banco!$A$1,Composições!$L137-1,COLUMN(Composições!I137)-4)),0)","v":0},{"$f":"IF(ISNUMBER($L137),VALUE(OFFSET(Banco!$A$1,Composições!$L137-1,COLUMN(Composições!J137)-4)),0)","v":0},{"$f":"COUNTA($A$1:$A137)-1","v":11},{"$f":"MATCH(Composições!CONCATENAR,Banco!$A:$A,0)","v":{"$error":"#N/A"}},{"$f":"IF(OR(ISERROR($L137),$H137=\"\",$H137=0),\"\",OFFSET(M$1,MATCH($K137,$K$1:$K137,0)-1,0))","v":""}]
[null,null,null,{"$f":"IF(ISNUMBER($L138),OFFSET(Banco!$A$1,Composições!$L138-1,COLUMN(Composições!D138)-1),\"\")","v":""},{"$f":"IF(ISNUMBER($L138),OFFSET(Banco!$A$1,Composições!$L138-1,COLUMN(Composições!E138)-1),\"\")","v":""},0,0,null,{"$f":"IF(ISNUMBER($L138),VALUE(OFFSET(Banco!$A$1,Composições!$L138-1,COLUMN(Composições!I138)-4)),0)","v":0},{"$f":"IF(ISNUMBER($L138),VALUE(OFFSET(Banco!$A$1,Composições!$L138-1,COLUMN(Composições!J138)-4)),0)","v":0},{"$f":"COUNTA($A$1:$A138)-1","v":11},{"$f":"MATCH(Composições!CONCATENAR,Banco!$A:$A,0)","v":{"$error":"#N/A"}},{"$f":"IF(OR(ISERROR($L138),$H138=\"\",$H138=0),\"\",OFFSET(M$1,MATCH($K138,$K$1:$K138,0)-1,0))","v":""}]
[null,null,null,{"$f":"IF(ISNUMBER($L139),OFFSET(Banco!$A$1,Composições!$L139-1,COLUMN(Composições!D139)-1),\"\")","v":""},{"$f":"IF(ISNUMBER($L139),OFFSET(Banco!$A$1,Composições!$L139-1,COLUMN(Composições!E139)-1),\"\")","v":""},0,0,null,{"$f":"IF(ISNUMBER($L139),VALUE(OFFSET(Banco!$A$1,Composições!$L139-1,COLUMN(Composições!I139)-4)),0)","v":0},{"$f":"IF(ISNUMBER($L139),VALUE(OFFSET(Banco!$A$1,Composições!$L139-1,COLUMN(Composições!J139)-4)),0)","v":0},{"$f":"COUNTA($A$1:$A139)-1","v":11},{"$f":"MATCH(Composições!CONCATENAR,Banco!$A:$A,0)","v":{"$error":"#N/A"}},{"$f":"IF(OR(ISERROR($L139),$H139=\"\",$H139=0),\"\",OFFSET(M$1,MATCH($K139,$K$1:$K139,0)-1,0))","v":""}]
[null,null,null,{"$f":"IF(ISNUMBER($L140),OFFSET(Banco!$A$1,Composições!$L140-1,COLUMN(Composições!D140)-1),\"\")","v":""},{"$f":"IF(ISNUMBER($L140),OFFSET(Banco!$A$1,Composições!$L140-1,COLUMN(Composições!E140)-1),\"\")","v":""},0,0,null,{"$f":"IF(ISNUMBER($L140),VALUE(OFFSET(Banco!$A$1,Composições!$L140-1,COLUMN(Composições!I140)-4)),0)","v":0},{"$f":"IF(ISNUMBER($L140),VALUE(OFFSET(Banco!$A$1,Composições!$L140-1,COLUMN(Composições!J140)-4)),0)","v":0},{"$f":"COUNTA($A$1:$A140)-1","v":11},{"$f":"MATCH(Composições!CONCATENAR,Banco!$A:$A,0)","v":{"$error":"#N/A"}},{"$f":"IF(OR(ISERROR($L140),$H140=\"\",$H140=0),\"\",OFFSET(M$1,MATCH($K140,$K$1:$K140,0)-1,0))","v":""}]
[null,null,null,{"$f":"IF(ISNUMBER($L141),OFFSET(Banco!$A$1,Composições!$L141-1,COLUMN(Composições!D141)-1),\"\")","v":""},{"$f":"IF(ISNUMBER($L141),OFFSET(Banco!$A$1,Composições!$L141-1,COLUMN(Composições!E141)-1),\"\")","v":""},0,0,null,{"$f":"IF(ISNUMBER($L141),VALUE(OFFSET(Banco!$A$1,Composições!$L141-1,COLUMN(Composições!I141)-4)),0)","v":0},{"$f":"IF(ISNUMBER($L141),VALUE(OFFSET(Banco!$A$1,Composições!$L141-1,COLUMN(Composições!J141)-4)),0)","v":0},{"$f":"COUNTA($A$1:$A141)-1","v":11},{"$f":"MATCH(Composições!CONCATENAR,Banco!$A:$A,0)","v":{"$error":"#N/A"}},{"$f":"IF(OR(ISERROR($L141),$H141=\"\",$H141=0),\"\",OFFSET(M$1,MATCH($K141,$K$1:$K141,0)-1,0))","v":""}]
[null,null,null,null,null,null,null,null,null,null,{"$f":"COUNTA($A$1:$A142)-1","v":11},null,{"$f":"IF(OFFSET($M$1,MATCH(OFFSET(K142,-1,0),$K$1:$K142,0)-1,0)=\"F\",\"F\",\"\")","v":""}]
[{"$f":"CONCATENAR","v":" "},null,null,null,null,{"$f":"IF($L143>0,SUM(OFFSET(F143,1,0,$L143),0))","v":0},{"$f":"IF($L143>0,SUM(OFFSET(G143,1,0,$L143),0))","v":0},null,{"$f":"IF(ISERROR(F143),0,F143)","v":0},{"$f":"IF(ISERROR(G143),0,G143)","v":0},{"$f":"COUNTA($A$1:$A143)-1","v":12},{"$f":"IF(MAX(K:K)=K143,MATCH(9999999,$K:$K)+1,MATCH(K143+1,K:K,0))-ROW(L143)-2","v":10},{"$f":"IF(AND(OR(I143<>0,J143<>0),N143=\"Sim\"),\"F\",\"\")","v":""},"Sim"]
[null,null,null,{"$f":"IF(ISNUMBER($L144),OFFSET(Banco!$A$1,Composições!$L144-1,COLUMN(Composições!D144)-1),\"\")","v":""},{"$f":"IF(ISNUMBER($L144),OFFSET(Banco!$A$1,Composições!$L144-1,COLUMN(Composições!E144)-1),\"\")","v":""},{"$f":"TRUNC($H144*ROUND(I144,2),2)","v":0},{"$f":"TRUNC($H144*ROUND(J144,2),2)","v":0},null,{"$f":"IF(ISNUMBER($L144),VALUE(OFFSET(Banco!$A$1,Composições!$L144-1,COLUMN(Composições!I144)-4)),0)","v":0},{"$f":"IF(ISNUMBER($L144),VALUE(OFFSET(Banco!$A$1,Composições!$L144-1,COLUMN(Composições!J144)-4)),0)","v":0},{"$f":"COUNTA($A$1:$A144)-1","v":12},{"$f":"MATCH(Composições!CONCATENAR,Banco!$A:$A,0)","v":{"$error":"#N/A"}},{"$f":"IF(OR(ISERROR($L144),$H144=\"\",$H144=0),\"\",OFFSET(M$1,MATCH($K144,$K$1:$K144,0)-1,0))","v":""}]
[null,null,null,{"$f":"IF(ISNUMBER($L145),OFFSET(Banco!$A$1,Composições!$L145-1,COLUMN(Composições!D145)-1),\"\")","v":""},{"$f":"IF(ISNUMBER($L145),OFFSET(Banco!$A$1,Composições!$L145-1,COLUMN(Composições!E145)-1),\"\")","v":""},0,0,null,{"$f":"IF(ISNUMBER($L145),VALUE(OFFSET(Banco!$A$1,Composições!$L145-1,COLUMN(Composições!I145)-4)),0)","v":0},{"$f":"IF(ISNUMBER($L145),VALUE(OFFSET(Banco!$A$1,Composições!$L145-1,COLUMN(Composições!J145)-4)),0)","v":0},{"$f":"COUNTA($A$1:$A145)-1","v":12},{"$f":"MATCH(Composições!CONCATENAR,Banco!$A:$A,0)","v":{"$error":"#N/A"}},{"$f":"IF(OR(ISERROR($L145),$H145=\"\",$H145=0),\"\",OFFSET(M$1,MATCH($K145,$K$1:$K145,0)-1,0))","v":""}]
[null,null,null,{"$f":"IF(ISNUMBER($L146),OFFSET(Banco!$A$1,Composições!$L146-1,COLUMN(Composições!D146)-1),\"\")","v":""},{"$f":"IF(ISNUMBER($L146),OFFSET(Banco!$A$1,Composições!$L146-1,COLUMN(Composições!E146)-1),\"\")","v":""},0,0,null,{"$f":"IF(ISNUMBER($L146),VALUE(OFFSET(Banco!$A$1,Composições!$L146-1,COLUMN(Composições!I146)-4)),0)","v":0},{"$f":"IF(ISNUMBER($L146),VALUE(OFFSET(Banco!$A$1,Composições!$L146-1,COLUMN(Composições!J146)-4)),0)","v":0},{"$f":"COUNTA($A$1:$A146)-1","v":12},{"$f":"MATCH(Composições!CONCATENAR,Banco!$A:$A,0)","v":{"$error":"#N/A"}},{"$f":"IF(OR(ISERROR($L146),$H146=\"\",$H146=0),\"\",OFFSET(M$1,MATCH($K146,$K$1:$K146,0)-1,0))","v":""}]
[null,null,null,{"$f":"IF(ISNUMBER($L147),OFFSET(Banco!$A$1,Composições!$L147-1,COLUMN(Composições!D147)-1),\"\")","v":""},{"$f":"IF(ISNUMBER($L147),OFFSET(Banco!$A$1,Composições!$L147-1,COLUMN(Composições!E147)-1),\"\")","v":""},0,0,null,{"$f":"IF(ISNUMBER($L147),VALUE(OFFSET(Banco!$A$1,Composições!$L147-1,COLUMN(Composições!I147)-4)),0)","v":0},{"$f":"IF(ISNUMBER($L147),VALUE(OFFSET(Banco!$A$1,Composições!$L147-1,COLUMN(Composições!J147)-4)),0)","v":0},{"$f":"COUNTA($A$1:$A147)-1","v":12},{"$f":"MATCH(Composições!CONCATENAR,Banco!$A:$A,0)","v":{"$error":"#N/A"}},{"$f":"IF(OR(ISERROR($L147),$H147=\"\",$H147=0),\"\",OFFSET(M$1,MATCH($K147,$K$1:$K147,0)-1,0))","v":""}]
[null,null,null,{"$f":"IF(ISNUMBER($L148),OFFSET(Banco!$A$1,Composições!$L148-1,COLUMN(Composições!D148)-1),\"\")","v":""},{"$f":"IF(ISNUMBER($L148),OFFSET(Banco!$A$1,Composições!$L148-1,COLUMN(Composições!E148)-1),\"\")","v":""},0,0,null,{"$f":"IF(ISNUMBER($L148),VALUE(OFFSET(Banco!$A$1,Composições!$L148-1,COLUMN(Composições!I148)-4)),0)","v":0},{"$f":"IF(ISNUMBER($L148),VALUE(OFFSET(Banco!$A$1,Composições!$L148-1,COLUMN(Composições!J148)-4)),0)","v":0},{"$f":"COUNTA($A$1:$A148)-1","v":12},{"$f":"MATCH(Composições!CONCATENAR,Banco!$A:$A,0)","v":{"$error":"#N/A"}},{"$f":"IF(OR(ISERROR($L148),$H148=\"\",$H148=0),\"\",OFFSET(M$1,MATCH($K148,$K$1:$K148,0)-1,0))","v":""}]
[null,null,null,{"$f":"IF(ISNUMBER($L149),OFFSET(Banco!$A$1,Composições!$L149-1,COLUMN(Composições!D149)-1),\"\")","v":""},{"$f":"IF(ISNUMBER($L149),OFFSET(Banco!$A$1,Composições!$L149-1,COLUMN(Composições!E149)-1),\"\")","v":""},0,0,null,{"$f":"IF(ISNUMBER($L149),VALUE(OFFSET(Banco!$A$1,Composições!$L149-1,COLUMN(Composições!I149)-4)),0)","v":0},{"$f":"IF(ISNUMBER($L149),VALUE(OFFSET(Banco!$A$1,Composições!$L149-1,COLUMN(Composições!J149)-4)),0)","v":0},{"$f":"COUNTA($A$1:$A149)-1","v":12},{"$f":"MATCH(Composições!CONCATENAR,Banco!$A:$A,0)","v":{"$error":"#N/A"}},{"$f":"IF(OR(ISERROR($L149),$H149=\"\",$H149=0),\"\",OFFSET(M$1,MATCH($K149,$K$1:$K149,0)-1,0))","v":""}]
[null,null,null,{"$f":"IF(ISNUMBER($L150),OFFSET(Banco!$A$1,Composições!$L150-1,COLUMN(Composições!D150)-1),\"\")","v":""},{"$f":"IF(ISNUMBER($L150),OFFSET(Banco!$A$1,Composições!$L150-1,COLUMN(Composições!E150)-1),\"\")","v":""},0,0,null,{"$f":"IF(ISNUMBER($L150),VALUE(OFFSET(Banco!$A$1,Composições!$L150-1,COLUMN(Composições!I150)-4)),0)","v":0},{"$f":"IF(ISNUMBER($L150),VALUE(OFFSET(Banco!$A$1,Composições!$L150-1,COLUMN(Composições!J150)-4)),0)","v":0},{"$f":"COUNTA($A$1:$A150)-1","v":12},{"$f":"MATCH(Composições!CONCATENAR,Banco!$A:$A,0)","v":{"$error":"#N/A"}},{"$f":"IF(OR(ISERROR($L150),$H150=\"\",$H150=0),\"\",OFFSET(M$1,MATCH($K150,$K$1:$K150,0)-1,0))","v":""}]
[null,null,null,{"$f":"IF(ISNUMBER($L151),OFFSET(Banco!$A$1,Composições!$L151-1,COLUMN(Composições!D151)-1),\"\")","v":""},{"$f":"IF(ISNUMBER($L151),OFFSET(Banco!$A$1,Composições!$L151-1,COLUMN(Composições!E151)-1),\"\")","v":""},0,0,null,{"$f":"IF(ISNUMBER($L151),VALUE(OFFSET(Banco!$A$1,Composições!$L151-1,COLUMN(Composições!I151)-4)),0)","v":0},{"$f":"IF(ISNUMBER($L151),VALUE(OFFSET(Banco!$A$1,Composições!$L151-1,COLUMN(Composições!J151)-4)),0)","v":0},{"$f":"COUNTA($A$1:$A151)-1","v":12},{"$f":"MATCH(Composições!CONCATENAR,Banco!$A:$A,0)","v":{"$error":"#N/A"}},{"$f":"IF(OR(ISERROR($L151),$H151=\"\",$H151=0),\"\",OFFSET(M$1,MATCH($K151,$K$1:$K151,0)-1,0))","v":""}]
[null,null,null,{"$f":"IF(ISNUMBER($L152),OFFSET(Banco!$A$1,Composições!$L152-1,COLUMN(Composições!D152)-1),\"\")","v":""},{"$f":"IF(ISNUMBER($L152),OFFSET(Banco!$A$1,Composições!$L152-1,COLUMN(Composições!E152)-1),\"\")","v":""},0,0,null,{"$f":"IF(ISNUMBER($L152),VALUE(OFFSET(Banco!$A$1,Composições!$L152-1,COLUMN(Composições!I152)-4)),0)","v":0},{"$f":"IF(ISNUMBER($L152),VALUE(OFFSET(Banco!$A$1,Composições!$L152-1,COLUMN(Composições!J152)-4)),0)","v":0},{"$f":"COUNTA($A$1:$A152)-1","v":12},{"$f":"MATCH(Composições!CONCATENAR,Banco!$A:$A,0)","v":{"$error":"#N/A"}},{"$f":"IF(OR(ISERROR($L152),$H152=\"\",$H152=0),\"\",OFFSET(M$1,MATCH($K152,$K$1:$K152,0)-1,0))","v":""}]
[null,null,null,{"$f":"IF(ISNUMBER($L153),OFFSET(Banco!$A$1,Composições!$L153-1,COLUMN(Composições!D153)-1),\"\")","v":""},{"$f":"IF(ISNUMBER($L153),OFFSET(Banco!$A$1,Composições!$L153-1,COLUMN(Composições!E153)-1),\"\")","v":""},0,0,null,{"$f":"IF(ISNUMBER($L153),VALUE(OFFSET(Banco!$A$1,Composições!$L153-1,COLUMN(Composições!I153)-4)),0)","v":0},{"$f":"IF(ISNUMBER($L153),VALUE(OFFSET(Banco!$A$1,Composições!$L153-1,COLUMN(Composições!J153)-4)),0)","v":0},{"$f":"COUNTA($A$1:$A153)-1","v":12},{"$f":"MATCH(Composições!CONCATENAR,Banco!$A:$A,0)","v":{"$error":"#N/A"}},{"$f":"IF(OR(ISERROR($L153),$H153=\"\",$H153=0),\"\",OFFSET(M$1,MATCH($K153,$K$1:$K153,0)-1,0))","v":""}]
[null,null,null,null,null,null,null,null,null,null,{"$f":"COUNTA($A$1:$A154)-1","v":12},null,{"$f":"IF(OFFSET($M$1,MATCH(OFFSET(K154,-1,0),$K$1:$K154,0)-1,0)=\"F\",\"F\",\"\")","v":""}]
[{"$f":"CONCATENAR","v":" "},null,null,null,null,{"$f":"IF($L155>0,SUM(OFFSET(F155,1,0,$L155),0))","v":0},{"$f":"IF($L155>0,SUM(OFFSET(G155,1,0,$L155),0))","v":0},null,{"$f":"IF(ISERROR(F155),0,F155)","v":0},{"$f":"IF(ISERROR(G155),0,G155)","v":0},{"$f":"COUNTA($A$1:$A155)-1","v":13},{"$f":"IF(MAX(K:K)=K155,MATCH(9999999,$K:$K)+1,MATCH(K155+1,K:K,0))-ROW(L155)-2","v":10},{"$f":"IF(AND(OR(I155<>0,J155<>0),N155=\"Sim\"),\"F\",\"\")","v":""},"Sim"]
[null,null,null,{"$f":"IF(ISNUMBER($L156),OFFSET(Banco!$A$1,Composições!$L156-1,COLUMN(Composições!D156)-1),\"\")","v":""},{"$f":"IF(ISNUMBER($L156),OFFSET(Banco!$A$1,Composições!$L156-1,COLUMN(Composições!E156)-1),\"\")","v":""},{"$f":"TRUNC($H156*ROUND(I156,2),2)","v":0},{"$f":"TRUNC($H156*ROUND(J156,2),2)","v":0},null,{"$f":"IF(ISNUMBER($L156),VALUE(OFFSET(Banco!$A$1,Composições!$L156-1,COLUMN(Composições!I156)-4)),0)","v":0},{"$f":"IF(ISNUMBER($L156),VALUE(OFFSET(Banco!$A$1,Composições!$L156-1,COLUMN(Composições!J156)-4)),0)","v":0},{"$f":"COUNTA($A$1:$A156)-1","v":13},{"$f":"MATCH(Composições!CONCATENAR,Banco!$A:$A,0)","v":{"$error":"#N/A"}},{"$f":"IF(OR(ISERROR($L156),$H156=\"\",$H156=0),\"\",OFFSET(M$1,MATCH($K156,$K$1:$K156,0)-1,0))","v":""}]
[null,null,null,{"$f":"IF(ISNUMBER($L157),OFFSET(Banco!$A$1,Composições!$L157-1,COLUMN(Composições!D157)-1),\"\")","v":""},{"$f":"IF(ISNUMBER($L157),OFFSET(Banco!$A$1,Composições!$L157-1,COLUMN(Composições!E157)-1),\"\")","v":""},0,0,null,{"$f":"IF(ISNUMBER($L157),VALUE(OFFSET(Banco!$A$1,Composições!$L157-1,COLUMN(Composições!I157)-4)),0)","v":0},{"$f":"IF(ISNUMBER($L157),VALUE(OFFSET(Banco!$A$1,Composições!$L157-1,COLUMN(Composições!J157)-4)),0)","v":0},{"$f":"COUNTA($A$1:$A157)-1","v":13},{"$f":"MATCH(Composições!CONCATENAR,Banco!$A:$A,0)","v":{"$error":"#N/A"}},{"$f":"IF(OR(ISERROR($L157),$H157=\"\",$H157=0),\"\",OFFSET(M$1,MATCH($K157,$K$1:$K157,0)-1,0))","v":""}]
[null,null,null,{"$f":"IF(ISNUMBER($L158),OFFSET(Banco!$A$1,Composições!$L158-1,COLUMN(Composições!D158)-1),\"\")","v":""},{"$f":"IF(ISNUMBER($L158),OFFSET(Banco!$A$1,Composições!$L158-1,COLUMN(Composições!E158)-1),\"\")","v":""},0,0,null,{"$f":"IF(ISNUMBER($L158),VALUE(OFFSET(Banco!$A$1,Composições!$L158-1,COLUMN(Composições!I158)-4)),0)","v":0},{"$f":"IF(ISNUMBER($L158),VALUE(OFFSET(Banco!$A$1,Composições!$L158-1,COLUMN(Composições!J158)-4)),0)","v":0},{"$f":"COUNTA($A$1:$A158)-1","v":13},{"$f":"MATCH(Composições!CONCATENAR,Banco!$A:$A,0)","v":{"$error":"#N/A"}},{"$f":"IF(OR(ISERROR($L158),$H158=\"\",$H158=0),\"\",OFFSET(M$1,MATCH($K158,$K$1:$K158,0)-1,0))","v":""}]
[null,null,null,{"$f":"IF(ISNUMBER($L159),OFFSET(Banco!$A$1,Composições!$L159-1,COLUMN(Composições!D159)-1),\"\")","v":""},{"$f":"IF(ISNUMBER($L159),OFFSET(Banco!$A$1,Composições!$L159-1,COLUMN(Composições!E159)-1),\"\")","v":""},0,0,null,{"$f":"IF(ISNUMBER($L159),VALUE(OFFSET(Banco!$A$1,Composições!$L159-1,COLUMN(Composições!I159)-4)),0)","v":0},{"$f":"IF(ISNUMBER($L159),VALUE(OFFSET(Banco!$A$1,Composições!$L159-1,COLUMN(Composições!J159)-4)),0)","v":0},{"$f":"COUNTA($A$1:$A159)-1","v":13},{"$f":"MATCH(Composições!CONCATENAR,Banco!$A:$A,0)","v":{"$error":"#N/A"}},{"$f":"IF(OR(ISERROR($L159),$H159=\"\",$H159=0),\"\",OFFSET(M$1,MATCH($K159,$K$1:$K159,0)-1,0))","v":""}]
[null,null,null,{"$f":"IF(ISNUMBER($L160),OFFSET(Banco!$A$1,Composições!$L160-1,COLUMN(Composições!D160)-1),\"\")","v":""},{"$f":"IF(ISNUMBER($L160),OFFSET(Banco!$A$1,Composições!$L160-1,COLUMN(Composições!E160)-1),\"\")","v":""},0,0,null,{"$f":"IF(ISNUMBER($L160),VALUE(OFFSET(Banco!$A$1,Composições!$L160-1,COLUMN(Composições!I160)-4)),0)","v":0},{"$f":"IF(ISNUMBER($L160),VALUE(OFFSET(Banco!$A$1,Composições!$L160-1,COLUMN(Composições!J160)-4)),0)","v":0},{"$f":"COUNTA($A$1:$A160)-1","v":13},{"$f":"MATCH(Composições!CONCATENAR,Banco!$A:$A,0)","v":{"$error":"#N/A"}},{"$f":"IF(OR(ISERROR($L160),$H160=\"\",$H160=0),\"\",OFFSET(M$1,MATCH($K160,$K$1:$K160,0)-1,0))","v":""}]
[null,null,null,{"$f":"IF(ISNUMBER($L161),OFFSET(Banco!$A$1,Composições!$L161-1,COLUMN(Composições!D161)-1),\"\")","v":""},{"$f":"IF(ISNUMBER($L161),OFFSET(Banco!$A$1,Composições!$L161-1,COLUMN(Composições!E161)-1),\"\")","v":""},0,0,null,{"$f":"IF(ISNUMBER($L161),VALUE(OFFSET(Banco!$A$1,Composições!$L161-1,COLUMN(Composições!I161)-4)),0)","v":0},{"$f":"IF(ISNUMBER($L161),VALUE(OFFSET(Banco!$A$1,Composições!$L161-1,COLUMN(Composições!J161)-4)),0)","v":0},{"$f":"COUNTA($A$1:$A161)-1","v":13},{"$f":"MATCH(Composições!CONCATENAR,Banco!$A:$A,0)","v":{"$error":"#N/A"}},{"$f":"IF(OR(ISERROR($L161),$H161=\"\",$H161=0),\"\",OFFSET(M$1,MATCH($K161,$K$1:$K161,0)-1,0))","v":""}]
[null,null,null,{"$f":"IF(ISNUMBER($L162),OFFSET(Banco!$A$1,Composições!$L162-1,COLUMN(Composições!D162)-1),\"\")","v":""},{"$f":"IF(ISNUMBER($L162),OFFSET(Banco!$A$1,Composições!$L162-1,COLUMN(Composições!E162)-1),\"\")","v":""},0,0,null,{"$f":"IF(ISNUMBER($L162),VALUE(OFFSET(Banco!$A$1,Composições!$L162-1,COLUMN(Composições!I162)-4)),0)","v":0},{"$f":"IF(ISNUMBER($L162),VALUE(OFFSET(Banco!$A$1,Composições!$L162-1,COLUMN(Composições!J162)-4)),0)","v":0},{"$f":"COUNTA($A$1:$A162)-1","v":13},{"$f":"MATCH(Composições!CONCATENAR,Banco!$A:$A,0)","v":{"$error":"#N/A"}},{"$f":"IF(OR(ISERROR($L162),$H162=\"\",$H162=0),\"\",OFFSET(M$1,MATCH($K162,$K$1:$K162,0)-1,0))","v":""}]
[null,null,null,{"$f":"IF(ISNUMBER($L163),OFFSET(Banco!$A$1,Composições!$L163-1,COLUMN(Composições!D163)-1),\"\")","v":""},{"$f":"IF(ISNUMBER($L163),OFFSET(Banco!$A$1,Composições!$L163-1,COLUMN(Composições!E163)-1),\"\")","v":""},0,0,null,{"$f":"IF(ISNUMBER($L163),VALUE(OFFSET(Banco!$A$1,Composições!$L163-1,COLUMN(Composições!I163)-4)),0)","v":0},{"$f":"IF(ISNUMBER($L163),VALUE(OFFSET(Banco!$A$1,Composições!$L163-1,COLUMN(Composições!J163)-4)),0)","v":0},{"$f":"COUNTA($A$1:$A163)-1","v":13},{"$f":"MATCH(Composições!CONCATENAR,Banco!$A:$A,0)","v":{"$error":"#N/A"}},{"$f":"IF(OR(ISERROR($L163),$H163=\"\",$H163=0),\"\",OFFSET(M$1,MATCH($K163,$K$1:$K163,0)-1,0))","v":""}]
[null,null,null,{"$f":"IF(ISNUMBER($L164),OFFSET(Banco!$A$1,Composições!$L164-1,COLUMN(Composições!D164)-1),\"\")","v":""},{"$f":"IF(ISNUMBER($L164),OFFSET(Banco!$A$1,Composições!$L164-1,COLUMN(Composições!E164)-1),\"\")","v":""},0,0,null,{"$f":"IF(ISNUMBER($L164),VALUE(OFFSET(Banco!$A$1,Composições!$L164-1,COLUMN(Composições!I164)-4)),0)","v":0},{"$f":"IF(ISNUMBER($L164),VALUE(OFFSET(Banco!$A$1,Composições!$L164-1,COLUMN(Composições!J164)-4)),0)","v":0},{"$f":"COUNTA($A$1:$A164)-1","v":13},{"$f":"MATCH(Composições!CONCATENAR,Banco!$A:$A,0)","v":{"$error":"#N/A"}},{"$f":"IF(OR(ISERROR($L164),$H164=\"\",$H164=0),\"\",OFFSET(M$1,MATCH($K164,$K$1:$K164,0)-1,0))","v":""}]
[null,null,null,{"$f":"IF(ISNUMBER($L165),OFFSET(Banco!$A$1,Composições!$L165-1,COLUMN(Composições!D165)-1),\"\")","v":""},{"$f":"IF(ISNUMBER($L165),OFFSET(Banco!$A$1,Composições!$L165-1,COLUMN(Composições!E165)-1),\"\")","v":""},0,0,null,{"$f":"IF(ISNUMBER($L165),VALUE(OFFSET(Banco!$A$1,Composições!$L165-1,COLUMN(Composições!I165)-4)),0)","v":0},{"$f":"IF(ISNUMBER($L165),VALUE(OFFSET(Banco!$A$1,Composições!$L165-1,COLUMN(Composições!J165)-4)),0)","v":0},{"$f":"COUNTA($A$1:$A165)-1","v":13},{"$f":"MATCH(Composições!CONCATENAR,Banco!$A:$A,0)","v":{"$error":"#N/A"}},{"$f":"IF(OR(ISERROR($L165),$H165=\"\",$H165=0),\"\",OFFSET(M$1,MATCH($K165,$K$1:$K165,0)-1,0))","v":""}]
[null,null,null,null,null,null,null,null,null,null,{"$f":"COUNTA($A$1:$A166)-1","v":13},null,{"$f":"IF(OFFSET($M$1,MATCH(OFFSET(K166,-1,0),$K$1:$K166,0)-1,0)=\"F\",\"F\",\"\")","v":""}]
[{"$f":"CONCATENAR","v":" "},null,null,null,null,{"$f":"IF($L167>0,SUM(OFFSET(F167,1,0,$L167),0))","v":0},{"$f":"IF($L167>0,SUM(OFFSET(G167,1,0,$L167),0))","v":0},null,{"$f":"IF(ISERROR(F167),0,F167)","v":0},{"$f":"IF(ISERROR(G167),0,G167)","v":0},{"$f":"COUNTA($A$1:$A167)-1","v":14},{"$f":"IF(MAX(K:K)=K167,MATCH(9999999,$K:$K)+1,MATCH(K167+1,K:K,0))-ROW(L167)-2","v":10},{"$f":"IF(AND(OR(I167<>0,J167<>0),N167=\"Sim\"),\"F\",\"\")","v":""},"Sim"]
[null,null,null,{"$f":"IF(ISNUMBER($L168),OFFSET(Banco!$A$1,Composições!$L168-1,COLUMN(Composições!D168)-1),\"\")","v":""},{"$f":"IF(ISNUMBER($L168),OFFSET(Banco!$A$1,Composições!$L168-1,COLUMN(Composições!E168)-1),\"\")","v":""},{"$f":"TRUNC($H168*ROUND(I168,2),2)","v":0},{"$f":"TRUNC($H168*ROUND(J168,2),2)","v":0},null,{"$f":"IF(ISNUMBER($L168),VALUE(OFFSET(Banco!$A$1,Composições!$L168-1,COLUMN(Composições!I168)-4)),0)","v":0},{"$f":"IF(ISNUMBER($L168),VALUE(OFFSET(Banco!$A$1,Composições!$L168-1,COLUMN(Composições!J168)-4)),0)","v":0},{"$f":"COUNTA($A$1:$A168)-1","v":14},{"$f":"MATCH(Composições!CONCATENAR,Banco!$A:$A,0)","v":{"$error":"#N/A"}},{"$f":"IF(OR(ISERROR($L168),$H168=\"\",$H168=0),\"\",OFFSET(M$1,MATCH($K168,$K$1:$K168,0)-1,0))","v":""}]
[null,null,null,{"$f":"IF(ISNUMBER($L169),OFFSET(Banco!$A$1,Composições!$L169-1,COLUMN(Composições!D169)-1),\"\")","v":""},{"$f":"IF(ISNUMBER($L169),OFFSET(Banco!$A$1,Composições!$L169-1,COLUMN(Composições!E169)-1),\"\")","v":""},0,0,null,{"$f":"IF(ISNUMBER($L169),VALUE(OFFSET(Banco!$A$1,Composições!$L169-1,COLUMN(Composições!I169)-4)),0)","v":0},{"$f":"IF(ISNUMBER($L169),VALUE(OFFSET(Banco!$A$1,Composições!$L169-1,COLUMN(Composições!J169)-4)),0)","v":0},{"$f":"COUNTA($A$1:$A169)-1","v":14},{"$f":"MATCH(Composições!CONCATENAR,Banco!$A:$A,0)","v":{"$error":"#N/A"}},{"$f":"IF(OR(ISERROR($L169),$H169=\"\",$H169=0),\"\",OFFSET(M$1,MATCH($K169,$K$1:$K169,0)-1,0))","v":""}]
[null,null,null,{"$f":"IF(ISNUMBER($L170),OFFSET(Banco!$A$1,Composições!$L170-1,COLUMN(Composições!D170)-1),\"\")","v":""},{"$f":"IF(ISNUMBER($L170),OFFSET(Banco!$A$1,Composições!$L170-1,COLUMN(Composições!E170)-1),\"\")","v":""},0,0,null,{"$f":"IF(ISNUMBER($L170),VALUE(OFFSET(Banco!$A$1,Composições!$L170-1,COLUMN(Composições!I170)-4)),0)","v":0},{"$f":"IF(ISNUMBER($L170),VALUE(OFFSET(Banco!$A$1,Composições!$L170-1,COLUMN(Composições!J170)-4)),0)","v":0},{"$f":"COUNTA($A$1:$A170)-1","v":14},{"$f":"MATCH(Composições!CONCATENAR,Banco!$A:$A,0)","v":{"$error":"#N/A"}},{"$f":"IF(OR(ISERROR($L170),$H170=\"\",$H170=0),\"\",OFFSET(M$1,MATCH($K170,$K$1:$K170,0)-1,0))","v":""}]
[null,null,null,{"$f":"IF(ISNUMBER($L171),OFFSET(Banco!$A$1,Composições!$L171-1,COLUMN(Composições!D171)-1),\"\")","v":""},{"$f":"IF(ISNUMBER($L171),OFFSET(Banco!$A$1,Composições!$L171-1,COLUMN(Composições!E171)-1),\"\")","v":""},0,0,null,{"$f":"IF(ISNUMBER($L171),VALUE(OFFSET(Banco!$A$1,Composições!$L171-1,COLUMN(Composições!I171)-4)),0)","v":0},{"$f":"IF(ISNUMBER($L171),VALUE(OFFSET(Banco!$A$1,Composições!$L171-1,COLUMN(Composições!J171)-4)),0)","v":0},{"$f":"COUNTA($A$1:$A171)-1","v":14},{"$f":"MATCH(Composições!CONCATENAR,Banco!$A:$A,0)","v":{"$error":"#N/A"}},{"$f":"IF(OR(ISERROR($L171),$H171=\"\",$H171=0),\"\",OFFSET(M$1,MATCH($K171,$K$1:$K171,0)-1,0))","v":""}]
[null,null,null,{"$f":"IF(ISNUMBER($L172),OFFSET(Banco!$A$1,Composições!$L172-1,COLUMN(Composições!D172)-1),\"\")","v":""},{"$f":"IF(ISNUMBER($L172),OFFSET(Banco!$A$1,Composições!$L172-1,COLUMN(Composições!E172)-1),\"\")","v":""},0,0,null,{"$f":"IF(ISNUMBER($L172),VALUE(OFFSET(Banco!$A$1,Composições!$L172-1,COLUMN(Composições!I172)-4)),0)","v":0},{"$f":"IF(ISNUMBER($L172),VALUE(OFFSET(Banco!$A$1,Composições!$L172-1,COLUMN(Composições!J172)-4)),0)","v":0},{"$f":"COUNTA($A$1:$A172)-1","v":14},{"$f":"MATCH(Composições!CONCATENAR,Banco!$A:$A,0)","v":{"$error":"#N/A"}},{"$f":"IF(OR(ISERROR($L172),$H172=\"\",$H172=0),\"\",OFFSET(M$1,MATCH($K172,$K$1:$K172,0)-1,0))","v":""}]
[null,null,null,{"$f":"IF(ISNUMBER($L173),OFFSET(Banco!$A$1,Composições!$L173-1,COLUMN(Composições!D173)-1),\"\")","v":""},{"$f":"IF(ISNUMBER($L173),OFFSET(Banco!$A$1,Composições!$L173-1,COLUMN(Composições!E173)-1),\"\")","v":""},0,0,null,{"$f":"IF(ISNUMBER($L173),VALUE(OFFSET(Banco!$A$1,Composições!$L173-1,COLUMN(Composições!I173)-4)),0)","v":0},{"$f":"IF(ISNUMBER($L173),VALUE(OFFSET(Banco!$A$1,Composições!$L173-1,COLUMN(Composições!J173)-4)),0)","v":0},{"$f":"COUNTA($A$1:$A173)-1","v":14},{"$f":"MATCH(Composições!CONCATENAR,Banco!$A:$A,0)","v":{"$error":"#N/A"}},{"$f":"IF(OR(ISERROR($L173),$H173=\"\",$H173=0),\"\",OFFSET(M$1,MATCH($K173,$K$1:$K173,0)-1,0))","v":""}]
[null,null,null,{"$f":"IF(ISNUMBER($L174),OFFSET(Banco!$A$1,Composições!$L174-1,COLUMN(Composições!D174)-1),\"\")","v":""},{"$f":"IF(ISNUMBER($L174),OFFSET(Banco!$A$1,Composições!$L174-1,COLUMN(Composições!E174)-1),\"\")","v":""},0,0,null,{"$f":"IF(ISNUMBER($L174),VALUE(OFFSET(Banco!$A$1,Composições!$L174-1,COLUMN(Composições!I174)-4)),0)","v":0},{"$f":"IF(ISNUMBER($L174),VALUE(OFFSET(Banco!$A$1,Composições!$L174-1,COLUMN(Composições!J174)-4)),0)","v":0},{"$f":"COUNTA($A$1:$A174)-1","v":14},{"$f":"MATCH(Composições!CONCATENAR,Banco!$A:$A,0)","v":{"$error":"#N/A"}},{"$f":"IF(OR(ISERROR($L174),$H174=\"\",$H174=0),\"\",OFFSET(M$1,MATCH($K174,$K$1:$K174,0)-1,0))","v":""}]
[null,null,null,{"$f":"IF(ISNUMBER($L175),OFFSET(Banco!$A$1,Composições!$L175-1,COLUMN(Composições!D175)-1),\"\")","v":""},{"$f":"IF(ISNUMBER($L175),OFFSET(Banco!$A$1,Composições!$L175-1,COLUMN(Composições!E175)-1),\"\")","v":""},0,0,null,{"$f":"IF(ISNUMBER($L175),VALUE(OFFSET(Banco!$A$1,Composições!$L175-1,COLUMN(Composições!I175)-4)),0)","v":0},{"$f":"IF(ISNUMBER($L175),VALUE(OFFSET(Banco!$A$1,Composições!$L175-1,COLUMN(Composições!J175)-4)),0)","v":0},{"$f":"COUNTA($A$1:$A175)-1","v":14},{"$f":"MATCH(Composições!CONCATENAR,Banco!$A:$A,0)","v":{"$error":"#N/A"}},{"$f":"IF(OR(ISERROR($L175),$H175=\"\",$H175=0),\"\",OFFSET(M$1,MATCH($K175,$K$1:$K175,0)-1,0))","v":""}]
[null,null,null,{"$f":"IF(ISNUMBER($L176),OFFSET(Banco!$A$1,Composições!$L176-1,COLUMN(Composições!D176)-1),\"\")","v":""},{"$f":"IF(ISNUMBER($L176),OFFSET(Banco!$A$1,Composições!$L176-1,COLUMN(Composições!E176)-1),\"\")","v":""},0,0,null,{"$f":"IF(ISNUMBER($L176),VALUE(OFFSET(Banco!$A$1,Composições!$L176-1,COLUMN(Composições!I176)-4)),0)","v":0},{"$f":"IF(ISNUMBER($L176),VALUE(OFFSET(Banco!$A$1,Composições!$L176-1,COLUMN(Composições!J176)-4)),0)","v":0},{"$f":"COUNTA($A$1:$A176)-1","v":14},{"$f":"MATCH(Composições!CONCATENAR,Banco!$A:$A,0)","v":{"$error":"#N/A"}},{"$f":"IF(OR(ISERROR($L176),$H176=\"\",$H176=0),\"\",OFFSET(M$1,MATCH($K176,$K$1:$K176,0)-1,0))","v":""}]
[null,null,null,{"$f":"IF(ISNUMBER($L177),OFFSET(Banco!$A$1,Composições!$L177-1,COLUMN(Composições!D177)-1),\"\")","v":""},{"$f":"IF(ISNUMBER($L177),OFFSET(Banco!$A$1,Composições!$L177-1,COLUMN(Composições!E177)-1),\"\")","v":""},0,0,null,{"$f":"IF(ISNUMBER($L177),VALUE(OFFSET(Banco!$A$1,Composições!$L177-1,COLUMN(Composições!I177)-4)),0)","v":0},{"$f":"IF(ISNUMBER($L177),VALUE(OFFSET(Banco!$A$1,Composições!$L177-1,COLUMN(Composições!J177)-4)),0)","v":0},{"$f":"COUNTA($A$1:$A177)-1","v":14},{"$f":"MATCH(Composições!CONCATENAR,Banco!$A:$A,0)","v":{"$error":"#N/A"}},{"$f":"IF(OR(ISERROR($L177),$H177=\"\",$H177=0),\"\",OFFSET(M$1,MATCH($K177,$K$1:$K177,0)-1,0))","v":""}]
[null,null,null,null,null,null,null,null,null,null,{"$f":"COUNTA($A$1:$A178)-1","v":14},null,{"$f":"IF(OFFSET($M$1,MATCH(OFFSET(K178,-1,0),$K$1:$K178,0)-1,0)=\"F\",\"F\",\"\")","v":""}]
[{"$f":"CONCATENAR","v":" "},null,null,null,null,{"$f":"IF($L179>0,SUM(OFFSET(F179,1,0,$L179),0))","v":0},{"$f":"IF($L179>0,SUM(OFFSET(G179,1,0,$L179),0))","v":0},null,{"$f":"IF(ISERROR(F179),0,F179)","v":0},{"$f":"IF(ISERROR(G179),0,G179)","v":0},{"$f":"COUNTA($A$1:$A179)-1","v":15},{"$f":"IF(MAX(K:K)=K179,MATCH(9999999,$K:$K)+1,MATCH(K179+1,K:K,0))-ROW(L179)-2","v":10},{"$f":"IF(AND(OR(I179<>0,J179<>0),N179=\"Sim\"),\"F\",\"\")","v":""},"Sim"]
[null,null,null,{"$f":"IF(ISNUMBER($L180),OFFSET(Banco!$A$1,Composições!$L180-1,COLUMN(Composições!D180)-1),\"\")","v":""},{"$f":"IF(ISNUMBER($L180),OFFSET(Banco!$A$1,Composições!$L180-1,COLUMN(Composições!E180)-1),\"\")","v":""},{"$f":"TRUNC($H180*ROUND(I180,2),2)","v":0},{"$f":"TRUNC($H180*ROUND(J180,2),2)","v":0},null,{"$f":"IF(ISNUMBER($L180),VALUE(OFFSET(Banco!$A$1,Composições!$L180-1,COLUMN(Composições!I180)-4)),0)","v":0},{"$f":"IF(ISNUMBER($L180),VALUE(OFFSET(Banco!$A$1,Composições!$L180-1,COLUMN(Composições!J180)-4)),0)","v":0},{"$f":"COUNTA($A$1:$A180)-1","v":15},{"$f":"MATCH(Composições!CONCATENAR,Banco!$A:$A,0)","v":{"$error":"#N/A"}},{"$f":"IF(OR(ISERROR($L180),$H180=\"\",$H180=0),\"\",OFFSET(M$1,MATCH($K180,$K$1:$K180,0)-1,0))","v":""}]
[null,null,null,{"$f":"IF(ISNUMBER($L181),OFFSET(Banco!$A$1,Composições!$L181-1,COLUMN(Composições!D181)-1),\"\")","v":""},{"$f":"IF(ISNUMBER($L181),OFFSET(Banco!$A$1,Composições!$L181-1,COLUMN(Composições!E181)-1),\"\")","v":""},0,0,null,{"$f":"IF(ISNUMBER($L181),VALUE(OFFSET(Banco!$A$1,Composições!$L181-1,COLUMN(Composições!I181)-4)),0)","v":0},{"$f":"IF(ISNUMBER($L181),VALUE(OFFSET(Banco!$A$1,Composições!$L181-1,COLUMN(Composições!J181)-4)),0)","v":0},{"$f":"COUNTA($A$1:$A181)-1","v":15},{"$f":"MATCH(Composições!CONCATENAR,Banco!$A:$A,0)","v":{"$error":"#N/A"}},{"$f":"IF(OR(ISERROR($L181),$H181=\"\",$H181=0),\"\",OFFSET(M$1,MATCH($K181,$K$1:$K181,0)-1,0))","v":""}]
[null,null,null,{"$f":"IF(ISNUMBER($L182),OFFSET(Banco!$A$1,Composições!$L182-1,COLUMN(Composições!D182)-1),\"\")","v":""},{"$f":"IF(ISNUMBER($L182),OFFSET(Banco!$A$1,Composições!$L182-1,COLUMN(Composições!E182)-1),\"\")","v":""},0,0,null,{"$f":"IF(ISNUMBER($L182),VALUE(OFFSET(Banco!$A$1,Composições!$L182-1,COLUMN(Composições!I182)-4)),0)","v":0},{"$f":"IF(ISNUMBER($L182),VALUE(OFFSET(Banco!$A$1,Composições!$L182-1,COLUMN(Composições!J182)-4)),0)","v":0},{"$f":"COUNTA($A$1:$A182)-1","v":15},{"$f":"MATCH(Composições!CONCATENAR,Banco!$A:$A,0)","v":{"$error":"#N/A"}},{"$f":"IF(OR(ISERROR($L182),$H182=\"\",$H182=0),\"\",OFFSET(M$1,MATCH($K182,$K$1:$K182,0)-1,0))","v":""}]
[null,null,null,{"$f":"IF(ISNUMBER($L183),OFFSET(Banco!$A$1,Composições!$L183-1,COLUMN(Composições!D183)-1),\"\")","v":""},{"$f":"IF(ISNUMBER($L183),OFFSET(Banco!$A$1,Composições!$L183-1,COLUMN(Composições!E183)-1),\"\")","v":""},0,0,null,{"$f":"IF(ISNUMBER($L183),VALUE(OFFSET(Banco!$A$1,Composições!$L183-1,COLUMN(Composições!I183)-4)),0)","v":0},{"$f":"IF(ISNUMBER($L183),VALUE(OFFSET(Banco!$A$1,Composições!$L183-1,COLUMN(Composições!J183)-4)),0)","v":0},{"$f":"COUNTA($A$1:$A183)-1","v":15},{"$f":"MATCH(Composições!CONCATENAR,Banco!$A:$A,0)","v":{"$error":"#N/A"}},{"$f":"IF(OR(ISERROR($L183),$H183=\"\",$H183=0),\"\",OFFSET(M$1,MATCH($K183,$K$1:$K183,0)-1,0))","v":""}]
[null,null,null,{"$f":"IF(ISNUMBER($L184),OFFSET(Banco!$A$1,Composições!$L184-1,COLUMN(Composições!D184)-1),\"\")","v":""},{"$f":"IF(ISNUMBER($L184),OFFSET(Banco!$A$1,Composições!$L184-1,COLUMN(Composições!E184)-1),\"\")","v":""},0,0,null,{"$f":"IF(ISNUMBER($L184),VALUE(OFFSET(Banco!$A$1,Composições!$L184-1,COLUMN(Composições!I184)-4)),0)","v":0},{"$f":"IF(ISNUMBER($L184),VALUE(OFFSET(Banco!$A$1,Composições!$L184-1,COLUMN(Composições!J184)-4)),0)","v":0},{"$f":"COUNTA($A$1:$A184)-1","v":15},{"$f":"MATCH(Composições!CONCATENAR,Banco!$A:$A,0)","v":{"$error":"#N/A"}},{"$f":"IF(OR(ISERROR($L184),$H184=\"\",$H184=0),\"\",OFFSET(M$1,MATCH($K184,$K$1:$K184,0)-1,0))","v":""}]
[null,null,null,{"$f":"IF(ISNUMBER($L185),OFFSET(Banco!$A$1,Composições!$L185-1,COLUMN(Composições!D185)-1),\"\")","v":""},{"$f":"IF(ISNUMBER($L185),OFFSET(Banco!$A$1,Composições!$L185-1,COLUMN(Composições!E185)-1),\"\")","v":""},0,0,null,{"$f":"IF(ISNUMBER($L185),VALUE(OFFSET(Banco!$A$1,Composições!$L185-1,COLUMN(Composições!I185)-4)),0)","v":0},{"$f":"IF(ISNUMBER($L185),VALUE(OFFSET(Banco!$A$1,Composições!$L185-1,COLUMN(Composições!J185)-4)),0)","v":0},{"$f":"COUNTA($A$1:$A185)-1","v":15},{"$f":"MATCH(Composições!CONCATENAR,Banco!$A:$A,0)","v":{"$error":"#N/A"}},{"$f":"IF(OR(ISERROR($L185),$H185=\"\",$H185=0),\"\",OFFSET(M$1,MATCH($K185,$K$1:$K185,0)-1,0))","v":""}]
[null,null,null,{"$f":"IF(ISNUMBER($L186),OFFSET(Banco!$A$1,Composições!$L186-1,COLUMN(Composições!D186)-1),\"\")","v":""},{"$f":"IF(ISNUMBER($L186),OFFSET(Banco!$A$1,Composições!$L186-1,COLUMN(Composições!E186)-1),\"\")","v":""},0,0,null,{"$f":"IF(ISNUMBER($L186),VALUE(OFFSET(Banco!$A$1,Composições!$L186-1,COLUMN(Composições!I186)-4)),0)","v":0},{"$f":"IF(ISNUMBER($L186),VALUE(OFFSET(Banco!$A$1,Composições!$L186-1,COLUMN(Composições!J186)-4)),0)","v":0},{"$f":"COUNTA($A$1:$A186)-1","v":15},{"$f":"MATCH(Composições!CONCATENAR,Banco!$A:$A,0)","v":{"$error":"#N/A"}},{"$f":"IF(OR(ISERROR($L186),$H186=\"\",$H186=0),\"\",OFFSET(M$1,MATCH($K186,$K$1:$K186,0)-1,0))","v":""}]
[null,null,null,{"$f":"IF(ISNUMBER($L187),OFFSET(Banco!$A$1,Composições!$L187-1,COLUMN(Composições!D187)-1),\"\")","v":""},{"$f":"IF(ISNUMBER($L187),OFFSET(Banco!$A$1,Composições!$L187-1,COLUMN(Composições!E187)-1),\"\")","v":""},0,0,null,{"$f":"IF(ISNUMBER($L187),VALUE(OFFSET(Banco!$A$1,Composições!$L187-1,COLUMN(Composições!I187)-4)),0)","v":0},{"$f":"IF(ISNUMBER($L187),VALUE(OFFSET(Banco!$A$1,Composições!$L187-1,COLUMN(Composições!J187)-4)),0)","v":0},{"$f":"COUNTA($A$1:$A187)-1","v":15},{"$f":"MATCH(Composições!CONCATENAR,Banco!$A:$A,0)","v":{"$error":"#N/A"}},{"$f":"IF(OR(ISERROR($L187),$H187=\"\",$H187=0),\"\",OFFSET(M$1,MATCH($K187,$K$1:$K187,0)-1,0))","v":""}]
[null,null,null,{"$f":"IF(ISNUMBER($L188),OFFSET(Banco!$A$1,Composições!$L188-1,COLUMN(Composições!D188)-1),\"\")","v":""},{"$f":"IF(ISNUMBER($L188),OFFSET(Banco!$A$1,Composições!$L188-1,COLUMN(Composições!E188)-1),\"\")","v":""},0,0,null,{"$f":"IF(ISNUMBER($L188),VALUE(OFFSET(Banco!$A$1,Composições!$L188-1,COLUMN(Composições!I188)-4)),0)","v":0},{"$f":"IF(ISNUMBER($L188),VALUE(OFFSET(Banco!$A$1,Composições!$L188-1,COLUMN(Composições!J188)-4)),0)","v":0},{"$f":"COUNTA($A$1:$A188)-1","v":15},{"$f":"MATCH(Composições!CONCATENAR,Banco!$A:$A,0)","v":{"$error":"#N/A"}},{"$f":"IF(OR(ISERROR($L188),$H188=\"\",$H188=0),\"\",OFFSET(M$1,MATCH($K188,$K$1:$K188,0)-1,0))","v":""}]
[null,null,null,{"$f":"IF(ISNUMBER($L189),OFFSET(Banco!$A$1,Composições!$L189-1,COLUMN(Composições!D189)-1),\"\")","v":""},{"$f":"IF(ISNUMBER($L189),OFFSET(Banco!$A$1,Composições!$L189-1,COLUMN(Composições!E189)-1),\"\")","v":""},0,0,null,{"$f":"IF(ISNUMBER($L189),VALUE(OFFSET(Banco!$A$1,Composições!$L189-1,COLUMN(Composições!I189)-4)),0)","v":0},{"$f":"IF(ISNUMBER($L189),VALUE(OFFSET(Banco!$A$1,Composições!$L189-1,COLUMN(Composições!J189)-4)),0)","v":0},{"$f":"COUNTA($A$1:$A189)-1","v":15},{"$f":"MATCH(Composições!CONCATENAR,Banco!$A:$A,0)","v":{"$error":"#N/A"}},{"$f":"IF(OR(ISERROR($L189),$H189=\"\",$H189=0),\"\",OFFSET(M$1,MATCH($K189,$K$1:$K189,0)-1,0))","v":""}]
[null,null,null,null,null,null,null,null,null,null,{"$f":"COUNTA($A$1:$A190)-1","v":15},null,{"$f":"IF(OFFSET($M$1,MATCH(OFFSET(K190,-1,0),$K$1:$K190,0)-1,0)=\"F\",\"F\",\"\")","v":""}]
[{"$f":"CONCATENAR","v":"Composição C-103672"},"Composição","C-103672","CONCRETAGEM DE PILARES, FCK 30 MPA, COM USO DE BOMBA, LANÇAMENTO E ADENSAMENTO","m³",{"$f":"IF($L191>0,SUM(OFFSET(F191,1,0,$L191),0))","v":682.31999999999994},0,null,{"$f":"IF(ISERROR(F191),0,F191)","v":682.31999999999994},0,{"$f":"COUNTA($A$1:$A191)-1","v":16},{"$f":"IF(MAX(K:K)=K191,MATCH(9999999,$K:$K)+1,MATCH(K191+1,K:K,0))-ROW(L191)-2","v":6},{"$f":"IF(AND(OR(I191<>0,J191<>0),N191=\"Sim\"),\"F\",\"\")","v":"F"},"Sim"]
[null,"SINAPI-I","1525",{"$f":"IF(ISNUMBER($L192),OFFSET(Banco!$A$1,Composições!$L192-1,COLUMN(Composições!D192)-1),\"\")","v":"CONCRETO USINADO BOMBEAVEL, CLASSE DE RESISTENCIA C30, BRITA 0 E 1, SLUMP = 100 +/- 20 MM, COM BOMBEAMENTO (DISPONIBILIZACAO DE BOMBA), SEM O LANCAMENTO (NBR 8953)                                                                                                                                                                                                                                                                                                                                       "},{"$f":"IF(ISNUMBER($L192),OFFSET(Banco!$A$1,Composições!$L192-1,COLUMN(Composições!E192)-1),\"\")","v":"M3    "},{"$f":"TRUNC($H192*ROUND(I192,2),2)","v":643.32000000000005},0,1.103,{"$f":"IF(ISNUMBER($L192),VALUE(OFFSET(Banco!$A$1,Composições!$L192-1,COLUMN(Composições!I192)-4)),0)","v":583.25},{"$f":"IF(ISNUMBER($L192),VALUE(OFFSET(Banco!$A$1,Composições!$L192-1,COLUMN(Composições!J192)-4)),0)","v":0},{"$f":"COUNTA($A$1:$A192)-1","v":16},{"$f":"MATCH(Composições!CONCATENAR,Banco!$A:$A,0)","v":1235},{"$f":"IF(OR(ISERROR($L192),$H192=\"\",$H192=0),\"\",OFFSET(M$1,MATCH($K192,$K$1:$K192,0)-1,0))","v":"F"}]
[null,"SINAPI","88262",{"$f":"IF(ISNUMBER($L193),OFFSET(Banco!$A$1,Composições!$L193-1,COLUMN(Composições!D193)-1),\"\")","v":"CARPINTEIRO DE FORMAS COM ENCARGOS COMPLEMENTARES"},{"$f":"IF(ISNUMBER($L193),OFFSET(Banco!$A$1,Composições!$L193-1,COLUMN(Composições!E193)-1),\"\")","v":"H"},5.49,0,0.224,{"$f":"IF(ISNUMBER($L193),VALUE(OFFSET(Banco!$A$1,Composições!$L193-1,COLUMN(Composições!I193)-4)),0)","v":24.51},{"$f":"IF(ISNUMBER($L193),VALUE(OFFSET(Banco!$A$1,Composições!$L193-1,COLUMN(Composições!J193)-4)),0)","v":0},{"$f":"COUNTA($A$1:$A193)-1","v":16},{"$f":"MATCH(Composições!CONCATENAR,Banco!$A:$A,0)","v":12141},{"$f":"IF(OR(ISERROR($L193),$H193=\"\",$H193=0),\"\",OFFSET(M$1,MATCH($K193,$K$1:$K193,0)-1,0))","v":"F"}]
[null,"SINAPI","88309",{"$f":"IF(ISNUMBER($L194),OFFSET(Banco!$A$1,Composições!$L194-1,COLUMN(Composições!D194)-1),\"\")","v":"PEDREIRO COM ENCARGOS COMPLEMENTARES"},{"$f":"IF(ISNUMBER($L194),OFFSET(Banco!$A$1,Composições!$L194-1,COLUMN(Composições!E194)-1),\"\")","v":"H"},5.56,0,0.224,{"$f":"IF(ISNUMBER($L194),VALUE(OFFSET(Banco!$A$1,Composições!$L194-1,COLUMN(Composições!I194)-4)),0)","v":24.86},{"$f":"IF(ISNUMBER($L194),VALUE(OFFSET(Banco!$A$1,Composições!$L194-1,COLUMN(Composições!J194)-4)),0)","v":0},{"$f":"COUNTA($A$1:$A194)-1","v":16},{"$f":"MATCH(Composições!CONCATENAR,Banco!$A:$A,0)","v":12178},{"$f":"IF(OR(ISERROR($L194),$H194=\"\",$H194=0),\"\",OFFSET(M$1,MATCH($K194,$K$1:$K194,0)-1,0))","v":"F"}]
[null,"SINAPI","88316",{"$f":"IF(ISNUMBER($L195),OFFSET(Banco!$A$1,Composições!$L195-1,COLUMN(Composições!D195)-1),\"\")","v":"SERVENTE COM ENCARGOS COMPLEMENTARES"},{"$f":"IF(ISNUMBER($L195),OFFSET(Banco!$A$1,Composições!$L195-1,COLUMN(Composições!E195)-1),\"\")","v":"H"},27.78,0,1.345,{"$f":"IF(ISNUMBER($L195),VALUE(OFFSET(Banco!$A$1,Composições!$L195-1,COLUMN(Composições!I195)-4)),0)","v":20.66},{"$f":"IF(ISNUMBER($L195),VALUE(OFFSET(Banco!$A$1,Composições!$L195-1,COLUMN(Composições!J195)-4)),0)","v":0},{"$f":"COUNTA($A$1:$A195)-1","v":16},{"$f":"MATCH(Composições!CONCATENAR,Banco!$A:$A,0)","v":12185},{"$f":"IF(OR(ISERROR($L195),$H195=\"\",$H195=0),\"\",OFFSET(M$1,MATCH($K195,$K$1:$K195,0)-1,0))","v":"F"}]
[null,"SINAPI","90586",{"$f":"IF(ISNUMBER($L196),OFFSET(Banco!$A$1,Composições!$L196-1,COLUMN(Composições!D196)-1),\"\")","v":"VIBRADOR DE IMERSÃO, DIÂMETRO DE PONTEIRA 45MM, MOTOR ELÉTRICO TRIFÁSICO POTÊNCIA DE 2 CV - CHP DIURNO. AF_06/2015"},{"$f":"IF(ISNUMBER($L196),OFFSET(Banco!$A$1,Composições!$L196-1,COLUMN(Composições!E196)-1),\"\")","v":"CHP"},0.11,0,9.4E-2,{"$f":"IF(ISNUMBER($L196),VALUE(OFFSET(Banco!$A$1,Composições!$L196-1,COLUMN(Composições!I196)-4)),0)","v":1.25},{"$f":"IF(ISNUMBER($L196),VALUE(OFFSET(Banco!$A$1,Composições!$L196-1,COLUMN(Composições!J196)-4)),0)","v":0},{"$f":"COUNTA($A$1:$A196)-1","v":16},{"$f":"MATCH(Composições!CONCATENAR,Banco!$A:$A,0)","v":5426},{"$f":"IF(OR(ISERROR($L196),$H196=\"\",$H196=0),\"\",OFFSET(M$1,MATCH($K196,$K$1:$K196,0)-1,0))","v":"F"}]
[null,"SINAPI","90587",{"$f":"IF(ISNUMBER($L197),OFFSET(Banco!$A$1,Composições!$L197-1,COLUMN(Composições!D197)-1),\"\")","v":"VIBRADOR DE IMERSÃO, DIÂMETRO DE PONTEIRA 45MM, MOTOR ELÉTRICO TRIFÁSICO POTÊNCIA DE 2 CV - CHI DIURNO. AF_06/2015"},{"$f":"IF(ISNUMBER($L197),OFFSET(Banco!$A$1,Composições!$L197-1,COLUMN(Composições!E197)-1),\"\")","v":"CHI"},0.06,0,0.13,{"$f":"IF(ISNUMBER($L197),VALUE(OFFSET(Banco!$A$1,Composições!$L197-1,COLUMN(Composições!I197)-4)),0)","v":0.49},{"$f":"IF(ISNUMBER($L197),VALUE(OFFSET(Banco!$A$1,Composições!$L197-1,COLUMN(Composições!J197)-4)),0)","v":0},{"$f":"COUNTA($A$1:$A197)-1","v":16},{"$f":"MATCH(Composições!CONCATENAR,Banco!$A:$A,0)","v":5569},{"$f":"IF(OR(ISERROR($L197),$H197=\"\",$H197=0),\"\",OFFSET(M$1,MATCH($K197,$K$1:$K197,0)-1,0))","v":"F"}]
[null,null,null,null,null,null,null,null,null,null,{"$f":"COUNTA($A$1:$A198)-1","v":16},null,{"$f":"IF(OFFSET($M$1,MATCH(OFFSET(K198,-1,0),$K$1:$K198,0)-1,0)=\"F\",\"F\",\"\")","v":"F"}]
[{"$f":"CONCATENAR","v":"Composição C-103675"},"Composição","C-103675","CONCRETAGEM DE VIGAS E LAJES, FCK 30 MPA, COM USO DE BOMBA, LANÇAMENTO, ADENSAMENTO E ACABAMENTO","m³",{"$f":"IF($L199>0,SUM(OFFSET(F199,1,0,$L199),0))","v":682.3599999999999},0,null,{"$f":"IF(ISERROR(F199),0,F199)","v":682.3599999999999},0,{"$f":"COUNTA($A$1:$A199)-1","v":17},{"$f":"IF(MAX(K:K)=K199,MATCH(9999999,$K:$K)+1,MATCH(K199+1,K:K,0))-ROW(L199)-2","v":6},{"$f":"IF(AND(OR(I199<>0,J199<>0),N199=\"Sim\"),\"F\",\"\")","v":"F"},"Sim"]
[null,"SINAPI-I","1525",{"$f":"IF(ISNUMBER($L200),OFFSET(Banco!$A$1,Composições!$L200-1,COLUMN(Composições!D200)-1),\"\")","v":"CONCRETO USINADO BOMBEAVEL, CLASSE DE RESISTENCIA C30, BRITA 0 E 1, SLUMP = 100 +/- 20 MM, COM BOMBEAMENTO (DISPONIBILIZACAO DE BOMBA), SEM O LANCAMENTO (NBR 8953)                                                                                                                                                                                                                                                                                                                                       "},{"$f":"IF(ISNUMBER($L200),OFFSET(Banco!$A$1,Composições!$L200-1,COLUMN(Composições!E200)-1),\"\")","v":"M3    "},{"$f":"TRUNC($H200*ROUND(I200,2),2)","v":643.32000000000005},0,1.103,{"$f":"IF(ISNUMBER($L200),VALUE(OFFSET(Banco!$A$1,Composições!$L200-1,COLUMN(Composições!I200)-4)),0)","v":583.25},{"$f":"IF(ISNUMBER($L200),VALUE(OFFSET(Banco!$A$1,Composições!$L200-1,COLUMN(Composições!J200)-4)),0)","v":0},{"$f":"COUNTA($A$1:$A200)-1","v":17},{"$f":"MATCH(Composições!CONCATENAR,Banco!$A:$A,0)","v":1235},{"$f":"IF(OR(ISERROR($L200),$H200=\"\",$H200=0),\"\",OFFSET(M$1,MATCH($K200,$K$1:$K200,0)-1,0))","v":"F"}]
[null,"SINAPI","88262",{"$f":"IF(ISNUMBER($L201),OFFSET(Banco!$A$1,Composições!$L201-1,COLUMN(Composições!D201)-1),\"\")","v":"CARPINTEIRO DE FORMAS COM ENCARGOS COMPLEMENTARES"},{"$f":"IF(ISNUMBER($L201),OFFSET(Banco!$A$1,Composições!$L201-1,COLUMN(Composições!E201)-1),\"\")","v":"H"},3.06,0,0.125,{"$f":"IF(ISNUMBER($L201),VALUE(OFFSET(Banco!$A$1,Composições!$L201-1,COLUMN(Composições!I201)-4)),0)","v":24.51},{"$f":"IF(ISNUMBER($L201),VALUE(OFFSET(Banco!$A$1,Composições!$L201-1,COLUMN(Composições!J201)-4)),0)","v":0},{"$f":"COUNTA($A$1:$A201)-1","v":17},{"$f":"MATCH(Composições!CONCATENAR,Banco!$A:$A,0)","v":12141},{"$f":"IF(OR(ISERROR($L201),$H201=\"\",$H201=0),\"\",OFFSET(M$1,MATCH($K201,$K$1:$K201,0)-1,0))","v":"F"}]
[null,"SINAPI","88309",{"$f":"IF(ISNUMBER($L202),OFFSET(Banco!$A$1,Composições!$L202-1,COLUMN(Composições!D202)-1),\"\")","v":"PEDREIRO COM ENCARGOS COMPLEMENTARES"},{"$f":"IF(ISNUMBER($L202),OFFSET(Banco!$A$1,Composições!$L202-1,COLUMN(Composições!E202)-1),\"\")","v":"H"},18.71,0,0.753,{"$f":"IF(ISNUMBER($L202),VALUE(OFFSET(Banco!$A$1,Composições!$L202-1,COLUMN(Composições!I202)-4)),0)","v":24.86},{"$f":"IF(ISNUMBER($L202),VALUE(OFFSET(Banco!$A$1,Composições!$L202-1,COLUMN(Composições!J202)-4)),0)","v":0},{"$f":"COUNTA($A$1:$A202)-1","v":17},{"$f":"MATCH(Composições!CONCATENAR,Banco!$A:$A,0)","v":12178},{"$f":"IF(OR(ISERROR($L202),$H202=\"\",$H202=0),\"\",OFFSET(M$1,MATCH($K202,$K$1:$K202,0)-1,0))","v":"F"}]
[null,"SINAPI","88316",{"$f":"IF(ISNUMBER($L203),OFFSET(Banco!$A$1,Composições!$L203-1,COLUMN(Composições!D203)-1),\"\")","v":"SERVENTE COM ENCARGOS COMPLEMENTARES"},{"$f":"IF(ISNUMBER($L203),OFFSET(Banco!$A$1,Composições!$L203-1,COLUMN(Composições!E203)-1),\"\")","v":"H"},17.059999999999999,0,0.82599999999999996,{"$f":"IF(ISNUMBER($L203),VALUE(OFFSET(Banco!$A$1,Composições!$L203-1,COLUMN(Composições!I203)-4)),0)","v":20.66},{"$f":"IF(ISNUMBER($L203),VALUE(OFFSET(Banco!$A$1,Composições!$L203-1,COLUMN(Composições!J203)-4)),0)","v":0},{"$f":"COUNTA($A$1:$A203)-1","v":17},{"$f":"MATCH(Composições!CONCATENAR,Banco!$A:$A,0)","v":12185},{"$f":"IF(OR(ISERROR($L203),$H203=\"\",$H203=0),\"\",OFFSET(M$1,MATCH($K203,$K$1:$K203,0)-1,0))","v":"F"}]
[null,"SINAPI","90586",{"$f":"IF(ISNUMBER($L204),OFFSET(Banco!$A$1,Composições!$L204-1,COLUMN(Composições!D204)-1),\"\")","v":"VIBRADOR DE IMERSÃO, DIÂMETRO DE PONTEIRA 45MM, MOTOR ELÉTRICO TRIFÁSICO POTÊNCIA DE 2 CV - CHP DIURNO. AF_06/2015"},{"$f":"IF(ISNUMBER($L204),OFFSET(Banco!$A$1,Composições!$L204-1,COLUMN(Composições!E204)-1),\"\")","v":"CHP"},0.15,0,0.12,{"$f":"IF(ISNUMBER($L204),VALUE(OFFSET(Banco!$A$1,Composições!$L204-1,COLUMN(Composições!I204)-4)),0)","v":1.25},{"$f":"IF(ISNUMBER($L204),VALUE(OFFSET(Banco!$A$1,Composições!$L204-1,COLUMN(Composições!J204)-4)),0)","v":0},{"$f":"COUNTA($A$1:$A204)-1","v":17},{"$f":"MATCH(Composições!CONCATENAR,Banco!$A:$A,0)","v":5426},{"$f":"IF(OR(ISERROR($L204),$H204=\"\",$H204=0),\"\",OFFSET(M$1,MATCH($K204,$K$1:$K204,0)-1,0))","v":"F"}]
[null,"SINAPI","90587",{"$f":"IF(ISNUMBER($L205),OFFSET(Banco!$A$1,Composições!$L205-1,COLUMN(Composições!D205)-1),\"\")","v":"VIBRADOR DE IMERSÃO, DIÂMETRO DE PONTEIRA 45MM, MOTOR ELÉTRICO TRIFÁSICO POTÊNCIA DE 2 CV - CHI DIURNO. AF_06/2015"},{"$f":"IF(ISNUMBER($L205),OFFSET(Banco!$A$1,Composições!$L205-1,COLUMN(Composições!E205)-1),\"\")","v":"CHI"},0.06,0,0.13100000000000001,{"$f":"IF(ISNUMBER($L205),VALUE(OFFSET(Banco!$A$1,Composições!$L205-1,COLUMN(Composições!I205)-4)),0)","v":0.49},{"$f":"IF(ISNUMBER($L205),VALUE(OFFSET(Banco!$A$1,Composições!$L205-1,COLUMN(Composições!J205)-4)),0)","v":0},{"$f":"COUNTA($A$1:$A205)-1","v":17},{"$f":"MATCH(Composições!CONCATENAR,Banco!$A:$A,0)","v":5569},{"$f":"IF(OR(ISERROR($L205),$H205=\"\",$H205=0),\"\",OFFSET(M$1,MATCH($K205,$K$1:$K205,0)-1,0))","v":"F"}]
[null,null,null,null,null,null,null,null,null,null,{"$f":"COUNTA($A$1:$A206)-1","v":17},null,{"$f":"IF(OFFSET($M$1,MATCH(OFFSET(K206,-1,0),$K$1:$K206,0)-1,0)=\"F\",\"F\",\"\")","v":"F"}]
[{"$f":"CONCATENAR","v":"Composição C-100068"},"Composição","C-100068","ARMAÇÃO DO SISTEMA DE PAREDES DE CONCRETO, EXECUTADA COMO REFORÇO, VERGALHÃO DE 16,0 MM DE DIÂMETRO","KG    ",{"$f":"IF($L207>0,SUM(OFFSET(F207,1,0,$L207),0))","v":9.5200000000000014},0,null,{"$f":"IF(ISERROR(F207),0,F207)","v":9.5200000000000014},0,{"$f":"COUNTA($A$1:$A207)-1","v":18},{"$f":"IF(MAX(K:K)=K207,MATCH(9999999,$K:$K)+1,MATCH(K207+1,K:K,0))-ROW(L207)-2","v":4},{"$f":"IF(AND(OR(I207<>0,J207<>0),N207=\"Sim\"),\"F\",\"\")","v":"F"},"Sim"]
[null,"SINAPI-I","43055",{"$f":"IF(ISNUMBER($L208),OFFSET(Banco!$A$1,Composições!$L208-1,COLUMN(Composições!D208)-1),\"\")","v":"ACO CA-50, 12,5 MM OU 16,0 MM, VERGALHAO                                                                                                                                                                                                                                                                                                                                                                                                                                                                  "},{"$f":"IF(ISNUMBER($L208),OFFSET(Banco!$A$1,Composições!$L208-1,COLUMN(Composições!E208)-1),\"\")","v":"KG    "},{"$f":"TRUNC($H208*ROUND(I208,2),2)","v":8.25},0,1.1100000000000001,{"$f":"IF(ISNUMBER($L208),VALUE(OFFSET(Banco!$A$1,Composições!$L208-1,COLUMN(Composições!I208)-4)),0)","v":7.44},{"$f":"IF(ISNUMBER($L208),VALUE(OFFSET(Banco!$A$1,Composições!$L208-1,COLUMN(Composições!J208)-4)),0)","v":0},{"$f":"COUNTA($A$1:$A208)-1","v":18},{"$f":"MATCH(Composições!CONCATENAR,Banco!$A:$A,0)","v":95},{"$f":"IF(OR(ISERROR($L208),$H208=\"\",$H208=0),\"\",OFFSET(M$1,MATCH($K208,$K$1:$K208,0)-1,0))","v":"F"}]
[null,"SINAPI-I","43132",{"$f":"IF(ISNUMBER($L209),OFFSET(Banco!$A$1,Composições!$L209-1,COLUMN(Composições!D209)-1),\"\")","v":"ARAME RECOZIDO 16 BWG, D = 1,65 MM (0,016 KG/M) OU 18 BWG, D = 1,25 MM (0,01 KG/M)                                                                                                                                                                                                                                                                                                                                                                                                                        "},{"$f":"IF(ISNUMBER($L209),OFFSET(Banco!$A$1,Composições!$L209-1,COLUMN(Composições!E209)-1),\"\")","v":"KG    "},0.21,0,1.0999999999999999E-2,{"$f":"IF(ISNUMBER($L209),VALUE(OFFSET(Banco!$A$1,Composições!$L209-1,COLUMN(Composições!I209)-4)),0)","v":19.440000000000001},{"$f":"IF(ISNUMBER($L209),VALUE(OFFSET(Banco!$A$1,Composições!$L209-1,COLUMN(Composições!J209)-4)),0)","v":0},{"$f":"COUNTA($A$1:$A209)-1","v":18},{"$f":"MATCH(Composições!CONCATENAR,Banco!$A:$A,0)","v":341},{"$f":"IF(OR(ISERROR($L209),$H209=\"\",$H209=0),\"\",OFFSET(M$1,MATCH($K209,$K$1:$K209,0)-1,0))","v":"F"}]
[null,"SINAPI","88238",{"$f":"IF(ISNUMBER($L210),OFFSET(Banco!$A$1,Composições!$L210-1,COLUMN(Composições!D210)-1),\"\")","v":"AJUDANTE DE ARMADOR COM ENCARGOS COMPLEMENTARES"},{"$f":"IF(ISNUMBER($L210),OFFSET(Banco!$A$1,Composições!$L210-1,COLUMN(Composições!E210)-1),\"\")","v":"H"},0.13,0,6.0000000000000001E-3,{"$f":"IF(ISNUMBER($L210),VALUE(OFFSET(Banco!$A$1,Composições!$L210-1,COLUMN(Composições!I210)-4)),0)","v":21.73},{"$f":"IF(ISNUMBER($L210),VALUE(OFFSET(Banco!$A$1,Composições!$L210-1,COLUMN(Composições!J210)-4)),0)","v":0},{"$f":"COUNTA($A$1:$A210)-1","v":18},{"$f":"MATCH(Composições!CONCATENAR,Banco!$A:$A,0)","v":12121},{"$f":"IF(OR(ISERROR($L210),$H210=\"\",$H210=0),\"\",OFFSET(M$1,MATCH($K210,$K$1:$K210,0)-1,0))","v":"F"}]
[null,"SINAPI","88245",{"$f":"IF(ISNUMBER($L211),OFFSET(Banco!$A$1,Composições!$L211-1,COLUMN(Composições!D211)-1),\"\")","v":"ARMADOR COM ENCARGOS COMPLEMENTARES"},{"$f":"IF(ISNUMBER($L211),OFFSET(Banco!$A$1,Composições!$L211-1,COLUMN(Composições!E211)-1),\"\")","v":"H"},0.93,0,3.7999999999999999E-2,{"$f":"IF(ISNUMBER($L211),VALUE(OFFSET(Banco!$A$1,Composições!$L211-1,COLUMN(Composições!I211)-4)),0)","v":24.65},{"$f":"IF(ISNUMBER($L211),VALUE(OFFSET(Banco!$A$1,Composições!$L211-1,COLUMN(Composições!J211)-4)),0)","v":0},{"$f":"COUNTA($A$1:$A211)-1","v":18},{"$f":"MATCH(Composições!CONCATENAR,Banco!$A:$A,0)","v":12127},{"$f":"IF(OR(ISERROR($L211),$H211=\"\",$H211=0),\"\",OFFSET(M$1,MATCH($K211,$K$1:$K211,0)-1,0))","v":"F"}]
[null,null,null,null,null,null,null,null,null,null,{"$f":"COUNTA($A$1:$A212)-1","v":18},null,{"$f":"IF(OFFSET($M$1,MATCH(OFFSET(K212,-1,0),$K$1:$K212,0)-1,0)=\"F\",\"F\",\"\")","v":"F"}]
["###",null,null,null,null,null,null,null,null,null,null,null,"F"]
[null,"Data",null,null,"Responsável Técnico:",null,null,null,null,null,null,null,"F"]
[null,null,null,null,"CREA/CAU:",null,null,null,null,null,null,null,"F"]

{"sheet":"Cotações","index":3,"n_rows":173,"n_cols":13,"rows_kept":173,"cut":false,"hidden":false,"merged":[[169,3,169,8],[165,3,165,4],[165,5,165,6],[165,7,165,8],[166,3,166,4],[166,5,166,6],[166,7,166,8],[167,3,167,4],[167,5,167,6],[167,7,167,8],[168,3,168,4],[168,5,168,6],[168,7,168,8],[161,5,161,6],[161,7,161,8],[162,5,162,6],[162,7,162,8],[163,3,163,4],[163,5,163,6],[163,7,163,8],[164,3,164,4],[164,5,164,6],[164,7,164,8],[153,3,153,4],[153,5,153,6],[153,7,153,8],[154,3,154,4],[154,5,154,6],[154,7,154,8],[159,3,159,8],[155,3,155,4],[155,5,155,6],[155,7,155,8],[156,3,156,4],[156,5,156,6],[156,7,156,8],[157,3,157,4],[157,5,157,6],[157,7,157,8],[158,3,158,4],[158,5,158,6],[158,7,158,8],[25,3,25,4],[25,5,25,6],[25,7,25,8],[26,3,26,4],[26,5,26,6],[26,7,26,8],[143,7,143,8],[144,3,144,4],[144,5,144,6],[144,7,144,8],[29,3,29,4],[29,5,29,6],[29,7,29,8],[30,3,30,4],[30,5,30,6],[30,7,30,8],[27,3,27,4],[27,5,27,6],[27,7,27,8],[28,3,28,4],[28,5,28,6],[28,7,28,8],[33,3,33,4],[33,5,33,6],[33,7,33,8],[34,3,34,4],[34,5,34,6],[34,7,34,8],[31,3,31,4],[31,5,31,6],[31,7,31,8],[32,3,32,4],[32,5,32,6],[32,7,32,8],[37,3,37,4],[37,5,37,6],[37,7,37,8],[38,3,38,4],[38,5,38,6],[38,7,38,8],[35,3,35,4],[35,5,35,6],[35,7,35,8],[36,3,36,4],[36,5,36,6],[36,7,36,8],[43,3,43,4],[43,5,43,6],[43,7,43,8],[44,3,44,4],[44,5,44,6],[44,7,44,8],[45,3,45,4],[39,3,39,4],[39,5,39,6],[39,7,39,8],[41,5,41,6],[41,7,41,8],[42,5,42,6],[42,7,42,8],[49,3,49,8],[57,3,57,4],[57,5,57,6],[57,7,57,8],[53,3,53,4],[53,5,53,6],[45,5,45,6],[45,7,45,8],[46,3,46,4],[46,5,46,6],[46,7,46,8],[48,3,48,4],[48,5,48,6],[48,7,48,8],[47,3,47,4],[47,5,47,6],[47,7,47,8],[53,7,53,8],[54,3,54,4],[54,5,54,6],[54,7,54,8],[55,3,55,4],[55,5,55,6],[55,7,55,8],[51,5,51,6],[51,7,51,8],[52,5,52,6],[52,7,52,8],[59,3,59,8],[67,3,67,4],[67,5,67,6],[67,7,67,8],[63,3,63,4],[63,5,63,6],[56,3,56,4],[56,5,56,6],[56,7,56,8],[58,3,58,4],[58,5,58,6],[58,7,58,8],[63,7,63,8],[64,3,64,4],[64,5,64,6],[64,7,64,8],[65,3,65,4],[65,5,65,6],[65,7,65,8],[61,5,61,6],[61,7,61,8],[62,5,62,6],[62,7,62,8],[69,3,69,8],[77,3,77,4],[77,5,77,6],[77,7,77,8],[73,3,73,4],[73,5,73,6],[66,3,66,4],[66,5,66,6],[66,7,66,8],[68,3,68,4],[68,5,68,6],[68,7,68,8],[73,7,73,8],[74,3,74,4],[74,5,74,6],[74,7,74,8],[75,3,75,4],[75,5,75,6],[75,7,75,8],[71,5,71,6],[71,7,71,8],[72,5,72,6],[72,7,72,8],[79,3,79,8],[87,3,87,4],[87,5,87,6],[87,7,87,8],[83,3,83,4],[83,5,83,6],[76,3,76,4],[76,5,76,6],[76,7,76,8],[78,3,78,4],[78,5,78,6],[78,7,78,8],[83,7,83,8],[84,3,84,4],[84,5,84,6],[84,7,84,8],[85,3,85,4],[85,5,85,6],[85,7,85,8],[81,5,81,6],[81,7,81,8],[82,5,82,6],[82,7,82,8],[89,3,89,8],[97,3,97,4],[97,5,97,6],[97,7,97,8],[93,3,93,4],[93,5,93,6],[86,3,86,4],[86,5,86,6],[86,7,86,8],[88,3,88,4],[88,5,88,6],[88,7,88,8],[93,7,93,8],[94,3,94,4],[94,5,94,6],[94,7,94,8],[95,3,95,4],[95,5,95,6],[95,7,95,8],[91,5,91,6],[91,7,91,8],[92,5,92,6],[92,7,92,8],[99,3,99,8],[107,3,107,4],[107,5,107,6],[107,7,107,8],[103,3,103,4],[103,5,103,6],[96,3,96,4],[96,5,96,6],[96,7,96,8],[98,3,98,4],[98,5,98,6],[98,7,98,8],[103,7,103,8],[104,3,104,4],[104,5,104,6],[104,7,104,8],[105,3,105,4],[105,5,105,6],[105,7,105,8],[101,5,101,6],[101,7,101,8],[102,5,102,6],[102,7,102,8],[109,3,109,8],[117,3,117,4],[117,5,117,6],[117,7,117,8],[113,3,113,4],[113,5,113,6],[106,3,106,4],[106,5,106,6],[106,7,106,8],[108,3,108,4],[108,5,108,6],[108,7,108,8],[113,7,113,8],[114,3,114,4],[114,5,114,6],[114,7,114,8],[115,3,115,4],[115,5,115,6],[115,7,115,8],[111,5,111,6],[111,7,111,8],[112,5,112,6],[112,7,112,8],[124,3,124,4],[126,5,126,6],[126,7,126,8],[121,5,121,6],[121,7,121,8],[116,3,116,4],[116,5,116,6],[116,7,116,8],[118,3,118,4],[118,5,118,6],[118,7,118,8],[172,6,172,8],[172,4,172,5],[139,3,139,8],[135,3,135,4],[135,5,135,6],[135,7,135,8],[136,3,136,4],[136,5,136,6],[127,3,127,4],[127,5,127,6],[133,7,133,8],[134,3,134,4],[134,5,134,6],[134,7,134,8],[128,3,128,4],[128,5,128,6],[132,7,132,8],[129,3,129,8],[128,7,128,8],[131,5,131,6],[127,7,127,8],[149,3,149,8],[145,3,145,4],[145,5,145,6],[133,3,133,4],[133,5,133,6],[15,3,15,8],[136,7,136,8],[137,3,137,4],[24,3,24,4],[24,5,24,6],[24,7,24,8],[137,5,137,6],[137,7,137,8],[131,7,131,8],[132,5,132,6],[125,3,125,4],[125,5,125,6],[125,7,125,8],[126,3,126,4],[122,5,122,6],[122,7,122,8],[124,5,124,6],[124,7,124,8],[119,3,119,8],[123,3,123,4],[123,5,123,6],[123,7,123,8],[171,1,171,2],[141,5,141,6],[141,7,141,8],[142,5,142,6],[142,7,142,8],[143,3,143,4],[143,5,143,6],[138,3,138,4],[138,5,138,6],[138,7,138,8],[145,7,145,8],[146,3,146,4],[146,5,146,6],[146,7,146,8],[147,3,147,4],[147,5,147,6],[147,7,147,8],[148,3,148,4],[148,5,148,6],[148,7,148,8],[151,5,151,6],[151,7,151,8],[152,5,152,6],[152,7,152,8],[12,5,12,6],[12,7,12,8],[13,5,13,6],[14,5,14,6],[14,7,14,8],[13,7,13,8],[0,1,0,7],[9,5,9,6],[9,7,9,8],[11,5,11,6],[11,7,11,8],[9,3,9,4],[14,3,14,4],[13,3,13,4]]}
[null,"COTAÇÕES",null,null,null,null,null,null,null,null,"Mediana"]
[null,null,null,null,null,null,null,null,null,null,"Média"]
[null,null,null,null,null,null,null,null,null,null,1]
[]
[]
[null,{"$f":"OFFSET(Cotações!$A$1,MATCH(COUNTIF($H$1:$H6,\"Cotações\"),Cotações!$J:$J,0)-1,COLUMN(Banco!B$6)-1)","v":"COTAÇÃO"},{"$f":"OFFSET(Cotações!$A$1,MATCH(COUNTIF($H$1:$H6,\"Cotações\"),Cotações!$J:$J,0)-1,COLUMN(Banco!C$6)-1)","v":0},{"$f":"IF(COUNTIF(OFFSET(Banco!$A$6,1+NCOMPOSICOES,0,NCOTACOES),$A6)>1,\"CÓDIGO REPETIDO\",OFFSET(Cotações!$A$1,MATCH(COUNTIF($H$1:$H6,\"Cotações\"),Cotações!$J:$J,0)-1,COLUMN(Banco!D$6)-1))","v":0},{"$f":"OFFSET(Cotações!$A$1,MATCH(COUNTIF($H$1:$H6,\"Cotações\"),Cotações!$J:$J,0)-1,COLUMN(Banco!E$6)-1)","v":0},{"$f":"OFFSET(Cotações!$A$1,MATCH(COUNTIF($H$1:$H6,\"Cotações\"),Cotações!$J:$J,0)-1,COLUMN(Banco!F$6)-1)","v":{"$error":"#NUM!"}},{"$f":"OFFSET(Cotações!$A$1,MATCH(COUNTIF($H$1:$H6,\"Cotações\"),Cotações!$J:$J,0)-1,COLUMN(Banco!F$6)-1)","v":{"$error":"#NUM!"}},"Cotações"]
[]
[null,"I001",null,null,null,null,null,null,{"$f":"F8/H8","v":{"$error":"#DIV/0!"}},"I",null,{"$f":"IF(ISNUMBER(I8),IF(I8<>0,\"F\",\"\"),\"\")","v":""}]
[]
[null,"E001",null,null,null,null,null,null,null,"E",null,{"$f":"IF(COUNTA(C10:I10)>0,\"F\",\"\")","v":""}]
[]
[null,"FONTE","CÓDIGO","DESCRIÇÃO","UNIDADE",{"$f":"CHOOSE($K$3,\"MEDIANA\",\"MÉDIA\")&IF(H13=\"\",\"\",\" RETROAGIDA\")","v":"MEDIANA"},null,"ÍNDICE RETROAÇÃO",null,null,null,{"$f":"IF(AND(ISNUMBER(F13),M13=\"Sim\"),\"F\",\"\")","v":""}]
[{"$f":"CONCATENAR","v":"COTAÇÃO "},"COTAÇÃO",null,null,null,{"$f":"CHOOSE($K$3,MEDIAN(OFFSET(F14,1,0,ROW(C16)-ROW(C14)-1)),AVERAGE(OFFSET(F14,1,0,ROW(C16)-ROW(C14)-1)))*IF(H13=\"\",1,VLOOKUP(H13,INDICES,8))","v":{"$error":"#NUM!"}},null,null,null,{"$f":"COUNTA($A$1:$A13)-1","v":0},{"$f":"ROW(C16)-ROW(C14)-1","v":1},{"$f":"IF(AND(ISNUMBER(F13),M13=\"Sim\"),\"F\",\"\")","v":""},"Sim"]
[null,null,"EMPRESA","NOME DA EMPRESA",null,"COTAÇÕES",null,"DATA COTAÇÃO",null,"C",null,{"$f":"IF(AND(ISNUMBER(F13),M13=\"Sim\"),\"F\",\"\")","v":""}]
[null,null,null,{"$f":"IF(C15<>\"\",VLOOKUP(C15,EMPRESAS,3,FALSE),\"\")","v":""},null,null,null,null,null,"C",null,{"$f":"IF(AND(ISNUMBER(OFFSET($F$1,MATCH(MAX($J$1:$J15),$J$1:$J15,0)-1,0)),ISNUMBER(F15),INDEX($M$1:$M15,MATCH(\"ZZZZ\",$M$1:$M15))=\"Sim\"),\"F\",\"\")","v":""}]
[null,null,"OBSERVAÇÕES:",null,null,null,null,null,null,null,null,{"$f":"IF(AND(ISNUMBER(F13),M13=\"Sim\"),\"F\",\"\")","v":""}]
[null,null,null,null,null,null,null,null,null,null,null,{"$f":"IF(AND(ISNUMBER(F13),M13=\"Sim\"),\"F\",\"\")","v":""}]
[null,null,null,null,null,null,null,null,null,null,null,"FILTRO","IMPRIMIR"]
[null,"ÍNDICES DE RETROAÇÃO:",null,null,null,null,null,null,null,null,null,{"$f":"IF(NINDICES>0,\"F\",\"\")","v":"F"}]
[null,"ÍNDICE","NOME DO ÍNDICE","DESCRIÇÃO","DATA BASE","ÍNDICE DT BASE","DT COTAÇÃO","ÍNDICE DT COT.","COEFICIENTE","I",null,{"$f":"IF(NINDICES>0,\"F\",\"\")","v":"F"}]
[null,"I001",null,null,null,null,null,null,{"$f":"F21/H21","v":{"$error":"#DIV/0!"}},"I",null,{"$f":"IF(ISNUMBER(I21),IF(I21<>0,\"F\",\"\"),\"\")","v":""}]
[null,"I002",null,null,null,null,null,null,{"$f":"F22/H22","v":{"$error":"#DIV/0!"}},"I",null,{"$f":"IF(ISNUMBER(I22),IF(I22<>0,\"F\",\"\"),\"\")","v":""}]
[null,"I003",null,null,null,null,null,null,{"$f":"F23/H23","v":{"$error":"#DIV/0!"}},"I",null,{"$f":"IF(ISNUMBER(I23),IF(I23<>0,\"F\",\"\"),\"\")","v":""}]
[null,"EMPRESAS FORNECEDORAS:",null,null,null,null,null,null,null,null,null,{"$f":"IF(NEMPRESAS>0,\"F\",\"\")","v":"F"}]
[null,"EMPRESAS","CNPJ","NOME",null,"FONE",null,"CONTATO",null,"E",null,{"$f":"IF(NEMPRESAS>0,\"F\",\"\")","v":"F"}]
[null,"E001",null,null,null,null,null,null,null,"E",null,{"$f":"IF(COUNTA(C26:I26)>0,\"F\",\"\")","v":""}]
[null,"E002",null,null,null,null,null,null,null,"E",null,""]
[null,"E003",null,null,null,null,null,null,null,"E",null,""]
[null,"E004",null,null,null,null,null,null,null,"E",null,""]
[null,"E005",null,null,null,null,null,null,null,"E",null,""]
[null,"E006",null,null,null,null,null,null,null,"E",null,""]
[null,"E007",null,null,null,null,null,null,null,"E",null,""]
[null,"E008",null,null,null,null,null,null,null,"E",null,""]
[null,"E009",null,null,null,null,null,null,null,"E",null,""]
[null,"E010",null,null,null,null,null,null,null,"E",null,""]
[null,"E011",null,null,null,null,null,null,null,"E",null,""]
[null,"E012",null,null,null,null,null,null,null,"E",null,""]
[null,"E013",null,null,null,null,null,null,null,"E",null,""]
[null,"E014",null,null,null,null,null,null,null,"E",null,""]
[null,"E015",null,null,null,null,null,null,null,"E",null,""]
[null,"COTAÇÕES:",null,null,null,null,null,null,null,null,null,{"$f":"IF(NCOTACOES>0,\"F\",\"\")","v":"F"}]
[null,"FONTE","CÓDIGO","DESCRIÇÃO","UNIDADE",{"$f":"CHOOSE($K$3,\"MEDIANA\",\"MÉDIA\")&IF(H43=\"\",\"\",\" RETROAGIDA\")","v":"MEDIANA"},null,"ÍNDICE RETROAÇÃO",null,null,null,{"$f":"IF(AND(ISNUMBER(F43),M43=\"Sim\"),\"F\",\"\")","v":""}]
[{"$f":"CONCATENAR","v":"COTAÇÃO "},"COTAÇÃO",null,null,null,{"$f":"CHOOSE($K$3,MEDIAN(OFFSET(F44,1,0,ROW(C50)-ROW(C44)-1)),AVERAGE(OFFSET(F44,1,0,ROW(C50)-ROW(C44)-1)))*IF(H43=\"\",1,VLOOKUP(H43,INDICES,8))","v":{"$error":"#NUM!"}},null,null,null,{"$f":"COUNTA($A$1:$A43)-1","v":1},{"$f":"ROW(C50)-ROW(C44)-1","v":5},{"$f":"IF(AND(ISNUMBER(F43),M43=\"Sim\"),\"F\",\"\")","v":""},"Sim"]
[null,null,"EMPRESA","NOME DA EMPRESA",null,"COTAÇÕES",null,"DATA COTAÇÃO",null,"C",null,{"$f":"IF(AND(ISNUMBER(F43),M43=\"Sim\"),\"F\",\"\")","v":""}]
[null,null,null,{"$f":"IF(C45<>\"\",VLOOKUP(C45,EMPRESAS,3,FALSE),\"\")","v":""},null,null,null,null,null,"C",null,{"$f":"IF(AND(ISNUMBER(OFFSET($F$1,MATCH(MAX($J$1:$J45),$J$1:$J45,0)-1,0)),ISNUMBER(F45),INDEX($M$1:$M45,MATCH(\"ZZZZ\",$M$1:$M45))=\"Sim\"),\"F\",\"\")","v":""}]
[null,null,null,{"$f":"IF(C46<>\"\",VLOOKUP(C46,EMPRESAS,3,FALSE),\"\")","v":""},null,null,null,null,null,"C",null,{"$f":"IF(AND(ISNUMBER(OFFSET($F$1,MATCH(MAX($J$1:$J46),$J$1:$J46,0)-1,0)),ISNUMBER(F46),INDEX($M$1:$M46,MATCH(\"ZZZZ\",$M$1:$M46))=\"Sim\"),\"F\",\"\")","v":""}]
[null,null,null,{"$f":"IF(C47<>\"\",VLOOKUP(C47,EMPRESAS,3,FALSE),\"\")","v":""},null,null,null,null,null,"C",null,{"$f":"IF(AND(ISNUMBER(OFFSET($F$1,MATCH(MAX($J$1:$J47),$J$1:$J47,0)-1,0)),ISNUMBER(F47),INDEX($M$1:$M47,MATCH(\"ZZZZ\",$M$1:$M47))=\"Sim\"),\"F\",\"\")","v":""}]
[null,null,null,{"$f":"IF(C48<>\"\",VLOOKUP(C48,EMPRESAS,3,FALSE),\"\")","v":""},null,null,null,null,null,"C",null,{"$f":"IF(AND(ISNUMBER(OFFSET($F$1,MATCH(MAX($J$1:$J48),$J$1:$J48,0)-1,0)),ISNUMBER(F48),INDEX($M$1:$M48,MATCH(\"ZZZZ\",$M$1:$M48))=\"Sim\"),\"F\",\"\")","v":""}]
[null,null,null,{"$f":"IF(C49<>\"\",VLOOKUP(C49,EMPRESAS,3,FALSE),\"\")","v":""},null,null,null,null,null,"C",null,{"$f":"IF(AND(ISNUMBER(OFFSET($F$1,MATCH(MAX($J$1:$J49),$J$1:$J49,0)-1,0)),ISNUMBER(F49),INDEX($M$1:$M49,MATCH(\"ZZZZ\",$M$1:$M49))=\"Sim\"),\"F\",\"\")","v":""}]
[null,null,"OBSERVAÇÕES:",null,null,null,null,null,null,null,null,{"$f":"IF(AND(ISNUMBER(F43),M43=\"Sim\"),\"F\",\"\")","v":""}]
[null,null,null,null,null,null,null,null,null,null,null,{"$f":"IF(AND(ISNUMBER(F43),M43=\"Sim\"),\"F\",\"\")","v":""}]
[null,"FONTE","CÓDIGO","DESCRIÇÃO","UNIDADE",{"$f":"CHOOSE($K$3,\"MEDIANA\",\"MÉDIA\")&IF(H53=\"\",\"\",\" RETROAGIDA\")","v":"MEDIANA"},null,"ÍNDICE RETROAÇÃO",null,null,null,{"$f":"IF(AND(ISNUMBER(F53),M53=\"Sim\"),\"F\",\"\")","v":""}]
[{"$f":"CONCATENAR","v":"COTAÇÃO "},"COTAÇÃO",null,null,null,{"$f":"CHOOSE($K$3,MEDIAN(OFFSET(F54,1,0,ROW(C60)-ROW(C54)-1)),AVERAGE(OFFSET(F54,1,0,ROW(C60)-ROW(C54)-1)))*IF(H53=\"\",1,VLOOKUP(H53,INDICES,8))","v":{"$error":"#NUM!"}},null,null,null,{"$f":"COUNTA($A$1:$A53)-1","v":2},{"$f":"ROW(C60)-ROW(C54)-1","v":5},{"$f":"IF(AND(ISNUMBER(F53),M53=\"Sim\"),\"F\",\"\")","v":""},"Sim"]
[null,null,"EMPRESA","NOME DA EMPRESA",null,"COTAÇÕES",null,"DATA COTAÇÃO",null,"C",null,{"$f":"IF(AND(ISNUMBER(F53),M53=\"Sim\"),\"F\",\"\")","v":""}]
[null,null,null,{"$f":"IF(C55<>\"\",VLOOKUP(C55,EMPRESAS,3,FALSE),\"\")","v":""},null,null,null,null,null,"C",null,{"$f":"IF(AND(ISNUMBER(OFFSET($F$1,MATCH(MAX($J$1:$J55),$J$1:$J55,0)-1,0)),ISNUMBER(F55),INDEX($M$1:$M55,MATCH(\"ZZZZ\",$M$1:$M55))=\"Sim\"),\"F\",\"\")","v":""}]
[null,null,null,{"$f":"IF(C56<>\"\",VLOOKUP(C56,EMPRESAS,3,FALSE),\"\")","v":""},null,null,null,null,null,"C",null,{"$f":"IF(AND(ISNUMBER(OFFSET($F$1,MATCH(MAX($J$1:$J56),$J$1:$J56,0)-1,0)),ISNUMBER(F56),INDEX($M$1:$M56,MATCH(\"ZZZZ\",$M$1:$M56))=\"Sim\"),\"F\",\"\")","v":""}]
[null,null,null,{"$f":"IF(C57<>\"\",VLOOKUP(C57,EMPRESAS,3,FALSE),\"\")","v":""},null,null,null,null,null,"C",null,{"$f":"IF(AND(ISNUMBER(OFFSET($F$1,MATCH(MAX($J$1:$J57),$J$1:$J57,0)-1,0)),ISNUMBER(F57),INDEX($M$1:$M57,MATCH(\"ZZZZ\",$M$1:$M57))=\"Sim\"),\"F\",\"\")","v":""}]
[null,null,null,{"$f":"IF(C58<>\"\",VLOOKUP(C58,EMPRESAS,3,FALSE),\"\")","v":""},null,null,null,null,null,"C",null,{"$f":"IF(AND(ISNUMBER(OFFSET($F$1,MATCH(MAX($J$1:$J58),$J$1:$J58,0)-1,0)),ISNUMBER(F58),INDEX($M$1:$M58,MATCH(\"ZZZZ\",$M$1:$M58))=\"Sim\"),\"F\",\"\")","v":""}]
[null,null,null,{"$f":"IF(C59<>\"\",VLOOKUP(C59,EMPRESAS,3,FALSE),\"\")","v":""},null,null,null,null,null,"C",null,{"$f":"IF(AND(ISNUMBER(OFFSET($F$1,MATCH(MAX($J$1:$J59),$J$1:$J59,0)-1,0)),ISNUMBER(F59),INDEX($M$1:$M59,MATCH(\"ZZZZ\",$M$1:$M59))=\"Sim\"),\"F\",\"\")","v":""}]
[null,null,"OBSERVAÇÕES:",null,null,null,null,null,null,null,null,{"$f":"IF(AND(ISNUMBER(F53),M53=\"Sim\"),\"F\",\"\")","v":""}]
[null,null,null,null,null,null,null,null,null,null,null,{"$f":"IF(AND(ISNUMBER(F53),M53=\"Sim\"),\"F\",\"\")","v":""}]
[null,"FONTE","CÓDIGO","DESCRIÇÃO","UNIDADE",{"$f":"CHOOSE($K$3,\"MEDIANA\",\"MÉDIA\")&IF(H63=\"\",\"\",\" RETROAGIDA\")","v":"MEDIANA"},null,"ÍNDICE RETROAÇÃO",null,null,null,{"$f":"IF(AND(ISNUMBER(F63),M63=\"Sim\"),\"F\",\"\")","v":""}]
[{"$f":"CONCATENAR","v":"COTAÇÃO "},"COTAÇÃO",null,null,null,{"$f":"CHOOSE($K$3,MEDIAN(OFFSET(F64,1,0,ROW(C70)-ROW(C64)-1)),AVERAGE(OFFSET(F64,1,0,ROW(C70)-ROW(C64)-1)))*IF(H63=\"\",1,VLOOKUP(H63,INDICES,8))","v":{"$error":"#NUM!"}},null,null,null,{"$f":"COUNTA($A$1:$A63)-1","v":3},{"$f":"ROW(C70)-ROW(C64)-1","v":5},{"$f":"IF(AND(ISNUMBER(F63),M63=\"Sim\"),\"F\",\"\")","v":""},"Sim"]
[null,null,"EMPRESA","NOME DA EMPRESA",null,"COTAÇÕES",null,"DATA COTAÇÃO",null,"C",null,{"$f":"IF(AND(ISNUMBER(F63),M63=\"Sim\"),\"F\",\"\")","v":""}]
[null,null,null,{"$f":"IF(C65<>\"\",VLOOKUP(C65,EMPRESAS,3,FALSE),\"\")","v":""},null,null,null,null,null,"C",null,{"$f":"IF(AND(ISNUMBER(OFFSET($F$1,MATCH(MAX($J$1:$J65),$J$1:$J65,0)-1,0)),ISNUMBER(F65),INDEX($M$1:$M65,MATCH(\"ZZZZ\",$M$1:$M65))=\"Sim\"),\"F\",\"\")","v":""}]
[null,null,null,{"$f":"IF(C66<>\"\",VLOOKUP(C66,EMPRESAS,3,FALSE),\"\")","v":""},null,null,null,null,null,"C",null,{"$f":"IF(AND(ISNUMBER(OFFSET($F$1,MATCH(MAX($J$1:$J66),$J$1:$J66,0)-1,0)),ISNUMBER(F66),INDEX($M$1:$M66,MATCH(\"ZZZZ\",$M$1:$M66))=\"Sim\"),\"F\",\"\")","v":""}]
[null,null,null,{"$f":"IF(C67<>\"\",VLOOKUP(C67,EMPRESAS,3,FALSE),\"\")","v":""},null,null,null,null,null,"C",null,{"$f":"IF(AND(ISNUMBER(OFFSET($F$1,MATCH(MAX($J$1:$J67),$J$1:$J67,0)-1,0)),ISNUMBER(F67),INDEX($M$1:$M67,MATCH(\"ZZZZ\",$M$1:$M67))=\"Sim\"),\"F\",\"\")","v":""}]
[null,null,null,{"$f":"IF(C68<>\"\",VLOOKUP(C68,EMPRESAS,3,FALSE),\"\")","v":""},null,null,null,null,null,"C",null,{"$f":"IF(AND(ISNUMBER(OFFSET($F$1,MATCH(MAX($J$1:$J68),$J$1:$J68,0)-1,0)),ISNUMBER(F68),INDEX($M$1:$M68,MATCH(\"ZZZZ\",$M$1:$M68))=\"Sim\"),\"F\",\"\")","v":""}]
[null,null,null,{"$f":"IF(C69<>\"\",VLOOKUP(C69,EMPRESAS,3,FALSE),\"\")","v":""},null,null,null,null,null,"C",null,{"$f":"IF(AND(ISNUMBER(OFFSET($F$1,MATCH(MAX($J$1:$J69),$J$1:$J69,0)-1,0)),ISNUMBER(F69),INDEX($M$1:$M69,MATCH(\"ZZZZ\",$M$1:$M69))=\"Sim\"),\"F\",\"\")","v":""}]
[null,null,"OBSERVAÇÕES:",null,null,null,null,null,null,null,null,{"$f":"IF(AND(ISNUMBER(F63),M63=\"Sim\"),\"F\",\"\")","v":""}]
[null,null,null,null,null,null,null,null,null,null,null,{"$f":"IF(AND(ISNUMBER(F63),M63=\"Sim\"),\"F\",\"\")","v":""}]
[null,"FONTE","CÓDIGO","DESCRIÇÃO","UNIDADE",{"$f":"CHOOSE($K$3,\"MEDIANA\",\"MÉDIA\")&IF(H73=\"\",\"\",\" RETROAGIDA\")","v":"MEDIANA"},null,"ÍNDICE RETROAÇÃO",null,null,null,{"$f":"IF(AND(ISNUMBER(F73),M73=\"Sim\"),\"F\",\"\")","v":""}]
[{"$f":"CONCATENAR","v":"COTAÇÃO "},"COTAÇÃO",null,null,null,{"$f":"CHOOSE($K$3,MEDIAN(OFFSET(F74,1,0,ROW(C80)-ROW(C74)-1)),AVERAGE(OFFSET(F74,1,0,ROW(C80)-ROW(C74)-1)))*IF(H73=\"\",1,VLOOKUP(H73,INDICES,8))","v":{"$error":"#NUM!"}},null,null,null,{"$f":"COUNTA($A$1:$A73)-1","v":4},{"$f":"ROW(C80)-ROW(C74)-1","v":5},{"$f":"IF(AND(ISNUMBER(F73),M73=\"Sim\"),\"F\",\"\")","v":""},"Sim"]
[null,null,"EMPRESA","NOME DA EMPRESA",null,"COTAÇÕES",null,"DATA COTAÇÃO",null,"C",null,{"$f":"IF(AND(ISNUMBER(F73),M73=\"Sim\"),\"F\",\"\")","v":""}]
[null,null,null,{"$f":"IF(C75<>\"\",VLOOKUP(C75,EMPRESAS,3,FALSE),\"\")","v":""},null,null,null,null,null,"C",null,{"$f":"IF(AND(ISNUMBER(OFFSET($F$1,MATCH(MAX($J$1:$J75),$J$1:$J75,0)-1,0)),ISNUMBER(F75),INDEX($M$1:$M75,MATCH(\"ZZZZ\",$M$1:$M75))=\"Sim\"),\"F\",\"\")","v":""}]
[null,null,null,{"$f":"IF(C76<>\"\",VLOOKUP(C76,EMPRESAS,3,FALSE),\"\")","v":""},null,null,null,null,null,"C",null,{"$f":"IF(AND(ISNUMBER(OFFSET($F$1,MATCH(MAX($J$1:$J76),$J$1:$J76,0)-1,0)),ISNUMBER(F76),INDEX($M$1:$M76,MATCH(\"ZZZZ\",$M$1:$M76))=\"Sim\"),\"F\",\"\")","v":""}]
[null,null,null,{"$f":"IF(C77<>\"\",VLOOKUP(C77,EMPRESAS,3,FALSE),\"\")","v":""},null,null,null,null,null,"C",null,{"$f":"IF(AND(ISNUMBER(OFFSET($F$1,MATCH(MAX($J$1:$J77),$J$1:$J77,0)-1,0)),ISNUMBER(F77),INDEX($M$1:$M77,MATCH(\"ZZZZ\",$M$1:$M77))=\"Sim\"),\"F\",\"\")","v":""}]
[null,null,null,{"$f":"IF(C78<>\"\",VLOOKUP(C78,EMPRESAS,3,FALSE),\"\")","v":""},null,null,null,null,null,"C",null,{"$f":"IF(AND(ISNUMBER(OFFSET($F$1,MATCH(MAX($J$1:$J78),$J$1:$J78,0)-1,0)),ISNUMBER(F78),INDEX($M$1:$M78,MATCH(\"ZZZZ\",$M$1:$M78))=\"Sim\"),\"F\",\"\")","v":""}]
[null,null,null,{"$f":"IF(C79<>\"\",VLOOKUP(C79,EMPRESAS,3,FALSE),\"\")","v":""},null,null,null,null,null,"C",null,{"$f":"IF(AND(ISNUMBER(OFFSET($F$1,MATCH(MAX($J$1:$J79),$J$1:$J79,0)-1,0)),ISNUMBER(F79),INDEX($M$1:$M79,MATCH(\"ZZZZ\",$M$1:$M79))=\"Sim\"),\"F\",\"\")","v":""}]
[null,null,"OBSERVAÇÕES:",null,null,null,null,null,null,null,null,{"$f":"IF(AND(ISNUMBER(F73),M73=\"Sim\"),\"F\",\"\")","v":""}]
[null,null,null,null,null,null,null,null,null,null,null,{"$f":"IF(AND(ISNUMBER(F73),M73=\"Sim\"),\"F\",\"\")","v":""}]
[null,"FONTE","CÓDIGO","DESCRIÇÃO","UNIDADE",{"$f":"CHOOSE($K$3,\"MEDIANA\",\"MÉDIA\")&IF(H83=\"\",\"\",\" RETROAGIDA\")","v":"MEDIANA"},null,"ÍNDICE RETROAÇÃO",null,null,null,{"$f":"IF(AND(ISNUMBER(F83),M83=\"Sim\"),\"F\",\"\")","v":""}]
[{"$f":"CONCATENAR","v":"COTAÇÃO "},"COTAÇÃO",null,null,null,{"$f":"CHOOSE($K$3,MEDIAN(OFFSET(F84,1,0,ROW(C90)-ROW(C84)-1)),AVERAGE(OFFSET(F84,1,0,ROW(C90)-ROW(C84)-1)))*IF(H83=\"\",1,VLOOKUP(H83,INDICES,8))","v":{"$error":"#NUM!"}},null,null,null,{"$f":"COUNTA($A$1:$A83)-1","v":5},{"$f":"ROW(C90)-ROW(C84)-1","v":5},{"$f":"IF(AND(ISNUMBER(F83),M83=\"Sim\"),\"F\",\"\")","v":""},"Sim"]
[null,null,"EMPRESA","NOME DA EMPRESA",null,"COTAÇÕES",null,"DATA COTAÇÃO",null,"C",null,{"$f":"IF(AND(ISNUMBER(F83),M83=\"Sim\"),\"F\",\"\")","v":""}]
[null,null,null,{"$f":"IF(C85<>\"\",VLOOKUP(C85,EMPRESAS,3,FALSE),\"\")","v":""},null,null,null,null,null,"C",null,{"$f":"IF(AND(ISNUMBER(OFFSET($F$1,MATCH(MAX($J$1:$J85),$J$1:$J85,0)-1,0)),ISNUMBER(F85),INDEX($M$1:$M85,MATCH(\"ZZZZ\",$M$1:$M85))=\"Sim\"),\"F\",\"\")","v":""}]
[null,null,null,{"$f":"IF(C86<>\"\",VLOOKUP(C86,EMPRESAS,3,FALSE),\"\")","v":""},null,null,null,null,null,"C",null,{"$f":"IF(AND(ISNUMBER(OFFSET($F$1,MATCH(MAX($J$1:$J86),$J$1:$J86,0)-1,0)),ISNUMBER(F86),INDEX($M$1:$M86,MATCH(\"ZZZZ\",$M$1:$M86))=\"Sim\"),\"F\",\"\")","v":""}]
[null,null,null,{"$f":"IF(C87<>\"\",VLOOKUP(C87,EMPRESAS,3,FALSE),\"\")","v":""},null,null,null,null,null,"C",null,{"$f":"IF(AND(ISNUMBER(OFFSET($F$1,MATCH(MAX($J$1:$J87),$J$1:$J87,0)-1,0)),ISNUMBER(F87),INDEX($M$1:$M87,MATCH(\"ZZZZ\",$M$1:$M87))=\"Sim\"),\"F\",\"\")","v":""}]
[null,null,null,{"$f":"IF(C88<>\"\",VLOOKUP(C88,EMPRESAS,3,FALSE),\"\")","v":""},null,null,null,null,null,"C",null,{"$f":"IF(AND(ISNUMBER(OFFSET($F$1,MATCH(MAX($J$1:$J88),$J$1:$J88,0)-1,0)),ISNUMBER(F88),INDEX($M$1:$M88,MATCH(\"ZZZZ\",$M$1:$M88))=\"Sim\"),\"F\",\"\")","v":""}]
[null,null,null,{"$f":"IF(C89<>\"\",VLOOKUP(C89,EMPRESAS,3,FALSE),\"\")","v":""},null,null,null,null,null,"C",null,{"$f":"IF(AND(ISNUMBER(OFFSET($F$1,MATCH(MAX($J$1:$J89),$J$1:$J89,0)-1,0)),ISNUMBER(F89),INDEX($M$1:$M89,MATCH(\"ZZZZ\",$M$1:$M89))=\"Sim\"),\"F\",\"\")","v":""}]
[null,null,"OBSERVAÇÕES:",null,null,null,null,null,null,null,null,{"$f":"IF(AND(ISNUMBER(F83),M83=\"Sim\"),\"F\",\"\")","v":""}]
[null,null,null,null,null,null,null,null,null,null,null,{"$f":"IF(AND(ISNUMBER(F83),M83=\"Sim\"),\"F\",\"\")","v":""}]
[null,"FONTE","CÓDIGO","DESCRIÇÃO","UNIDADE",{"$f":"CHOOSE($K$3,\"MEDIANA\",\"MÉDIA\")&IF(H93=\"\",\"\",\" RETROAGIDA\")","v":"MEDIANA"},null,"ÍNDICE RETROAÇÃO",null,null,null,{"$f":"IF(AND(ISNUMBER(F93),M93=\"Sim\"),\"F\",\"\")","v":""}]
[{"$f":"CONCATENAR","v":"COTAÇÃO "},"COTAÇÃO",null,null,null,{"$f":"CHOOSE($K$3,MEDIAN(OFFSET(F94,1,0,ROW(C100)-ROW(C94)-1)),AVERAGE(OFFSET(F94,1,0,ROW(C100)-ROW(C94)-1)))*IF(H93=\"\",1,VLOOKUP(H93,INDICES,8))","v":{"$error":"#NUM!"}},null,null,null,{"$f":"COUNTA($A$1:$A93)-1","v":6},{"$f":"ROW(C100)-ROW(C94)-1","v":5},{"$f":"IF(AND(ISNUMBER(F93),M93=\"Sim\"),\"F\",\"\")","v":""},"Sim"]
[null,null,"EMPRESA","NOME DA EMPRESA",null,"COTAÇÕES",null,"DATA COTAÇÃO",null,"C",null,{"$f":"IF(AND(ISNUMBER(F93),M93=\"Sim\"),\"F\",\"\")","v":""}]
[null,null,null,{"$f":"IF(C95<>\"\",VLOOKUP(C95,EMPRESAS,3,FALSE),\"\")","v":""},null,null,null,null,null,"C",null,{"$f":"IF(AND(ISNUMBER(OFFSET($F$1,MATCH(MAX($J$1:$J95),$J$1:$J95,0)-1,0)),ISNUMBER(F95),INDEX($M$1:$M95,MATCH(\"ZZZZ\",$M$1:$M95))=\"Sim\"),\"F\",\"\")","v":""}]
[null,null,null,{"$f":"IF(C96<>\"\",VLOOKUP(C96,EMPRESAS,3,FALSE),\"\")","v":""},null,null,null,null,null,"C",null,{"$f":"IF(AND(ISNUMBER(OFFSET($F$1,MATCH(MAX($J$1:$J96),$J$1:$J96,0)-1,0)),ISNUMBER(F96),INDEX($M$1:$M96,MATCH(\"ZZZZ\",$M$1:$M96))=\"Sim\"),\"F\",\"\")","v":""}]
[null,null,null,{"$f":"IF(C97<>\"\",VLOOKUP(C97,EMPRESAS,3,FALSE),\"\")","v":""},null,null,null,null,null,"C",null,{"$f":"IF(AND(ISNUMBER(OFFSET($F$1,MATCH(MAX($J$1:$J97),$J$1:$J97,0)-1,0)),ISNUMBER(F97),INDEX($M$1:$M97,MATCH(\"ZZZZ\",$M$1:$M97))=\"Sim\"),\"F\",\"\")","v":""}]
[null,null,null,{"$f":"IF(C98<>\"\",VLOOKUP(C98,EMPRESAS,3,FALSE),\"\")","v":""},null,null,null,null,null,"C",null,{"$f":"IF(AND(ISNUMBER(OFFSET($F$1,MATCH(MAX($J$1:$J98),$J$1:$J98,0)-1,0)),ISNUMBER(F98),INDEX($M$1:$M98,MATCH(\"ZZZZ\",$M$1:$M98))=\"Sim\"),\"F\",\"\")","v":""}]
[null,null,null,{"$f":"IF(C99<>\"\",VLOOKUP(C99,EMPRESAS,3,FALSE),\"\")","v":""},null,null,null,null,null,"C",null,{"$f":"IF(AND(ISNUMBER(OFFSET($F$1,MATCH(MAX($J$1:$J99),$J$1:$J99,0)-1,0)),ISNUMBER(F99),INDEX($M$1:$M99,MATCH(\"ZZZZ\",$M$1:$M99))=\"Sim\"),\"F\",\"\")","v":""}]
[null,null,"OBSERVAÇÕES:",null,null,null,null,null,null,null,null,{"$f":"IF(AND(ISNUMBER(F93),M93=\"Sim\"),\"F\",\"\")","v":""}]
[null,null,null,null,null,null,null,null,null,null,null,{"$f":"IF(AND(ISNUMBER(F93),M93=\"Sim\"),\"F\",\"\")","v":""}]
[null,"FONTE","CÓDIGO","DESCRIÇÃO","UNIDADE",{"$f":"CHOOSE($K$3,\"MEDIANA\",\"MÉDIA\")&IF(H103=\"\",\"\",\" RETROAGIDA\")","v":"MEDIANA"},null,"ÍNDICE RETROAÇÃO",null,null,null,{"$f":"IF(AND(ISNUMBER(F103),M103=\"Sim\"),\"F\",\"\")","v":""}]
[{"$f":"CONCATENAR","v":"COTAÇÃO "},"COTAÇÃO",null,null,null,{"$f":"CHOOSE($K$3,MEDIAN(OFFSET(F104,1,0,ROW(C110)-ROW(C104)-1)),AVERAGE(OFFSET(F104,1,0,ROW(C110)-ROW(C104)-1)))*IF(H103=\"\",1,VLOOKUP(H103,INDICES,8))","v":{"$error":"#NUM!"}},null,null,null,{"$f":"COUNTA($A$1:$A103)-1","v":7},{"$f":"ROW(C110)-ROW(C104)-1","v":5},{"$f":"IF(AND(ISNUMBER(F103),M103=\"Sim\"),\"F\",\"\")","v":""},"Sim"]
[null,null,"EMPRESA","NOME DA EMPRESA",null,"COTAÇÕES",null,"DATA COTAÇÃO",null,"C",null,{"$f":"IF(AND(ISNUMBER(F103),M103=\"Sim\"),\"F\",\"\")","v":""}]
[null,null,null,{"$f":"IF(C105<>\"\",VLOOKUP(C105,EMPRESAS,3,FALSE),\"\")","v":""},null,null,null,null,null,"C",null,{"$f":"IF(AND(ISNUMBER(OFFSET($F$1,MATCH(MAX($J$1:$J105),$J$1:$J105,0)-1,0)),ISNUMBER(F105),INDEX($M$1:$M105,MATCH(\"ZZZZ\",$M$1:$M105))=\"Sim\"),\"F\",\"\")","v":""}]
[null,null,null,{"$f":"IF(C106<>\"\",VLOOKUP(C106,EMPRESAS,3,FALSE),\"\")","v":""},null,null,null,null,null,"C",null,{"$f":"IF(AND(ISNUMBER(OFFSET($F$1,MATCH(MAX($J$1:$J106),$J$1:$J106,0)-1,0)),ISNUMBER(F106),INDEX($M$1:$M106,MATCH(\"ZZZZ\",$M$1:$M106))=\"Sim\"),\"F\",\"\")","v":""}]
[null,null,null,{"$f":"IF(C107<>\"\",VLOOKUP(C107,EMPRESAS,3,FALSE),\"\")","v":""},null,null,null,null,null,"C",null,{"$f":"IF(AND(ISNUMBER(OFFSET($F$1,MATCH(MAX($J$1:$J107),$J$1:$J107,0)-1,0)),ISNUMBER(F107),INDEX($M$1:$M107,MATCH(\"ZZZZ\",$M$1:$M107))=\"Sim\"),\"F\",\"\")","v":""}]
[null,null,null,{"$f":"IF(C108<>\"\",VLOOKUP(C108,EMPRESAS,3,FALSE),\"\")","v":""},null,null,null,null,null,"C",null,{"$f":"IF(AND(ISNUMBER(OFFSET($F$1,MATCH(MAX($J$1:$J108),$J$1:$J108,0)-1,0)),ISNUMBER(F108),INDEX($M$1:$M108,MATCH(\"ZZZZ\",$M$1:$M108))=\"Sim\"),\"F\",\"\")","v":""}]
[null,null,null,{"$f":"IF(C109<>\"\",VLOOKUP(C109,EMPRESAS,3,FALSE),\"\")","v":""},null,null,null,null,null,"C",null,{"$f":"IF(AND(ISNUMBER(OFFSET($F$1,MATCH(MAX($J$1:$J109),$J$1:$J109,0)-1,0)),ISNUMBER(F109),INDEX($M$1:$M109,MATCH(\"ZZZZ\",$M$1:$M109))=\"Sim\"),\"F\",\"\")","v":""}]
[null,null,"OBSERVAÇÕES:",null,null,null,null,null,null,null,null,{"$f":"IF(AND(ISNUMBER(F103),M103=\"Sim\"),\"F\",\"\")","v":""}]
[null,null,null,null,null,null,null,null,null,null,null,{"$f":"IF(AND(ISNUMBER(F103),M103=\"Sim\"),\"F\",\"\")","v":""}]
[null,"FONTE","CÓDIGO","DESCRIÇÃO","UNIDADE",{"$f":"CHOOSE($K$3,\"MEDIANA\",\"MÉDIA\")&IF(H113=\"\",\"\",\" RETROAGIDA\")","v":"MEDIANA"},null,"ÍNDICE RETROAÇÃO",null,null,null,{"$f":"IF(AND(ISNUMBER(F113),M113=\"Sim\"),\"F\",\"\")","v":""}]
[{"$f":"CONCATENAR","v":"COTAÇÃO "},"COTAÇÃO",null,null,null,{"$f":"CHOOSE($K$3,MEDIAN(OFFSET(F114,1,0,ROW(C120)-ROW(C114)-1)),AVERAGE(OFFSET(F114,1,0,ROW(C120)-ROW(C114)-1)))*IF(H113=\"\",1,VLOOKUP(H113,INDICES,8))","v":{"$error":"#NUM!"}},null,null,null,{"$f":"COUNTA($A$1:$A113)-1","v":8},{"$f":"ROW(C120)-ROW(C114)-1","v":5},{"$f":"IF(AND(ISNUMBER(F113),M113=\"Sim\"),\"F\",\"\")","v":""},"Sim"]
[null,null,"EMPRESA","NOME DA EMPRESA",null,"COTAÇÕES",null,"DATA COTAÇÃO",null,"C",null,{"$f":"IF(AND(ISNUMBER(F113),M113=\"Sim\"),\"F\",\"\")","v":""}]
[null,null,null,{"$f":"IF(C115<>\"\",VLOOKUP(C115,EMPRESAS,3,FALSE),\"\")","v":""},null,null,null,null,null,"C",null,{"$f":"IF(AND(ISNUMBER(OFFSET($F$1,MATCH(MAX($J$1:$J115),$J$1:$J115,0)-1,0)),ISNUMBER(F115),INDEX($M$1:$M115,MATCH(\"ZZZZ\",$M$1:$M115))=\"Sim\"),\"F\",\"\")","v":""}]
[null,null,null,{"$f":"IF(C116<>\"\",VLOOKUP(C116,EMPRESAS,3,FALSE),\"\")","v":""},null,null,null,null,null,"C",null,{"$f":"IF(AND(ISNUMBER(OFFSET($F$1,MATCH(MAX($J$1:$J116),$J$1:$J116,0)-1,0)),ISNUMBER(F116),INDEX($M$1:$M116,MATCH(\"ZZZZ\",$M$1:$M116))=\"Sim\"),\"F\",\"\")","v":""}]
[null,null,null,{"$f":"IF(C117<>\"\",VLOOKUP(C117,EMPRESAS,3,FALSE),\"\")","v":""},null,null,null,null,null,"C",null,{"$f":"IF(AND(ISNUMBER(OFFSET($F$1,MATCH(MAX($J$1:$J117),$J$1:$J117,0)-1,0)),ISNUMBER(F117),INDEX($M$1:$M117,MATCH(\"ZZZZ\",$M$1:$M117))=\"Sim\"),\"F\",\"\")","v":""}]
[null,null,null,{"$f":"IF(C118<>\"\",VLOOKUP(C118,EMPRESAS,3,FALSE),\"\")","v":""},null,null,null,null,null,"C",null,{"$f":"IF(AND(ISNUMBER(OFFSET($F$1,MATCH(MAX($J$1:$J118),$J$1:$J118,0)-1,0)),ISNUMBER(F118),INDEX($M$1:$M118,MATCH(\"ZZZZ\",$M$1:$M118))=\"Sim\"),\"F\",\"\")","v":""}]
[null,null,null,{"$f":"IF(C119<>\"\",VLOOKUP(C119,EMPRESAS,3,FALSE),\"\")","v":""},null,null,null,null,null,"C",null,{"$f":"IF(AND(ISNUMBER(OFFSET($F$1,MATCH(MAX($J$1:$J119),$J$1:$J119,0)-1,0)),ISNUMBER(F119),INDEX($M$1:$M119,MATCH(\"ZZZZ\",$M$1:$M119))=\"Sim\"),\"F\",\"\")","v":""}]
[null,null,"OBSERVAÇÕES:",null,null,null,null,null,null,null,null,{"$f":"IF(AND(ISNUMBER(F113),M113=\"Sim\"),\"F\",\"\")","v":""}]
[null,null,null,null,null,null,null,null,null,null,null,{"$f":"IF(AND(ISNUMBER(F113),M113=\"Sim\"),\"F\",\"\")","v":""}]
[null,"FONTE","CÓDIGO","DESCRIÇÃO","UNIDADE",{"$f":"CHOOSE($K$3,\"MEDIANA\",\"MÉDIA\")&IF(H123=\"\",\"\",\" RETROAGIDA\")","v":"MEDIANA"},null,"ÍNDICE RETROAÇÃO",null,null,null,{"$f":"IF(AND(ISNUMBER(F123),M123=\"Sim\"),\"F\",\"\")","v":""}]
[{"$f":"CONCATENAR","v":"COTAÇÃO "},"COTAÇÃO",null,null,null,{"$f":"CHOOSE($K$3,MEDIAN(OFFSET(F124,1,0,ROW(C130)-ROW(C124)-1)),AVERAGE(OFFSET(F124,1,0,ROW(C130)-ROW(C124)-1)))*IF(H123=\"\",1,VLOOKUP(H123,INDICES,8))","v":{"$error":"#NUM!"}},null,null,null,{"$f":"COUNTA($A$1:$A123)-1","v":9},{"$f":"ROW(C130)-ROW(C124)-1","v":5},{"$f":"IF(AND(ISNUMBER(F123),M123=\"Sim\"),\"F\",\"\")","v":""},"Sim"]
[null,null,"EMPRESA","NOME DA EMPRESA",null,"COTAÇÕES",null,"DATA COTAÇÃO",null,"C",null,{"$f":"IF(AND(ISNUMBER(F123),M123=\"Sim\"),\"F\",\"\")","v":""}]
[null,null,null,{"$f":"IF(C125<>\"\",VLOOKUP(C125,EMPRESAS,3,FALSE),\"\")","v":""},null,null,null,null,null,"C",null,{"$f":"IF(AND(ISNUMBER(OFFSET($F$1,MATCH(MAX($J$1:$J125),$J$1:$J125,0)-1,0)),ISNUMBER(F125),INDEX($M$1:$M125,MATCH(\"ZZZZ\",$M$1:$M125))=\"Sim\"),\"F\",\"\")","v":""}]
[null,null,null,{"$f":"IF(C126<>\"\",VLOOKUP(C126,EMPRESAS,3,FALSE),\"\")","v":""},null,null,null,null,null,"C",null,{"$f":"IF(AND(ISNUMBER(OFFSET($F$1,MATCH(MAX($J$1:$J126),$J$1:$J126,0)-1,0)),ISNUMBER(F126),INDEX($M$1:$M126,MATCH(\"ZZZZ\",$M$1:$M126))=\"Sim\"),\"F\",\"\")","v":""}]
[null,null,null,{"$f":"IF(C127<>\"\",VLOOKUP(C127,EMPRESAS,3,FALSE),\"\")","v":""},null,null,null,null,null,"C",null,{"$f":"IF(AND(ISNUMBER(OFFSET($F$1,MATCH(MAX($J$1:$J127),$J$1:$J127,0)-1,0)),ISNUMBER(F127),INDEX($M$1:$M127,MATCH(\"ZZZZ\",$M$1:$M127))=\"Sim\"),\"F\",\"\")","v":""}]
[null,null,null,{"$f":"IF(C128<>\"\",VLOOKUP(C128,EMPRESAS,3,FALSE),\"\")","v":""},null,null,null,null,null,"C",null,{"$f":"IF(AND(ISNUMBER(OFFSET($F$1,MATCH(MAX($J$1:$J128),$J$1:$J128,0)-1,0)),ISNUMBER(F128),INDEX($M$1:$M128,MATCH(\"ZZZZ\",$M$1:$M128))=\"Sim\"),\"F\",\"\")","v":""}]
[null,null,null,{"$f":"IF(C129<>\"\",VLOOKUP(C129,EMPRESAS,3,FALSE),\"\")","v":""},null,null,null,null,null,"C",null,{"$f":"IF(AND(ISNUMBER(OFFSET($F$1,MATCH(MAX($J$1:$J129),$J$1:$J129,0)-1,0)),ISNUMBER(F129),INDEX($M$1:$M129,MATCH(\"ZZZZ\",$M$1:$M129))=\"Sim\"),\"F\",\"\")","v":""}]
[null,null,"OBSERVAÇÕES:",null,null,null,null,null,null,null,null,{"$f":"IF(AND(ISNUMBER(F123),M123=\"Sim\"),\"F\",\"\")","v":""}]
[null,null,null,null,null,null,null,null,null,null,null,{"$f":"IF(AND(ISNUMBER(F123),M123=\"Sim\"),\"F\",\"\")","v":""}]
[null,"FONTE","CÓDIGO","DESCRIÇÃO","UNIDADE",{"$f":"CHOOSE($K$3,\"MEDIANA\",\"MÉDIA\")&IF(H133=\"\",\"\",\" RETROAGIDA\")","v":"MEDIANA"},null,"ÍNDICE RETROAÇÃO",null,null,null,{"$f":"IF(AND(ISNUMBER(F133),M133=\"Sim\"),\"F\",\"\")","v":""}]
[{"$f":"CONCATENAR","v":"COTAÇÃO "},"COTAÇÃO",null,null,null,{"$f":"CHOOSE($K$3,MEDIAN(OFFSET(F134,1,0,ROW(C140)-ROW(C134)-1)),AVERAGE(OFFSET(F134,1,0,ROW(C140)-ROW(C134)-1)))*IF(H133=\"\",1,VLOOKUP(H133,INDICES,8))","v":{"$error":"#NUM!"}},null,null,null,{"$f":"COUNTA($A$1:$A133)-1","v":10},{"$f":"ROW(C140)-ROW(C134)-1","v":5},{"$f":"IF(AND(ISNUMBER(F133),M133=\"Sim\"),\"F\",\"\")","v":""},"Sim"]
[null,null,"EMPRESA","NOME DA EMPRESA",null,"COTAÇÕES",null,"DATA COTAÇÃO",null,"C",null,{"$f":"IF(AND(ISNUMBER(F133),M133=\"Sim\"),\"F\",\"\")","v":""}]
[null,null,null,{"$f":"IF(C135<>\"\",VLOOKUP(C135,EMPRESAS,3,FALSE),\"\")","v":""},null,null,null,null,null,"C",null,{"$f":"IF(AND(ISNUMBER(OFFSET($F$1,MATCH(MAX($J$1:$J135),$J$1:$J135,0)-1,0)),ISNUMBER(F135),INDEX($M$1:$M135,MATCH(\"ZZZZ\",$M$1:$M135))=\"Sim\"),\"F\",\"\")","v":""}]
[null,null,null,{"$f":"IF(C136<>\"\",VLOOKUP(C136,EMPRESAS,3,FALSE),\"\")","v":""},null,null,null,null,null,"C",null,{"$f":"IF(AND(ISNUMBER(OFFSET($F$1,MATCH(MAX($J$1:$J136),$J$1:$J136,0)-1,0)),ISNUMBER(F136),INDEX($M$1:$M136,MATCH(\"ZZZZ\",$M$1:$M136))=\"Sim\"),\"F\",\"\")","v":""}]
[null,null,null,{"$f":"IF(C137<>\"\",VLOOKUP(C137,EMPRESAS,3,FALSE),\"\")","v":""},null,null,null,null,null,"C",null,{"$f":"IF(AND(ISNUMBER(OFFSET($F$1,MATCH(MAX($J$1:$J137),$J$1:$J137,0)-1,0)),ISNUMBER(F137),INDEX($M$1:$M137,MATCH(\"ZZZZ\",$M$1:$M137))=\"Sim\"),\"F\",\"\")","v":""}]
[null,null,null,{"$f":"IF(C138<>\"\",VLOOKUP(C138,EMPRESAS,3,FALSE),\"\")","v":""},null,null,null,null,null,"C",null,{"$f":"IF(AND(ISNUMBER(OFFSET($F$1,MATCH(MAX($J$1:$J138),$J$1:$J138,0)-1,0)),ISNUMBER(F138),INDEX($M$1:$M138,MATCH(\"ZZZZ\",$M$1:$M138))=\"Sim\"),\"F\",\"\")","v":""}]
[null,null,null,{"$f":"IF(C139<>\"\",VLOOKUP(C139,EMPRESAS,3,FALSE),\"\")","v":""},null,null,null,null,null,"C",null,{"$f":"IF(AND(ISNUMBER(OFFSET($F$1,MATCH(MAX($J$1:$J139),$J$1:$J139,0)-1,0)),ISNUMBER(F139),INDEX($M$1:$M139,MATCH(\"ZZZZ\",$M$1:$M139))=\"Sim\"),\"F\",\"\")","v":""}]
[null,null,"OBSERVAÇÕES:",null,null,null,null,null,null,null,null,{"$f":"IF(AND(ISNUMBER(F133),M133=\"Sim\"),\"F\",\"\")","v":""}]
[null,null,null,null,null,null,null,null,null,null,null,{"$f":"IF(AND(ISNUMBER(F133),M133=\"Sim\"),\"F\",\"\")","v":""}]
[null,"FONTE","CÓDIGO","DESCRIÇÃO","UNIDADE",{"$f":"CHOOSE($K$3,\"MEDIANA\",\"MÉDIA\")&IF(H143=\"\",\"\",\" RETROAGIDA\")","v":"MEDIANA"},null,"ÍNDICE RETROAÇÃO",null,null,null,{"$f":"IF(AND(ISNUMBER(F143),M143=\"Sim\"),\"F\",\"\")","v":""}]
[{"$f":"CONCATENAR","v":"COTAÇÃO "},"COTAÇÃO",null,null,null,{"$f":"CHOOSE($K$3,MEDIAN(OFFSET(F144,1,0,ROW(C150)-ROW(C144)-1)),AVERAGE(OFFSET(F144,1,0,ROW(C150)-ROW(C144)-1)))*IF(H143=\"\",1,VLOOKUP(H143,INDICES,8))","v":{"$error":"#NUM!"}},null,null,null,{"$f":"COUNTA($A$1:$A143)-1","v":11},{"$f":"ROW(C150)-ROW(C144)-1","v":5},{"$f":"IF(AND(ISNUMBER(F143),M143=\"Sim\"),\"F\",\"\")","v":""},"Sim"]
[null,null,"EMPRESA","NOME DA EMPRESA",null,"COTAÇÕES",null,"DATA COTAÇÃO",null,"C",null,{"$f":"IF(AND(ISNUMBER(F143),M143=\"Sim\"),\"F\",\"\")","v":""}]
[null,null,null,{"$f":"IF(C145<>\"\",VLOOKUP(C145,EMPRESAS,3,FALSE),\"\")","v":""},null,null,null,null,null,"C",null,{"$f":"IF(AND(ISNUMBER(OFFSET($F$1,MATCH(MAX($J$1:$J145),$J$1:$J145,0)-1,0)),ISNUMBER(F145),INDEX($M$1:$M145,MATCH(\"ZZZZ\",$M$1:$M145))=\"Sim\"),\"F\",\"\")","v":""}]
[null,null,null,{"$f":"IF(C146<>\"\",VLOOKUP(C146,EMPRESAS,3,FALSE),\"\")","v":""},null,null,null,null,null,"C",null,{"$f":"IF(AND(ISNUMBER(OFFSET($F$1,MATCH(MAX($J$1:$J146),$J$1:$J146,0)-1,0)),ISNUMBER(F146),INDEX($M$1:$M146,MATCH(\"ZZZZ\",$M$1:$M146))=\"Sim\"),\"F\",\"\")","v":""}]
[null,null,null,{"$f":"IF(C147<>\"\",VLOOKUP(C147,EMPRESAS,3,FALSE),\"\")","v":""},null,null,null,null,null,"C",null,{"$f":"IF(AND(ISNUMBER(OFFSET($F$1,MATCH(MAX($J$1:$J147),$J$1:$J147,0)-1,0)),ISNUMBER(F147),INDEX($M$1:$M147,MATCH(\"ZZZZ\",$M$1:$M147))=\"Sim\"),\"F\",\"\")","v":""}]
[null,null,null,{"$f":"IF(C148<>\"\",VLOOKUP(C148,EMPRESAS,3,FALSE),\"\")","v":""},null,null,null,null,null,"C",null,{"$f":"IF(AND(ISNUMBER(OFFSET($F$1,MATCH(MAX($J$1:$J148),$J$1:$J148,0)-1,0)),ISNUMBER(F148),INDEX($M$1:$M148,MATCH(\"ZZZZ\",$M$1:$M148))=\"Sim\"),\"F\",\"\")","v":""}]
[null,null,null,{"$f":"IF(C149<>\"\",VLOOKUP(C149,EMPRESAS,3,FALSE),\"\")","v":""},null,null,null,null,null,"C",null,{"$f":"IF(AND(ISNUMBER(OFFSET($F$1,MATCH(MAX($J$1:$J149),$J$1:$J149,0)-1,0)),ISNUMBER(F149),INDEX($M$1:$M149,MATCH(\"ZZZZ\",$M$1:$M149))=\"Sim\"),\"F\",\"\")","v":""}]
[null,null,"OBSERVAÇÕES:",null,null,null,null,null,null,null,null,{"$f":"IF(AND(ISNUMBER(F143),M143=\"Sim\"),\"F\",\"\")","v":""}]
[null,null,null,null,null,null,null,null,null,null,null,{"$f":"IF(AND(ISNUMBER(F143),M143=\"Sim\"),\"F\",\"\")","v":""}]
[null,"FONTE","CÓDIGO","DESCRIÇÃO","UNIDADE",{"$f":"CHOOSE($K$3,\"MEDIANA\",\"MÉDIA\")&IF(H153=\"\",\"\",\" RETROAGIDA\")","v":"MEDIANA"},null,"ÍNDICE RETROAÇÃO",null,null,null,{"$f":"IF(AND(ISNUMBER(F153),M153=\"Sim\"),\"F\",\"\")","v":""}]
[{"$f":"CONCATENAR","v":"COTAÇÃO "},"COTAÇÃO",null,null,null,{"$f":"CHOOSE($K$3,MEDIAN(OFFSET(F154,1,0,ROW(C160)-ROW(C154)-1)),AVERAGE(OFFSET(F154,1,0,ROW(C160)-ROW(C154)-1)))*IF(H153=\"\",1,VLOOKUP(H153,INDICES,8))","v":{"$error":"#NUM!"}},null,null,null,{"$f":"COUNTA($A$1:$A153)-1","v":12},{"$f":"ROW(C160)-ROW(C154)-1","v":5},{"$f":"IF(AND(ISNUMBER(F153),M153=\"Sim\"),\"F\",\"\")","v":""},"Sim"]
[null,null,"EMPRESA","NOME DA EMPRESA",null,"COTAÇÕES",null,"DATA COTAÇÃO",null,"C",null,{"$f":"IF(AND(ISNUMBER(F153),M153=\"Sim\"),\"F\",\"\")","v":""}]
[null,null,null,{"$f":"IF(C155<>\"\",VLOOKUP(C155,EMPRESAS,3,FALSE),\"\")","v":""},null,null,null,null,null,"C",null,{"$f":"IF(AND(ISNUMBER(OFFSET($F$1,MATCH(MAX($J$1:$J155),$J$1:$J155,0)-1,0)),ISNUMBER(F155),INDEX($M$1:$M155,MATCH(\"ZZZZ\",$M$1:$M155))=\"Sim\"),\"F\",\"\")","v":""}]
[null,null,null,{"$f":"IF(C156<>\"\",VLOOKUP(C156,EMPRESAS,3,FALSE),\"\")","v":""},null,null,null,null,null,"C",null,{"$f":"IF(AND(ISNUMBER(OFFSET($F$1,MATCH(MAX($J$1:$J156),$J$1:$J156,0)-1,0)),ISNUMBER(F156),INDEX($M$1:$M156,MATCH(\"ZZZZ\",$M$1:$M156))=\"Sim\"),\"F\",\"\")","v":""}]
[null,null,null,{"$f":"IF(C157<>\"\",VLOOKUP(C157,EMPRESAS,3,FALSE),\"\")","v":""},null,null,null,null,null,"C",null,{"$f":"IF(AND(ISNUMBER(OFFSET($F$1,MATCH(MAX($J$1:$J157),$J$1:$J157,0)-1,0)),ISNUMBER(F157),INDEX($M$1:$M157,MATCH(\"ZZZZ\",$M$1:$M157))=\"Sim\"),\"F\",\"\")","v":""}]
[null,null,null,{"$f":"IF(C158<>\"\",VLOOKUP(C158,EMPRESAS,3,FALSE),\"\")","v":""},null,null,null,null,null,"C",null,{"$f":"IF(AND(ISNUMBER(OFFSET($F$1,MATCH(MAX($J$1:$J158),$J$1:$J158,0)-1,0)),ISNUMBER(F158),INDEX($M$1:$M158,MATCH(\"ZZZZ\",$M$1:$M158))=\"Sim\"),\"F\",\"\")","v":""}]
[null,null,null,{"$f":"IF(C159<>\"\",VLOOKUP(C159,EMPRESAS,3,FALSE),\"\")","v":""},null,null,null,null,null,"C",null,{"$f":"IF(AND(ISNUMBER(OFFSET($F$1,MATCH(MAX($J$1:$J159),$J$1:$J159,0)-1,0)),ISNUMBER(F159),INDEX($M$1:$M159,MATCH(\"ZZZZ\",$M$1:$M159))=\"Sim\"),\"F\",\"\")","v":""}]
[null,null,"OBSERVAÇÕES:",null,null,null,null,null,null,null,null,{"$f":"IF(AND(ISNUMBER(F153),M153=\"Sim\"),\"F\",\"\")","v":""}]
[null,null,null,null,null,null,null,null,null,null,null,{"$f":"IF(AND(ISNUMBER(F153),M153=\"Sim\"),\"F\",\"\")","v":""}]
[null,"FONTE","CÓDIGO","DESCRIÇÃO","UNIDADE",{"$f":"CHOOSE($K$3,\"MEDIANA\",\"MÉDIA\")&IF(H163=\"\",\"\",\" RETROAGIDA\")","v":"MEDIANA"},null,"ÍNDICE RETROAÇÃO",null,null,null,{"$f":"IF(AND(ISNUMBER(F163),M163=\"Sim\"),\"F\",\"\")","v":""}]
[{"$f":"CONCATENAR","v":"COTAÇÃO "},"COTAÇÃO",null,null,null,{"$f":"CHOOSE($K$3,MEDIAN(OFFSET(F164,1,0,ROW(C170)-ROW(C164)-1)),AVERAGE(OFFSET(F164,1,0,ROW(C170)-ROW(C164)-1)))*IF(H163=\"\",1,VLOOKUP(H163,INDICES,8))","v":{"$error":"#NUM!"}},null,null,null,{"$f":"COUNTA($A$1:$A163)-1","v":13},{"$f":"ROW(C170)-ROW(C164)-1","v":5},{"$f":"IF(AND(ISNUMBER(F163),M163=\"Sim\"),\"F\",\"\")","v":""},"Sim"]
[null,null,"EMPRESA","NOME DA EMPRESA",null,"COTAÇÕES",null,"DATA COTAÇÃO",null,"C",null,{"$f":"IF(AND(ISNUMBER(F163),M163=\"Sim\"),\"F\",\"\")","v":""}]
[null,null,null,{"$f":"IF(C165<>\"\",VLOOKUP(C165,EMPRESAS,3,FALSE),\"\")","v":""},null,null,null,null,null,"C",null,{"$f":"IF(AND(ISNUMBER(OFFSET($F$1,MATCH(MAX($J$1:$J165),$J$1:$J165,0)-1,0)),ISNUMBER(F165),INDEX($M$1:$M165,MATCH(\"ZZZZ\",$M$1:$M165))=\"Sim\"),\"F\",\"\")","v":""}]
[null,null,null,{"$f":"IF(C166<>\"\",VLOOKUP(C166,EMPRESAS,3,FALSE),\"\")","v":""},null,null,null,null,null,"C",null,{"$f":"IF(AND(ISNUMBER(OFFSET($F$1,MATCH(MAX($J$1:$J166),$J$1:$J166,0)-1,0)),ISNUMBER(F166),INDEX($M$1:$M166,MATCH(\"ZZZZ\",$M$1:$M166))=\"Sim\"),\"F\",\"\")","v":""}]
[null,null,null,{"$f":"IF(C167<>\"\",VLOOKUP(C167,EMPRESAS,3,FALSE),\"\")","v":""},null,null,null,null,null,"C",null,{"$f":"IF(AND(ISNUMBER(OFFSET($F$1,MATCH(MAX($J$1:$J167),$J$1:$J167,0)-1,0)),ISNUMBER(F167),INDEX($M$1:$M167,MATCH(\"ZZZZ\",$M$1:$M167))=\"Sim\"),\"F\",\"\")","v":""}]
[null,null,null,{"$f":"IF(C168<>\"\",VLOOKUP(C168,EMPRESAS,3,FALSE),\"\")","v":""},null,null,null,null,null,"C",null,{"$f":"IF(AND(ISNUMBER(OFFSET($F$1,MATCH(MAX($J$1:$J168),$J$1:$J168,0)-1,0)),ISNUMBER(F168),INDEX($M$1:$M168,MATCH(\"ZZZZ\",$M$1:$M168))=\"Sim\"),\"F\",\"\")","v":""}]
[null,null,null,{"$f":"IF(C169<>\"\",VLOOKUP(C169,EMPRESAS,3,FALSE),\"\")","v":""},null,null,null,null,null,"C",null,{"$f":"IF(AND(ISNUMBER(OFFSET($F$1,MATCH(MAX($J$1:$J169),$J$1:$J169,0)-1,0)),ISNUMBER(F169),INDEX($M$1:$M169,MATCH(\"ZZZZ\",$M$1:$M169))=\"Sim\"),\"F\",\"\")","v":""}]
[null,null,"OBSERVAÇÕES:",null,null,null,null,null,null,null,null,{"$f":"IF(AND(ISNUMBER(F163),M163=\"Sim\"),\"F\",\"\")","v":""}]
[null,null,null,null,null,null,null,null,null,null,null,{"$f":"IF(AND(ISNUMBER(F163),M163=\"Sim\"),\"F\",\"\")","v":""}]
["###",null,null,null,null,null,null,null,null,null,null,"F"]
[null,"Data",null,null,"Resp. Pesquisa de Mercado:",null,null,null,null,null,null,"F"]

{"sheet":"Relatórios","index":4,"n_rows":9,"n_cols":8,"rows_kept":9,"cut":false,"hidden":false,"merged":[[0,0,0,7]]}
["DADOS DOS RELATÓRIOS IMPORTADOS"]
[]
[]
[]
["TIPO","ENCARGOS SOCIAIS","ABRANGÊNCIA","LOCALIDADE","VÍNCULO","DATA PREÇOS","DATA DE RT","DATA EMISSÃO"]
["SINAPI-I","NERADOS (%) HORISTA  83,25  MENSALISTA  46,08",null,"PORTO ALEGRE","","08/2024","",""]
["SINAPI","DESONERADOS: 83,25%(HORA)   46,08%(MÊS)","NACIONAL","PORTO ALEGRE","CAIXA REFERENCIAL","08/2024","11/09/2024","12/09/2024"]
["SINAPI",null,"NACIONAL",null,"ANALITICO NACIONAL SIPCI","","11/09/2024","12/09/2024"]
["SICRO",null,null,"RIO GRANDE DO SUL","","04/2024","",""]

{"sheet":"Busca","index":5,"n_rows":415,"n_cols":9,"rows_kept":415,"cut":false,"hidden":false,"merged":[[1,1,1,2],[2,1,2,2],[0,1,0,6]]}
[null,"BUSCA"]
[null,"CONTÉM:",null,"parede"]
[null,"NÃO CONTÉM:"]
[null,"RELATÓRIOS:"]
[null,"FONTE","CÓDIGO","DESCRIÇÃO","UNIDADE","DESONERADO","NÃO DESONERADO",null,"ORIGEM DO PREÇO"]
[null,"SINAPI-I","36801","ACABAMENTO DE METAL CROMADO PARA REGISTRO PEQUENO, DE PAREDE, 1/2\" OU 3/4\"                                                                                                                                                                                                                                                                                                                                                                                                                                ","UN    ",null,"55,62",null,"CR"]
[null,"SINAPI","87430","APLICAÇÃO DE GESSO PROJETADO COM EQUIPAMENTO DE PROJEÇÃO EM PAREDES, DESEMPENADO (SEM TALISCAS), ESPESSURA DE 0,5CM. AF_03/2023","M2",null,"20,82",null,"CR"]
[null,"SINAPI","87433","APLICAÇÃO DE GESSO PROJETADO COM EQUIPAMENTO DE PROJEÇÃO EM PAREDES, DESEMPENADO (SEM TALISCAS), ESPESSURA DE 1,0CM. AF_03/2023","M2",null,"30,62",null,"CR"]
[null,"SINAPI","87436","APLICAÇÃO DE GESSO PROJETADO COM EQUIPAMENTO DE PROJEÇÃO EM PAREDES, SARRAFEADO (COM TALISCAS), ESPESSURA DE 1,0CM. AF_03/2023","M2",null,"34,43",null,"CR"]
[null,"SINAPI","87439","APLICAÇÃO DE GESSO PROJETADO COM EQUIPAMENTO DE PROJEÇÃO EM PAREDES, SARRAFEADO (COM TALISCAS), ESPESSURA DE 1,5CM. AF_03/2023","M2",null,"42,40",null,"CR"]
[null,"SINAPI","88415","APLICAÇÃO MANUAL DE FUNDO SELADOR ACRÍLICO EM PAREDES EXTERNAS DE CASAS. AF_03/2024","M2",null,"4,16",null,"C"]
[null,"SINAPI","104633","APLICAÇÃO MANUAL DE GESSO DESEMPENADO (SEM TALISCAS) EM PAREDES COM PÉ DIREITO DUPLO, ESPESSURA DE 0,5CM. AF_03/2023","M2",null,"27,81",null,"CR"]
[null,"SINAPI","104634","APLICAÇÃO MANUAL DE GESSO DESEMPENADO (SEM TALISCAS) EM PAREDES COM PÉ DIREITO DUPLO, ESPESSURA DE 1,0CM. AF_03/2023","M2",null,"41,36",null,"CR"]
[null,"SINAPI","87418","APLICAÇÃO MANUAL DE GESSO DESEMPENADO (SEM TALISCAS) EM PAREDES, ESPESSURA DE 0,5CM. AF_03/2023","M2",null,"20,52",null,"CR"]
[null,"SINAPI","87421","APLICAÇÃO MANUAL DE GESSO DESEMPENADO (SEM TALISCAS) EM PAREDES, ESPESSURA DE 1,0CM. AF_03/2023","M2",null,"31,64",null,"CR"]
[null,"SINAPI","104628","APLICAÇÃO MANUAL DE GESSO DESEMPENADO (SEM TALISCAS) EM TETO DE AMBIENTES COM PAREDES EM PÉ DIREITO DUPLO E ÁREA ENTRE 5M² E 10M², ESPESSURA DE 0,5CM. AF_03/2023","M2",null,"31,38",null,"CR"]
[null,"SINAPI","104631","APLICAÇÃO MANUAL DE GESSO DESEMPENADO (SEM TALISCAS) EM TETO DE AMBIENTES COM PAREDES EM PÉ DIREITO DUPLO E ÁREA ENTRE 5M² E 10M², ESPESSURA DE 1,0CM. AF_03/2023","M2",null,"43,28",null,"CR"]
[null,"SINAPI","104627","APLICAÇÃO MANUAL DE GESSO DESEMPENADO (SEM TALISCAS) EM TETO DE AMBIENTES COM PAREDES EM PÉ DIREITO DUPLO E ÁREA MAIOR QUE 10M², ESPESSURA DE 0,5CM. AF_03/2023","M2",null,"20,50",null,"CR"]
[null,"SINAPI","104630","APLICAÇÃO MANUAL DE GESSO DESEMPENADO (SEM TALISCAS) EM TETO DE AMBIENTES COM PAREDES EM PÉ DIREITO DUPLO E ÁREA MAIOR QUE 10M², ESPESSURA DE 1,0CM. AF_03/2023","M2",null,"32,40",null,"CR"]
[null,"SINAPI","104629","APLICAÇÃO MANUAL DE GESSO DESEMPENADO (SEM TALISCAS) EM TETO DE AMBIENTES COM PAREDES EM PÉ DIREITO DUPLO E ÁREA MENOR QUE 5M², ESPESSURA DE 0,5CM. AF_03/2023","M2",null,"37,63",null,"CR"]
[null,"SINAPI","104632","APLICAÇÃO MANUAL DE GESSO DESEMPENADO (SEM TALISCAS) EM TETO DE AMBIENTES COM PAREDES EM PÉ DIREITO DUPLO E ÁREA MENOR QUE 5M², ESPESSURA DE 1,0CM. AF_03/2023","M2",null,"49,53",null,"CR"]
[null,"SINAPI","104635","APLICAÇÃO MANUAL DE GESSO SARRAFEADO (COM TALISCAS) EM PAREDES COM PÉ DIREITO DUPLO, ESPESSURA DE 1,0CM. AF_03/2023","M2",null,"56,51",null,"CR"]
[null,"SINAPI","104636","APLICAÇÃO MANUAL DE GESSO SARRAFEADO (COM TALISCAS) EM PAREDES COM PÉ DIREITO DUPLO, ESPESSURA DE 1,5CM. AF_03/2023","M2",null,"65,94",null,"CR"]
[null,"SINAPI","87424","APLICAÇÃO MANUAL DE GESSO SARRAFEADO (COM TALISCAS) EM PAREDES, ESPESSURA DE 1,0CM. AF_03/2023","M2",null,"41,01",null,"CR"]
[null,"SINAPI","87427","APLICAÇÃO MANUAL DE GESSO SARRAFEADO (COM TALISCAS) EM PAREDES, ESPESSURA DE 1,5CM. AF_03/2023","M2",null,"48,76",null,"CR"]
[null,"SINAPI","96135","APLICAÇÃO MANUAL DE MASSA ACRÍLICA EM PAREDES EXTERNAS DE CASAS, DUAS DEMÃOS. AF_03/2024","M2",null,"31,65",null,"CR"]
[null,"SINAPI","96130","APLICAÇÃO MANUAL DE MASSA ACRÍLICA EM PAREDES EXTERNAS DE CASAS, UMA DEMÃO. AF_03/2024","M2",null,"20,09",null,"CR"]
[null,"SINAPI","88431","APLICAÇÃO MANUAL DE PINTURA COM TINTA TEXTURIZADA ACRÍLICA EM PAREDES EXTERNAS DE CASAS, DUAS CORES. AF_03/2024","M2",null,"27,41",null,"CR"]
[null,"SINAPI","88423","APLICAÇÃO MANUAL DE PINTURA COM TINTA TEXTURIZADA ACRÍLICA EM PAREDES EXTERNAS DE CASAS, UMA COR. AF_03/2024","M2",null,"23,45",null,"CR"]
[null,"SINAPI","95626","APLICAÇÃO MANUAL DE TINTA LÁTEX ACRÍLICA EM PAREDE EXTERNAS DE CASAS, DUAS DEMÃOS. AF_03/2024","M2",null,"16,52",null,"C"]
[null,"SINAPI","103247","AR CONDICIONADO SPLIT INVERTER, HI-WALL (PAREDE), 12000 BTU/H, CICLO FRIO - FORNECIMENTO E INSTALAÇÃO. AF_11/2021_PE","UN",null,"2.794,14",null,"AS"]
[null,"SINAPI-I","42425","AR CONDICIONADO SPLIT INVERTER, HI-WALL (PAREDE), 12000 BTU/H, CICLO FRIO, 60HZ, CLASSIFICACAO A (SELO PROCEL), GAS HFC, CONTROLE S/FIO                                                                                                                                                                                                                                                                                                                                                                   ","UN    ",null,"2.577,73",null,"CR"]
[null,"SINAPI","103250","AR CONDICIONADO SPLIT INVERTER, HI-WALL (PAREDE), 18000 BTU/H, CICLO FRIO - FORNECIMENTO E INSTALAÇÃO. AF_11/2021_PE","UN",null,"4.053,36",null,"AS"]
[null,"SINAPI-I","42422","AR CONDICIONADO SPLIT INVERTER, HI-WALL (PAREDE), 18000 BTU/H, CICLO FRIO, 60HZ, CLASSIFICACAO A (SELO PROCEL), GAS HFC, CONTROLE S/FIO                                                                                                                                                                                                                                                                                                                                                                   ","UN    ",null,"3.826,72",null,"C "]
[null,"SINAPI","103253","AR CONDICIONADO SPLIT INVERTER, HI-WALL (PAREDE), 24000 BTU/H, CICLO FRIO - FORNECIMENTO E INSTALAÇÃO. AF_11/2021_PE","UN",null,"5.521,48",null,"AS"]
[null,"SINAPI-I","43184","AR CONDICIONADO SPLIT INVERTER, HI-WALL (PAREDE), 24000 BTU/H, CICLO FRIO, 60HZ, CLASSIFICACAO A (SELO PROCEL), GAS HFC, CONTROLE S/FIO                                                                                                                                                                                                                                                                                                                                                                   ","UN    ",null,"5.288,89",null,"CR"]
[null,"SINAPI","103244","AR CONDICIONADO SPLIT INVERTER, HI-WALL (PAREDE), 9000 BTU/H, CICLO FRIO - FORNECIMENTO E INSTALAÇÃO. AF_11/2021_PE","UN",null,"2.518,54",null,"AS"]
[null,"SINAPI-I","42424","AR CONDICIONADO SPLIT INVERTER, HI-WALL (PAREDE), 9000 BTU/H, CICLO FRIO, 60HZ, CLASSIFICACAO A (SELO PROCEL), GAS HFC, CONTROLE S/FIO                                                                                                                                                                                                                                                                                                                                                                    ","UN    ",null,"2.302,13",null,"CR"]
[null,"SINAPI","103248","AR CONDICIONADO SPLIT ON/OFF, HI-WALL (PAREDE), 12000 BTUS/H, CICLO FRIO - FORNECIMENTO E INSTALAÇÃO. AF_11/2021_PE","UN",null,"2.285,20",null,"AS"]
[null,"SINAPI-I","43190","AR CONDICIONADO SPLIT ON/OFF, HI-WALL (PAREDE), 12000 BTUS/H, CICLO FRIO, 60 HZ, CLASSIFICACAO ENERGETICA A - SELO PROCEL, GAS HFC, CONTROLE S/ FIO                                                                                                                                                                                                                                                                                                                                                       ","UN    ",null,"2.068,79",null,"CR"]
[null,"SINAPI","103249","AR CONDICIONADO SPLIT ON/OFF, HI-WALL (PAREDE), 12000 BTUS/H, CICLO QUENTE/FRIO - FORNECIMENTO E INSTALAÇÃO. AF_11/2021_PE","UN",null,"2.454,31",null,"AS"]
[null,"SINAPI-I","39555","AR CONDICIONADO SPLIT ON/OFF, HI-WALL (PAREDE), 12000 BTUS/H, CICLO QUENTE/FRIO, 60 HZ, CLASSIFICACAO ENERGETICA A - SELO PROCEL, GAS HFC, CONTROLE S/ FIO                                                                                                                                                                                                                                                                                                                                                ","UN    ",null,"2.237,90",null,"CR"]
[null,"SINAPI","103251","AR CONDICIONADO SPLIT ON/OFF, HI-WALL (PAREDE), 18000 BTUS/H, CICLO FRIO - FORNECIMENTO E INSTALAÇÃO. AF_11/2021_PE","UN",null,"3.203,36",null,"AS"]
[null,"SINAPI-I","43191","AR CONDICIONADO SPLIT ON/OFF, HI-WALL (PAREDE), 18000 BTUS/H, CICLO FRIO, 60 HZ, CLASSIFICACAO ENERGETICA A - SELO PROCEL, GAS HFC, CONTROLE S/ FIO                                                                                                                                                                                                                                                                                                                                                       ","UN    ",null,"2.976,72",null,"CR"]
[null,"SINAPI","103252","AR CONDICIONADO SPLIT ON/OFF, HI-WALL (PAREDE), 18000 BTUS/H, CICLO QUENTE/FRIO - FORNECIMENTO E INSTALAÇÃO. AF_11/2021_PE","UN",null,"3.546,14",null,"AS"]
[null,"SINAPI-I","39548","AR CONDICIONADO SPLIT ON/OFF, HI-WALL (PAREDE), 18000 BTUS/H, CICLO QUENTE/FRIO, 60 HZ, CLASSIFICACAO ENERGETICA A - SELO PROCEL, GAS HFC, CONTROLE S/ FIO                                                                                                                                                                                                                                                                                                                                                ","UN    ",null,"3.319,50",null,"CR"]
[null,"SINAPI","103254","AR CONDICIONADO SPLIT ON/OFF, HI-WALL (PAREDE), 24000 BTUS/H, CICLO FRIO - FORNECIMENTO E INSTALAÇÃO. AF_11/2021_PE","UN",null,"4.131,82",null,"AS"]
[null,"SINAPI-I","43192","AR CONDICIONADO SPLIT ON/OFF, HI-WALL (PAREDE), 24000 BTUS/H, CICLO FRIO, 60 HZ, CLASSIFICACAO ENERGETICA A - SELO PROCEL, GAS HFC, CONTROLE S/ FIO                                                                                                                                                                                                                                                                                                                                                       ","UN    ",null,"3.899,23",null,"CR"]
[null,"SINAPI","103255","AR CONDICIONADO SPLIT ON/OFF, HI-WALL (PAREDE), 24000 BTUS/H, CICLO QUENTE/FRIO - FORNECIMENTO E INSTALAÇÃO. AF_11/2021_PE","UN",null,"4.622,13",null,"AS"]
[null,"SINAPI-I","39554","AR CONDICIONADO SPLIT ON/OFF, HI-WALL (PAREDE), 24000 BTUS/H, CICLO QUENTE/FRIO, 60 HZ, CLASSIFICACAO ENERGETICA A - SELO PROCEL, GAS HFC, CONTROLE S/ FIO                                                                                                                                                                                                                                                                                                                                                ","UN    ",null,"4.389,54",null,"CR"]
[null,"SINAPI","103245","AR CONDICIONADO SPLIT ON/OFF, HI-WALL (PAREDE), 9000 BTUS/H, CICLO FRIO - FORNECIMENTO E INSTALAÇÃO. AF_11/2021_PE","UN",null,"1.988,68",null,"AS"]
[null,"SINAPI-I","43194","AR CONDICIONADO SPLIT ON/OFF, HI-WALL (PAREDE), 9000 BTUS/H, CICLO FRIO, 60 HZ, CLASSIFICACAO ENERGETICA A - SELO PROCEL, GAS HFC, CONTROLE S/ FIO                                                                                                                                                                                                                                                                                                                                                        ","UN    ",null,"1.772,27",null,"CR"]
[null,"SINAPI","103246","AR CONDICIONADO SPLIT ON/OFF, HI-WALL (PAREDE), 9000 BTUS/H, CICLO QUENTE/FRIO - FORNECIMENTO E INSTALAÇÃO. AF_11/2021_PE","UN",null,"2.167,87",null,"AS"]
[null,"SINAPI-I","39551","AR CONDICIONADO SPLIT ON/OFF, HI-WALL (PAREDE), 9000 BTUS/H, CICLO QUENTE/FRIO, 60 HZ, CLASSIFICACAO ENERGETICA A - SELO PROCEL, GAS HFC, CONTROLE S/ FIO                                                                                                                                                                                                                                                                                                                                                 ","UN    ",null,"1.951,46",null,"CR"]
[null,"SINAPI","91599","ARMAÇÃO DO SISTEMA DE PAREDES DE CONCRETO, EXECUTADA COMO ARMADURA NEGATIVA DE LAJES, TELA L-159. AF_06/2019","KG",null,"7,97",null,"CR"]
[null,"SINAPI","91597","ARMAÇÃO DO SISTEMA DE PAREDES DE CONCRETO, EXECUTADA COMO ARMADURA NEGATIVA DE LAJES, TELA T-196. AF_06/2019","KG",null,"7,58",null,"CR"]
[null,"SINAPI","91598","ARMAÇÃO DO SISTEMA DE PAREDES DE CONCRETO, EXECUTADA COMO ARMADURA POSITIVA DE LAJES, TELA Q-113. AF_06/2019","KG",null,"10,44",null,"CR"]
[null,"SINAPI","91596","ARMAÇÃO DO SISTEMA DE PAREDES DE CONCRETO, EXECUTADA COMO ARMADURA POSITIVA DE LAJES, TELA Q-138. AF_06/2019","KG",null,"10,59",null,"CR"]
[null,"SINAPI","100064","ARMAÇÃO DO SISTEMA DE PAREDES DE CONCRETO, EXECUTADA COMO ARMADURA POSITIVA DE LAJES, TELA Q-159. AF_06/2019","KG",null,"10,51",null,"CR"]
[null,"SINAPI","100066","ARMAÇÃO DO SISTEMA DE PAREDES DE CONCRETO, EXECUTADA COMO ARMADURA POSITIVA DE LAJES, TELA Q-196. AF_06/2019","KG",null,"10,41",null,"CR"]
[null,"SINAPI","91603","ARMAÇÃO DO SISTEMA DE PAREDES DE CONCRETO, EXECUTADA COMO REFORÇO, VERGALHÃO DE 10,0 MM DE DIÂMETRO. AF_06/2019","KG",null,"11,28",null,"CR"]
[null,"SINAPI","100068","ARMAÇÃO DO SISTEMA DE PAREDES DE CONCRETO, EXECUTADA COMO REFORÇO, VERGALHÃO DE 12,5 MM DE DIÂMETRO. AF_06/2019","KG",null,"9,65",null,"CR"]
[null,"SINAPI","100067","ARMAÇÃO DO SISTEMA DE PAREDES DE CONCRETO, EXECUTADA COMO REFORÇO, VERGALHÃO DE 5,0 MM DE DIÂMETRO. AF_06/2019","KG",null,"12,63",null,"CR"]
[null,"SINAPI","91601","ARMAÇÃO DO SISTEMA DE PAREDES DE CONCRETO, EXECUTADA COMO REFORÇO, VERGALHÃO DE 6,3 MM DE DIÂMETRO. AF_06/2019","KG",null,"12,98",null,"CR"]
[null,"SINAPI","91602","ARMAÇÃO DO SISTEMA DE PAREDES DE CONCRETO, EXECUTADA COMO REFORÇO, VERGALHÃO DE 8,0 MM DE DIÂMETRO. AF_06/2019","KG",null,"11,94",null,"CR"]
[null,"SINAPI","91593","ARMAÇÃO DO SISTEMA DE PAREDES DE CONCRETO, EXECUTADA EM PAREDES DE EDIFICAÇÕES DE MÚLTIPLOS PAVIMENTOS, TELA Q-138. AF_06/2019","KG",null,"10,25",null,"CR"]
[null,"SINAPI","91594","ARMAÇÃO DO SISTEMA DE PAREDES DE CONCRETO, EXECUTADA EM PAREDES DE EDIFICAÇÕES TÉRREAS OU DE MÚLTIPLOS PAVIMENTOS, TELA Q-92. AF_06/2019","KG",null,"10,68",null,"CR"]
[null,"SINAPI","91595","ARMAÇÃO DO SISTEMA DE PAREDES DE CONCRETO, EXECUTADA EM PAREDES DE EDIFICAÇÕES TÉRREAS, TELA Q-61. AF_06/2019","KG",null,"11,40",null,"CR"]
[null,"SINAPI","91600","ARMAÇÃO DO SISTEMA DE PAREDES DE CONCRETO, EXECUTADA EM PLATIBANDAS, TELA Q-92. AF_06/2019","KG",null,"13,23",null,"CR"]
[null,"SINAPI","94880","ASSENTAMENTO DE TUBO DE PEAD CORRUGADO DE DUPLA PAREDE PARA REDE COLETORA DE ESGOTO, DN 1000 MM, JUNTA ELÁSTICA INTEGRADA (NÃO INCLUI FORNECIMENTO). AF_01/2021","M",null,"43,87",null,"AS"]
[null,"SINAPI","94882","ASSENTAMENTO DE TUBO DE PEAD CORRUGADO DE DUPLA PAREDE PARA REDE COLETORA DE ESGOTO, DN 1200 MM, JUNTA ELÁSTICA INTEGRADA (NÃO INCLUI FORNECIMENTO). AF_01/2021","M",null,"50,88",null,"AS"]
[null,"SINAPI","94884","ASSENTAMENTO DE TUBO DE PEAD CORRUGADO DE DUPLA PAREDE PARA REDE COLETORA DE ESGOTO, DN 1500 MM, JUNTA ELÁSTICA INTEGRADA (NÃO INCLUI FORNECIMENTO). AF_01/2021","M",null,"65,11",null,"AS"]
[null,"SINAPI","94870","ASSENTAMENTO DE TUBO DE PEAD CORRUGADO DE DUPLA PAREDE PARA REDE COLETORA DE ESGOTO, DN 250 MM, JUNTA ELÁSTICA INTEGRADA (NÃO INCLUI FORNECIMENTO). AF_01/2021","M",null,"2,00",null,"CR"]
[null,"SINAPI","94872","ASSENTAMENTO DE TUBO DE PEAD CORRUGADO DE DUPLA PAREDE PARA REDE COLETORA DE ESGOTO, DN 300 MM, JUNTA ELÁSTICA INTEGRADA  (NÃO INCLUI FORNECIMENTO). AF_01/2021","M",null,"2,76",null,"CR"]
[null,"SINAPI","90746","ASSENTAMENTO DE TUBO DE PEAD CORRUGADO DE DUPLA PAREDE PARA REDE COLETORA DE ESGOTO, DN 450 MM, JUNTA ELÁSTICA INTEGRADA (NÃO INCLUI FORNECIMENTO). AF_01/2021","M",null,"3,59",null,"CR"]
[null,"SINAPI","90747","ASSENTAMENTO DE TUBO DE PEAD CORRUGADO DE DUPLA PAREDE PARA REDE COLETORA DE ESGOTO, DN 600 MM, JUNTA ELÁSTICA INTEGRADA (NÃO INCLUI FORNECIMENTO). AF_01/2021","M",null,"17,32",null,"AS"]
[null,"SINAPI","94876","ASSENTAMENTO DE TUBO DE PEAD CORRUGADO DE DUPLA PAREDE PARA REDE COLETORA DE ESGOTO, DN 800 MM, JUNTA ELÁSTICA INTEGRADA  (NÃO INCLUI FORNECIMENTO). AF_01/2021","M",null,"29,31",null,"AS"]
[null,"SINAPI","94878","ASSENTAMENTO DE TUBO DE PEAD CORRUGADO DE DUPLA PAREDE PARA REDE COLETORA DE ESGOTO, DN 900 MM, JUNTA ELÁSTICA INTEGRADA (NÃO INCLUI FORNECIMENTO). AF_01/2021","M",null,"33,87",null,"AS"]
[null,"SINAPI","90740","ASSENTAMENTO DE TUBO DE PVC CORRUGADO DE DUPLA PAREDE PARA REDE COLETORA DE ESGOTO, DN 150 MM, JUNTA ELÁSTICA (NÃO INCLUI FORNECIMENTO). AF_01/2021","M",null,"4,39",null,"CR"]
[null,"SINAPI","90741","ASSENTAMENTO DE TUBO DE PVC CORRUGADO DE DUPLA PAREDE PARA REDE COLETORA DE ESGOTO, DN 200 MM, JUNTA ELÁSTICA (NÃO INCLUI FORNECIMENTO). AF_01/2021","M",null,"5,00",null,"CR"]
[null,"SINAPI","90742","ASSENTAMENTO DE TUBO DE PVC CORRUGADO DE DUPLA PAREDE PARA REDE COLETORA DE ESGOTO, DN 250 MM, JUNTA ELÁSTICA (NÃO INCLUI FORNECIMENTO). AF_01/2021","M",null,"5,62",null,"CR"]
[null,"SINAPI","90743","ASSENTAMENTO DE TUBO DE PVC CORRUGADO DE DUPLA PAREDE PARA REDE COLETORA DE ESGOTO, DN 300 MM, JUNTA ELÁSTICA (NÃO INCLUI FORNECIMENTO). AF_01/2021","M",null,"6,23",null,"CR"]
[null,"SINAPI","90744","ASSENTAMENTO DE TUBO DE PVC CORRUGADO DE DUPLA PAREDE PARA REDE COLETORA DE ESGOTO, DN 350 MM, JUNTA ELÁSTICA (NÃO INCLUI FORNECIMENTO). AF_01/2021","M",null,"6,84",null,"CR"]
[null,"SINAPI","90745","ASSENTAMENTO DE TUBO DE PVC CORRUGADO DE DUPLA PAREDE PARA REDE COLETORA DE ESGOTO, DN 400 MM, JUNTA ELÁSTICA  (NÃO INCLUI FORNECIMENTO). AF_01/2021","M",null,"10,37",null,"AS"]
[null,"SINAPI","90733","ASSENTAMENTO DE TUBO DE PVC PARA REDE COLETORA DE ESGOTO DE PAREDE MACIÇA, DN 100 MM, JUNTA ELÁSTICA (NÃO INCLUI FORNECIMENTO). AF_01/2021","M",null,"3,32",null,"CR"]
[null,"SINAPI","90734","ASSENTAMENTO DE TUBO DE PVC PARA REDE COLETORA DE ESGOTO DE PAREDE MACIÇA, DN 150 MM, JUNTA ELÁSTICA,  (NÃO INCLUI FORNECIMENTO). AF_01/2021","M",null,"3,93",null,"CR"]
[null,"SINAPI","90735","ASSENTAMENTO DE TUBO DE PVC PARA REDE COLETORA DE ESGOTO DE PAREDE MACIÇA, DN 200 MM, JUNTA ELÁSTICA (NÃO INCLUI FORNECIMENTO). AF_01/2021","M",null,"4,55",null,"CR"]
[null,"SINAPI","90736","ASSENTAMENTO DE TUBO DE PVC PARA REDE COLETORA DE ESGOTO DE PAREDE MACIÇA, DN 250 MM, JUNTA ELÁSTICA (NÃO INCLUI FORNECIMENTO). AF_01/2021","M",null,"5,16",null,"CR"]
[null,"SINAPI","90737","ASSENTAMENTO DE TUBO DE PVC PARA REDE COLETORA DE ESGOTO DE PAREDE MACIÇA, DN 300 MM, JUNTA ELÁSTICA  (NÃO INCLUI FORNECIMENTO). AF_01/2021","M",null,"5,77",null,"CR"]
[null,"SINAPI","90738","ASSENTAMENTO DE TUBO DE PVC PARA REDE COLETORA DE ESGOTO DE PAREDE MACIÇA, DN 350 MM, JUNTA ELÁSTICA (NÃO INCLUI FORNECIMENTO). AF_01/2021","M",null,"6,39",null,"CR"]
[null,"SINAPI","90739","ASSENTAMENTO DE TUBO DE PVC PARA REDE COLETORA DE ESGOTO DE PAREDE MACIÇA, DN 400 MM, JUNTA ELÁSTICA (NÃO INCLUI FORNECIMENTO). AF_01/2021","M",null,"9,27",null,"AS"]
[null,"SINAPI","86934","BANCADA DE MÁRMORE SINTÉTICO 120 X 60CM, COM CUBA INTEGRADA, INCLUSO SIFÃO TIPO FLEXÍVEL EM PVC, VÁLVULA EM PLÁSTICO CROMADO TIPO AMERICANA E TORNEIRA CROMADA LONGA, DE PAREDE, PADRÃO POPULAR - FORNECIMENTO E INSTALAÇÃO. AF_01/2020","UN",null,"554,27",null,"CR"]
[null,"SINAPI","86933","BANCADA DE MÁRMORE SINTÉTICO 120 X 60CM, COM CUBA INTEGRADA, INCLUSO SIFÃO TIPO GARRAFA EM PVC, VÁLVULA EM PLÁSTICO CROMADO TIPO AMERICANA E TORNEIRA CROMADA LONGA, DE PAREDE, PADRÃO POPULAR - FORNECIMENTO E INSTALAÇÃO. AF_01/2020","UN",null,"565,01",null,"CR"]
[null,"SINAPI","93441","BANCADA GRANITO CINZA  150 X 60 CM, COM CUBA DE EMBUTIR DE AÇO, VÁLVULA AMERICANA EM METAL, SIFÃO FLEXÍVEL EM PVC, ENGATE FLEXÍVEL 30 CM, TORNEIRA CROMADA LONGA, DE PAREDE, 1/2\" OU 3/4\", P/ COZINHA, PADRÃO POPULAR - FORNEC. E INSTALAÇÃO. AF_01/2020","UN",null,"1.339,72",null,"CR"]
[null,"SINAPI","100875","BANCO ARTICULADO, EM ACO INOX, PARA PCD, FIXADO NA PAREDE - FORNECIMENTO E INSTALAÇÃO. AF_01/2020","UN",null,"1.483,93",null,"AS"]
[null,"SINAPI","100863","BARRA DE APOIO EM \"L\", EM ACO INOX POLIDO 70 X 70 CM, FIXADA NA PAREDE - FORNECIMENTO E INSTALACAO. AF_01/2020","UN",null,"784,95",null,"AS"]
[null,"SINAPI","100864","BARRA DE APOIO EM \"L\", EM ACO INOX POLIDO 80 X 80 CM, FIXADA NA PAREDE - FORNECIMENTO E INSTALACAO. AF_01/2020","UN",null,"869,76",null,"AS"]
[null,"SINAPI","100865","BARRA DE APOIO LATERAL ARTICULADA, COM TRAVA, EM ACO INOX POLIDO, FIXADA NA PAREDE - FORNECIMENTO E INSTALAÇÃO. AF_01/2020","UN",null,"806,79",null,"AS"]
[null,"SINAPI","100866","BARRA DE APOIO RETA, EM ACO INOX POLIDO, COMPRIMENTO 60CM, FIXADA NA PAREDE - FORNECIMENTO E INSTALAÇÃO. AF_01/2020","UN",null,"393,26",null,"AS"]
[null,"SINAPI","100867","BARRA DE APOIO RETA, EM ACO INOX POLIDO, COMPRIMENTO 70 CM,  FIXADA NA PAREDE - FORNECIMENTO E INSTALAÇÃO. AF_01/2020","UN",null,"421,22",null,"AS"]
[null,"SINAPI","100868","BARRA DE APOIO RETA, EM ACO INOX POLIDO, COMPRIMENTO 80 CM,  FIXADA NA PAREDE - FORNECIMENTO E INSTALAÇÃO. AF_01/2020","UN",null,"439,83",null,"AS"]
[null,"SINAPI","100869","BARRA DE APOIO RETA, EM ACO INOX POLIDO, COMPRIMENTO 90 CM,  FIXADA NA PAREDE - FORNECIMENTO E INSTALAÇÃO. AF_01/2020","UN",null,"454,10",null,"AS"]
[null,"SINAPI","100870","BARRA DE APOIO RETA, EM ALUMINIO, COMPRIMENTO 60 CM,  FIXADA NA PAREDE - FORNECIMENTO E INSTALAÇÃO. AF_01/2020","UN",null,"295,98",null,"AS"]
[null,"SINAPI","100871","BARRA DE APOIO RETA, EM ALUMINIO, COMPRIMENTO 70 CM,  FIXADA NA PAREDE - FORNECIMENTO E INSTALAÇÃO. AF_01/2020","UN",null,"318,80",null,"AS"]
[null,"SINAPI","100872","BARRA DE APOIO RETA, EM ALUMINIO, COMPRIMENTO 80 CM,  FIXADA NA PAREDE - FORNECIMENTO E INSTALAÇÃO. AF_01/2020","UN",null,"333,37",null,"AS"]
[null,"SINAPI","100873","BARRA DE APOIO RETA, EM ALUMINIO, COMPRIMENTO 90 CM,  FIXADA NA PAREDE - FORNECIMENTO E INSTALAÇÃO. AF_01/2020","UN",null,"342,47",null,"AS"]
[null,"SINAPI-I","38127","BASE DE MISTURADOR MONOCOMANDO PARA CHUVEIRO, DE PAREDE (NAO INCLUI ACABAMENTOS)                                                                                                                                                                                                                                                                                                                                                                                                                          ","UN    ",null,"708,06",null,"CR"]
[null,"SINAPI-I","39810","CAIXA DE PASSAGEM ELETRICA DE PAREDE, DE EMBUTIR, EM PVC, COM TAMPA APARAFUSADA, DIMENSOES 120 X 120 X *75* MM                                                                                                                                                                                                                                                                                                                                                                                            ","UN    ",null,"33,52",null,"CR"]
[null,"SINAPI-I","39811","CAIXA DE PASSAGEM ELETRICA DE PAREDE, DE EMBUTIR, EM PVC, COM TAMPA APARAFUSADA, DIMENSOES 150 X 150 X *75* MM                                                                                                                                                                                                                                                                                                                                                                                            ","UN    ",null,"41,00",null,"CR"]
[null,"SINAPI-I","39812","CAIXA DE PASSAGEM ELETRICA DE PAREDE, DE EMBUTIR, EM PVC, COM TAMPA APARAFUSADA, DIMENSOES 200 X 200 X *90* MM                                                                                                                                                                                                                                                                                                                                                                                            ","UN    ",null,"67,41",null,"CR"]
[null,"SINAPI-I","43096","CAIXA DE PASSAGEM ELETRICA DE PAREDE, DE EMBUTIR, EM TERMOPLASTICO / PVC, COM TAMPA APARAFUSADA, DIMENSOES 400 X 400 X *120* MM                                                                                                                                                                                                                                                                                                                                                                           ","UN    ",null,"223,45",null,"CR"]
[null,"SINAPI-I","43102","CAIXA DE PASSAGEM ELETRICA DE PAREDE, DE SOBREPOR, EM PVC, COM TAMPA APARAFUSADA, DIMENSOES 300 X 300 X *100* MM                                                                                                                                                                                                                                                                                                                                                                                          ","UN    ",null,"135,87",null,"CR"]
[null,"SINAPI-I","43103","CAIXA DE PASSAGEM ELETRICA DE PAREDE, DE SOBREPOR, EM PVC, COM TAMPA APARAFUSADA, DIMENSOES, 400 X 400 X *120* MM                                                                                                                                                                                                                                                                                                                                                                                         ","UN    ",null,"200,07",null,"CR"]
[null,"SINAPI-I","43098","CAIXA DE PASSAGEM ELETRICA DE PAREDE, DE SOBREPOR, EM TERMOPLASTICO / PVC, COM TAMPA APARAFUSADA, DIMENSOES 200 X 200 X *100* MM                                                                                                                                                                                                                                                                                                                                                                          ","UN    ",null,"75,69",null,"CR"]
[null,"SINAPI-I","43097","CAIXA DE PASSAGEM ELETRICA DE PAREDE, DE SOBREPOR, EM TERMOPLASTICO / PVC, COM TAMPA APARAFUSADA, DIMENSOES, 150 X 150 X *100* MM                                                                                                                                                                                                                                                                                                                                                                         ","UN    ",null,"44,84",null,"CR"]
[null,"SINAPI","92867","CAIXA RETANGULAR 4\" X 2\" ALTA (2,00 M DO PISO), METÁLICA, INSTALADA EM PAREDE - FORNECIMENTO E INSTALAÇÃO. AF_03/2023","UN",null,"31,89",null,"CR"]
[null,"SINAPI","91939","CAIXA RETANGULAR 4\" X 2\" ALTA (2,00 M DO PISO), PVC, INSTALADA EM PAREDE - FORNECIMENTO E INSTALAÇÃO. AF_03/2023","UN",null,"33,10",null,"CR"]
[null,"SINAPI","92869","CAIXA RETANGULAR 4\" X 2\" BAIXA (0,30 M DO PISO), METÁLICA, INSTALADA EM PAREDE - FORNECIMENTO E INSTALAÇÃO. AF_03/2023","UN",null,"11,12",null,"CR"]
[null,"SINAPI","91941","CAIXA RETANGULAR 4\" X 2\" BAIXA (0,30 M DO PISO), PVC, INSTALADA EM PAREDE - FORNECIMENTO E INSTALAÇÃO. AF_03/2023","UN",null,"12,33",null,"CR"]
[null,"SINAPI","92868","CAIXA RETANGULAR 4\" X 2\" MÉDIA (1,30 M DO PISO), METÁLICA, INSTALADA EM PAREDE - FORNECIMENTO E INSTALAÇÃO. AF_03/2023","UN",null,"17,95",null,"CR"]
[null,"SINAPI","91940","CAIXA RETANGULAR 4\" X 2\" MÉDIA (1,30 M DO PISO), PVC, INSTALADA EM PAREDE - FORNECIMENTO E INSTALAÇÃO. AF_03/2023","UN",null,"19,16",null,"CR"]
[null,"SINAPI","92870","CAIXA RETANGULAR 4\" X 4\" ALTA (2,00 M DO PISO), METÁLICA, INSTALADA EM PAREDE - FORNECIMENTO E INSTALAÇÃO. AF_03/2023","UN",null,"34,96",null,"CR"]
[null,"SINAPI","91942","CAIXA RETANGULAR 4\" X 4\" ALTA (2,00 M DO PISO), PVC, INSTALADA EM PAREDE - FORNECIMENTO E INSTALAÇÃO. AF_03/2023","UN",null,"37,18",null,"CR"]
[null,"SINAPI","92872","CAIXA RETANGULAR 4\" X 4\" BAIXA (0,30 M DO PISO), METÁLICA, INSTALADA EM PAREDE - FORNECIMENTO E INSTALAÇÃO. AF_03/2023","UN",null,"13,44",null,"CR"]
[null,"SINAPI","91944","CAIXA RETANGULAR 4\" X 4\" BAIXA (0,30 M DO PISO), PVC, INSTALADA EM PAREDE - FORNECIMENTO E INSTALAÇÃO. AF_03/2023","UN",null,"15,66",null,"CR"]
[null,"SINAPI","92871","CAIXA RETANGULAR 4\" X 4\" MÉDIA (1,30 M DO PISO), METÁLICA, INSTALADA EM PAREDE - FORNECIMENTO E INSTALAÇÃO. AF_03/2023","UN",null,"20,54",null,"CR"]
[null,"SINAPI","91943","CAIXA RETANGULAR 4\" X 4\" MÉDIA (1,30 M DO PISO), PVC, INSTALADA EM PAREDE - FORNECIMENTO E INSTALAÇÃO. AF_03/2023","UN",null,"22,76",null,"CR"]
[null,"SINAPI-I","5091","CARRANCA PARA JANELA VENEZIANA DE ABRIR, EM LATAO CROMADO, SIMPLES, PARA APARAFUSAR NA PAREDE                                                                                                                                                                                                                                                                                                                                                                                                             ","UN    ",null,"20,89",null,"CR"]
[null,"SINAPI","99235","CONCRETAGEM DE EDIFICAÇÕES (PAREDES E LAJES) FEITAS COM SISTEMA DE FÔRMAS MANUSEÁVEIS, COM CONCRETO USINADO AUTOADENSÁVEL FCK 25 MPA - LANÇAMENTO E ACABAMENTO. AF_10/2021","M3",null,"672,19",null,"CR"]
[null,"SINAPI","99439","CONCRETAGEM DE EDIFICAÇÕES (PAREDES E LAJES) FEITAS COM SISTEMA DE FÔRMAS MANUSEÁVEIS, COM CONCRETO USINADO BOMBEÁVEL FCK 25 MPA - LANÇAMENTO, ADENSAMENTO E ACABAMENTO (EXCLUSIVE BOMBA LANÇA). AF_10/2021","M3",null,"685,20",null,"AS"]
[null,"SINAPI","99435","CONCRETAGEM DE PAREDES EM EDIFICAÇÕES MULTIFAMILIARES FEITAS COM SISTEMA DE FÔRMAS MANUSEÁVEIS, COM CONCRETO USINADO BOMBEÁVEL FCK 25 MPA - LANÇAMENTO, ADENSAMENTO E ACABAMENTO (EXCLUSIVE BOMBA LANÇA). AF_10/2021","M3",null,"678,79",null,"AS"]
[null,"SINAPI","99432","CONCRETAGEM DE PAREDES EM EDIFICAÇÕES UNIFAMILIARES FEITAS COM SISTEMA DE FÔRMAS MANUSEÁVEIS, COM CONCRETO USINADO BOMBEÁVEL FCK 25 MPA - LANÇAMENTO, ADENSAMENTO E ACABAMENTO (EXCLUSIVE BOMBA LANÇA). AF_10/2021","M3",null,"675,78",null,"AS"]
[null,"SINAPI","97564","CURVA 135 GRAUS PARA ELETRODUTO, PVC, ROSCÁVEL, DN 25 MM (3/4\"), PARA CIRCUITOS TERMINAIS, INSTALADA EM PAREDE - FORNECIMENTO E INSTALAÇÃO. AF_03/2023","UN",null,"18,93",null,"CR"]
[null,"SINAPI","91913","CURVA 180 GRAUS PARA ELETRODUTO, PVC, ROSCÁVEL, DN 20 MM (1/2\"), PARA CIRCUITOS TERMINAIS, INSTALADA EM PAREDE - FORNECIMENTO E INSTALAÇÃO. AF_03/2023","UN",null,"17,55",null,"CR"]
[null,"SINAPI","91916","CURVA 180 GRAUS PARA ELETRODUTO, PVC, ROSCÁVEL, DN 25 MM (3/4\"), PARA CIRCUITOS TERMINAIS, INSTALADA EM PAREDE - FORNECIMENTO E INSTALAÇÃO. AF_03/2023","UN",null,"21,58",null,"CR"]
[null,"SINAPI","91919","CURVA 180 GRAUS PARA ELETRODUTO, PVC, ROSCÁVEL, DN 32 MM (1\"), PARA CIRCUITOS TERMINAIS, INSTALADA EM PAREDE - FORNECIMENTO E INSTALAÇÃO. AF_03/2023","UN",null,"25,10",null,"CR"]
[null,"SINAPI","91922","CURVA 180 GRAUS PARA ELETRODUTO, PVC, ROSCÁVEL, DN 40 MM (1 1/4\"), PARA CIRCUITOS TERMINAIS, INSTALADA EM PAREDE - FORNECIMENTO E INSTALAÇÃO. AF_03/2023","UN",null,"27,91",null,"CR"]
[null,"SINAPI","91911","CURVA 90 GRAUS PARA ELETRODUTO, PVC, ROSCÁVEL, DN 20 MM (1/2\"), PARA CIRCUITOS TERMINAIS, INSTALADA EM PAREDE - FORNECIMENTO E INSTALAÇÃO. AF_03/2023","UN",null,"17,91",null,"CR"]
[null,"SINAPI","91914","CURVA 90 GRAUS PARA ELETRODUTO, PVC, ROSCÁVEL, DN 25 MM (3/4\"), PARA CIRCUITOS TERMINAIS, INSTALADA EM PAREDE - FORNECIMENTO E INSTALAÇÃO. AF_03/2023","UN",null,"19,19",null,"CR"]
[null,"SINAPI","91917","CURVA 90 GRAUS PARA ELETRODUTO, PVC, ROSCÁVEL, DN 32 MM (1\"), PARA CIRCUITOS TERMINAIS, INSTALADA EM PAREDE - FORNECIMENTO E INSTALAÇÃO. AF_03/2023","UN",null,"22,68",null,"CR"]
[null,"SINAPI","91920","CURVA 90 GRAUS PARA ELETRODUTO, PVC, ROSCÁVEL, DN 40 MM (1 1/4\"), PARA CIRCUITOS TERMINAIS, INSTALADA EM PAREDE - FORNECIMENTO E INSTALAÇÃO. AF_03/2023","UN",null,"25,32",null,"CR"]
[null,"SICRO","6219526","Dreno filtrante em tubos de PVC D = 40 mm aplicado em paredes e tetos de túnel - fornecimento e instalação","m",null,"53,64"]
[null,"SICRO","6219525","Dreno não filtrante em tubos de PVC D = 40 mm aplicado em paredes e tetos de túnel - fornecimento e instalação","m",null,"49,64"]
[null,"SINAPI-I","38189","DUCHA / CHUVEIRO METALICO, DE PAREDE, ARTICULAVEL, COM BRACO/CANO, SEM DESVIADOR                                                                                                                                                                                                                                                                                                                                                                                                                          ","UN    ",null,"276,01",null,"CR"]
[null,"SINAPI-I","38190","DUCHA / CHUVEIRO METALICO, DE PAREDE, ARTICULAVEL, COM DESVIADOR E DUCHA MANUAL                                                                                                                                                                                                                                                                                                                                                                                                                           ","UN    ",null,"581,49",null,"CR"]
[null,"SINAPI-I","21128","ELETRODUTO EM ACO GALVANIZADO ELETROLITICO, LEVE, DIAMETRO 3/4\", PAREDE DE 0,90 MM                                                                                                                                                                                                                                                                                                                                                                                                                        ","M     ",null,"10,48",null,"AS"]
[null,"SINAPI","91853","ELETRODUTO FLEXÍVEL CORRUGADO REFORÇADO, PVC, DN 20 MM (1/2\"), PARA CIRCUITOS TERMINAIS, INSTALADO EM PAREDE - FORNECIMENTO E INSTALAÇÃO. AF_03/2023","M",null,"10,65",null,"CR"]
[null,"SINAPI","91855","ELETRODUTO FLEXÍVEL CORRUGADO REFORÇADO, PVC, DN 25 MM (3/4\"), PARA CIRCUITOS TERMINAIS, INSTALADO EM PAREDE - FORNECIMENTO E INSTALAÇÃO. AF_03/2023","M",null,"12,60",null,"CR"]
[null,"SINAPI","91857","ELETRODUTO FLEXÍVEL CORRUGADO REFORÇADO, PVC, DN 32 MM (1\"), PARA CIRCUITOS TERMINAIS, INSTALADO EM PAREDE - FORNECIMENTO E INSTALAÇÃO. AF_03/2023","M",null,"18,41",null,"CR"]
[null,"SINAPI","91860","ELETRODUTO FLEXÍVEL CORRUGADO, PEAD, DN 40 MM (1 1/4\"), PARA CIRCUITOS TERMINAIS, INSTALADO EM PAREDE - FORNECIMENTO E INSTALAÇÃO. AF_03/2023","M",null,"14,84",null,"CR"]
[null,"SINAPI","91852","ELETRODUTO FLEXÍVEL CORRUGADO, PVC, DN 20 MM (1/2\"), PARA CIRCUITOS TERMINAIS, INSTALADO EM PAREDE - FORNECIMENTO E INSTALAÇÃO. AF_03/2023","M",null,"9,93",null,"CR"]
[null,"SINAPI","91854","ELETRODUTO FLEXÍVEL CORRUGADO, PVC, DN 25 MM (3/4\"), PARA CIRCUITOS TERMINAIS, INSTALADO EM PAREDE - FORNECIMENTO E INSTALAÇÃO. AF_03/2023","M",null,"10,73",null,"CR"]
[null,"SINAPI","91856","ELETRODUTO FLEXÍVEL CORRUGADO, PVC, DN 32 MM (1\"), PARA CIRCUITOS TERMINAIS, INSTALADO EM PAREDE - FORNECIMENTO E INSTALAÇÃO. AF_03/2023","M",null,"14,08",null,"CR"]
[null,"SINAPI","91859","ELETRODUTO FLEXÍVEL LISO, PEAD, DN 32 MM (1\"), PARA CIRCUITOS TERMINAIS, INSTALADO EM PAREDE - FORNECIMENTO E INSTALAÇÃO. AF_03/2023","M",null,"11,92",null,"CR"]
[null,"SINAPI","91861","ELETRODUTO FLEXÍVEL LISO, PEAD, DN 40 MM (1 1/4\"), PARA CIRCUITOS TERMINAIS, INSTALADO EM PAREDE - FORNECIMENTO E INSTALAÇÃO. AF_03/2023","M",null,"13,94",null,"CR"]
[null,"SINAPI","91870","ELETRODUTO RÍGIDO ROSCÁVEL, PVC, DN 20 MM (1/2\"), PARA CIRCUITOS TERMINAIS, INSTALADO EM PAREDE - FORNECIMENTO E INSTALAÇÃO. AF_03/2023","M",null,"14,17",null,"CR"]
[null,"SINAPI","91871","ELETRODUTO RÍGIDO ROSCÁVEL, PVC, DN 25 MM (3/4\"), PARA CIRCUITOS TERMINAIS, INSTALADO EM PAREDE - FORNECIMENTO E INSTALAÇÃO. AF_03/2023","M",null,"16,25",null,"CR"]
[null,"SINAPI","91872","ELETRODUTO RÍGIDO ROSCÁVEL, PVC, DN 32 MM (1\"), PARA CIRCUITOS TERMINAIS, INSTALADO EM PAREDE - FORNECIMENTO E INSTALAÇÃO. AF_03/2023","M",null,"21,13",null,"CR"]
[null,"SINAPI","91873","ELETRODUTO RÍGIDO ROSCÁVEL, PVC, DN 40 MM (1 1/4\"), PARA CIRCUITOS TERMINAIS, INSTALADO EM PAREDE - FORNECIMENTO E INSTALAÇÃO. AF_03/2023","M",null,"25,81",null,"CR"]
[null,"SINAPI-I","39246","ELETRODUTO/DUTO PEAD FLEXIVEL PAREDE SIMPLES, CORRUGACAO HELICOIDAL, COR PRETA, SEM ROSCA, DE 1 1/2\", CRC 680 N, PARA CABEAMENTO SUBTERRANEO (NBR 15715)                                                                                                                                                                                                                                                                                                                                                  ","M     ",null,"6,69",null,"CR"]
[null,"SINAPI-I","39247","ELETRODUTO/DUTO PEAD FLEXIVEL PAREDE SIMPLES, CORRUGACAO HELICOIDAL, COR PRETA, SEM ROSCA, DE 1 1/4\", CRC 680 N, PARA CABEAMENTO SUBTERRANEO (NBR 15715)                                                                                                                                                                                                                                                                                                                                                  ","M     ",null,"5,83",null,"CR"]
[null,"SINAPI-I","2446","ELETRODUTO/DUTO PEAD FLEXIVEL PAREDE SIMPLES, CORRUGACAO HELICOIDAL, COR PRETA, SEM ROSCA, DE 2\", CRC 680 N, PARA CABEAMENTO SUBTERRANEO (NBR 15715)                                                                                                                                                                                                                                                                                                                                                      ","M     ",null,"9,60",null,"C "]
[null,"SINAPI-I","2442","ELETRODUTO/DUTO PEAD FLEXIVEL PAREDE SIMPLES, CORRUGACAO HELICOIDAL, COR PRETA, SEM ROSCA, DE 3\", CRC 680 N, PARA CABEAMENTO SUBTERRANEO (NBR 15715)                                                                                                                                                                                                                                                                                                                                                      ","M     ",null,"13,45",null,"CR"]
[null,"SINAPI-I","39248","ELETRODUTO/DUTO PEAD FLEXIVEL PAREDE SIMPLES, CORRUGACAO HELICOIDAL, COR PRETA, SEM ROSCA, DE 4\", CRC 680 N, PARA CABEAMENTO SUBTERRANEO (NBR 15715)                                                                                                                                                                                                                                                                                                                                                      ","M     ",null,"18,74",null,"CR"]
[null,"SINAPI","88497","EMASSAMENTO COM MASSA LÁTEX, APLICAÇÃO EM PAREDE, DUAS DEMÃOS, LIXAMENTO MANUAL. AF_04/2023","M2",null,"19,12",null,"CR"]
[null,"SINAPI","88495","EMASSAMENTO COM MASSA LÁTEX, APLICAÇÃO EM PAREDE, UMA DEMÃO, LIXAMENTO MANUAL. AF_04/2023","M2",null,"12,23",null,"CR"]
[null,"SINAPI","87832","EMBOÇO OU MASSA ÚNICA EM ARGAMASSA INDUSTRIALIZADA, PREPARO MECÂNICO E APLICAÇÃO COM EQUIPAMENTO DE MISTURA E PROJEÇÃO DE 1,5 M3/H DE ARGAMASSA NAS PAREDES INTERNAS DA SACADA, ESPESSURA 35 MM, SEM USO DE TELA METÁLICA. AF_08/2022","M2",null,"142,79",null,"CR"]
[null,"SINAPI","87828","EMBOÇO OU MASSA ÚNICA EM ARGAMASSA INDUSTRIALIZADA, PREPARO MECÂNICO E APLICAÇÃO COM EQUIPAMENTO DE MISTURA E PROJEÇÃO DE 1,5 M3/H NAS PAREDES INTERNAS DA SACADA, ESPESSURA 25 MM, SEM USO DE TELA METÁLICA. AF_08/2022","M2",null,"113,14",null,"CR"]
[null,"SINAPI","87827","EMBOÇO OU MASSA ÚNICA EM ARGAMASSA TRAÇO 1:2:8, PREPARO MANUAL, APLICADA MANUALMENTE NAS PAREDES INTERNAS DA SACADA, ESPESSURA DE 25 MM, SEM USO DE TELA METÁLICA DE REFORÇO CONTRA FISSURAÇÃO. AF_08/2022","M2",null,"77,92",null,"CR"]
[null,"SINAPI","87831","EMBOÇO OU MASSA ÚNICA EM ARGAMASSA TRAÇO 1:2:8, PREPARO MANUAL, APLICADA MANUALMENTE NAS PAREDES INTERNAS DA SACADA, ESPESSURA DE 35 MM, SEM USO DE TELA METÁLICA DE REFORÇO CONTRA FISSURAÇÃO. AF_08/2022","M2",null,"94,74",null,"CR"]
[null,"SINAPI","87825","EMBOÇO OU MASSA ÚNICA EM ARGAMASSA TRAÇO 1:2:8, PREPARO MECÂNICO COM BETONEIRA 400 L, APLICADA MANUALMENTE NAS PAREDES INTERNAS DA SACADA, ESPESSURA DE 25 MM, SEM USO DE TELA METÁLICA DE REFORÇO CONTRA FISSURAÇÃO. AF_08/2022","M2",null,"74,66",null,"CR"]
[null,"SINAPI","87829","EMBOÇO OU MASSA ÚNICA EM ARGAMASSA TRAÇO 1:2:8, PREPARO MECÂNICO COM BETONEIRA 400 L, APLICADA MANUALMENTE NAS PAREDES INTERNAS DA SACADA, ESPESSURA DE 35 MM, SEM USO DE TELA METÁLICA DE REFORÇO CONTRA FISSURAÇÃO. AF_08/2022","M2",null,"90,37",null,"CR"]
[null,"SINAPI","87557","EMBOÇO, EM ARGAMASSA INDUSTRIALIZADA, PREPARO MECÂNICO, APLICADO COM EQUIPAMENTO DE MISTURA E PROJEÇÃO DE ARGAMASSA EM PAREDES INTERNAS, E = 10MM, COM TALISCAS. AF_03/2024","M2",null,"44,28",null,"CR"]
[null,"SINAPI","87539","EMBOÇO, EM ARGAMASSA INDUSTRIALIZADA, PREPARO MECÂNICO, APLICADO COM EQUIPAMENTO DE MISTURA E PROJEÇÃO DE ARGAMASSA EM PAREDES INTERNAS, E = 17,5MM, COM TALISCAS. AF_03/2024","M2",null,"67,08",null,"CR"]
[null,"SINAPI","87550","EMBOÇO, EM ARGAMASSA TRAÇO 1:2:8, PREPARO MANUAL, APLICADO MANUALMENTE EM PAREDES INTERNAS DE AMBIENTES COM ÁREA ENTRE 5M² E 10M², E = 10MM, COM TALISCAS. AF_03/2024","M2",null,"27,20",null,"CR"]
[null,"SINAPI","87532","EMBOÇO, EM ARGAMASSA TRAÇO 1:2:8, PREPARO MANUAL, APLICADO MANUALMENTE EM PAREDES INTERNAS DE AMBIENTES COM ÁREA ENTRE 5M² E 10M², E = 17,5MM, COM TALISCAS. AF_03/2024","M2",null,"38,56",null,"CR"]
[null,"SINAPI","87554","EMBOÇO, EM ARGAMASSA TRAÇO 1:2:8, PREPARO MANUAL, APLICADO MANUALMENTE EM PAREDES INTERNAS DE AMBIENTES COM ÁREA MAIOR QUE 10M², E = 10MM, COM TALISCAS. AF_03/2024","M2",null,"24,58",null,"CR"]
[null,"SINAPI","87536","EMBOÇO, EM ARGAMASSA TRAÇO 1:2:8, PREPARO MANUAL, APLICADO MANUALMENTE EM PAREDES INTERNAS DE AMBIENTES COM ÁREA MAIOR QUE 10M², E = 17,5MM, COM TALISCAS. AF_03/2024","M2",null,"35,95",null,"CR"]
[null,"SINAPI","87528","EMBOÇO, EM ARGAMASSA TRAÇO 1:2:8, PREPARO MANUAL, APLICADO MANUALMENTE EM PAREDES INTERNAS DE AMBIENTES COM ÁREA MENOR QUE 5M², E = 17,5MM, COM TALISCAS. AF_03/2024","M2",null,"42,96",null,"CR"]
[null,"SINAPI","104972","EMBOÇO, EM ARGAMASSA TRAÇO 1:2:8, PREPARO MANUAL, APLICADO MANUALMENTE EM PAREDES INTERNAS DE AMBIENTES COM PÉ-DIREITO DUPLO E ÁREA ENTRE 5M² E 10M², E = 10MM, COM TALISCAS. AF_03/2024","M2",null,"34,71",null,"CR"]
[null,"SINAPI","104954","EMBOÇO, EM ARGAMASSA TRAÇO 1:2:8, PREPARO MANUAL, APLICADO MANUALMENTE EM PAREDES INTERNAS DE AMBIENTES COM PÉ-DIREITO DUPLO E ÁREA ENTRE 5M² E 10M², E = 17,5MM, COM TALISCAS. AF_03/2024","M2",null,"48,12",null,"CR"]
[null,"SINAPI","104976","EMBOÇO, EM ARGAMASSA TRAÇO 1:2:8, PREPARO MANUAL, APLICADO MANUALMENTE EM PAREDES INTERNAS DE AMBIENTES COM PÉ-DIREITO DUPLO E ÁREA MAIOR QUE 10M², E = 10MM, COM TALISCAS. AF_03/2024","M2",null,"30,67",null,"CR"]
[null,"SINAPI","104966","EMBOÇO, EM ARGAMASSA TRAÇO 1:2:8, PREPARO MANUAL, APLICADO MANUALMENTE EM PAREDES INTERNAS DE AMBIENTES COM PÉ-DIREITO DUPLO E ÁREA MAIOR QUE 10M², E = 17,5MM, COM TALISCAS. AF_03/2024","M2",null,"44,06",null,"CR"]
[null,"SINAPI","104968","EMBOÇO, EM ARGAMASSA TRAÇO 1:2:8, PREPARO MANUAL, APLICADO MANUALMENTE EM PAREDES INTERNAS DE AMBIENTES COM PÉ-DIREITO DUPLO E ÁREA MENOR QUE 5M², E = 10MM, COM TALISCAS. AF_03/2024","M2",null,"41,51",null,"CR"]
[null,"SINAPI","104962","EMBOÇO, EM ARGAMASSA TRAÇO 1:2:8, PREPARO MANUAL, APLICADO MANUALMENTE EM PAREDES INTERNAS DE AMBIENTES COM PÉ-DIREITO DUPLO E ÁREA MENOR QUE 5M², E = 17,5MM, COM TALISCAS. AF_03/2024","M2",null,"54,91",null,"CR"]
[null,"SINAPI","87546","EMBOÇO, EM ARGAMASSA TRAÇO 1:2:8, PREPARO MANUAL, APLICADO MANUALMENTE EM PAREDES INTERNAS, PARA AMBIENTES COM ÁREA MENOR QUE 5M², E = 10MM, COM TALISCAS. AF_03/2024","M2",null,"31,59",null,"CR"]
[null,"SINAPI","87549","EMBOÇO, EM ARGAMASSA TRAÇO 1:2:8, PREPARO MECÂNICO, APLICADO MANUALMENTE EM PAREDES INTERNAS DE AMBIENTES COM ÁREA ENTRE 5M² E 10M², E = 10MM, COM TALISCAS. AF_03/2024","M2",null,"25,44",null,"CR"]
[null,"SINAPI","87531","EMBOÇO, EM ARGAMASSA TRAÇO 1:2:8, PREPARO MECÂNICO, APLICADO MANUALMENTE EM PAREDES INTERNAS DE AMBIENTES COM ÁREA ENTRE 5M² E 10M², E = 17,5MM, COM TALISCAS. AF_03/2024","M2",null,"35,80",null,"CR"]
[null,"SINAPI","87553","EMBOÇO, EM ARGAMASSA TRAÇO 1:2:8, PREPARO MECÂNICO, APLICADO MANUALMENTE EM PAREDES INTERNAS DE AMBIENTES COM ÁREA MAIOR QUE 10M², E = 10MM, COM TALISCAS. AF_03/2024","M2",null,"22,82",null,"CR"]
[null,"SINAPI","87535","EMBOÇO, EM ARGAMASSA TRAÇO 1:2:8, PREPARO MECÂNICO, APLICADO MANUALMENTE EM PAREDES INTERNAS DE AMBIENTES COM ÁREA MAIOR QUE 10M², E = 17,5MM, COM TALISCAS. AF_03/2024","M2",null,"33,19",null,"CR"]
[null,"SINAPI","87527","EMBOÇO, EM ARGAMASSA TRAÇO 1:2:8, PREPARO MECÂNICO, APLICADO MANUALMENTE EM PAREDES INTERNAS DE AMBIENTES COM ÁREA MENOR QUE 5M², E =17,5MM, COM TALISCAS. AF_03/2024","M2",null,"40,20",null,"CR"]
[null,"SINAPI","104971","EMBOÇO, EM ARGAMASSA TRAÇO 1:2:8, PREPARO MECÂNICO, APLICADO MANUALMENTE EM PAREDES INTERNAS DE AMBIENTES COM PÉ-DIREITO DUPLO E ÁREA ENTRE 5M² E 10M², E = 10MM, COM TALISCAS. AF_03/2024","M2",null,"32,95",null,"CR"]
[null,"SINAPI","104965","EMBOÇO, EM ARGAMASSA TRAÇO 1:2:8, PREPARO MECÂNICO, APLICADO MANUALMENTE EM PAREDES INTERNAS DE AMBIENTES COM PÉ-DIREITO DUPLO E ÁREA ENTRE 5M² E 10M², E = 17,5MM, COM TALISCAS. AF_03/2024","M2",null,"45,36",null,"CR"]
[null,"SINAPI","104975","EMBOÇO, EM ARGAMASSA TRAÇO 1:2:8, PREPARO MECÂNICO, APLICADO MANUALMENTE EM PAREDES INTERNAS DE AMBIENTES COM PÉ-DIREITO DUPLO E ÁREA MAIOR QUE 10M², E = 10MM, COM TALISCAS. AF_03/2024","M2",null,"28,91",null,"CR"]
[null,"SINAPI","104957","EMBOÇO, EM ARGAMASSA TRAÇO 1:2:8, PREPARO MECÂNICO, APLICADO MANUALMENTE EM PAREDES INTERNAS DE AMBIENTES COM PÉ-DIREITO DUPLO E ÁREA MAIOR QUE 10M², E = 17,5MM, COM TALISCAS. AF_03/2024","M2",null,"41,30",null,"CR"]
[null,"SINAPI","104967","EMBOÇO, EM ARGAMASSA TRAÇO 1:2:8, PREPARO MECÂNICO, APLICADO MANUALMENTE EM PAREDES INTERNAS DE AMBIENTES COM PÉ-DIREITO DUPLO E ÁREA MENOR QUE 5M², E = 10MM, COM TALISCAS. AF_03/2024","M2",null,"39,75",null,"CR"]
[null,"SINAPI","104961","EMBOÇO, EM ARGAMASSA TRAÇO 1:2:8, PREPARO MECÂNICO, APLICADO MANUALMENTE EM PAREDES INTERNAS DE AMBIENTES COM PÉ-DIREITO DUPLO E ÁREA MENOR QUE 5M², E = 17,5MM, COM TALISCAS. AF_03/2024","M2",null,"52,15",null,"CR"]
[null,"SINAPI","87545","EMBOÇO, EM ARGAMASSA TRAÇO 1:2:8, PREPARO MECÂNICO, APLICADO MANUALMENTE EM PAREDES INTERNAS, PARA AMBIENTES COM ÁREA MENOR QUE 5M², E = 10MM, COM TALISCAS. AF_03/2024","M2",null,"29,83",null,"CR"]
[null,"SINAPI","104422","ESTUCAMENTO DE DENSIDADE ALTA DE PANOS DE FACHADA DO SISTEMA DE PAREDES DE CONCRETO EM EDIFICAÇÕES DE MÚLTIPLOS PAVIMENTOS, ACESSO COM BALANCIM, UTILIZAÇÃO DE ARGAMASSA COLANTE. AF_10/2022","M2",null,"8,70",null,"CR"]
[null,"SINAPI","104421","ESTUCAMENTO DE DENSIDADE ALTA DE PANOS DE FACHADA DO SISTEMA DE PAREDES DE CONCRETO EM EDIFICAÇÕES DE MÚLTIPLOS PAVIMENTOS, ACESSO COM PLATAFORMA OU CADEIRINHA, UTILIZAÇÃO DE ARGAMASSA COLANTE. AF_10/2022","M2",null,"14,78",null,"CR"]
[null,"SINAPI","104423","ESTUCAMENTO DE DENSIDADE ALTA DE PANOS DE FACHADA DO SISTEMA DE PAREDES DE CONCRETO EM UNIDADES HABITACIONAIS DE DOIS PAVIMENTOS (SOBRADO), ACESSO COM ANDAIME FACHADEIRO, UTILIZAÇÃO DE ARGAMASSA COLANTE. AF_10/2022","M2",null,"23,39",null,"CR"]
[null,"SINAPI","104424","ESTUCAMENTO DE DENSIDADE ALTA DE PANOS DE FACHADA DO SISTEMA DE PAREDES DE CONCRETO EM UNIDADES HABITACIONAIS DE DOIS PAVIMENTOS (SOBRADO), ACESSO COM PLATAFORMA, UTILIZAÇÃO DE ARGAMASSA COLANTE. AF_10/2022","M2",null,"21,56",null,"CR"]
[null,"SINAPI","104425","ESTUCAMENTO DE DENSIDADE ALTA DE PANOS DE FACHADA DO SISTEMA DE PAREDES DE CONCRETO EM UNIDADES HABITACIONAIS DE PAVIMENTO ÚNICO, UTILIZAÇÃO DE ARGAMASSA COLANTE. AF_10/2022","M2",null,"18,52",null,"CR"]
[null,"SINAPI","91525","ESTUCAMENTO DE DENSIDADE ALTA NAS FACES INTERNAS DE PAREDES DO SISTEMA DE PAREDES DE CONCRETO, EM AMBIENTES COM ÁREA ENTRE 5 M² E 10 M², UTILIZAÇÃO DE ARGAMASSA COLANTE. AF_10/2022","M2",null,"7,73",null,"CR"]
[null,"SINAPI","104414","ESTUCAMENTO DE DENSIDADE ALTA NAS FACES INTERNAS DE PAREDES DO SISTEMA DE PAREDES DE CONCRETO, EM AMBIENTES COM ÁREA MAIOR QUE 10 M², UTILIZAÇÃO DE ARGAMASSA COLANTE. AF_10/2022","M2",null,"6,95",null,"CR"]
[null,"SINAPI","104415","ESTUCAMENTO DE DENSIDADE ALTA NAS FACES INTERNAS DE PAREDES DO SISTEMA DE PAREDES DE CONCRETO, EM AMBIENTES COM ÁREA MENOR QUE 5 M², UTILIZAÇÃO DE ARGAMASSA COLANTE. AF_10/2022","M2",null,"12,00",null,"CR"]
[null,"SINAPI","104418","ESTUCAMENTO DE DENSIDADE BAIXA DE PANOS DE FACHADA DO SISTEMA DE PAREDES DE CONCRETO EM EDIFICAÇÕES DE MÚLTIPLOS PAVIMENTOS, ACESSO COM BALANCIM, UTILIZAÇÃO DE ARGAMASSA COLANTE. AF_10/2022","M2",null,"2,79",null,"CR"]
[null,"SINAPI","91515","ESTUCAMENTO DE DENSIDADE BAIXA DE PANOS DE FACHADA DO SISTEMA DE PAREDES DE CONCRETO EM EDIFICAÇÕES DE MÚLTIPLOS PAVIMENTOS, ACESSO COM PLATAFORMA OU CADEIRINHA, UTILIZAÇÃO DE ARGAMASSA COLANTE. AF_10/2022","M2",null,"6,42",null,"CR"]
[null,"SINAPI","104419","ESTUCAMENTO DE DENSIDADE BAIXA DE PANOS DE FACHADA DO SISTEMA DE PAREDES DE CONCRETO EM UNIDADES HABITACIONAIS DE DOIS PAVIMENTOS (SOBRADO), ACESSO COM ANDAIME FACHADEIRO, UTILIZAÇÃO DE ARGAMASSA COLANTE. AF_10/2022","M2",null,"11,53",null,"CR"]
[null,"SINAPI","104420","ESTUCAMENTO DE DENSIDADE BAIXA DE PANOS DE FACHADA DO SISTEMA DE PAREDES DE CONCRETO EM UNIDADES HABITACIONAIS DE DOIS PAVIMENTOS (SOBRADO), ACESSO COM PLATAFORMA, UTILIZAÇÃO DE ARGAMASSA COLANTE. AF_10/2022","M2",null,"10,40",null,"CR"]
[null,"SINAPI","91519","ESTUCAMENTO DE DENSIDADE BAIXA DE PANOS DE FACHADA DO SISTEMA DE PAREDES DE CONCRETO EM UNIDADES HABITACIONAIS DE PAVIMENTO ÚNICO, UTILIZAÇÃO DE ARGAMASSA COLANTE. AF_10/2022","M2",null,"8,62",null,"CR"]
[null,"SINAPI","91520","ESTUCAMENTO DE DENSIDADE BAIXA NAS FACES INTERNAS DE PAREDES DO SISTEMA DE PAREDES DE CONCRETO, EM AMBIENTES COM ÁREA ENTRE 5 M² E 10 M², UTILIZAÇÃO DE ARGAMASSA COLANTE. AF_10/2022","M2",null,"2,40",null,"CR"]
[null,"SINAPI","104416","ESTUCAMENTO DE DENSIDADE BAIXA NAS FACES INTERNAS DE PAREDES DO SISTEMA DE PAREDES DE CONCRETO, EM AMBIENTES COM ÁREA MAIOR QUE 10 M², UTILIZAÇÃO DE ARGAMASSA COLANTE. AF_10/2022","M2",null,"2,05",null,"CR"]
[null,"SINAPI","104417","ESTUCAMENTO DE DENSIDADE BAIXA NAS FACES INTERNAS DE PAREDES DO SISTEMA DE PAREDES DE CONCRETO, EM AMBIENTES COM ÁREA MENOR QUE 5 M², UTILIZAÇÃO DE ARGAMASSA COLANTE. AF_10/2022","M2",null,"4,31",null,"CR"]
[null,"SINAPI","91522","ESTUCAMENTO PARA QUALQUER REVESTIMENTO, EM TETO DO SISTEMA DE PAREDES DE CONCRETO, EM AMBIENTES COM ÁREA ENTRE 5 M² E 10 M², UTILIZAÇÃO DE ARGAMASSA COLANTE. AF_10/2022","M2",null,"3,31",null,"CR"]
[null,"SINAPI","104412","ESTUCAMENTO PARA QUALQUER REVESTIMENTO, EM TETO DO SISTEMA DE PAREDES DE CONCRETO, EM AMBIENTES COM ÁREA MAIOR QUE 10 M², UTILIZAÇÃO DE ARGAMASSA COLANTE. AF_10/2022","M2",null,"2,96",null,"CR"]
[null,"SINAPI","104413","ESTUCAMENTO PARA QUALQUER REVESTIMENTO, EM TETO DO SISTEMA DE PAREDES DE CONCRETO, EM AMBIENTES COM ÁREA MENOR QUE 5 M², UTILIZAÇÃO DE ARGAMASSA COLANTE. AF_10/2022","M2",null,"5,22",null,"CR"]
[null,"SINAPI","104785","FIXAÇÃO DE ELETRODUTOS, DIÂMETROS MENORES OU IGUAIS A 40 MM, COM ABRAÇADEIRA METÁLICA RÍGIDA TIPO D COM PARAFUSO DE FIXAÇÃO 1 1/4\", FIXADA DIRETAMENTE NA LAJE OU PAREDE. AF_09/2023","M",null,"13,80",null,"AS"]
[null,"SINAPI","91181","FIXAÇÃO DE TUBOS HORIZONTAIS DE  PVC ÁGUA/PVC ESGOTO/PVC PLUVIAL/CPVC/PPR/COBRE OU AÇO, DIÂMETROS MAIORES QUE 75 MM E MENORES OU IGUAIS A 100 MM, COM ABRAÇADEIRA TIPO  D  COM PARAFUSO DE FIXAÇÃO 4\", FIXADA DIRETAMENTE NA LAJE OU PAREDE. AF_09/2023","M",null,"27,87",null,"AS"]
[null,"SINAPI","91176","FIXAÇÃO DE TUBOS HORIZONTAIS DE PPR DIÂMETROS MENORES OU IGUAIS A 40 MM, COM ABRAÇADEIRA METÁLICA RÍGIDA TIPO  D  COM PARAFUSO DE FIXAÇÃO 1 1/4\", FIXADA DIRETAMENTE NA LAJE OU PAREDE. AF_09/2023","M",null,"19,72",null,"AS"]
[null,"SINAPI","91180","FIXAÇÃO DE TUBOS HORIZONTAIS DE PVC ÁGUA/PVC ESGOTO/PVC PLUVIAL/CPVC/PPR/COBRE OU AÇO, DIÂMETROS MAIORES QUE 40 MM E MENORES OU IGUAIS A 75 MM, COM ABRAÇADEIRA TIPO  D  COM PARAFUSO DE FIXAÇÃO 2 1/2\", FIXADA DIRETAMENTE NA LAJE OU PAREDE. AF_09/2023","M",null,"26,50",null,"AS"]
[null,"SINAPI","91179","FIXAÇÃO DE TUBOS HORIZONTAIS DE PVC ÁGUA/PVC ESGOTO/PVC PLUVIAL/CPVC/PPR/COBRE OU AÇO, DIÂMETROS MENORES OU IGUAIS A 40 MM, COM ABRAÇADEIRA METÁLICA RÍGIDA TIPO  D  COM PARAFUSO DE FIXAÇÃO 1 1/4\", FIXADA DIRETAMENTE NA LAJE OU PAREDE. AF_09/2023","M",null,"19,72",null,"AS"]
[null,"SINAPI","91174","FIXAÇÃO DE TUBOS VERTICAIS DE PVC ÁGUA, PVC ESGOTO, PVC ÁGUA PLUVIAL, CPVC, PPR, COBRE OU AÇO, DIÂMETROS MAIORES QUE 40 MM E MENORES OU IGUAIS A 75 MM, COM ABRAÇADEIRA METÁLICA RÍGIDA TIPO U PERFIL 2 1/2\", FIXADA EM PERFILADO EM PAREDE. AF_09/2023_PS","M",null,"7,77",null,"CR"]
[null,"SINAPI","91175","FIXAÇÃO DE TUBOS VERTICAIS DE PVC ÁGUA, PVC ESGOTO, PVC ÁGUA PLUVIAL, CPVC, PPR, COBRE OU AÇO, DIÂMETROS MAIORES QUE 75 MM E MENORES OU IGUAIS A 100 MM, COM ABRAÇADEIRA METÁLICA RÍGIDA TIPO U PERFIL 4\", FIXADA EM PERFILADO EM PAREDE. AF_09/2023_PS","M",null,"12,12",null,"CR"]
[null,"SINAPI","91173","FIXAÇÃO DE TUBOS VERTICAIS DE PVC ÁGUA, PVC ESGOTO, PVC ÁGUA PLUVIAL, CPVC, PPR, COBRE OU AÇO, DIÂMETROS MENORES OU IGUAIS A 40 MM, COM ABRAÇADEIRA METÁLICA RÍGIDA TIPO U PERFIL 1 1/4\", FIXADA EM PERFILADO EM PAREDE. AF_09/2023_PS","M",null,"4,40",null,"CR"]
[null,"SINAPI","88485","FUNDO SELADOR ACRÍLICO, APLICAÇÃO MANUAL EM PAREDE, UMA DEMÃO. AF_04/2023","M2",null,"3,75",null,"C"]
[null,"SICRO","1516312","Geocélula em PEAD, paredes perfuradas, soldadas - altura de 100 mm e 1.206 cm² de área de célula - fornecimento e instalação","m²",null,"41,27"]
[null,"SICRO","1516304","Geocélula em PEAD, paredes perfuradas, soldadas - altura de 100 mm e 289 cm² de área de célula - fornecimento e instalação","m²",null,"52,76"]
[null,"SICRO","1516308","Geocélula em PEAD, paredes perfuradas, soldadas - altura de 100 mm e 460 cm² de área de célula - fornecimento e instalação","m²",null,"43,61"]
[null,"SICRO","1516313","Geocélula em PEAD, paredes perfuradas, soldadas - altura de 150 mm e 1.206 cm² de área de célula - fornecimento e instalação","m²",null,"49,17"]
[null,"SICRO","1516305","Geocélula em PEAD, paredes perfuradas, soldadas - altura de 150 mm e 289 cm² de área de célula - fornecimento e instalação","m²",null,"63,44"]
[null,"SICRO","1516309","Geocélula em PEAD, paredes perfuradas, soldadas - altura de 150 mm e 460 cm² de área de célula - fornecimento e instalação","m²",null,"51,96"]
[null,"SICRO","1516314","Geocélula em PEAD, paredes perfuradas, soldadas - altura de 200 mm e 1.206 cm² de área de célula - fornecimento e instalação","m²",null,"57,26"]
[null,"SICRO","1516306","Geocélula em PEAD, paredes perfuradas, soldadas - altura de 200 mm e 289 cm² de área de célula - fornecimento e instalação","m²",null,"74,59"]
[null,"SICRO","1516310","Geocélula em PEAD, paredes perfuradas, soldadas - altura de 200 mm e 460 cm² de área de célula - fornecimento e instalação","m²",null,"60,79"]
[null,"SICRO","1516311","Geocélula em PEAD, paredes perfuradas, soldadas - altura de 75 mm e 1.206 cm² de área de célula - fornecimento e instalação","m²",null,"31,68"]
[null,"SICRO","1516303","Geocélula em PEAD, paredes perfuradas, soldadas - altura de 75 mm e 289 cm² de área de célula - fornecimento e instalação","m²",null,"42,15"]
[null,"SICRO","1516307","Geocélula em PEAD, paredes perfuradas, soldadas - altura de 75 mm e 460 cm² de área de célula - fornecimento e instalação","m²",null,"34,93"]
[null,"SINAPI","96374","INSTALAÇÃO DE REFORÇO DE MADEIRA EM PAREDE DRYWALL. AF_07/2023","M",null,"20,16",null,"AS"]
[null,"SINAPI","96373","INSTALAÇÃO DE REFORÇO METÁLICO EM PAREDE DRYWALL. AF_07/2023","M",null,"13,12",null,"AS"]
[null,"SINAPI","99812","LIMPEZA DE LADRILHO HIDRÁULICO EM PAREDE COM PANO ÚMIDO. AF_04/2019","M2",null,"1,22",null,"C"]
[null,"SINAPI","99813","LIMPEZA DE MÁRMORE/GRANITO EM PAREDE UTILIZANDO DETERGENTE NEUTRO E ESCOVAÇÃO MANUAL. AF_04/2019","M2",null,"1,05",null,"CR"]
[null,"SINAPI","99806","LIMPEZA DE REVESTIMENTO CERÂMICO EM PAREDE COM PANO ÚMIDO AF_04/2019","M2",null,"0,92",null,"C"]
[null,"SINAPI","99808","LIMPEZA DE REVESTIMENTO CERÂMICO EM PAREDE UTILIZANDO ÁCIDO MURIÁTICO. AF_04/2019","M2",null,"4,34",null,"CR"]
[null,"SINAPI","99807","LIMPEZA DE REVESTIMENTO CERÂMICO EM PAREDE UTILIZANDO DETERGENTE NEUTRO E ESCOVAÇÃO MANUAL. AF_04/2019","M2",null,"1,77",null,"CR"]
[null,"SINAPI-I","3767","LIXA EM FOLHA PARA PAREDE OU MADEIRA, NUMERO 120, COR VERMELHA                                                                                                                                                                                                                                                                                                                                                                                                                                            ","UN    ",null,"1,42",null,"CR"]
[null,"SINAPI","104519","LIXADEIRA DE PAREDE, COM LED, POTÊNCIA 750 W, FREQUÊNCIA 60 HZ, VELOCIDADE 1000 A 2100 RPM, DIÂMETRO DA LIXA 225 MM - MATERIAIS NA OPERAÇÃO. AF_12/2022","H",null,"0,55",null,"CR"]
[null,"SINAPI-I","43265","LUMINARIA SOLAR LED EXTERNA, TIPO ARANDELA DE PAREDE, EM ALUMINIO, 16 LEDS, LUZ BRANCA, *180* LUMENS, CAPACIDADE DE ILUMINACAO ATE 36 H, RETANGULAR, *13 X 9 X 7* (C X L X A), COM SENSOR DE MOVIMENTO / PRESENCA, BATERIA RECARREGAVEL COM LUZ SOLAR, RESISTENTE AO CALOR, A PROVA DE AGUA E POEIRA/ IMPERMEAVEL, IP65                                                                                                                                                                                   ","UN    ",null,"35,57",null,"CR"]
[null,"SINAPI","91882","LUVA PARA ELETRODUTO, PVC, ROSCÁVEL, DN 20 MM (1/2\"), PARA CIRCUITOS TERMINAIS, INSTALADA EM PAREDE - FORNECIMENTO E INSTALAÇÃO. AF_03/2023","UN",null,"10,70",null,"CR"]
[null,"SINAPI","91884","LUVA PARA ELETRODUTO, PVC, ROSCÁVEL, DN 25 MM (3/4\"), PARA CIRCUITOS TERMINAIS, INSTALADA EM PAREDE - FORNECIMENTO E INSTALAÇÃO. AF_03/2023","UN",null,"12,03",null,"CR"]
[null,"SINAPI","91885","LUVA PARA ELETRODUTO, PVC, ROSCÁVEL, DN 32 MM (1\"), PARA CIRCUITOS TERMINAIS, INSTALADA EM PAREDE - FORNECIMENTO E INSTALAÇÃO. AF_03/2023","UN",null,"13,79",null,"CR"]
[null,"SINAPI","91886","LUVA PARA ELETRODUTO, PVC, ROSCÁVEL, DN 40 MM (1 1/4\"), PARA CIRCUITOS TERMINAIS, INSTALADA EM PAREDE - FORNECIMENTO E INSTALAÇÃO. AF_03/2023","UN",null,"16,25",null,"CR"]
[null,"SINAPI","104960","MASSA ÚNICA, EM ARGAMASSA INDUSTRIALIZADA, PREPARO MECÂNICO, APLICADA COM EQUIPAMENTO DE MISTURA E PROJEÇÃO DE ARGAMASSA EM PAREDES INTERNAS, E = 10MM, COM TALISCAS. AF_03/2024","M2",null,"42,76",null,"CR"]
[null,"SINAPI","87561","MASSA ÚNICA, EM ARGAMASSA INDUSTRIALIZADA, PREPARO MECÂNICO, APLICADA COM EQUIPAMENTO DE MISTURA E PROJEÇÃO DE ARGAMASSA EM PAREDES INTERNAS, E = 10MM, SEM TALISCAS. AF_03/2024","M2",null,"43,72",null,"CR"]
[null,"SINAPI","104953","MASSA ÚNICA, EM ARGAMASSA INDUSTRIALIZADA, PREPARO MECÂNICO, APLICADA COM EQUIPAMENTO DE MISTURA E PROJEÇÃO DE ARGAMASSA EM PAREDES INTERNAS, E = 17,5MM, COM TALISCAS. AF_03/2024","M2",null,"65,55",null,"CR"]
[null,"SINAPI","87543","MASSA ÚNICA, EM ARGAMASSA INDUSTRIALIZADA, PREPARO MECÂNICO, APLICADA COM EQUIPAMENTO DE MISTURA E PROJEÇÃO DE ARGAMASSA EM PAREDES INTERNAS, E = 5MM, SEM TALISCAS. AF_03/2024","M2",null,"25,52",null,"CR"]
[null,"SINAPI","104959","MASSA ÚNICA, EM ARGAMASSA TRAÇO 1:2:8 PREPARO MANUAL, APLICADA MANUALMENTE EM PAREDES INTERNAS DE AMBIENTES COM ÁREA MAIOR QUE 10M², E = 10MM, COM TALISCAS. AF_03/2024","M2",null,"25,23",null,"CR"]
[null,"SINAPI","104958","MASSA ÚNICA, EM ARGAMASSA TRAÇO 1:2:8 PREPARO MECÂNICO, APLICADA MANUALMENTE EM PAREDES INTERNAS DE AMBIENTES COM ÁREA MAIOR QUE 10M², E = 10MM, COM TALISCAS. AF_03/2024","M2",null,"23,47",null,"CR"]
[null,"SINAPI","87548","MASSA ÚNICA, EM ARGAMASSA TRAÇO 1:2:8, PREPARO MANUAL, APLICADA MANUALMENTE EM PAREDES INTERNAS DE AMBIENTES COM ÁREA ENTRE 5M² E 10M², E = 10MM, COM TALISCAS. AF_03/2024","M2",null,"28,47",null,"CR"]
[null,"SINAPI","87530","MASSA ÚNICA, EM ARGAMASSA TRAÇO 1:2:8, PREPARO MANUAL, APLICADA MANUALMENTE EM PAREDES INTERNAS DE AMBIENTES COM ÁREA ENTRE 5M² E 10M², E = 17,5MM, COM TALISCAS. AF_03/2024","M2",null,"39,84",null,"CR"]
[null,"SINAPI","104952","MASSA ÚNICA, EM ARGAMASSA TRAÇO 1:2:8, PREPARO MANUAL, APLICADA MANUALMENTE EM PAREDES INTERNAS DE AMBIENTES COM ÁREA MAIOR QUE 10M², E = 17,5MM, COM TALISCAS. AF_03/2024","M2",null,"36,60",null,"CR"]
[null,"SINAPI","104974","MASSA ÚNICA, EM ARGAMASSA TRAÇO 1:2:8, PREPARO MANUAL, APLICADA MANUALMENTE EM PAREDES INTERNAS DE AMBIENTES COM PÉ-DIREITO DUPLO ÁREA MAIOR QUE 10M², E = 10MM, COM TALISCAS. AF_03/2024","M2",null,"31,68",null,"CR"]
[null,"SINAPI","104970","MASSA ÚNICA, EM ARGAMASSA TRAÇO 1:2:8, PREPARO MANUAL, APLICADA MANUALMENTE EM PAREDES INTERNAS DE AMBIENTES COM PÉ-DIREITO DUPLO E ÁREA ENTRE 5M² E 10M², E = 10MM, COM TALISCAS. AF_03/2024","M2",null,"36,68",null,"CR"]
[null,"SINAPI","104964","MASSA ÚNICA, EM ARGAMASSA TRAÇO 1:2:8, PREPARO MANUAL, APLICADA MANUALMENTE EM PAREDES INTERNAS DE AMBIENTES COM PÉ-DIREITO DUPLO E ÁREA ENTRE 5M² E 10M², E = 17,5MM, COM TALISCAS. AF_03/2024","M2",null,"50,08",null,"CR"]
[null,"SINAPI","104956","MASSA ÚNICA, EM ARGAMASSA TRAÇO 1:2:8, PREPARO MANUAL, APLICADA MANUALMENTE EM PAREDES INTERNAS DE AMBIENTES COM PÉ-DIREITO DUPLO E ÁREA MAIOR QUE 10M², E = 17,5MM, COM TALISCAS. AF_03/2024","M2",null,"45,08",null,"CR"]
[null,"SINAPI","87547","MASSA ÚNICA, EM ARGAMASSA TRAÇO 1:2:8, PREPARO MECÂNICO, APLICADA MANUALMENTE EM PAREDES INTERNAS DE AMBIENTES COM ÁREA ENTRE 5M² E 10M², E = 10MM, COM TALISCAS. AF_03/2024","M2",null,"26,71",null,"CR"]
[null,"SINAPI","87529","MASSA ÚNICA, EM ARGAMASSA TRAÇO 1:2:8, PREPARO MECÂNICO, APLICADA MANUALMENTE EM PAREDES INTERNAS DE AMBIENTES COM ÁREA ENTRE 5M² E 10M², E = 17,5MM, COM TALISCAS. AF_03/2024","M2",null,"37,08",null,"CR"]
[null,"SINAPI","104951","MASSA ÚNICA, EM ARGAMASSA TRAÇO 1:2:8, PREPARO MECÂNICO, APLICADA MANUALMENTE EM PAREDES INTERNAS DE AMBIENTES COM ÁREA MAIOR QUE 10M², E = 17,5MM, COM TALISCAS. AF_03/2024","M2",null,"33,84",null,"CR"]
[null,"SINAPI","104973","MASSA ÚNICA, EM ARGAMASSA TRAÇO 1:2:8, PREPARO MECÂNICO, APLICADA MANUALMENTE EM PAREDES INTERNAS DE AMBIENTES COM PÉ-DIREITO DUPLO ÁREA MAIOR QUE 10M², E = 10MM, COM TALISCAS. AF_03/2024","M2",null,"29,92",null,"CR"]
[null,"SINAPI","104969","MASSA ÚNICA, EM ARGAMASSA TRAÇO 1:2:8, PREPARO MECÂNICO, APLICADA MANUALMENTE EM PAREDES INTERNAS DE AMBIENTES COM PÉ-DIREITO DUPLO E ÁREA ENTRE 5M² E 10M², E = 10MM, COM TALISCAS. AF_03/2024","M2",null,"34,92",null,"CR"]
[null,"SINAPI","104963","MASSA ÚNICA, EM ARGAMASSA TRAÇO 1:2:8, PREPARO MECÂNICO, APLICADA MANUALMENTE EM PAREDES INTERNAS DE AMBIENTES COM PÉ-DIREITO DUPLO E ÁREA ENTRE 5M² E 10M², E = 17,5MM, COM TALISCAS. AF_03/2024","M2",null,"47,32",null,"CR"]
[null,"SINAPI","104955","MASSA ÚNICA, EM ARGAMASSA TRAÇO 1:2:8, PREPARO MECÂNICO, APLICADA MANUALMENTE EM PAREDES INTERNAS DE AMBIENTES COM PÉ-DIREITO DUPLO E ÁREA MAIOR QUE 10M², E = 17,5MM, COM TALISCAS. AF_03/2024","M2",null,"42,32",null,"CR"]
[null,"SINAPI","104978","MASSA ÚNICA, EM ARGAMASSA TRAÇO 1:2:8, PREPARO MECÂNICO, APLICADA MANUALMENTE EM TETO DE AMBIENTES COM PAREDES EM PÉ-DIREITO DUPLO, E = 10MM, COM TALISCAS. AF_03/2024","M2",null,"37,39",null,"CR"]
[null,"SINAPI","104977","MASSA ÚNICA, EM ARGAMASSA TRAÇO 1:2:8, PREPARO MECÂNICO, APLICADA MANUALMENTE EM TETO DE AMBIENTES COM PAREDES EM PÉ-DIREITO DUPLO, E = 17,5MM, COM TALISCAS. AF_03/2024","M2",null,"49,62",null,"CR"]
[null,"SINAPI-I","36793","MISTURADOR DE METAL CROMADO DE PAREDE PARA LAVATORIO (REF 1878)                                                                                                                                                                                                                                                                                                                                                                                                                                           ","UN    ",null,"1.405,40",null,"CR"]
[null,"SINAPI-I","11771","MISTURADOR DE PAREDE, DE METAL CROMADO, PARA COZINHA, BICA ALTA MOVEL, COM AREJADOR ARTICULADO (REF 1258)                                                                                                                                                                                                                                                                                                                                                                                                 ","UN    ",null,"760,74",null,"CR"]
[null,"SINAPI-I","11703","PAPELEIRA DE PAREDE EM METAL CROMADO SEM TAMPA                                                                                                                                                                                                                                                                                                                                                                                                                                                            ","UN    ",null,"80,84",null,"CR"]
[null,"SINAPI","95544","PAPELEIRA DE PAREDE EM METAL CROMADO SEM TAMPA, INCLUSO FIXAÇÃO. AF_01/2020","UN",null,"92,35",null,"CR"]
[null,"SINAPI","96368","PAREDE COM SISTEMA EM CHAPAS DE GESSO PARA DRYWALL, USO INTERNO COM DUAS FACES DUPLAS E ESTRUTURA METÁLICA COM GUIAS DUPLAS, SEM VÃOS. AF_07/2023_PS","M2",null,"200,75",null,"AS"]
[null,"SINAPI","96364","PAREDE COM SISTEMA EM CHAPAS DE GESSO PARA DRYWALL, USO INTERNO COM UMA FACE SIMPLES E OUTRA FACE DUPLA E ESTRUTURA METÁLICA COM GUIAS DUPLAS, SEM VÃOS. AF_07/2023_PS","M2",null,"170,02",null,"AS"]
[null,"SINAPI","96369","PAREDE COM SISTEMA EM CHAPAS DE GESSO PARA DRYWALL, USO INTERNO, COM DUAS FACES DUPLAS E ESTRUTURA METÁLICA COM GUIAS DUPLAS PARA PAREDES COM ÁREA LÍQUIDA MAIOR OU IGUAL A 6 M2, COM VÃOS. AF_07/2023_PS","M2",null,"227,26",null,"AS"]
[null,"SINAPI","104723","PAREDE COM SISTEMA EM CHAPAS DE GESSO PARA DRYWALL, USO INTERNO, COM DUAS FACES DUPLAS E ESTRUTURA METÁLICA COM GUIAS DUPLAS PARA PAREDES COM ÁREA LÍQUIDA MENOR QUE 6 M2, COM VÃOS. AF_07/2023_PS","M2",null,"274,12",null,"AS"]
[null,"SINAPI","96367","PAREDE COM SISTEMA EM CHAPAS DE GESSO PARA DRYWALL, USO INTERNO, COM DUAS FACES DUPLAS E ESTRUTURA METÁLICA COM GUIAS SIMPLES PARA PAREDES COM ÁREA LÍQUIDA MAIOR OU IGUAL A 6 M2, COM VÃOS. AF_07/2023_PS","M2",null,"182,69",null,"AS"]
[null,"SINAPI","104722","PAREDE COM SISTEMA EM CHAPAS DE GESSO PARA DRYWALL, USO INTERNO, COM DUAS FACES DUPLAS E ESTRUTURA METÁLICA COM GUIAS SIMPLES PARA PAREDES COM ÁREA LÍQUIDA MENOR QUE 6 M2, COM VÃOS. AF_07/2023_PS","M2",null,"209,35",null,"AS"]
[null,"SINAPI","96366","PAREDE COM SISTEMA EM CHAPAS DE GESSO PARA DRYWALL, USO INTERNO, COM DUAS FACES DUPLAS E ESTRUTURA METÁLICA COM GUIAS SIMPLES, SEM VÃOS. AF_07/2023_PS","M2",null,"168,03",null,"AS"]
[null,"SINAPI","96361","PAREDE COM SISTEMA EM CHAPAS DE GESSO PARA DRYWALL, USO INTERNO, COM DUAS FACES SIMPLES E ESTRUTURA METÁLICA COM GUIAS DUPLAS PARA PAREDES COM ÁREA LÍQUIDA MAIOR OU IGUAL A 6 M2, COM VÃOS. AF_07/2023_PS","M2",null,"164,38",null,"AS"]
[null,"SINAPI","104719","PAREDE COM SISTEMA EM CHAPAS DE GESSO PARA DRYWALL, USO INTERNO, COM DUAS FACES SIMPLES E ESTRUTURA METÁLICA COM GUIAS DUPLAS PARA PAREDES COM ÁREA LÍQUIDA MENOR QUE 6 M2, COM VÃOS. AF_07/2023_PS","M2",null,"208,41",null,"AS"]
[null,"SINAPI","96360","PAREDE COM SISTEMA EM CHAPAS DE GESSO PARA DRYWALL, USO INTERNO, COM DUAS FACES SIMPLES E ESTRUTURA METÁLICA COM GUIAS DUPLAS, SEM VÃOS. AF_07/2023_PS","M2",null,"139,30",null,"AS"]
[null,"SINAPI","96359","PAREDE COM SISTEMA EM CHAPAS DE GESSO PARA DRYWALL, USO INTERNO, COM DUAS FACES SIMPLES E ESTRUTURA METÁLICA COM GUIAS SIMPLES PARA PAREDES COM ÁREA LÍQUIDA MAIOR OU IGUAL A 6 M2, COM VÃOS. AF_07/2023_PS","M2",null,"119,84",null,"AS"]
[null,"SINAPI","104718","PAREDE COM SISTEMA EM CHAPAS DE GESSO PARA DRYWALL, USO INTERNO, COM DUAS FACES SIMPLES E ESTRUTURA METÁLICA COM GUIAS SIMPLES PARA PAREDES COM ÁREA LÍQUIDA MENOR QUE 6 M2, COM VÃOS. AF_07/2023_PS","M2",null,"143,64",null,"AS"]
[null,"SINAPI","96358","PAREDE COM SISTEMA EM CHAPAS DE GESSO PARA DRYWALL, USO INTERNO, COM DUAS FACES SIMPLES E ESTRUTURA METÁLICA COM GUIAS SIMPLES, SEM VÃOS. AF_07/2023_PS","M2",null,"106,60",null,"AS"]
[null,"SINAPI","96371","PAREDE COM SISTEMA EM CHAPAS DE GESSO PARA DRYWALL, USO INTERNO, COM UMA FACE SIMPLES E ESTRUTURA METÁLICA COM GUIAS SIMPLES PARA PAREDES COM ÁREA LÍQUIDA MAIOR OU IGUAL A 6 M2, COM VÃOS. AF_07/2023_PS","M2",null,"83,63",null,"AS"]
[null,"SINAPI","104724","PAREDE COM SISTEMA EM CHAPAS DE GESSO PARA DRYWALL, USO INTERNO, COM UMA FACE SIMPLES E ESTRUTURA METÁLICA COM GUIAS SIMPLES PARA PAREDES COM ÁREA LÍQUIDA MENOR QUE 6 M2, COM VÃOS. AF_07/2023_PS","M2",null,"106,00",null,"AS"]
[null,"SINAPI","96370","PAREDE COM SISTEMA EM CHAPAS DE GESSO PARA DRYWALL, USO INTERNO, COM UMA FACE SIMPLES E ESTRUTURA METÁLICA COM GUIAS SIMPLES, SEM VÃOS. AF_07/2023_PS","M2",null,"71,14",null,"AS"]
[null,"SINAPI","96365","PAREDE COM SISTEMA EM CHAPAS DE GESSO PARA DRYWALL, USO INTERNO, COM UMA FACE SIMPLES E OUTRA FACE DUPLA E   ESTRUTURA METÁLICA COM GUIAS DUPLAS PARA PAREDES COM ÁREA LÍQUIDA MAIOR OU IGUAL A 6 M2, COM VÃOS. AF_07/2023_PS","M2",null,"195,83",null,"AS"]
[null,"SINAPI","104721","PAREDE COM SISTEMA EM CHAPAS DE GESSO PARA DRYWALL, USO INTERNO, COM UMA FACE SIMPLES E OUTRA FACE DUPLA E ESTRUTURA METÁLICA COM GUIAS DUPLAS PARA PAREDES COM ÁREA LÍQUIDA MENOR QUE 6 M2, COM VÃOS. AF_07/2023_PS","M2",null,"241,27",null,"AS"]
[null,"SINAPI","96363","PAREDE COM SISTEMA EM CHAPAS DE GESSO PARA DRYWALL, USO INTERNO, COM UMA FACE SIMPLES E OUTRA FACE DUPLA E ESTRUTURA METÁLICA COM GUIAS SIMPLES PARA PAREDES COM ÁREA LÍQUIDA MAIOR OU IGUAL A 6 M2, COM VÃOS. AF_07/2023_PS","M2",null,"151,27",null,"AS"]
[null,"SINAPI","104720","PAREDE COM SISTEMA EM CHAPAS DE GESSO PARA DRYWALL, USO INTERNO, COM UMA FACE SIMPLES E OUTRA FACE DUPLA E ESTRUTURA METÁLICA COM GUIAS SIMPLES PARA PAREDES COM ÁREA LÍQUIDA MENOR QUE 6 M2, COM VÃOS. AF_07/2023_PS","M2",null,"176,49",null,"AS"]
[null,"SINAPI","96362","PAREDE COM SISTEMA EM CHAPAS DE GESSO PARA DRYWALL, USO INTERNO, COM UMA FACE SIMPLES E OUTRA FACE DUPLA E ESTRUTURA METÁLICA COM GUIAS SIMPLES, SEM VÃOS. AF_07/2023_PS","M2",null,"137,31",null,"AS"]
[null,"SINAPI","98453","PAREDE DE MADEIRA COMPENSADA PARA CONSTRUÇÃO TEMPORÁRIA EM CHAPA DUPLA, EXTERNA, COM ÁREA LÍQUIDA MAIOR OU IGUAL A QUE 6 M², COM VÃO. AF_03/2024","M2",null,"173,59",null,"CR"]
[null,"SINAPI","98454","PAREDE DE MADEIRA COMPENSADA PARA CONSTRUÇÃO TEMPORÁRIA EM CHAPA DUPLA, EXTERNA, COM ÁREA LÍQUIDA MENOR QUE 6 M², COM VÃO. AF_03/2024","M2",null,"210,63",null,"CR"]
[null,"SINAPI","98449","PAREDE DE MADEIRA COMPENSADA PARA CONSTRUÇÃO TEMPORÁRIA EM CHAPA DUPLA, EXTERNA, SEM VÃO. AF_03/2024","M2",null,"153,90",null,"CR"]
[null,"SINAPI","98455","PAREDE DE MADEIRA COMPENSADA PARA CONSTRUÇÃO TEMPORÁRIA EM CHAPA DUPLA, INTERNA, COM ÁREA LÍQUIDA MAIOR OU IGUAL A 6 M², COM VÃO. AF_03/2024","M2",null,"146,06",null,"CR"]
[null,"SINAPI","98456","PAREDE DE MADEIRA COMPENSADA PARA CONSTRUÇÃO TEMPORÁRIA EM CHAPA DUPLA, INTERNA, COM ÁREA LÍQUIDA MENOR QUE 6 M², COM VÃO. AF_03/2024","M2",null,"177,26",null,"CR"]
[null,"SINAPI","98451","PAREDE DE MADEIRA COMPENSADA PARA CONSTRUÇÃO TEMPORÁRIA EM CHAPA DUPLA, INTERNA, SEM VÃO. AF_03/2024","M2",null,"130,63",null,"CR"]
[null,"SINAPI","98445","PAREDE DE MADEIRA COMPENSADA PARA CONSTRUÇÃO TEMPORÁRIA EM CHAPA SIMPLES, EXTERNA, COM ÁREA LÍQUIDA MAIOR OU IGUAL A 6 M², COM VÃO. AF_03/2024","M2",null,"119,34",null,"CR"]
[null,"SINAPI","98446","PAREDE DE MADEIRA COMPENSADA PARA CONSTRUÇÃO TEMPORÁRIA EM CHAPA SIMPLES, EXTERNA, COM ÁREA LÍQUIDA MENOR QUE 6 M², COM VÃO. AF_03/2024","M2",null,"148,75",null,"CR"]
[null,"SINAPI","98441","PAREDE DE MADEIRA COMPENSADA PARA CONSTRUÇÃO TEMPORÁRIA EM CHAPA SIMPLES, EXTERNA, SEM VÃO. AF_03/2024","M2",null,"103,63",null,"CR"]
[null,"SINAPI","98447","PAREDE DE MADEIRA COMPENSADA PARA CONSTRUÇÃO TEMPORÁRIA EM CHAPA SIMPLES, INTERNA, COM ÁREA LÍQUIDA MAIOR OU IGUAL A 6 M², COM VÃO. AF_03/2024","M2",null,"95,41",null,"CR"]
[null,"SINAPI","98448","PAREDE DE MADEIRA COMPENSADA PARA CONSTRUÇÃO TEMPORÁRIA EM CHAPA SIMPLES, INTERNA, COM ÁREA LÍQUIDA MENOR QUE 6 M², COM VÃO. AF_03/2024","M2",null,"118,58",null,"CR"]
[null,"SINAPI","98443","PAREDE DE MADEIRA COMPENSADA PARA CONSTRUÇÃO TEMPORÁRIA EM CHAPA SIMPLES, INTERNA, SEM VÃO. AF_03/2024","M2",null,"83,14",null,"CR"]
[null,"SINAPI-I","39418","PERFIL GUIA, FORMATO U, EM ACO ZINCADO, PARA ESTRUTURA PAREDE DRYWALL, E = 0,5 MM, 48 X 3000 MM (L X C)                                                                                                                                                                                                                                                                                                                                                                                                   ","M     ",null,"6,87",null,"CR"]
[null,"SINAPI-I","39419","PERFIL GUIA, FORMATO U, EM ACO ZINCADO, PARA ESTRUTURA PAREDE DRYWALL, E = 0,5 MM, 70 X 3000 MM (L X C)                                                                                                                                                                                                                                                                                                                                                                                                   ","M     ",null,"8,37",null,"CR"]
[null,"SINAPI-I","39420","PERFIL GUIA, FORMATO U, EM ACO ZINCADO, PARA ESTRUTURA PAREDE DRYWALL, E = 0,5 MM, 90 X 3000 MM (L X C)                                                                                                                                                                                                                                                                                                                                                                                                   ","M     ",null,"9,24",null,"CR"]
[null,"SINAPI-I","39421","PERFIL MONTANTE, FORMATO C, EM ACO ZINCADO, PARA ESTRUTURA PAREDE DRYWALL, E = 0,5 MM, 48 X 3000 MM (L X C)                                                                                                                                                                                                                                                                                                                                                                                               ","M     ",null,"8,14",null,"CR"]
[null,"SINAPI-I","39422","PERFIL MONTANTE, FORMATO C, EM ACO ZINCADO, PARA ESTRUTURA PAREDE DRYWALL, E = 0,5 MM, 70 X 3000 MM (L X C)                                                                                                                                                                                                                                                                                                                                                                                               ","M     ",null,"9,50",null,"C "]
[null,"SINAPI-I","39423","PERFIL MONTANTE, FORMATO C, EM ACO ZINCADO, PARA ESTRUTURA PAREDE DRYWALL, E = 0,5 MM, 90 X 3000 MM (L X C)                                                                                                                                                                                                                                                                                                                                                                                               ","M     ",null,"11,03",null,"CR"]
[null,"SINAPI","104641","PINTURA LÁTEX ACRÍLICA ECONÔMICA, APLICAÇÃO MANUAL EM PAREDES, DUAS DEMÃOS. AF_04/2023","M2",null,"9,84",null,"CR"]
[null,"SINAPI","88489","PINTURA LÁTEX ACRÍLICA PREMIUM, APLICAÇÃO MANUAL EM PAREDES, DUAS DEMÃOS. AF_04/2023","M2",null,"13,83",null,"C"]
[null,"SINAPI","104642","PINTURA LÁTEX ACRÍLICA STANDARD, APLICAÇÃO MANUAL EM PAREDES, DUAS DEMÃOS. AF_04/2023","M2",null,"11,32",null,"CR"]
[null,"SINAPI-I","4790","PLACA VINILICA SEMIFLEXIVEL PARA REVESTIMENTO DE PISOS E PAREDES, E = 2 MM (SEM COLOCACAO)                                                                                                                                                                                                                                                                                                                                                                                                                ","M2    ",null,"98,90",null,"C "]
[null,"SINAPI-I","38376","PRUMO DE PAREDE EM ACO 700 A 750 G                                                                                                                                                                                                                                                                                                                                                                                                                                                                        ","UN    ",null,"55,01",null,"CR"]
[null,"SINAPI","103288","RASGO E CHUMBAMENTO EM ALVENARIA PARA TUBOS DE SPLIT PAREDE DE 9000 A 24000 BTUS/H. AF_11/2021","UN",null,"16,04",null,"CR"]
[null,"SINAPI","88789","REVESTIMENTO CERÂMICO PARA PAREDES EXTERNAS EM PASTILHAS DE PORCELANA 2,5 X 2,5 CM (PLACAS DE 30 X 30 CM), ALINHADAS A PRUMO, APLICADO EM SUPERFÍCIES INTERNAS DE SACADA. AF_02/2023","M2",null,"335,08",null,"CR"]
[null,"SINAPI","88788","REVESTIMENTO CERÂMICO PARA PAREDES EXTERNAS EM PASTILHAS DE PORCELANA 2,5 X 2,5 CM (PLACAS DE 30 X 30 CM), ALINHADAS A PRUMO. AF_02/2023","M2",null,"280,74",null,"CR"]
[null,"SINAPI","87245","REVESTIMENTO CERÂMICO PARA PAREDES EXTERNAS EM PASTILHAS DE PORCELANA 5 X 5 CM (PLACAS DE 30 X 30 CM), ALINHADAS A PRUMO, APLICADO EM SUPERFÍCIES INTERNAS DE SACADA. AF_02/2023","M2",null,"237,65",null,"CR"]
[null,"SINAPI","87244","REVESTIMENTO CERÂMICO PARA PAREDES EXTERNAS EM PASTILHAS DE PORCELANA 5 X 5 CM (PLACAS DE 30 X 30 CM), ALINHADAS A PRUMO. AF_02/2023","M2",null,"200,01",null,"CR"]
[null,"SINAPI","87267","REVESTIMENTO CERÂMICO PARA PAREDES INTERNAS COM PLACAS TIPO ESMALTADA DE DIMENSÕES 20X20 CM APLICADAS A MEIA ALTURA DAS PAREDES. AF_02/2023_PE","M2",null,"65,82",null,"CR"]
[null,"SINAPI","104614","REVESTIMENTO CERÂMICO PARA PAREDES INTERNAS COM PLACAS TIPO ESMALTADA DE DIMENSÕES 20X20 CM APLICADAS EM DIAGONAL, A MEIA ALTURA DAS PAREDES. AF_02/2023_PE","M2",null,"70,88",null,"CR"]
[null,"SINAPI","104613","REVESTIMENTO CERÂMICO PARA PAREDES INTERNAS COM PLACAS TIPO ESMALTADA DE DIMENSÕES 20X20 CM APLICADAS EM DIAGONAL, NA ALTURA INTEIRA DAS PAREDES. AF_02/2023_PE","M2",null,"64,12",null,"CR"]
[null,"SINAPI","87265","REVESTIMENTO CERÂMICO PARA PAREDES INTERNAS COM PLACAS TIPO ESMALTADA DE DIMENSÕES 20X20 CM APLICADAS NA ALTURA INTEIRA DAS PAREDES.  AF_02/2023_PE","M2",null,"60,65",null,"CR"]
[null,"SINAPI","87271","REVESTIMENTO CERÂMICO PARA PAREDES INTERNAS COM PLACAS TIPO ESMALTADA DE DIMENSÕES 25X35 CM APLICADAS A MEIA ALTURA DAS PAREDES. AF_02/2023_PE","M2",null,"69,73",null,"CR"]
[null,"SINAPI","87269","REVESTIMENTO CERÂMICO PARA PAREDES INTERNAS COM PLACAS TIPO ESMALTADA DE DIMENSÕES 25X35 CM APLICADAS NA ALTURA INTEIRA DAS PAREDES. AF_02/2023_PE","M2",null,"64,49",null,"CR"]
[null,"SINAPI","87275","REVESTIMENTO CERÂMICO PARA PAREDES INTERNAS COM PLACAS TIPO ESMALTADA DE DIMENSÕES 33X45 CM APLICADAS A MEIA ALTURA DAS PAREDES. AF_02/2023_PE","M2",null,"74,58",null,"CR"]
[null,"SINAPI","87273","REVESTIMENTO CERÂMICO PARA PAREDES INTERNAS COM PLACAS TIPO ESMALTADA DE DIMENSÕES 33X45 CM APLICADAS NA ALTURA INTEIRA DAS PAREDES. AF_02/2023_PE","M2",null,"67,62",null,"CR"]
[null,"SINAPI","104612","REVESTIMENTO CERÂMICO PARA PAREDES INTERNAS COM PLACAS TIPO ESMALTADA DE DIMENSÕES 60X60 CM APLICADAS A MEIA ALTURA DAS PAREDES. AF_02/2023_PE","M2",null,"82,96",null,"CR"]
[null,"SINAPI","104611","REVESTIMENTO CERÂMICO PARA PAREDES INTERNAS COM PLACAS TIPO ESMALTADA DE DIMENSÕES 60X60 CM APLICADAS NA ALTURA INTEIRA DAS PAREDES. AF_02/2023_PE","M2",null,"82,19",null,"CR"]
[null,"SINAPI","104618","REVESTIMENTO CERÂMICO PARA PAREDES INTERNAS COM PLACAS TIPO PASTILHA DE DIMENSÕES 2,5 X 2,5 CM (PLACAS DE 30 X 30 CM) CM APLICADAS A MEIA ALTURA DAS PAREDES. AF_02/2023","M2",null,"290,60",null,"CR"]
[null,"SINAPI","104616","REVESTIMENTO CERÂMICO PARA PAREDES INTERNAS COM PLACAS TIPO PASTILHA DE DIMENSÕES 2,5 X 2,5 CM (PLACAS DE 30 X 30 CM) CM APLICADAS NA ALTURA INTEIRA DAS PAREDES. AF_02/2023","M2",null,"280,19",null,"CR"]
[null,"SINAPI","104617","REVESTIMENTO CERÂMICO PARA PAREDES INTERNAS COM PLACAS TIPO PASTILHA DE DIMENSÕES 5 X 5 CM (PLACAS DE 30 X 30 CM) CM APLICADAS A MEIA ALTURA DAS PAREDES. AF_02/2023","M2",null,"206,52",null,"CR"]
[null,"SINAPI","104615","REVESTIMENTO CERÂMICO PARA PAREDES INTERNAS COM PLACAS TIPO PASTILHA DE DIMENSÕES 5 X 5 CM (PLACAS DE 30 X 30 CM) CM APLICADAS NA ALTURA INTEIRA DAS PAREDES. AF_02/2023","M2",null,"196,11",null,"CR"]
[null,"SINAPI-I","34684","REVESTIMENTO DE PAREDE EM GRANILITE, MARMORITE OU GRANITINA - ESP = 5 MM (INCLUSO EXECUCAO)                                                                                                                                                                                                                                                                                                                                                                                                               ","M2    ",null,"280,27",null,"AS"]
[null,"SINAPI-I","34683","REVESTIMENTO DE PAREDE EM GRANILITE, MARMORITE OU GRANITINA COLORIDO - ESP = 5 MM (INCLUSO EXECUCAO)                                                                                                                                                                                                                                                                                                                                                                                                      ","M2    ",null,"175,17",null,"AS"]
[null,"SINAPI-I","11757","SABONETEIRA DE PAREDE EM METAL CROMADO                                                                                                                                                                                                                                                                                                                                                                                                                                                                    ","UN    ",null,"78,80",null,"C "]
[null,"SINAPI","95545","SABONETEIRA DE PAREDE EM METAL CROMADO, INCLUSO FIXAÇÃO. AF_01/2020","UN",null,"90,31",null,"C"]
[null,"SINAPI-I","39392","SENSOR DE PRESENCA BIVOLT DE PAREDE COM FOTOCELULA PARA QUALQUER TIPO DE LAMPADA POTENCIA MAXIMA *1000* W, USO INTERNO                                                                                                                                                                                                                                                                                                                                                                                    ","UN    ",null,"81,70",null,"AS"]
[null,"SINAPI-I","39393","SENSOR DE PRESENCA BIVOLT DE PAREDE SEM FOTOCELULA PARA QUALQUER TIPO DE LAMPADA POTENCIA MAXIMA *1000* W, USO INTERNO                                                                                                                                                                                                                                                                                                                                                                                    ","UN    ",null,"50,52",null,"AS"]
[null,"SINAPI","97595","SENSOR DE PRESENÇA COM FOTOCÉLULA, FIXAÇÃO EM PAREDE - FORNECIMENTO E INSTALAÇÃO. AF_02/2020","UN",null,"103,87",null,"AS"]
[null,"SINAPI","97596","SENSOR DE PRESENÇA SEM FOTOCÉLULA, FIXAÇÃO EM PAREDE - FORNECIMENTO E INSTALAÇÃO. AF_02/2020","UN",null,"72,69",null,"AS"]
[null,"SINAPI","90462","SUPORTE PARA 2 TUBOS VERTICAIS, ESPAÇADO A CADA 150 CM, EM PERFILADO COM COMPRIMENTO DE 25 CM FIXADO EM PAREDE, POR METRO DE TUBULAÇÃO FIXADA. AF_09/2023","M",null,"4,75",null,"AS"]
[null,"SINAPI","90463","SUPORTE PARA 4 TUBOS VERTICAIS, ESPAÇADO A CADA 150 CM, EM PERFILADO COM COMPRIMENTO DE 42 CM FIXADO EM PAREDE, POR METRO DE TUBULAÇÃO FIXADA. AF_09/2023","M",null,"4,04",null,"AS"]
[null,"SINAPI-I","11690","TANQUE SIMPLES EM MARMORE SINTETICO DE FIXAR NA PAREDE, CAPACIDADE *22* L, *60 X 46* CM                                                                                                                                                                                                                                                                                                                                                                                                                   ","UN    ",null,"256,59",null,"CR"]
[null,"SINAPI","95305","TEXTURA ACRÍLICA, APLICAÇÃO MANUAL EM PAREDE, UMA DEMÃO. AF_04/2023","M2",null,"14,72",null,"CR"]
[null,"SINAPI","86911","TORNEIRA CROMADA LONGA, DE PAREDE, 1/2\" OU 3/4\", PARA PIA DE COZINHA, PADRÃO POPULAR - FORNECIMENTO E INSTALAÇÃO. AF_01/2020","UN",null,"137,88",null,"CR"]
[null,"SINAPI","86910","TORNEIRA CROMADA TUBO MÓVEL, DE PAREDE, 1/2\" OU 3/4\", PARA PIA DE COZINHA, PADRÃO MÉDIO - FORNECIMENTO E INSTALAÇÃO. AF_01/2020","UN",null,"202,26",null,"CR"]
[null,"SINAPI-I","7602","TORNEIRA DE METAL AMARELO, PARA TANQUE / JARDIM, DE PAREDE, COM BICO PLASTICO, CANO CURTO, AREA EXTERNA, PADRAO POPULAR / USO GERAL, 1/2\" OU 3/4\" (REF 1128)                                                                                                                                                                                                                                                                                                                                              ","UN    ",null,"72,94",null,"CR"]
[null,"SINAPI-I","7603","TORNEIRA DE METAL AMARELO, PARA TANQUE / JARDIM, DE PAREDE, SEM BICO, CANO CURTO, PADRAO POPULAR / USO GERAL, 1/2\" OU 3/4\" (REF 1120)                                                                                                                                                                                                                                                                                                                                                                     ","UN    ",null,"61,88",null,"CR"]
[null,"SINAPI-I","11777","TORNEIRA ELETRICA DE PAREDE, PLASTICA, BICA ALTA, PARA COZINHA, 5500 W (110/220 V)                                                                                                                                                                                                                                                                                                                                                                                                                        ","UN    ",null,"179,78",null,"CR"]
[null,"SINAPI-I","13417","TORNEIRA METALICA CROMADA CANO CURTO, SEM BICO, SEM AREJADOR, DE PAREDE, PARA TANQUE E USO GERAL, 1/2\" OU 3/4\" (REF 1143)                                                                                                                                                                                                                                                                                                                                                                                 ","UN    ",null,"148,87",null,"CR"]
[null,"SINAPI-I","36792","TORNEIRA METALICA CROMADA DE PAREDE LONGA PARA LAVATORIO, COM AREJADOR, ACIONAMENTO ALAVANCA, 1/4 DE VOLTA (REF 1178)                                                                                                                                                                                                                                                                                                                                                                                     ","UN    ",null,"297,36",null,"CR"]
[null,"SINAPI-I","11773","TORNEIRA METALICA CROMADA DE PAREDE, PARA COZINHA, BICA MOVEL, COM AREJADOR, 1/2\" OU 3/4\" (REF 1167 / 1168)                                                                                                                                                                                                                                                                                                                                                                                               ","UN    ",null,"197,95",null,"CR"]
[null,"SINAPI-I","11762","TORNEIRA METALICA CROMADA PARA JARDIM / TANQUE, COM BICO PLASTICO, CANO LONGO, DE PAREDE, PADRAO POPULAR / USO GERAL, 1/2\" OU 3/4\" (REF 1153 / 1130)                                                                                                                                                                                                                                                                                                                                                      ","UN    ",null,"93,89",null,"CR"]
[null,"SINAPI-I","7604","TORNEIRA METALICA CROMADA PARA TANQUE / JARDIM, SEM BICO, CANO LONGO, DE PAREDE, PADRAO POPULAR / USO GERAL, 1/2\" OU 3/4\" (REF 1126)                                                                                                                                                                                                                                                                                                                                                                      ","UN    ",null,"79,50",null,"CR"]
[null,"SINAPI-I","13984","TORNEIRA METALICA CROMADA, CANO CURTO, COM AREJADOR, SEM BICO PLASTICO, DE PAREDE, PARA USO GERAL, 1/2\" OU 3/4\" (REF 1152 / 1154)                                                                                                                                                                                                                                                                                                                                                                         ","UN    ",null,"115,54",null,"CR"]
[null,"SINAPI-I","13983","TORNEIRA METALICA CROMADA, RETA, DE PAREDE, PARA COZINHA, COM AREJADOR, PADRAO POPULAR, 1/2\" OU 3/4\" (REF 1159 / 1160)                                                                                                                                                                                                                                                                                                                                                                                    ","UN    ",null,"150,38",null,"CR"]
[null,"SINAPI-I","13416","TORNEIRA METALICA CROMADA, RETA, DE PAREDE, PARA COZINHA, SEM BICO, SEM AREJADOR, PADRAO POPULAR, 1/2\" OU 3/4\" (REF 1158)                                                                                                                                                                                                                                                                                                                                                                                 ","UN    ",null,"133,57",null,"CR"]
[null,"SINAPI-I","44812","TUBO CORRUGADO PEAD, PAREDE DUPLA, INTERNA LISA, JEI DN/DI 500 MM (DRENAGEM/ESGOTO)                                                                                                                                                                                                                                                                                                                                                                                                                       ","M     ",null,"669,34",null,"CR"]
[null,"SINAPI-I","41785","TUBO CORRUGADO PEAD, PAREDE DUPLA, INTERNA LISA, JEI, DN/DI *1000* MM, PARA SANEAMENTO (DRENAGEM/ESGOTO)                                                                                                                                                                                                                                                                                                                                                                                                  ","M     ",null,"2.480,53",null,"CR"]
[null,"SINAPI-I","41781","TUBO CORRUGADO PEAD, PAREDE DUPLA, INTERNA LISA, JEI, DN/DI *400* MM, PARA SANEAMENTO (DRENAGEM/ESGOTO)                                                                                                                                                                                                                                                                                                                                                                                                   ","M     ",null,"447,90",null,"CR"]
[null,"SINAPI-I","41783","TUBO CORRUGADO PEAD, PAREDE DUPLA, INTERNA LISA, JEI, DN/DI *800* MM, PARA SANEAMENTO (DRENAGEM/ESGOTO)                                                                                                                                                                                                                                                                                                                                                                                                   ","M     ",null,"1.610,23",null,"CR"]
[null,"SINAPI-I","41786","TUBO CORRUGADO PEAD, PAREDE DUPLA, INTERNA LISA, JEI, DN/DI 1200 MM, PARA SANEAMENTO (DRENAGEM/ESGOTO)                                                                                                                                                                                                                                                                                                                                                                                                    ","M     ",null,"3.428,24",null,"CR"]
[null,"SINAPI-I","41779","TUBO CORRUGADO PEAD, PAREDE DUPLA, INTERNA LISA, JEI, DN/DI 250 MM, PARA SANEAMENTO (DRENAGEM/ESGOTO)                                                                                                                                                                                                                                                                                                                                                                                                     ","M     ",null,"176,40",null,"CR"]
[null,"SINAPI-I","41780","TUBO CORRUGADO PEAD, PAREDE DUPLA, INTERNA LISA, JEI, DN/DI 300 MM, PARA SANEAMENTO (DRENAGEM/ESGOTO)                                                                                                                                                                                                                                                                                                                                                                                                     ","M     ",null,"276,36",null,"CR"]
[null,"SINAPI-I","41782","TUBO CORRUGADO PEAD, PAREDE DUPLA, INTERNA LISA, JEI, DN/DI 600 MM, PARA SANEAMENTO (DRENAGEM/ESGOTO)                                                                                                                                                                                                                                                                                                                                                                                                     ","M     ",null,"989,98",null,"CR"]
[null,"SINAPI","94879","TUBO DE PEAD CORRUGADO DE DUPLA PAREDE PARA REDE COLETORA DE ESGOTO, DN 1000 MM, JUNTA ELÁSTICA INTEGRADA - FORNECIMENTO E ASSENTAMENTO. AF_01/2021","M",null,"2.648,42",null,"AS"]
[null,"SINAPI","94881","TUBO DE PEAD CORRUGADO DE DUPLA PAREDE PARA REDE COLETORA DE ESGOTO, DN 1200 MM, JUNTA ELÁSTICA INTEGRADA - FORNECIMENTO E ASSENTAMENTO. AF_01/2021","M",null,"3.650,53",null,"AS"]
[null,"SINAPI","94869","TUBO DE PEAD CORRUGADO DE DUPLA PAREDE PARA REDE COLETORA DE ESGOTO, DN 250 MM, JUNTA ELÁSTICA INTEGRADA - FORNECIMENTO E ASSENTAMENTO. AF_01/2021","M",null,"187,22",null,"CR"]
[null,"SINAPI","94871","TUBO DE PEAD CORRUGADO DE DUPLA PAREDE PARA REDE COLETORA DE ESGOTO, DN 300 MM, JUNTA ELÁSTICA INTEGRADA - FORNECIMENTO E ASSENTAMENTO. AF_01/2021","M",null,"292,93",null,"CR"]
[null,"SINAPI","90708","TUBO DE PEAD CORRUGADO DE DUPLA PAREDE PARA REDE COLETORA DE ESGOTO, DN 600 MM, JUNTA ELÁSTICA INTEGRADA - FORNECIMENTO E ASSENTAMENTO. AF_01/2021","M",null,"1.058,85",null,"AS"]
[null,"SINAPI","94875","TUBO DE PEAD CORRUGADO DE DUPLA PAREDE PARA REDE COLETORA DE ESGOTO, DN 800 MM, JUNTA ELÁSTICA INTEGRADA - FORNECIMENTO E ASSENTAMENTO. AF_01/2021","M",null,"1.720,05",null,"AS"]
[null,"SINAPI-I","9813","TUBO DE POLIETILENO DE ALTA DENSIDADE (PEAD), PE-80, DE = 20 MM X 2,3 MM DE PAREDE, PARA LIGACAO DE AGUA PREDIAL (NBR 15561)                                                                                                                                                                                                                                                                                                                                                                              ","M     ",null,"4,72",null,"C "]
[null,"SINAPI-I","9815","TUBO DE POLIETILENO DE ALTA DENSIDADE (PEAD), PE-80, DE = 32 MM X 3,0 MM DE PAREDE, PARA LIGACAO DE AGUA PREDIAL (NBR 15561)                                                                                                                                                                                                                                                                                                                                                                              ","M     ",null,"9,32",null,"CR"]
[null,"SINAPI-I","44543","TUBO DE POLIETILENO DE ALTA DENSIDADE, PEAD, PE-80, DE = 1000 MM X 38,5 MM PAREDE, (SDR 26 - PN 05) PARA REDE DE AGUA OU ESGOTO (NBR 15561)                                                                                                                                                                                                                                                                                                                                                               ","M     ",null,"4.638,18",null,"CR"]
[null,"SINAPI-I","44526","TUBO DE POLIETILENO DE ALTA DENSIDADE, PEAD, PE-80, DE = 110 MM X 10,0 MM PAREDE, (SDR 11 - PN 12,5) PARA REDE DE AGUA OU ESGOTO (NBR 15561)                                                                                                                                                                                                                                                                                                                                                              ","M     ",null,"113,67",null,"CR"]
[null,"SINAPI-I","44545","TUBO DE POLIETILENO DE ALTA DENSIDADE, PEAD, PE-80, DE = 160 MM X 14,6 MM PAREDE, (SDR 11 - PN 12,5) PARA REDE DE AGUA OU ESGOTO (NBR 15561)                                                                                                                                                                                                                                                                                                                                                              ","M     ",null,"244,00",null,"CR"]
[null,"SINAPI-I","44525","TUBO DE POLIETILENO DE ALTA DENSIDADE, PEAD, PE-80, DE = 900 MM X 34,7 MM PAREDE, (SDR 26 - PN 05) PARA REDE DE AGUA OU ESGOTO (NBR 15561)                                                                                                                                                                                                                                                                                                                                                                ","M     ",null,"4.206,80",null,"CR"]
[null,"SINAPI-I","44547","TUBO DE POLIETILENO DE ALTA DENSIDADE, PEAD, PE-80, DE= 200 MM X 18,2 MM PAREDE, (SDR 11 - PN 12,5) PARA REDE DE AGUA OU ESGOTO (NBR 15561)                                                                                                                                                                                                                                                                                                                                                               ","M     ",null,"380,37",null,"CR"]
[null,"SINAPI-I","44519","TUBO DE POLIETILENO DE ALTA DENSIDADE, PEAD, PE-80, DE= 315 MM X 28,7 MM PAREDE, (SDR 11 - PN 12,5) PARA REDE DE AGUA OU ESGOTO (NBR 15561)                                                                                                                                                                                                                                                                                                                                                               ","M     ",null,"932,02",null,"CR"]
[null,"SINAPI-I","44520","TUBO DE POLIETILENO DE ALTA DENSIDADE, PEAD, PE-80, DE= 400 MM X 36,4 MM PAREDE, (SDR 11 - PN 12,5) PARA REDE DE AGUA OU ESGOTO (NBR 15561)                                                                                                                                                                                                                                                                                                                                                               ","M     ",null,"1.501,14",null,"CR"]
[null,"SINAPI-I","44521","TUBO DE POLIETILENO DE ALTA DENSIDADE, PEAD, PE-80, DE= 50 MM X 4,6 MM PAREDE, (SDR 11 - PN 12,5) PARA REDE DE AGUA OU ESGOTO ( NBR 15561)                                                                                                                                                                                                                                                                                                                                                                ","M     ",null,"24,21",null,"CR"]
[null,"SINAPI-I","44522","TUBO DE POLIETILENO DE ALTA DENSIDADE, PEAD, PE-80, DE= 500 MM X 45,5 MM PAREDE, (SDR 11 - PN 12,5) PARA REDE DE AGUA OU ESGOTO (NBR 15561)                                                                                                                                                                                                                                                                                                                                                               ","M     ",null,"2.635,45",null,"CR"]
[null,"SINAPI-I","44523","TUBO DE POLIETILENO DE ALTA DENSIDADE, PEAD, PE-80, DE= 630 MM X 57,3 MM PAREDE (SDR 11 - PN 12,5) PARA REDE DE AGUA OU ESGOTO (NBR 15561)                                                                                                                                                                                                                                                                                                                                                                ","M     ",null,"3.919,65",null,"CR"]
[null,"SINAPI-I","44527","TUBO DE POLIETILENO DE ALTA DENSIDADE, PEAD, PE-80, DE= 730 MM X 34,1 MM PAREDE, (SDR 21 - PN 06) PARA REDE DE AGUA OU ESGOTO (NBR 15561)                                                                                                                                                                                                                                                                                                                                                                 ","M     ",null,"1.965,60",null,"CR"]
[null,"SINAPI-I","44524","TUBO DE POLIETILENO DE ALTA DENSIDADE, PEAD, PE-80, DE= 75 MM X 6,9 MM PAREDE, (SRD 11 - PN 12,5) PARA REDE DE AGUA OU ESGOTO (NBR 15561)                                                                                                                                                                                                                                                                                                                                                                 ","M     ",null,"54,16",null,"CR"]
[null,"SINAPI-I","44542","TUBO DE POLIETILENO DE ALTA DENSIDADE, PEAD, PE-80, DE= 800 MM X 30,8 MM PAREDE, (SDR 26 - PN 05) PARA REDE DE AGUA OU ESGOTO (NBR 15561)                                                                                                                                                                                                                                                                                                                                                                 ","M     ",null,"2.564,46",null,"CR"]
[null,"SINAPI","102264","TUBO DE PVC BRANCO PARA REDE COLETORA DE ESGOTO CONDOMINIAL DE PAREDE MACIÇA, DN 100 MM, JUNTA ELÁSTICA - FORNECIMENTO E ASSENTAMENTO. AF_01/2021","M",null,"20,70",null,"CR"]
[null,"SINAPI","90701","TUBO DE PVC CORRUGADO DE DUPLA PAREDE PARA REDE COLETORA DE ESGOTO, DN 150 MM, JUNTA ELÁSTICA - FORNECIMENTO E ASSENTAMENTO. AF_01/2021","M",null,"71,89",null,"CR"]
[null,"SINAPI","90702","TUBO DE PVC CORRUGADO DE DUPLA PAREDE PARA REDE COLETORA DE ESGOTO, DN 200 MM, JUNTA ELÁSTICA - FORNECIMENTO E ASSENTAMENTO. AF_01/2021","M",null,"119,19",null,"CR"]
[null,"SINAPI","90703","TUBO DE PVC CORRUGADO DE DUPLA PAREDE PARA REDE COLETORA DE ESGOTO, DN 250 MM, JUNTA ELÁSTICA - FORNECIMENTO E ASSENTAMENTO. AF_01/2021","M",null,"186,90",null,"CR"]
[null,"SINAPI","90704","TUBO DE PVC CORRUGADO DE DUPLA PAREDE PARA REDE COLETORA DE ESGOTO, DN 300 MM, JUNTA ELÁSTICA - FORNECIMENTO E ASSENTAMENTO. AF_01/2021","M",null,"277,91",null,"CR"]
[null,"SINAPI","90705","TUBO DE PVC CORRUGADO DE DUPLA PAREDE PARA REDE COLETORA DE ESGOTO, DN 350 MM, JUNTA ELÁSTICA - FORNECIMENTO E ASSENTAMENTO. AF_01/2021","M",null,"363,33",null,"CR"]
[null,"SINAPI","90706","TUBO DE PVC CORRUGADO DE DUPLA PAREDE PARA REDE COLETORA DE ESGOTO, DN 400 MM, JUNTA ELÁSTICA - FORNECIMENTO E ASSENTAMENTO. AF_01/2021","M",null,"481,82",null,"AS"]
[null,"SINAPI","90694","TUBO DE PVC PARA REDE COLETORA DE ESGOTO DE PAREDE MACIÇA, DN 100 MM, JUNTA ELÁSTICA - FORNECIMENTO E ASSENTAMENTO. AF_01/2021","M",null,"48,12",null,"CR"]
[null,"SINAPI","90695","TUBO DE PVC PARA REDE COLETORA DE ESGOTO DE PAREDE MACIÇA, DN 150 MM, JUNTA ELÁSTICA  - FORNECIMENTO E ASSENTAMENTO. AF_01/2021","M",null,"91,65",null,"CR"]
[null,"SINAPI","90696","TUBO DE PVC PARA REDE COLETORA DE ESGOTO DE PAREDE MACIÇA, DN 200 MM, JUNTA ELÁSTICA - FORNECIMENTO E ASSENTAMENTO. AF_01/2021","M",null,"153,28",null,"CR"]
[null,"SINAPI","90697","TUBO DE PVC PARA REDE COLETORA DE ESGOTO DE PAREDE MACIÇA, DN 250 MM, JUNTA ELÁSTICA  - FORNECIMENTO E ASSENTAMENTO. AF_01/2021","M",null,"237,96",null,"CR"]
[null,"SINAPI","90698","TUBO DE PVC PARA REDE COLETORA DE ESGOTO DE PAREDE MACIÇA, DN 300 MM, JUNTA ELÁSTICA,  FORNECIMENTO E ASSENTAMENTO. AF_01/2021","M",null,"363,89",null,"CR"]
[null,"SINAPI","90699","TUBO DE PVC PARA REDE COLETORA DE ESGOTO DE PAREDE MACIÇA, DN 350 MM, JUNTA ELÁSTICA  - FORNECIMENTO E ASSENTAMENTO. AF_01/2021","M",null,"512,32",null,"CR"]
[null,"SINAPI","90700","TUBO DE PVC PARA REDE COLETORA DE ESGOTO DE PAREDE MACIÇA, DN 400 MM, JUNTA ELÁSTICA  FORNECIMENTO E ASSENTAMENTO. AF_01/2021","M",null,"598,47",null,"AS"]
[null,"SINAPI-I","38032","TUBO PVC CORRUGADO, PAREDE DUPLA, JE, DN 150 MM/ DE 160 MM, REDE COLETORA ESGOTO                                                                                                                                                                                                                                                                                                                                                                                                                          ","M     ",null,"62,19",null,"CR"]
[null,"SINAPI-I","38033","TUBO PVC CORRUGADO, PAREDE DUPLA, JE, DN 200 MM/ DE 200 MM, REDE COLETORA ESGOTO                                                                                                                                                                                                                                                                                                                                                                                                                          ","M     ",null,"105,72",null,"CR"]
[null,"SINAPI-I","38034","TUBO PVC CORRUGADO, PAREDE DUPLA, JE, DN 250 MM/ DE 250 MM, REDE COLETORA ESGOTO                                                                                                                                                                                                                                                                                                                                                                                                                          ","M     ",null,"165,62",null,"CR"]
[null,"SINAPI-I","38035","TUBO PVC CORRUGADO, PAREDE DUPLA, JE, DN 300 MM/ DE 315 MM, REDE COLETORA ESGOTO                                                                                                                                                                                                                                                                                                                                                                                                                          ","M     ",null,"243,64",null,"CR"]
[null,"SINAPI-I","38036","TUBO PVC CORRUGADO, PAREDE DUPLA, JE, DN 350 MM/ DE 355 MM, REDE COLETORA ESGOTO                                                                                                                                                                                                                                                                                                                                                                                                                          ","M     ",null,"328,22",null,"CR"]
[null,"SINAPI-I","38037","TUBO PVC CORRUGADO, PAREDE DUPLA, JE, DN 400 MM/ DE 400 MM, REDE COLETORA ESGOTO                                                                                                                                                                                                                                                                                                                                                                                                                          ","M     ",null,"433,53",null,"CR"]